{"text_format":"1","workbook":"xlsx","n_sheets":16,"sheets":["Facility Information","Asphalt Plant (AP-1)","Asphalt Plant (AP-2)","Asphalt Plant (AP-3)","Asphalt Plant (AP-4)","Asphalt Plant (AP-5)","Asphalt Plant (AP-6)","Asphalt Plant (AP-7)","Asphalt Plant (AP-8)","Asphalt Plant (AP-9)","Asphalt Plant (AP-10)","Permitted Diesel Engines","Haul Roads","Emission Calculations","Facility Wide Emissions","Emission Factors"],"not_rendered":{"charts":0,"images":0,"macros":1,"external_links":1,"defined_names":326,"comments":14,"pivot_tables":0},"unopened":[],"bounds":{"document_bytes":16777216,"sheet_cells":100000,"rows_first":2000,"rows_last":500,"rows_between":2000,"halvings":0,"cell_chars":16384,"cell_head_chars":4096},"cells_cut":0,"cells_raw":0,"read":"whole","date_system":"1900"}

{"sheet":"Facility Information","index":0,"n_rows":21,"n_cols":11,"rows_kept":21,"cut":false,"hidden":false,"merged":[]}
["PORTABLE HOT MIX ASPHALT BATCHING PLANT",null,null,"Note: be sure to enable macros when prompted.",null,null,"542-0254"]
["Please fill in the yellow boxes.",null,null,null,null,null,"Last Updated 12-18-25"]
[]
["Submittal Type:",null,null,"Number of State-Wide Company Employees:"]
["Facility Number:",null,null,null,null,"Emisison Year:"]
["Facility Name:"]
["Mailing Address:"]
["City:",null,null,"State:",null,"Zip Code:"]
["Facility Contact:",null,null,"Phone Number:",null,null,null,null,null,null,"Emission Inventory - Initial"]
["Email Address",null,null,null,null,null,null,null,null,null,"Emission Inventory - Supplemental Information"]
["Parent Company:"]
["Parent Company Address:"]
["City:",null,null,"State:",null,"Zip Code:",null,null,null,null,"Less Than or Equal to 100"]
["Parent Company Contact:",null,null,"Phone Number:",null,null,null,null,null,null,"Greater Than 100"]
[]
["SIC Code:",2951]
["NAICS Code:",324121]
["Activity Description:","Hot Mix Asphalt Plant"]
[]
["Number of Plants with Permits:"]
[{"$f":"\"Number of Plants Operated in \"&'Facility Information'!G5&\":\"","v":"Number of Plants Operated in :"}]

{"sheet":"Asphalt Plant (AP-1)","index":1,"n_rows":167,"n_cols":20,"rows_kept":167,"cut":false,"hidden":false,"merged":[]}
[null,"ASPHALT PLANT (AP-1)"]
[null,"Please fill in the yellow boxes as applicable for your facility. ",null,null,null,null,null,null,"Values used for calculating emissions →",null,null,null,"Values Used to Calculate Actual Emissions for the Listed Processes at this Plant"]
[null,null,null,null,null,null,null,null,null,null,null,null,null,"Maximum Design",null,"Actual "]
[null,{"$f":"\"Number of Sites this Plant operated at in \"&'Facility Information'!G5&\":\"","v":"Number of Sites this Plant operated at in :"},null,null,null,null,null,null,null,null,null,null,"Process","Rate","Units","Throughput",null,null,null,"Units"]
[null,"Plant Type:",null,null,null,null,null,null,null,null,null,null,{"$f":"$C$5 & \" - Fuel Oil\"","v":" - Fuel Oil"},{"$f":"MAX((IFERROR(OFFSET($G$21,MATCH(M5,$G$22,0),1),0)),((IFERROR(OFFSET($G$35,MATCH(M5,$G$36,0),1),0))),((IFERROR(OFFSET($G$51,MATCH(M5,$G$52,0),1),0))),((IFERROR(OFFSET($G$66,MATCH(M5,$G$67,0),1),0))),((IFERROR(OFFSET($G$81,MATCH(M5,$G$82,0),1),0))),((IFERROR(OFFSET($G$97,MATCH(M5,$G$98,0),1),0))),((IFERROR(OFFSET($G$112,MATCH(M5,$G$113,0),1),0))),((IFERROR(OFFSET($G$127,MATCH(M5,$G$128,0),1),0))),((IFERROR(OFFSET($G$142,MATCH(M5,$G$143,0),1),0))),((IFERROR(OFFSET($G$157,MATCH(M5,$G$158,0),1),0))))","v":0},"tons/hr",{"$f":"SUM((IFERROR(OFFSET($G$21,MATCH(M5,$G$22,0),2),0)),((IFERROR(OFFSET($G$35,MATCH(M5,$G$36,0),2),0))),((IFERROR(OFFSET($G$51,MATCH(M5,$G$52,0),2),0))),((IFERROR(OFFSET($G$66,MATCH(M5,$G$67,0),2),0))),((IFERROR(OFFSET($G$81,MATCH(M5,$G$82,0),2),0))),((IFERROR(OFFSET($G$97,MATCH(M5,$G$98,0),2),0))),((IFERROR(OFFSET($G$112,MATCH(M5,$G$113,0),2),0))),((IFERROR(OFFSET($G$127,MATCH(M5,$G$128,0),2),0))),((IFERROR(OFFSET($G$142,MATCH(M5,$G$143,0),2),0))),((IFERROR(OFFSET($G$157,MATCH(M5,$G$158,0),2),0))))","v":0},null,"** As of 2016 Potential Emissions are no longer required to be reported in the Minor Source Emissions Inventory**",null,"tons/yr"]
[null,null,null,null,null,null,null,null,null,null,null,null,{"$f":"$C$5 & \" - Waste Oil\"","v":" - Waste Oil"},{"$f":"MAX((IFERROR(OFFSET($G$21,MATCH(M6,$G$22,0),1),0)),((IFERROR(OFFSET($G$35,MATCH(M6,$G$36,0),1),0))),((IFERROR(OFFSET($G$51,MATCH(M6,$G$52,0),1),0))),((IFERROR(OFFSET($G$66,MATCH(M6,$G$67,0),1),0))),((IFERROR(OFFSET($G$81,MATCH(M6,$G$82,0),1),0))),((IFERROR(OFFSET($G$97,MATCH(M6,$G$98,0),1),0))),((IFERROR(OFFSET($G$112,MATCH(M6,$G$113,0),1),0))),((IFERROR(OFFSET($G$127,MATCH(M6,$G$128,0),1),0))),((IFERROR(OFFSET($G$142,MATCH(M6,$G$143,0),1),0))),((IFERROR(OFFSET($G$157,MATCH(M6,$G$158,0),1),0))))","v":0},"tons/hr",{"$f":"SUM((IFERROR(OFFSET($G$21,MATCH(M6,$G$22,0),2),0)),((IFERROR(OFFSET($G$35,MATCH(M6,$G$36,0),2),0))),((IFERROR(OFFSET($G$51,MATCH(M6,$G$52,0),2),0))),((IFERROR(OFFSET($G$66,MATCH(M6,$G$67,0),2),0))),((IFERROR(OFFSET($G$81,MATCH(M6,$G$82,0),2),0))),((IFERROR(OFFSET($G$97,MATCH(M6,$G$98,0),2),0))),((IFERROR(OFFSET($G$112,MATCH(M6,$G$113,0),2),0))),((IFERROR(OFFSET($G$127,MATCH(M6,$G$128,0),2),0))),((IFERROR(OFFSET($G$142,MATCH(M6,$G$143,0),2),0))),((IFERROR(OFFSET($G$157,MATCH(M6,$G$158,0),2),0))))","v":0},null,null,null,"tons/yr"]
[null,"Plant Specific Permit Number: ",null,null,null,null,null,null,null,null,null,null,{"$f":"$C$5 & \" - Natural Gas\"","v":" - Natural Gas"},{"$f":"MAX((IFERROR(OFFSET($G$21,MATCH(M7,$G$22,0),1),0)),((IFERROR(OFFSET($G$35,MATCH(M7,$G$36,0),1),0))),((IFERROR(OFFSET($G$51,MATCH(M7,$G$52,0),1),0))),((IFERROR(OFFSET($G$66,MATCH(M7,$G$67,0),1),0))),((IFERROR(OFFSET($G$81,MATCH(M7,$G$82,0),1),0))),((IFERROR(OFFSET($G$97,MATCH(M7,$G$98,0),1),0))),((IFERROR(OFFSET($G$112,MATCH(M7,$G$113,0),1),0))),((IFERROR(OFFSET($G$127,MATCH(M7,$G$128,0),1),0))),((IFERROR(OFFSET($G$142,MATCH(M7,$G$143,0),1),0))),((IFERROR(OFFSET($G$157,MATCH(M7,$G$158,0),1),0))))","v":0},"tons/hr",{"$f":"SUM((IFERROR(OFFSET($G$21,MATCH(M7,$G$22,0),2),0)),((IFERROR(OFFSET($G$35,MATCH(M7,$G$36,0),2),0))),((IFERROR(OFFSET($G$51,MATCH(M7,$G$52,0),2),0))),((IFERROR(OFFSET($G$66,MATCH(M7,$G$67,0),2),0))),((IFERROR(OFFSET($G$81,MATCH(M7,$G$82,0),2),0))),((IFERROR(OFFSET($G$97,MATCH(M7,$G$98,0),2),0))),((IFERROR(OFFSET($G$112,MATCH(M7,$G$113,0),2),0))),((IFERROR(OFFSET($G$127,MATCH(M7,$G$128,0),2),0))),((IFERROR(OFFSET($G$142,MATCH(M7,$G$143,0),2),0))),((IFERROR(OFFSET($G$157,MATCH(M7,$G$158,0),2),0))))","v":0},null,null,null,"tons/yr"]
[null,null,null,null,null,null,null,null,null,null,null,null,"Fuel Oil Fired Heater",{"$f":"MAX((IFERROR(OFFSET($G$23,MATCH(\"Fuel Oil Fired Heater\",$G$24,0),1),0)),((IFERROR(OFFSET($G$37,MATCH(\"Fuel Oil Fired Heater\",$G$38,0),1),0))),((IFERROR(OFFSET($G$53,MATCH(\"Fuel Oil Fired Heater\",$G$54,0),1),0))),((IFERROR(OFFSET($G$68,MATCH(\"Fuel Oil Fired Heater\",$G$69,0),1),0))),((IFERROR(OFFSET($G$83,MATCH(\"Fuel Oil Fired Heater\",$G$84,0),1),0))),((IFERROR(OFFSET($G$99,MATCH(\"Fuel Oil Fired Heater\",$G$100,0),1),0))),((IFERROR(OFFSET($G$114,MATCH(\"Fuel Oil Fired Heater\",$G$115,0),1),0))),((IFERROR(OFFSET($G$129,MATCH(\"Fuel Oil Fired Heater\",$G$130,0),1),0))),((IFERROR(OFFSET($G$144,MATCH(\"Fuel Oil Fired Heater\",$G$145,0),1),0))),((IFERROR(OFFSET($G$159,MATCH(\"Fuel Oil Fired Heater\",$G$160,0),1),0))))","v":0},"gallons/hr",{"$f":"SUM((IFERROR(OFFSET($G$23,MATCH(\"Fuel Oil Fired Heater\",$G$24,0),2),0)),((IFERROR(OFFSET($G$37,MATCH(\"Fuel Oil Fired Heater\",$G$38,0),2),0))),((IFERROR(OFFSET($G$53,MATCH(\"Fuel Oil Fired Heater\",$G$54,0),2),0))),((IFERROR(OFFSET($G$68,MATCH(\"Fuel Oil Fired Heater\",$G$69,0),2),0))),((IFERROR(OFFSET($G$83,MATCH(\"Fuel Oil Fired Heater\",$G$84,0),2),0))),((IFERROR(OFFSET($G$99,MATCH(\"Fuel Oil Fired Heater\",$G$100,0),2),0))),((IFERROR(OFFSET($G$114,MATCH(\"Fuel Oil Fired Heater\",$G$115,0),2),0))),((IFERROR(OFFSET($G$129,MATCH(\"Fuel Oil Fired Heater\",$G$130,0),2),0))),((IFERROR(OFFSET($G$144,MATCH(\"Fuel Oil Fired Heater\",$G$145,0),2),0))),((IFERROR(OFFSET($G$159,MATCH(\"Fuel Oil Fired Heater\",$G$160,0),2),0))))","v":0},null,null,null,"gallons/yr"]
[null,"Plant Specific Operating Limits:",null,null,"Plant Specific Emission Limits:",null,null,null,null,null,null,null,"Waste Oil Fired Heater",{"$f":"MAX((IFERROR(OFFSET($G$23,MATCH(\"waste oil Fired Heater\",$G$24,0),1),0)),((IFERROR(OFFSET($G$37,MATCH(\"waste oil Fired Heater\",$G$38,0),1),0))),((IFERROR(OFFSET($G$53,MATCH(\"waste oil Fired Heater\",$G$54,0),1),0))),((IFERROR(OFFSET($G$68,MATCH(\"waste oil Fired Heater\",$G$69,0),1),0))),((IFERROR(OFFSET($G$83,MATCH(\"waste oil Fired Heater\",$G$84,0),1),0))),((IFERROR(OFFSET($G$99,MATCH(\"waste oil Fired Heater\",$G$100,0),1),0))),((IFERROR(OFFSET($G$114,MATCH(\"waste oil Fired Heater\",$G$115,0),1),0))),((IFERROR(OFFSET($G$129,MATCH(\"waste oil Fired Heater\",$G$130,0),1),0))),((IFERROR(OFFSET($G$144,MATCH(\"waste oil Fired Heater\",$G$145,0),1),0))),((IFERROR(OFFSET($G$159,MATCH(\"waste oil Fired Heater\",$G$160,0),1),0))))","v":0},"gallons/hr",{"$f":"SUM((IFERROR(OFFSET($G$23,MATCH(\"waste oil Fired Heater\",$G$24,0),2),0)),((IFERROR(OFFSET($G$37,MATCH(\"waste oil Fired Heater\",$G$38,0),2),0))),((IFERROR(OFFSET($G$53,MATCH(\"waste oil Fired Heater\",$G$54,0),2),0))),((IFERROR(OFFSET($G$68,MATCH(\"waste oil Fired Heater\",$G$69,0),2),0))),((IFERROR(OFFSET($G$83,MATCH(\"waste oil Fired Heater\",$G$84,0),2),0))),((IFERROR(OFFSET($G$99,MATCH(\"waste oil Fired Heater\",$G$100,0),2),0))),((IFERROR(OFFSET($G$114,MATCH(\"waste oil Fired Heater\",$G$115,0),2),0))),((IFERROR(OFFSET($G$129,MATCH(\"waste oil Fired Heater\",$G$130,0),2),0))),((IFERROR(OFFSET($G$144,MATCH(\"waste oil Fired Heater\",$G$145,0),2),0))),((IFERROR(OFFSET($G$159,MATCH(\"waste oil Fired Heater\",$G$160,0),2),0))))","v":0},null,null,null,"gallons/yr"]
[null,"Throughput Limit (tons/yr):",null,null,"Pollutant","lb/hr","tons/yr",null,null,null,null,null,"Natural Gas Fired Heater",{"$f":"MAX((IFERROR(OFFSET($G$23,MATCH(\"Natural Gas Fired Heater\",$G$24,0),1),0)),((IFERROR(OFFSET($G$37,MATCH(\"Natural Gas Fired Heater\",$G$38,0),1),0))),((IFERROR(OFFSET($G$53,MATCH(\"Natural Gas Fired Heater\",$G$54,0),1),0))),((IFERROR(OFFSET($G$68,MATCH(\"Natural Gas Fired Heater\",$G$69,0),1),0))),((IFERROR(OFFSET($G$83,MATCH(\"Natural Gas Fired Heater\",$G$84,0),1),0))),((IFERROR(OFFSET($G$99,MATCH(\"Natural Gas Fired Heater\",$G$100,0),1),0))),((IFERROR(OFFSET($G$114,MATCH(\"Natural Gas Fired Heater\",$G$115,0),1),0))),((IFERROR(OFFSET($G$129,MATCH(\"Natural Gas Fired Heater\",$G$130,0),1),0))),((IFERROR(OFFSET($G$144,MATCH(\"Natural Gas Fired Heater\",$G$145,0),1),0))),((IFERROR(OFFSET($G$159,MATCH(\"Natural Gas Fired Heater\",$G$160,0),1),0))))","v":0},"MMCF/hr",{"$f":"SUM((IFERROR(OFFSET($G$23,MATCH(\"Natural Gas Fired Heater\",$G$24,0),2),0)),((IFERROR(OFFSET($G$37,MATCH(\"Natural Gas Fired Heater\",$G$38,0),2),0))),((IFERROR(OFFSET($G$53,MATCH(\"Natural Gas Fired Heater\",$G$54,0),2),0))),((IFERROR(OFFSET($G$68,MATCH(\"Natural Gas Fired Heater\",$G$69,0),2),0))),((IFERROR(OFFSET($G$83,MATCH(\"Natural Gas Fired Heater\",$G$84,0),2),0))),((IFERROR(OFFSET($G$99,MATCH(\"Natural Gas Fired Heater\",$G$100,0),2),0))),((IFERROR(OFFSET($G$114,MATCH(\"Natural Gas Fired Heater\",$G$115,0),2),0))),((IFERROR(OFFSET($G$129,MATCH(\"Natural Gas Fired Heater\",$G$130,0),2),0))),((IFERROR(OFFSET($G$144,MATCH(\"Natural Gas Fired Heater\",$G$145,0),2),0))),((IFERROR(OFFSET($G$159,MATCH(\"Natural Gas Fired Heater\",$G$160,0),2),0))))","v":0},null,null,null,"MMCF/yr"]
[null,"Daily Throughput Limit (tons/day):",null,null,"PM2.5",null,null,null,null,null,null,null,"Silo Filling",{"$f":"MAX((IFERROR(OFFSET($G$25,MATCH(\"Silo Filling\",$G$26,0),1),0)),((IFERROR(OFFSET($G$39,MATCH(\"Silo Filling\",$G$40,0),1),0))),((IFERROR(OFFSET($G$55,MATCH(\"Silo Filling\",$G$56,0),1),0))),((IFERROR(OFFSET($G$70,MATCH(\"Silo Filling\",$G$71,0),1),0))),((IFERROR(OFFSET($G$85,MATCH(\"Silo Filling\",$G$86,0),1),0))),((IFERROR(OFFSET($G$101,MATCH(\"Silo Filling\",$G$102,0),1),0))),((IFERROR(OFFSET($G$116,MATCH(\"Silo Filling\",$G$117,0),1),0))),((IFERROR(OFFSET($G$131,MATCH(\"Silo Filling\",$G$132,0),1),0))),((IFERROR(OFFSET($G$146,MATCH(\"Silo Filling\",$G$147,0),1),0))),((IFERROR(OFFSET($G$161,MATCH(\"Silo Filling\",$G$162,0),1),0))))","v":0},"tons/hr",{"$f":"SUM((IFERROR(OFFSET($G$25,MATCH(\"Silo Filling\",$G$26,0),2),0)),((IFERROR(OFFSET($G$39,MATCH(\"Silo Filling\",$G$40,0),2),0))),((IFERROR(OFFSET($G$55,MATCH(\"Silo Filling\",$G$56,0),2),0))),((IFERROR(OFFSET($G$70,MATCH(\"Silo Filling\",$G$71,0),2),0))),((IFERROR(OFFSET($G$85,MATCH(\"Silo Filling\",$G$86,0),2),0))),((IFERROR(OFFSET($G$101,MATCH(\"Silo Filling\",$G$102,0),2),0))),((IFERROR(OFFSET($G$116,MATCH(\"Silo Filling\",$G$117,0),2),0))),((IFERROR(OFFSET($G$131,MATCH(\"Silo Filling\",$G$132,0),2),0))),((IFERROR(OFFSET($G$146,MATCH(\"Silo Filling\",$G$147,0),2),0))),((IFERROR(OFFSET($G$161,MATCH(\"Silo Filling\",$G$162,0),2),0))))","v":0},null,null,null,"tons/yr"]
[null,"Hours of Operation Limit (hours/day):",null,null,"PM10",null,null,null,null,null,null,null,"Truck Loadout",{"$f":"MAX((IFERROR(OFFSET(G26,MATCH(\"Truck Loadout\",G27,0),1),0)),((IFERROR(OFFSET(G40,MATCH(\"Truck Loadout\",G41,0),1),0))),((IFERROR(OFFSET(G56,MATCH(\"Truck Loadout\",G57,0),1),0))),((IFERROR(OFFSET(G71,MATCH(\"Truck Loadout\",G72,0),1),0))),((IFERROR(OFFSET(G86,MATCH(\"Truck Loadout\",G87,0),1),0))),((IFERROR(OFFSET(G102,MATCH(\"Truck Loadout\",G103,0),1),0))),((IFERROR(OFFSET(G117,MATCH(\"Truck Loadout\",G118,0),1),0))),((IFERROR(OFFSET(G132,MATCH(\"Truck Loadout\",G133,0),1),0))),((IFERROR(OFFSET(G147,MATCH(\"Truck Loadout\",G148,0),1),0))),((IFERROR(OFFSET(G162,MATCH(\"Truck Loadout\",G163,0),1),0))))","v":0},"tons/hr",{"$f":"SUM((IFERROR(OFFSET(G26,MATCH(\"Truck Loadout\",G27,0),2),0)),((IFERROR(OFFSET(G40,MATCH(\"Truck Loadout\",G41,0),2),0))),((IFERROR(OFFSET(G56,MATCH(\"Truck Loadout\",G57,0),2),0))),((IFERROR(OFFSET(G71,MATCH(\"Truck Loadout\",G72,0),2),0))),((IFERROR(OFFSET(G86,MATCH(\"Truck Loadout\",G87,0),2),0))),((IFERROR(OFFSET(G102,MATCH(\"Truck Loadout\",G103,0),2),0))),((IFERROR(OFFSET(G117,MATCH(\"Truck Loadout\",G118,0),2),0))),((IFERROR(OFFSET(G132,MATCH(\"Truck Loadout\",G133,0),2),0))),((IFERROR(OFFSET(G147,MATCH(\"Truck Loadout\",G148,0),2),0))),((IFERROR(OFFSET(G162,MATCH(\"Truck Loadout\",G163,0),2),0))))","v":0},null,null,null,"tons/yr"]
["Fuel Oil","Note: if the plant has an hrs/day and a tons/hr permit limit, those values",null,null,"SO2",null,null,null,null,null,null,null,"Cold Aggregate Bins",{"$f":"MAX((IFERROR(OFFSET(G27,MATCH(\"Cold Aggregate Bins\",G28,0),1),0)),((IFERROR(OFFSET(G41,MATCH(\"Cold Aggregate Bins\",G42,0),1),0))),((IFERROR(OFFSET(G57,MATCH(\"Cold Aggregate Bins\",G58,0),1),0))),((IFERROR(OFFSET(G72,MATCH(\"Cold Aggregate Bins\",G73,0),1),0))),((IFERROR(OFFSET(G87,MATCH(\"Cold Aggregate Bins\",G88,0),1),0))),((IFERROR(OFFSET(G103,MATCH(\"Cold Aggregate Bins\",G104,0),1),0))),((IFERROR(OFFSET(G118,MATCH(\"Cold Aggregate Bins\",G119,0),1),0))),((IFERROR(OFFSET(G133,MATCH(\"Cold Aggregate Bins\",G134,0),1),0))),((IFERROR(OFFSET(G148,MATCH(\"Cold Aggregate Bins\",G149,0),1),0))),((IFERROR(OFFSET(G163,MATCH(\"Cold Aggregate Bins\",G164,0),1),0))))","v":0},"tons/hr",{"$f":"SUM((IFERROR(OFFSET(G27,MATCH(\"Cold Aggregate Bins\",G28,0),2),0)),((IFERROR(OFFSET(G41,MATCH(\"Cold Aggregate Bins\",G42,0),2),0))),((IFERROR(OFFSET(G57,MATCH(\"Cold Aggregate Bins\",G58,0),2),0))),((IFERROR(OFFSET(G72,MATCH(\"Cold Aggregate Bins\",G73,0),2),0))),((IFERROR(OFFSET(G87,MATCH(\"Cold Aggregate Bins\",G88,0),2),0))),((IFERROR(OFFSET(G103,MATCH(\"Cold Aggregate Bins\",G104,0),2),0))),((IFERROR(OFFSET(G118,MATCH(\"Cold Aggregate Bins\",G119,0),2),0))),((IFERROR(OFFSET(G133,MATCH(\"Cold Aggregate Bins\",G134,0),2),0))),((IFERROR(OFFSET(G148,MATCH(\"Cold Aggregate Bins\",G149,0),2),0))),((IFERROR(OFFSET(G163,MATCH(\"Cold Aggregate Bins\",G164,0),2),0))))","v":0},null,null,null,"tons/yr"]
["Natural Gas","should be multiplied together to calculate a tons/day limit and that value ",null,null,"NOx",null,null,null,null,null,null,null,null,"Maximum (acres)","Actual (acres-day/yr)"]
["Waste Oil","should be placed in cell C11.",null,null,"VOC",null,null,null,null,null,null,null,"Storage Pile",{"$f":"SUM(G32,G46,G62,G77,G92,G108,G123,G138,G153,G168,)","v":0},{"$f":"SUM(H32*I32,H46*I46,H62*I62,H77*I77,H92*I92,H108*I108,H123*I123,H138*I138,H153*I153,H168*I168)","v":0}]
[null,null,null,null,"CO"]
["Batch Mix Plant"]
["Drum Mix Plant",null,null,null,null,null,null,null,null,null,null,null,"Actual Emissions for the Listed Processes at this Plant"]
[null,"Asphalt Plant","Site 1",null,"Emission Point #","Emission     Unit #","Processes","Maximum Hourly     Design Rate",{"$f":"('Facility Information'!G5&\" Annual Throughput\")","v":" Annual Throughput"},null,null,null,"PM2.5","Maximum Design Rate (tons/hr)","Emission Factor","Units","Potential Uncontrolled Emissions (lb/hr)","Potential Controlled Emissions (lb/hr)","Potential Annual Emissions (tons/yr)"," Actual Annual Emissions (tons/yr)"]
["YES",null,null,null,null,null,null,null,null,null,null,null,{"$f":"$C$5 & \" - Fuel Oil\"","v":" - Fuel Oil"},{"$f":"N5","v":0},{"$f":"IF(N20=0,0,IF(MAX((IFERROR(OFFSET($G$21,MATCH(M20,$G$22,0),3),0)),((IFERROR(OFFSET($G$35,MATCH(M20,$G$36,0),3),0))),((IFERROR(OFFSET($G$51,MATCH(M20,$G$52,0),3),0))),((IFERROR(OFFSET($G$66,MATCH(M20,$G$67,0),3),0))),((IFERROR(OFFSET($G$81,MATCH(M20,$G$82,0),3),0))),((IFERROR(OFFSET($G$97,MATCH(M20,$G$98,0),3),0))),((IFERROR(OFFSET($G$112,MATCH(M20,$G$113,0),3),0))),((IFERROR(OFFSET($G$127,MATCH(M20,$G$128,0),3),0))),((IFERROR(OFFSET($G$142,MATCH(M20,$G$143,0),3),0))),((IFERROR(OFFSET($G$157,MATCH(M20,$G$158,0),3),0))))=0,0,(MAX((IFERROR(OFFSET($G$21,MATCH(M20,$G$22,0),3),0)),((IFERROR(OFFSET($G$35,MATCH(M20,$G$36,0),3),0))),((IFERROR(OFFSET($G$51,MATCH(M20,$G$52,0),3),0))),((IFERROR(OFFSET($G$66,MATCH(M20,$G$67,0),3),0))),((IFERROR(OFFSET($G$81,MATCH(M20,$G$82,0),3),0))),((IFERROR(OFFSET($G$97,MATCH(M20,$G$98,0),3),0))),((IFERROR(OFFSET($G$112,MATCH(M20,$G$113,0),3),0))),((IFERROR(OFFSET($G$127,MATCH(M20,$G$128,0),3),0))),((IFERROR(OFFSET($G$142,MATCH(M20,$G$143,0),3),0))),((IFERROR(OFFSET($G$157,MATCH(M20,$G$158,0),3),0)))))))","v":0},{"$f":"IF(O20=\"\",\"\",\"lb/ton\")","v":"lb/ton"},{"$f":"IF(O20=0.27,N20*O20,IF(O20=1.54,N20*O20,\"\"))","v":""},{"$f":"IF(N20=0,\"\",IF(AND($F$11>0,$O$20>=$O$21,$O$20>=$O$22),$F$11,IF(O20=0.0083,N20*O20,IF(O20=0.007,N20*O20,\"\"))))","v":""},{"$f":"IF(N20=0,0,IF($G$11>0,$G$11,IF(AND(OR($C$10>0,$C$11>0,$C$12>0),$O$20>=$O$21,$O$20>=$O$22),(IF($C$10>0,$C$10*O20/2000,IF($C$11>0,$C$11*365*O20/2000,IF($C$12>0,$C$12*365*O20*N20/2000)))),IF(AND($F$11>0,$O$20>=$O$21,$O$20>=$O$22),$F$11*8760/2000,IF(AND(OR($C$10=\"\",$C$10=0),OR($C$11=\"\",$C$11=0),OR($C$12=\"\",$C$12=0),$F$11=\"\"),IF(R20=\"\",Q20*8760/2000,R20*8760/2000),\"\")))))","v":0},{"$f":"IF(N20=\"\",\"\",SUM((IFERROR(MATCH(M20,$G$22,0)*$I$22*$J$22/2000,0)),(IFERROR(MATCH(M20,$G$36,0)*$I$36*$J$36/2000,0)),(IFERROR(MATCH(M20,$G$52,0)*$I$52*$J$52/2000,0)),(IFERROR(MATCH(M20,$G$67,0)*$I$67*$J$67/2000,0)),(IFERROR(MATCH(M20,$G$82,0)*$I$82*$J$82/2000,0)),(IFERROR(MATCH(M20,$G$98,0)*$I$98*$J$98/2000,0)),(IFERROR(MATCH(M20,$G$113,0)*$I$113*$J$113/2000,0)),(IFERROR(MATCH(M20,$G$128,0)*$I$128*$J$128/2000,0)),(IFERROR(MATCH(M20,$G$143,0)*$I$143*$J$143/2000,0)),(IFERROR(MATCH(M20,$G$158,0)*$I$158*$J$158/2000,0))))","v":0}]
["NO","Site Name:",null,null,"Dryer, Hot Screens, Mixer",null,null,"(tons/hr)","(tons/yr)","PM2.5","PM10",null,{"$f":"$C$5 & \" - Waste Oil\"","v":" - Waste Oil"},{"$f":"N6","v":0},{"$f":"IF(N21=0,0,IF(MAX((IFERROR(OFFSET($G$21,MATCH(M21,$G$22,0),3),0)),((IFERROR(OFFSET($G$35,MATCH(M21,$G$36,0),3),0))),((IFERROR(OFFSET($G$51,MATCH(M21,$G$52,0),3),0))),((IFERROR(OFFSET($G$66,MATCH(M21,$G$67,0),3),0))),((IFERROR(OFFSET($G$81,MATCH(M21,$G$82,0),3),0))),((IFERROR(OFFSET($G$97,MATCH(M21,$G$98,0),3),0))),((IFERROR(OFFSET($G$112,MATCH(M21,$G$113,0),3),0))),((IFERROR(OFFSET($G$127,MATCH(M21,$G$128,0),3),0))),((IFERROR(OFFSET($G$142,MATCH(M21,$G$143,0),3),0))),((IFERROR(OFFSET($G$157,MATCH(M21,$G$158,0),3),0))))=0,0,(MAX((IFERROR(OFFSET($G$21,MATCH(M21,$G$22,0),3),0)),((IFERROR(OFFSET($G$35,MATCH(M21,$G$36,0),3),0))),((IFERROR(OFFSET($G$51,MATCH(M21,$G$52,0),3),0))),((IFERROR(OFFSET($G$66,MATCH(M21,$G$67,0),3),0))),((IFERROR(OFFSET($G$81,MATCH(M21,$G$82,0),3),0))),((IFERROR(OFFSET($G$97,MATCH(M21,$G$98,0),3),0))),((IFERROR(OFFSET($G$112,MATCH(M21,$G$113,0),3),0))),((IFERROR(OFFSET($G$127,MATCH(M21,$G$128,0),3),0))),((IFERROR(OFFSET($G$142,MATCH(M21,$G$143,0),3),0))),((IFERROR(OFFSET($G$157,MATCH(M21,$G$158,0),3),0)))))))","v":0},"lb/ton",{"$f":"IF(O21=0.27,N21*O21,IF(O21=1.54,N21*O21,\"\"))","v":""},{"$f":"IF(N21=0,\"\",IF(AND($F$11>0,$O$21>$O$20,$O$21>=$O$22),$F$11,IF(O21=0.0083,N21*O21,IF(O21=0.007,N21*O21,\"\"))))","v":""},{"$f":"IF(N21=0,0,IF($G$11>0,IF(S20=0,G11,\"\"),IF(AND(OR($C$10>0,$C$11>0,$C$12>0),$O$21>$O$20,$O$21>=$O$22),(IF($C$10>0,$C$10*O21/2000,IF($C$11>0,$C$11*365*O21/2000,IF($C$12>0,$C$12*365*O21*N21/2000)))),IF(AND($F$11>0,$O$21>$O$20,$O$21>=$O$22),$F$11*8760/2000,IF(AND(OR($C$10=\"\",$C$10=0),OR($C$11=\"\",$C$11=0),OR($C$12=\"\",$C$12=0),$F$11=\"\"),IF(R21=\"\",Q21*8760/2000,R21*8760/2000),\"\")))))","v":0},{"$f":"IF(N21=\"\",\"\",SUM((IFERROR(MATCH(M21,$G$22,0)*$I$22*$J$22/2000,0)),(IFERROR(MATCH(M21,$G$36,0)*$I$36*$J$36/2000,0)),(IFERROR(MATCH(M21,$G$52,0)*$I$52*$J$52/2000,0)),(IFERROR(MATCH(M21,$G$67,0)*$I$67*$J$67/2000,0)),(IFERROR(MATCH(M21,$G$82,0)*$I$82*$J$82/2000,0)),(IFERROR(MATCH(M21,$G$98,0)*$I$98*$J$98/2000,0)),(IFERROR(MATCH(M21,$G$113,0)*$I$113*$J$113/2000,0)),(IFERROR(MATCH(M21,$G$128,0)*$I$128*$J$128/2000,0)),(IFERROR(MATCH(M21,$G$143,0)*$I$143*$J$143/2000,0)),(IFERROR(MATCH(M21,$G$158,0)*$I$158*$J$158/2000,0))))","v":0}]
[null,"County:",null,null,{"$f":"IF($C$4>0,\"AP-1 EP-1\",\"\")","v":""},{"$f":"IF($C$4>0,\"AP-1 EU-1\",\"\")","v":""},{"$f":"IF(C24=\"\",\"\",C5 & \" - \"&C24)","v":""},null,null,{"$f":"IF(C25=\"\",\"\",IF(C25=\"yes\",LOOKUP(G22,'Emission Factors'!$A$12:$A$17,'Emission Factors'!$D$12:$D$17),LOOKUP(G22,'Emission Factors'!$A$5:$A$10,'Emission Factors'!$D$5:$D$10)))","v":""},{"$f":"IF(C25=\"\",\"\",IF(C25=\"yes\",LOOKUP(G22,'Emission Factors'!$A$12:$A$17,'Emission Factors'!$F$12:$F$17),LOOKUP(G22,'Emission Factors'!$A$5:$A$10,'Emission Factors'!$F$5:$F$10)))","v":""},null,{"$f":"$C$5 & \" - Natural Gas\"","v":" - Natural Gas"},{"$f":"N7","v":0},{"$f":"IF(N22=0,0,IF(MAX((IFERROR(OFFSET($G$21,MATCH(M22,$G$22,0),3),0)),((IFERROR(OFFSET($G$35,MATCH(M22,$G$36,0),3),0))),((IFERROR(OFFSET($G$51,MATCH(M22,$G$52,0),3),0))),((IFERROR(OFFSET($G$66,MATCH(M22,$G$67,0),3),0))),((IFERROR(OFFSET($G$81,MATCH(M22,$G$82,0),3),0))),((IFERROR(OFFSET($G$97,MATCH(M22,$G$98,0),3),0))),((IFERROR(OFFSET($G$112,MATCH(M22,$G$113,0),3),0))),((IFERROR(OFFSET($G$127,MATCH(M22,$G$128,0),3),0))),((IFERROR(OFFSET($G$142,MATCH(M22,$G$143,0),3),0))),((IFERROR(OFFSET($G$157,MATCH(M22,$G$158,0),3),0))))=0,0,(MAX((IFERROR(OFFSET($G$21,MATCH(M22,$G$22,0),3),0)),((IFERROR(OFFSET($G$35,MATCH(M22,$G$36,0),3),0))),((IFERROR(OFFSET($G$51,MATCH(M22,$G$52,0),3),0))),((IFERROR(OFFSET($G$66,MATCH(M22,$G$67,0),3),0))),((IFERROR(OFFSET($G$81,MATCH(M22,$G$82,0),3),0))),((IFERROR(OFFSET($G$97,MATCH(M22,$G$98,0),3),0))),((IFERROR(OFFSET($G$112,MATCH(M22,$G$113,0),3),0))),((IFERROR(OFFSET($G$127,MATCH(M22,$G$128,0),3),0))),((IFERROR(OFFSET($G$142,MATCH(M22,$G$143,0),3),0))),((IFERROR(OFFSET($G$157,MATCH(M22,$G$158,0),3),0)))))))","v":0},"lb/ton",{"$f":"IF(O22=0.27,N22*O22,IF(O22=1.54,N22*O22,\"\"))","v":""},{"$f":"IF(N22=0,\"\",IF(AND($F$11>0,$O$22>$O$20,$O$22>$O$20),$F$11,IF(O22=0.0083,N22*O22,IF(O22=0.007,N22*O22,\"\"))))","v":""},{"$f":"IF(N22=0,0,IF($G$11>0,IF(AND(S20=0,S21=0),\"\"),IF(AND(OR($C$10>0,$C$11>0,$C$12>0),$O$22>$O$20,$O$22>$O$20),(IF($C$10>0,$C$10*O22/2000,IF($C$11>0,$C$11*365*O22/2000,IF($C$12>0,$C$12*365*O22*N22/2000)))),IF(AND($F$11>0,$O$22>$O$20,$O$22>$O$20),$F$11*8760/2000,IF(AND(OR($C$10=\"\",$C$10=0),OR($C$11=\"\",$C$11=0),OR($C$12=\"\",$C$12=0),$F$11=\"\"),IF(R22=\"\",Q22*8760/2000,R22*8760/2000),\"\")))))","v":0},{"$f":"IF(N22=\"\",\"\",SUM((IFERROR(MATCH(M22,$G$22,0)*$I$22*$J$22/2000,0)),(IFERROR(MATCH(M22,$G$36,0)*$I$36*$J$36/2000,0)),(IFERROR(MATCH(M22,$G$52,0)*$I$52*$J$52/2000,0)),(IFERROR(MATCH(M22,$G$67,0)*$I$67*$J$67/2000,0)),(IFERROR(MATCH(M22,$G$82,0)*$I$82*$J$82/2000,0)),(IFERROR(MATCH(M22,$G$98,0)*$I$98*$J$98/2000,0)),(IFERROR(MATCH(M22,$G$113,0)*$I$113*$J$113/2000,0)),(IFERROR(MATCH(M22,$G$128,0)*$I$128*$J$128/2000,0)),(IFERROR(MATCH(M22,$G$143,0)*$I$143*$J$143/2000,0)),(IFERROR(MATCH(M22,$G$158,0)*$I$158*$J$158/2000,0))))","v":0}]
[null,"Production Period (Dates):",null,null,"Liquid Asphalt Heater",null,null,{"$f":"IF(C24=\"natural gas\", \"(MMCF/hr)\",\"(gallons/hr)\")","v":"(gallons/hr)"},{"$f":"IF(C24=\"natural gas\", \"(MMCF/yr)\",\"(gallons/yr)\")","v":"(gallons/yr)"},null,null,null,"Silo Filling",{"$f":"N11","v":0},{"$f":"IF(N23=0,0,IF(N23=0,0,LOOKUP(M23,'Emission Factors'!$A$23:$A$25,'Emission Factors'!$D$23:$D$25)))","v":0},"lb/ton",{"$f":"N23*O23","v":0},null,{"$f":"IF($G$11>0,\"\",IF($C$10>0,$C$10*O23/2000,IF($C$11>0,$C$11*365*O23/2000,IF($C$12>0,$C$12*365*O23*N23/2000,IF($F$11>0,\"\",IF(R23=\"\",Q23*8760/2000,R23*8760/2000))))))","v":0},{"$f":"(P11*O23/2000)","v":0}]
[null,"Type of Fuel Used:",null,null,{"$f":"IF($C$4>0,\"AP-1 EP-2\",\"\")","v":""},{"$f":"IF($C$4>0,\"AP-1 EU-2\",\"\")","v":""},{"$f":"IF(C24=\"\",\"\",C24& \" Fired Heater\")","v":""},null,null,null,null,null,"Truck Loadout",{"$f":"N12","v":0},{"$f":"IF(N24=0,0,IF(N24=0,0,LOOKUP(M24,'Emission Factors'!$A$23:$A$25,'Emission Factors'!$D$23:$D$25)))","v":0},"lb/ton",{"$f":"N24*O24","v":0},null,{"$f":"IF($G$11>0,\"\",IF($C$10>0,$C$10*O24/2000,IF($C$11>0,$C$11*365*O24/2000,IF($C$12>0,$C$12*365*O24*N24/2000,IF($F$11>0,\"\",IF(R24=\"\",Q24*8760/2000,R24*8760/2000))))))","v":0},{"$f":"(P12*O24/2000)","v":0}]
[null,"Is Your Operation Controlled?:",null,null,"Silo Filling, Truck Loadout, Aggregate Transfer",null,null,"(tons/hr)","(tons/yr)",null,null,null,"Cold Aggregate Bins",{"$f":"N13","v":0},{"$f":"IF(N25=0,0,IF(N25=0,0,LOOKUP(M25,'Emission Factors'!A23:A25,'Emission Factors'!D23:D25)))","v":0},"lb/ton",{"$f":"N25*O25","v":0},null,{"$f":"IF($G$11>0,\"\",IF($C$10>0,$C$10*O25/2000,IF($C$11>0,$C$11*365*O25/2000,IF($C$12>0,$C$12*365*O25*N25/2000,IF($F$11>0,\"\",IF(R25=\"\",Q25*8760/2000,R25*8760/2000))))))","v":0},{"$f":"(P13*O25/2000)","v":0}]
[null,null,null,null,{"$f":"IF($C$4>0,\"AP-1 EP-3\",\"\")","v":""},{"$f":"IF($C$4>0,\"AP-1 EU-3\",\"\")","v":""},{"$f":"IF(C5=\"\",\"\",\"Silo Filling\")","v":""},null,null,null,null,null,"PM10"]
[null,null,null,null,{"$f":"IF($C$4>0,\"AP-1 EP-3\",\"\")","v":""},{"$f":"IF($C$4>0,\"AP-1 EU-4\",\"\")","v":""},{"$f":"IF(C5=\"\",\"\",\"Truck Loadout\")","v":""},null,null,null,null,null,{"$f":"$C$5 & \" - Fuel Oil\"","v":" - Fuel Oil"},{"$f":"N5","v":0},{"$f":"IF(N27=0,0,IF(MAX((IFERROR(OFFSET($G$21,MATCH(M27,$G$22,0),4),0)),((IFERROR(OFFSET($G$35,MATCH(M27,$G$36,0),4),0))),((IFERROR(OFFSET($G$51,MATCH(M27,$G$52,0),4),0))),((IFERROR(OFFSET($G$66,MATCH(M27,$G$67,0),4),0))),((IFERROR(OFFSET($G$81,MATCH(M27,$G$82,0),3),0))),((IFERROR(OFFSET($G$97,MATCH(M27,$G$98,0),4),0))),((IFERROR(OFFSET($G$112,MATCH(M27,$G$113,0),4),0))),((IFERROR(OFFSET($G$127,MATCH(M27,$G$128,0),4),0))),((IFERROR(OFFSET($G$142,MATCH(M27,$G$143,0),4),0))),((IFERROR(OFFSET($G$157,MATCH(M27,$G$158,0),4),0))))=0,0,(MAX((IFERROR(OFFSET($G$21,MATCH(M27,$G$22,0),4),0)),((IFERROR(OFFSET($G$35,MATCH(M27,$G$36,0),4),0))),((IFERROR(OFFSET($G$51,MATCH(M27,$G$52,0),4),0))),((IFERROR(OFFSET($G$66,MATCH(M27,$G$67,0),4),0))),((IFERROR(OFFSET($G$81,MATCH(M27,$G$82,0),4),0))),((IFERROR(OFFSET($G$97,MATCH(M27,$G$98,0),4),0))),((IFERROR(OFFSET($G$112,MATCH(M27,$G$113,0),4),0))),((IFERROR(OFFSET($G$127,MATCH(M27,$G$128,0),4),0))),((IFERROR(OFFSET($G$142,MATCH(M27,$G$143,0),4),0))),((IFERROR(OFFSET($G$157,MATCH(M27,$G$158,0),4),0)))))))","v":0},{"$f":"IF(O27=\"\",\"\",\"lb/ton\")","v":"lb/ton"},{"$f":"IF(O27=4.5,N27*O27,IF(O27=6.5,N27*O27,\"\"))","v":""},{"$f":"IF(N27=0,\"\",IF(AND($F$12>0,$O$27>=$O$28,$O$27>=$O$29),$F$12,IF(O27=0.0098,N27*O27,IF(O27=0.023,N27*O27,\"\"))))","v":""},{"$f":"IF(N27=0,0,IF($G$12>0,$G$12,IF(AND(OR($C$10>0,$C$11>0,$C$12>0),$O$27>=$O$28,$O$27>=$O$29),(IF($C$10>0,$C$10*O27/2000,IF($C$11>0,$C$11*365*O27/2000,IF($C$12>0,$C$12*365*O27*N27/2000)))),IF(AND($F$12>0,$O$27>=$O$28,$O$27>=$O$29),$F$12*8760/2000,IF(AND(OR($C$10=\"\",$C$10=0),OR($C$11=\"\",$C$11=0),OR($C$12=\"\",$C$12=0),$F$12=\"\"),IF(R27=\"\",Q27*8760/2000,R27*8760/2000),\"\")))))","v":0},{"$f":"IF(N27=\"\",\"\",SUM((IFERROR(MATCH(M27,$G$22,0)*$I$22*$K$22/2000,0)),(IFERROR(MATCH(M27,$G$36,0)*$I$36*$K$36/2000,0)),(IFERROR(MATCH(M27,$G$52,0)*$I$52*$K$52/2000,0)),(IFERROR(MATCH(M27,$G$67,0)*$I$67*$K$67/2000,0)),(IFERROR(MATCH(M27,$G$82,0)*$I$82*$K$82/2000,0)),(IFERROR(MATCH(M27,$G$98,0)*$I$98*$K$98/2000,0)),(IFERROR(MATCH(M27,$G$113,0)*$I$113*$K$113/2000,0)),(IFERROR(MATCH(M27,$G$128,0)*$I$128*$K$128/2000,0)),(IFERROR(MATCH(M27,$G$143,0)*$I$143*$K$143/2000,0)),(IFERROR(MATCH(M27,$G$158,0)*$I$158*$K$158/2000,0))))","v":0}]
[null,null,null,null,{"$f":"IF($C$4>0,\"AP-1 EP-3\",\"\")","v":""},{"$f":"IF($C$4>0,\"AP-1 EU-5\",\"\")","v":""},{"$f":"IF(C5=\"\",\"\",\"Cold Aggregate Bins\")","v":""},null,null,null,null,null,{"$f":"$C$5 & \" - Waste Oil\"","v":" - Waste Oil"},{"$f":"N6","v":0},{"$f":"IF(N28=0,0,IF(MAX((IFERROR(OFFSET($G$21,MATCH(M28,$G$22,0),4),0)),((IFERROR(OFFSET($G$35,MATCH(M28,$G$36,0),4),0))),((IFERROR(OFFSET($G$51,MATCH(M28,$G$52,0),4),0))),((IFERROR(OFFSET($G$66,MATCH(M28,$G$67,0),4),0))),((IFERROR(OFFSET($G$81,MATCH(M28,$G$82,0),3),0))),((IFERROR(OFFSET($G$97,MATCH(M28,$G$98,0),4),0))),((IFERROR(OFFSET($G$112,MATCH(M28,$G$113,0),4),0))),((IFERROR(OFFSET($G$127,MATCH(M28,$G$128,0),4),0))),((IFERROR(OFFSET($G$142,MATCH(M28,$G$143,0),4),0))),((IFERROR(OFFSET($G$157,MATCH(M28,$G$158,0),4),0))))=0,0,(MAX((IFERROR(OFFSET($G$21,MATCH(M28,$G$22,0),4),0)),((IFERROR(OFFSET($G$35,MATCH(M28,$G$36,0),4),0))),((IFERROR(OFFSET($G$51,MATCH(M28,$G$52,0),4),0))),((IFERROR(OFFSET($G$66,MATCH(M28,$G$67,0),4),0))),((IFERROR(OFFSET($G$81,MATCH(M28,$G$82,0),4),0))),((IFERROR(OFFSET($G$97,MATCH(M28,$G$98,0),4),0))),((IFERROR(OFFSET($G$112,MATCH(M28,$G$113,0),4),0))),((IFERROR(OFFSET($G$127,MATCH(M28,$G$128,0),4),0))),((IFERROR(OFFSET($G$142,MATCH(M28,$G$143,0),4),0))),((IFERROR(OFFSET($G$157,MATCH(M28,$G$158,0),4),0)))))))","v":0},"lb/ton",{"$f":"IF(O28=4.5,N28*O28,IF(O28=6.5,N28*O28,\"\"))","v":""},{"$f":"IF(N28=0,\"\",IF(AND($F$12>0,$O$28>$O$27,$O$28>=$O$29),$F$12,IF(O28=0.0098,N28*O28,IF(O28=0.023,N28*O28,\"\"))))","v":""},{"$f":"IF(N28=0,0,IF($G$12>0,IF(S27=0,$G$12,\"\"),IF(AND(OR($C$10>0,$C$11>0,$C$12>0),$O$28>$O$27,$O$28>=$O$29),(IF($C$10>0,$C$10*O28/2000,IF($C$11>0,$C$11*365*O28/2000,IF($C$12>0,$C$12*365*O28*N28/2000)))),IF(AND($F$12>0,$O$28>$O$27,$O$28>=$O$29),$F$12*8760/2000,IF(AND(OR($C$10=\"\",$C$10=0),OR($C$11=\"\",$C$11=0),OR($C$12=\"\",$C$12=0),$F$12=\"\"),IF(R28=\"\",Q28*8760/2000,R28*8760/2000),\"\")))))","v":0},{"$f":"IF(N28=\"\",\"\",SUM((IFERROR(MATCH(M28,$G$22,0)*$I$22*$K$22/2000,0)),(IFERROR(MATCH(M28,$G$36,0)*$I$36*$K$36/2000,0)),(IFERROR(MATCH(M28,$G$52,0)*$I$52*$K$52/2000,0)),(IFERROR(MATCH(M28,$G$67,0)*$I$67*$K$67/2000,0)),(IFERROR(MATCH(M28,$G$82,0)*$I$82*$K$82/2000,0)),(IFERROR(MATCH(M28,$G$98,0)*$I$98*$K$98/2000,0)),(IFERROR(MATCH(M28,$G$113,0)*$I$113*$K$113/2000,0)),(IFERROR(MATCH(M28,$G$128,0)*$I$128*$K$128/2000,0)),(IFERROR(MATCH(M28,$G$143,0)*$I$143*$K$143/2000,0)),(IFERROR(MATCH(M28,$G$158,0)*$I$158*$K$158/2000,0))))","v":0}]
[null,null,null,null,null,null,null,null,null,null,null,null,{"$f":"$C$5 & \" - Natural Gas\"","v":" - Natural Gas"},{"$f":"N7","v":0},{"$f":"IF(N29=0,0,IF(MAX((IFERROR(OFFSET($G$21,MATCH(M29,$G$22,0),4),0)),((IFERROR(OFFSET($G$35,MATCH(M29,$G$36,0),4),0))),((IFERROR(OFFSET($G$51,MATCH(M29,$G$52,0),4),0))),((IFERROR(OFFSET($G$66,MATCH(M29,$G$67,0),4),0))),((IFERROR(OFFSET($G$81,MATCH(M29,$G$82,0),3),0))),((IFERROR(OFFSET($G$97,MATCH(M29,$G$98,0),4),0))),((IFERROR(OFFSET($G$112,MATCH(M29,$G$113,0),4),0))),((IFERROR(OFFSET($G$127,MATCH(M29,$G$128,0),4),0))),((IFERROR(OFFSET($G$142,MATCH(M29,$G$143,0),4),0))),((IFERROR(OFFSET($G$157,MATCH(M29,$G$158,0),4),0))))=0,0,(MAX((IFERROR(OFFSET($G$21,MATCH(M29,$G$22,0),4),0)),((IFERROR(OFFSET($G$35,MATCH(M29,$G$36,0),4),0))),((IFERROR(OFFSET($G$51,MATCH(M29,$G$52,0),4),0))),((IFERROR(OFFSET($G$66,MATCH(M29,$G$67,0),4),0))),((IFERROR(OFFSET($G$81,MATCH(M29,$G$82,0),4),0))),((IFERROR(OFFSET($G$97,MATCH(M29,$G$98,0),4),0))),((IFERROR(OFFSET($G$112,MATCH(M29,$G$113,0),4),0))),((IFERROR(OFFSET($G$127,MATCH(M29,$G$128,0),4),0))),((IFERROR(OFFSET($G$142,MATCH(M29,$G$143,0),4),0))),((IFERROR(OFFSET($G$157,MATCH(M29,$G$158,0),4),0)))))))","v":0},"lb/ton",{"$f":"IF(O29=4.5,N29*O29,IF(O29=6.5,N29*O29,\"\"))","v":""},{"$f":"IF(N29=0,\"\",IF(AND($F$12>0,$O$29>$O$27,$O$29>$O$28),$F$12,IF(O29=0.0098,N29*O29,IF(O29=0.023,N29*O29,\"\"))))","v":""},{"$f":"IF(N29=0,0,IF($G$12>0,IF(AND(S27=0,S28=0),$G$12,\"\"),IF(AND(OR($C$10>0,$C$11>0,$C$12>0),$O$29>$O$27,$O$29>$O$28),(IF($C$10>0,$C$10*O29/2000,IF($C$11>0,$C$11*365*O29/2000,IF($C$12>0,$C$12*365*O29*N29/2000)))),IF(AND($F$12>0,$O$29>$O$27,$O$29>$O$28),$F$12*8760/2000,IF(AND(OR($C$10=\"\",$C$10=0),OR($C$11=\"\",$C$11=0),OR($C$12=\"\",$C$12=0),$F$12=\"\"),IF(R29=\"\",Q29*8760/2000,R29*8760/2000),\"\")))))","v":0},{"$f":"IF(N29=\"\",\"\",SUM((IFERROR(MATCH(M29,$G$22,0)*$I$22*$K$22/2000,0)),(IFERROR(MATCH(M29,$G$36,0)*$I$36*$K$36/2000,0)),(IFERROR(MATCH(M29,$G$52,0)*$I$52*$K$52/2000,0)),(IFERROR(MATCH(M29,$G$67,0)*$I$67*$K$67/2000,0)),(IFERROR(MATCH(M29,$G$82,0)*$I$82*$K$82/2000,0)),(IFERROR(MATCH(M29,$G$98,0)*$I$98*$K$98/2000,0)),(IFERROR(MATCH(M29,$G$113,0)*$I$113*$K$113/2000,0)),(IFERROR(MATCH(M29,$G$128,0)*$I$128*$K$128/2000,0)),(IFERROR(MATCH(M29,$G$143,0)*$I$143*$K$143/2000,0)),(IFERROR(MATCH(M29,$G$158,0)*$I$158*$K$158/2000,0))))","v":0}]
[null,null,null,null,"Stock Pile Area",null,null,null,null,null,null,null,"Silo Filling",{"$f":"N11","v":0},{"$f":"IF(N30=0,0,IF(N30=0,0,LOOKUP(M30,'Emission Factors'!$A$23:$A$25,'Emission Factors'!$F$23:$F$25)))","v":0},"lb/ton",{"$f":"N30*O30","v":0},null,{"$f":"IF($G$12>0,\"\",IF($C$10>0,$C$10*O30/2000,IF($C$11>0,$C$11*365*O30/2000,IF($C$12>0,$C$12*365*O30*N30/2000,IF($F$11>0,\"\",IF(R30=\"\",Q30*8760/2000,R30*8760/2000))))))","v":0},{"$f":"(P11*O30/2000)","v":0}]
[null,null,null,null,null,"Emission Unit #","Maximum Storage Area (acres)","Actual Storage Area (acres)","Actual Days in Existence (days)",null,null,null,"Truck Loadout",{"$f":"N12","v":0},{"$f":"IF(N31=0,0,IF(N31=0,0,LOOKUP(M31,'Emission Factors'!$A$23:$A$25,'Emission Factors'!$F$23:$F$25)))","v":0},"lb/ton",{"$f":"N31*O31","v":0},null,{"$f":"IF($G$12>0,\"\",IF($C$10>0,$C$10*O31/2000,IF($C$11>0,$C$11*365*O31/2000,IF($C$12>0,$C$12*365*O31*N31/2000,IF($F$11>0,\"\",IF(R31=\"\",Q31*8760/2000,R31*8760/2000))))))","v":0},{"$f":"(P12*O31/2000)","v":0}]
[null,null,null,null,null,null,null,null,null,null,null,null,"Cold Aggregate Bins",{"$f":"N13","v":0},{"$f":"IF(N32=0,0,IF(N32=0,0,LOOKUP(M32,'Emission Factors'!$A$23:$A$25,'Emission Factors'!$F$23:$F$25)))","v":0},"lb/ton",{"$f":"N32*O32","v":0},null,{"$f":"IF($G$12>0,\"\",IF($C$10>0,$C$10*O32/2000,IF($C$11>0,$C$11*365*O32/2000,IF($C$12>0,$C$12*365*O32*N32/2000,IF($F$11>0,\"\",IF(R32=\"\",Q32*8760/2000,R32*8760/2000))))))","v":0},{"$f":"(P13*O32/2000)","v":0}]
[]
[null,{"$f":"IF($C$4>1,\"Asphalt Plant\",\"\")","v":""},{"$f":"IF($C$4>1,\"Site 2\",\"\")","v":""},null,{"$f":"IF($C$4>1,\"Emission Point #\",\"\")","v":""},{"$f":"IF($C$4>1,\"Emission    Unit #\",\"\")","v":""},{"$f":"IF($C$4>1,\"Process\",\"\")","v":""},{"$f":"IF($C$4>1,\"Maximum Hourly     Design Rate\",\"\")","v":""},{"$f":"IF($C$4>1,('Facility Information'!G20&\" Annual Throughput\"),\"\")","v":""},null,null,null,null,"Storage Pile","Max Design Rate (acres)","Emission Factor (lb/acre-day)","Potential Uncontrolled Emissions (lb/hr)","Potential Controlled Emissions (lb/hr)","Potential Annual Emissions (tons/yr)","Actual Annual Emissions (tons/yr)"]
[null,{"$f":"IF($C$4>1,\"Site Name\",\"\")","v":""},null,null,{"$f":"IF($C$4>1,\"Dryers, Hot Screens, Mixer\",\"\")","v":""},null,null,{"$f":"IF($C$4>1,\"(tons/hr)\",\"\")","v":""},{"$f":"IF($C$4>1,\"(tons/yr)\",\"\")","v":""},"PM2.5","PM10",null,null,"PM2.5/PM10",{"$f":"N15","v":0},3.64,{"$f":"O35*P35*(1/24)","v":0},null,{"$f":"O35*P35*365/2000","v":0},{"$f":"O15*P35/2000","v":0}]
[null,{"$f":"IF($C$4>1,\"County:\",\"\")","v":""},null,null,{"$f":"IF(C38=\"\",\"\",\"AP-1 EP-1\")","v":""},{"$f":"IF(C38=\"\",\"\",\"AP-1 EU-1\")","v":""},{"$f":"IF(C38=\"\",\"\",C5 & \" - \"&C38)","v":""},null,null,{"$f":"IF(C39=\"\",\"\",IF(C39=\"yes\",LOOKUP(G36,'Emission Factors'!$A$12:$A$17,'Emission Factors'!$D$12:$D$17),LOOKUP(G36,'Emission Factors'!$A$5:$A$10,'Emission Factors'!$D$5:$D$10)))","v":""},{"$f":"IF(C39=\"\",\"\",IF(C39=\"yes\",LOOKUP(G36,'Emission Factors'!$A$12:$A$17,'Emission Factors'!$F$12:$F$17),LOOKUP(G36,'Emission Factors'!$A$5:$A$10,'Emission Factors'!$F$5:$F$10)))","v":""}]
[null,{"$f":"IF($C$4>1,\"Production Period (Dates):\",\"\")","v":""},null,null,{"$f":"IF($C$4>1,\"Liquid Asphalt Heater\",\"\")","v":""},null,null,{"$f":"IF($C$4>1,IF(C38=\"natural gas\",\"MMCF/hr\",\"(gallons/hr)\"),\"\")","v":""},{"$f":"IF($C$4>1,IF(C38=\"natural gas\",\"MMCF/yr\",\"(gallons/yr)\"),\"\")","v":""},null,null,null,"SO2"]
[null,{"$f":"IF($C$4>1,\"Type of Fuel Used:\",\"\")","v":""},null,null,{"$f":"IF(C38=\"\",\"\",\"AP-1 EP-2\")","v":""},{"$f":"IF(C38=\"\",\"\",\"AP-1 EU-2\")","v":""},{"$f":"IF(C38=\"\",\"\",C38& \" Fired Heater\")","v":""},null,null,null,null,null,{"$f":"$C$5 & \" - Fuel Oil\"","v":" - Fuel Oil"},{"$f":"$N$5","v":0},{"$f":"IF(N38=0,0,LOOKUP(M38,'Emission Factors'!$A$5:$A$10,'Emission Factors'!$H$5:$H$10))","v":0},{"$f":"IF(O38=\"\",\"\",\"lb/ton\")","v":"lb/ton"},{"$f":"N38*O38","v":0},{"$f":"IF(N38=0,\"\",IF(AND($F$13>0,N39=0),$F$13,\"\"))","v":""},{"$f":"IF(N38=0,0,IF($G$13>0,$G$13,IF(OR(AND($C$10>0,$N$39>0),AND($C$11>0,$N$39>0),AND($C$12>0,$N$39>0)),\"\",IF($C$10>0,$C$10*O38/2000,IF($C$11>0,$C$11*365*O38/2000,IF($C$12>0,$C$12*365*O38*N38/2000,IF(AND(N39>0,F13>0),\"\",IF(R38=\"\",Q38*8760/2000,R38*8760/2000))))))))","v":0},{"$f":"P5*O38/2000","v":0}]
[null,{"$f":"IF($C$4>1,\"Is Your Operation Controlled?:\",\"\")","v":""},null,null,{"$f":"IF($C$4>1,\"Silo Filling, Truck Loadout, Aggregate Transfer\",\"\")","v":""},null,null,{"$f":"IF($C$4>1,\"(tons/hr)\",\"\")","v":""},{"$f":"IF($C$4>1,\"(tons/yr)\",\"\")","v":""},null,null,null,{"$f":"$C$5 & \" - Waste Oil\"","v":" - Waste Oil"},{"$f":"$N$6","v":0},{"$f":"IF(N39=0,0,LOOKUP(M39,'Emission Factors'!$A$5:$A$10,'Emission Factors'!$H$5:$H$10))","v":0},{"$f":"IF(O39=\"\",\"\",\"lb/ton\")","v":"lb/ton"},{"$f":"N39*O39","v":0},{"$f":"IF(N39=0,\"\",IF($F$13>0,$F$13,\"\"))","v":""},{"$f":"IF(N39=0,0,IF($G$13>0,IF(S38=0,G13,\"\"),IF($C$10>0,$C$10*O39/2000,IF($C$11>0,$C$11*365*O39/2000,IF($C$12>0,$C$12*365*O39*N39/2000,IF(R39=\"\",Q39*8760/2000,R39*8760/2000))))))","v":0},{"$f":"P6*O39/2000","v":0}]
[null,null,null,null,{"$f":"IF($C$4>1,\"AP-1 EP-3\",\"\")","v":""},{"$f":"IF($C$4>1,\"AP-1 EU-3\",\"\")","v":""},{"$f":"IF($C$4>1,\"Silo Filling\",\"\")","v":""},null,null,null,null,null,{"$f":"$C$5 & \" - Natural Gas\"","v":" - Natural Gas"},{"$f":"$N$7","v":0},{"$f":"IF(N40=0,0,LOOKUP(M40,'Emission Factors'!$A$5:$A$10,'Emission Factors'!$H$5:$H$10))","v":0},{"$f":"IF(O40=\"\",\"\",\"lb/ton\")","v":"lb/ton"},{"$f":"N40*O40","v":0},{"$f":"IF(N40=0,\"\",IF(AND($F$13>0,N38=0,N39=0),$F$13,\"\"))","v":""},{"$f":"IF(N40=0,0,IF($G$13>0,IF(AND(S38=0,S39=0),G13,\"\"),IF(OR(AND($C$10>0,$N$39>0),AND($C$11>0,$N$39>0),AND($C$12>0,$N$39>0)),\"\",IF(OR(AND($C$10>0,$N$38>0),AND($C$11>0,$N$38>0),AND($C$12>0,$N$38>0)),\"\",IF($C$10>0,$C$10*O40/2000,IF($C$11>0,$C$11*365*O40/2000,IF($C$12>0,$C$12*365*O40*N40/2000,IF(AND(N39>0,N38>0,F13>0),\"\",IF(R40=\"\",Q40*8760/2000,R40*8760/2000)))))))))","v":0},{"$f":"P7*O40/2000","v":0}]
[null,null,null,null,{"$f":"IF($C$4>1,\"AP-1 EP-3\",\"\")","v":""},{"$f":"IF($C$4>1,\"AP-1 EU-4\",\"\")","v":""},{"$f":"IF($C$4>1,\"Truck Loadout\",\"\")","v":""},null,null,null,null,null,"NOx"]
[null,null,null,null,{"$f":"IF($C$4>1,\"AP-1 EP-3\",\"\")","v":""},{"$f":"IF($C$4>1,\"AP-1 EU-5\",\"\")","v":""},{"$f":"IF($C$4>1,\"Cold Aggregate Bins\",\"\")","v":""},null,null,null,null,null,{"$f":"$C$5 & \" - Fuel Oil\"","v":" - Fuel Oil"},{"$f":"$N$5","v":0},{"$f":"IF(N42=0,0,LOOKUP(M42,'Emission Factors'!$A$5:$A$10,'Emission Factors'!$J$5:$J$10))","v":0},{"$f":"IF(O42=\"\",\"\",\"lb/ton\")","v":"lb/ton"},{"$f":"N42*O42","v":0},{"$f":"IF(N42=0,\"\",IF(AND($F$14>0,N43=0),$F$14,\"\"))","v":""},{"$f":"IF(N42=0,0,IF($G$14>0,$G$14,IF(OR(AND($C$10>0,$N$43>0),AND($C$11>0,$N$43>0),AND($C$12>0,$N$43>0)),\"\",IF($C$10>0,$C$10*O42/2000,IF($C$11>0,$C$11*365*O42/2000,IF($C$12>0,$C$12*365*O42*N42/2000,IF(AND(N43>0,F14>0),\"\",IF(R42=\"\",Q42*8760/2000,R42*8760/2000))))))))","v":0},{"$f":"P5*O42/2000","v":0}]
[null,null,null,null,null,null,null,null,null,null,null,null,{"$f":"$C$5 & \" - Waste Oil\"","v":" - Waste Oil"},{"$f":"$N$6","v":0},{"$f":"IF(N43=0,0,LOOKUP(M43,'Emission Factors'!$A$5:$A$10,'Emission Factors'!$J$5:$J$10))","v":0},{"$f":"IF(O43=\"\",\"\",\"lb/ton\")","v":"lb/ton"},{"$f":"N43*O43","v":0},{"$f":"IF(N43=0,\"\",IF($F$14>0,$F$14,\"\"))","v":""},{"$f":"IF(N43=0,0,IF($G$14>0,IF(S42=0,G14,\"\"),IF($C$10>0,$C$10*O43/2000,IF($C$11>0,$C$11*365*O43/2000,IF($C$12>0,$C$12*365*O43*N43/2000,IF(R43=\"\",Q43*8760/2000,R43*8760/2000))))))","v":0},{"$f":"P6*O43/2000","v":0}]
[null,null,null,null,{"$f":"IF($C$4>1,\"Stock Pile Area\",\"\")","v":""},null,null,null,null,null,null,null,{"$f":"$C$5 & \" - Natural Gas\"","v":" - Natural Gas"},{"$f":"$N$7","v":0},{"$f":"IF(N44=0,0,LOOKUP(M44,'Emission Factors'!$A$5:$A$10,'Emission Factors'!$J$5:$J$10))","v":0},{"$f":"IF(O44=\"\",\"\",\"lb/ton\")","v":"lb/ton"},{"$f":"N44*O44","v":0},{"$f":"IF(N44=0,\"\",IF(AND($F$14>0,N42=0,N43=0),$F$14,\"\"))","v":""},{"$f":"IF(N44=0,0,IF($G$14>0,IF(AND(S42=0,S43=0),G14,\"\"),IF(OR(AND($C$10>0,$N$43>0),AND($C$11>0,$N$43>0),AND($C$12>0,$N$43>0)),\"\",IF(OR(AND($C$10>0,$N$42>0),AND($C$11>0,$N$42>0),AND($C$12>0,$N$42>0)),\"\",IF($C$10>0,$C$10*O44/2000,IF($C$11>0,$C$11*365*O44/2000,IF($C$12>0,$C$12*365*O44*N44/2000,IF(AND(N42>0,N43>0,F14>0),\"\",IF(R44=\"\",Q44*8760/2000,R44*8760/2000)))))))))","v":0},{"$f":"P7*O44/2000","v":0}]
[null,null,null,null,null,{"$f":"IF($C$4>1,\"Emission Unit #\",\"\")","v":""},{"$f":"IF($C$4>1,\"Maximum Storage Area (acres)\",\"\")","v":""},{"$f":"IF($C$4>1,\"Actual Storage Area (acres)\",\"\")","v":""},{"$f":"IF($C$4>1,\"Actual Days in Existence (days)\",\"\")","v":""},null,null,null,"VOC"]
[null,null,null,null,null,null,null,null,null,null,null,null,{"$f":"$C$5 & \" - Fuel Oil\"","v":" - Fuel Oil"},{"$f":"$N$5","v":0},{"$f":"IF(N46=0,0,LOOKUP(M46,'Emission Factors'!$A$5:$A$10,'Emission Factors'!$L$5:$L$10))","v":0},{"$f":"IF(O46=\"\",\"\",\"lb/ton\")","v":"lb/ton"},{"$f":"N46*O46","v":0},{"$f":"IF(N46=0,\"\",IF(AND($F$15>0,N47=0),$F$15,\"\"))","v":""},{"$f":"IF(N46=0,0,IF($G$15>0,$G$15,IF(OR(AND($C$10>0,$N$47>0),AND($C$11>0,$N$47>0),AND($C$12>0,$N$47>0)),\"\",IF($C$10>0,$C$10*O46/2000,IF($C$11>0,$C$11*365*O46/2000,IF($C$12>0,$C$12*365*O46*N46/2000,IF(AND(N47>0,F15>0),\"\",IF(R46=\"\",Q46*8760/2000,R46*8760/2000))))))))","v":0},{"$f":"P5*O46/2000","v":0}]
[null,null,null,null,null,null,null,null,null,null,null,null,{"$f":"$C$5 & \" - Waste Oil\"","v":" - Waste Oil"},{"$f":"$N$6","v":0},{"$f":"IF(N47=0,0,LOOKUP(M47,'Emission Factors'!$A$5:$A$10,'Emission Factors'!$L$5:$L$10))","v":0},{"$f":"IF(O47=\"\",\"\",\"lb/ton\")","v":"lb/ton"},{"$f":"N47*O47","v":0},{"$f":"IF(N47=0,\"\",IF($F$15>0,$F$15,\"\"))","v":""},{"$f":"IF(N47=0,0,IF($G$15>0,IF(S46=0,G15,\"\"),IF($C$10>0,$C$10*O47/2000,IF($C$11>0,$C$11*365*O47/2000,IF($C$12>0,$C$12*365*O47*N47/2000,IF(R47=\"\",Q47*8760/2000,R47*8760/2000))))))","v":0},{"$f":"P6*O47/2000","v":0}]
[null,null,null,null,null,null,null,null,null,null,null,null,{"$f":"$C$5 & \" - Natural Gas\"","v":" - Natural Gas"},{"$f":"$N$7","v":0},{"$f":"IF(N48=0,0,LOOKUP(M48,'Emission Factors'!$A$5:$A$10,'Emission Factors'!$L$5:$L$10))","v":0},{"$f":"IF(O48=\"\",\"\",\"lb/ton\")","v":"lb/ton"},{"$f":"N48*O48","v":0},{"$f":"IF(N48=0,\"\",IF(AND($F$15>0,N46=0,N47=0),$F$15,\"\"))","v":""},{"$f":"IF(N48=0,0,IF($G$15>0,IF(AND(S46=0,S47=0),G15,\"\"),IF(OR(AND($C$10>0,$N$47>0),AND($C$11>0,$N$47>0),AND($C$12>0,$N$47>0)),\"\",IF(OR(AND($C$10>0,$N$46>0),AND($C$11>0,$N$46>0),AND($C$12>0,$N$46>0)),\"\",IF($C$10>0,$C$10*O48/2000,IF($C$11>0,$C$11*365*O48/2000,IF($C$12>0,$C$12*365*O48*N48/2000,IF(AND(N46>0,N47>0,F15>0),\"\",IF(R48=\"\",Q48*8760/2000,R48*8760/2000)))))))))","v":0},{"$f":"P7*O48/2000","v":0}]
[null,{"$f":"IF($C$4>2,\"Asphalt Plant\",\"\")","v":""},{"$f":"IF($C$4>2,\"Site 3\",\"\")","v":""},null,{"$f":"IF($C$4>2,\"Emission Point #\",\"\")","v":""},{"$f":"IF($C$4>2,\"Emission    Unit #\",\"\")","v":""},{"$f":"IF($C$4>2,\"Process\",\"\")","v":""},{"$f":"IF($C$4>2,\"Maximum Hourly     Design Rate\",\"\")","v":""},{"$f":"IF($C$4>2,('Facility Information'!G35&\" Annual Throughput\"),\"\")","v":""},null,null,null,{"$f":"\"Natural Gas Fired Heater\"","v":"Natural Gas Fired Heater"},{"$f":"N10","v":0},{"$f":"IF(N49=0,0,0.026)","v":0},{"$f":"IF(O49=\"\",\"\",\"lb/MMCF\")","v":"lb/MMCF"},{"$f":"N49*O49","v":0},null,{"$f":"IF(N49=0,0,IF(R49=\"\",Q49*8760/2000,R49*8760/2000))","v":0},{"$f":"($P$10*O49/2000)","v":0}]
[null,null,null,null,null,null,null,null,null,null,null,null,"Silo Filling",{"$f":"N11","v":0},{"$f":"IF(N50=0,0,IF(N50=0,0,LOOKUP(M50,'Emission Factors'!$A$23:$A$25,'Emission Factors'!$L$23:$L$25)))","v":0},{"$f":"IF(O50=\"\",\"\",\"lb/ton\")","v":"lb/ton"},null,null,null,{"$f":"P11*O50/2000","v":0}]
[null,{"$f":"IF($C$4>2,\"Site Name\",\"\")","v":""},null,null,{"$f":"IF($C$4>2,\"Dryers, Hot Screens, Mixer\",\"\")","v":""},null,null,{"$f":"IF($C$4>2,\"(tons/hr)\",\"\")","v":""},{"$f":"IF($C$4>2,\"(tons/yr)\",\"\")","v":""},"PM2.5","PM10",null,"Truck Loadout",{"$f":"N12","v":0},{"$f":"IF(N51=0,0,IF(N51=0,0,LOOKUP(M51,'Emission Factors'!$A$23:$A$25,'Emission Factors'!$L$23:$L$25)))","v":0},{"$f":"IF(O51=\"\",\"\",\"lb/ton\")","v":"lb/ton"},null,null,null,{"$f":"P12*O51/2000","v":0}]
[null,{"$f":"IF($C$4>2,\"County:\",\"\")","v":""},null,null,{"$f":"IF(C54=\"\",\"\",\"AP-1 EP-1\")","v":""},{"$f":"IF(C54=\"\",\"\",\"AP-1 EU-1\")","v":""},{"$f":"IF(C54=\"\",\"\",C5 & \" - \"&C54)","v":""},null,null,{"$f":"IF(C55=\"\",\"\",IF(C55=\"yes\",LOOKUP(G52,'Emission Factors'!$A$12:$A$17,'Emission Factors'!$D$12:$D$17),LOOKUP(G52,'Emission Factors'!$A$5:$A$10,'Emission Factors'!$D$5:$D$10)))","v":""},{"$f":"IF(C55=\"\",\"\",IF(C55=\"yes\",LOOKUP(G52,'Emission Factors'!$A$12:$A$17,'Emission Factors'!$F$12:$F$17),LOOKUP(G52,'Emission Factors'!$A$5:$A$10,'Emission Factors'!$F$5:$F$10)))","v":""},null,"CO"]
[null,{"$f":"IF($C$4>2,\"Production Period (Dates):\",\"\")","v":""},null,null,{"$f":"IF($C$4>2,\"Liquid Asphalt Heater\",\"\")","v":""},null,null,{"$f":"IF($C$4>2,IF(C54=\"natural gas\",\"(MMCF/hr)\",\"(gallons/hr)\"),\"\")","v":""},{"$f":"IF($C$4>2,IF(C54=\"natural gas\",\"(MMCF/yr)\",\"(gallons/yr)\"),\"\")","v":""},null,null,null,{"$f":"IF($C$5=\"\",\"\",$C$5)","v":""},{"$f":"SUM($N$5:$N$7)","v":0},{"$f":"IF(N53=0,0,IF(M53=\"Batch Mix Plant\",0.4,IF(M53=\"Drum Mix Plant\",0.13)))","v":0},{"$f":"IF(O53=\"\",\"\",\"lb/ton\")","v":"lb/ton"},{"$f":"N53*O53","v":0},{"$f":"IF(N53=0,\"\",IF($F$16>0,$F$16,\"\"))","v":""},{"$f":"IF($G$16>0,$G$16,IF(N53=0,0,IF($C$10>0,$C$10*O53/2000,IF($C$11>0,$C$11*365*O53/2000,IF($C$12>0,$C$12*365*O53*N53/2000,IF(R53=\"\",Q53*8760/2000,R53*8760/2000))))))","v":0},{"$f":"SUM($P$5:$P$7)*O53/2000","v":0}]
[null,{"$f":"IF($C$4>2,\"Type of Fuel Used:\",\"\")","v":""},null,null,{"$f":"IF(C54=\"\",\"\",\"AP-1 EP-2\")","v":""},{"$f":"IF(C54=\"\",\"\",\"AP-1 EU-2\")","v":""},{"$f":"IF(C54=\"\",\"\",C54& \" Fired Heater\")","v":""},null,null,null,null,null,"Fuel Oil Fired Heater",{"$f":"N8","v":0},{"$f":"IF(N54=0,0,LOOKUP(M54,'Emission Factors'!$A$19:$A$21,'Emission Factors'!$N$19:$N$21))","v":0},{"$f":"IF(O54=\"\",\"\",\"lb/gallon\")","v":"lb/gallon"},{"$f":"N54*O54","v":0},null,{"$f":"IF(N54=0,0,IF($G$16>0,\"\",IF($F$16>0,\"\",IF(R54=\"\",Q54*8760/2000,R54*8760/2000))))","v":0},{"$f":"(P8*O54/2000)","v":0}]
[null,{"$f":"IF($C$4>2,\"Is Your Operation Controlled?:\",\"\")","v":""},null,null,{"$f":"IF($C$4>2,\"Silo Filling, Truck Loadout, Aggregate Transfer\",\"\")","v":""},null,null,{"$f":"IF($C$4>2,\"(tons/hr)\",\"\")","v":""},{"$f":"IF($C$4>2,\"(tons/yr)\",\"\")","v":""},null,null,null,"Waste Oil Fired Heater",{"$f":"N9","v":0},{"$f":"IF(N55=0,0,LOOKUP(M55,'Emission Factors'!$A$19:$A$21,'Emission Factors'!$N$19:$N$21))","v":0},{"$f":"IF(O55=\"\",\"\",\"lb/gallon\")","v":"lb/gallon"},{"$f":"N55*O55","v":0},null,{"$f":"IF(N55=0,0,IF($G$16>0,\"\",IF($F$16>0,\"\",IF(R55=\"\",Q55*8760/2000,R55*8760/2000))))","v":0},{"$f":"(P9*O55/2000)","v":0}]
[null,null,null,null,{"$f":"IF($C$4>2,\"AP-1 EP-3\",\"\")","v":""},{"$f":"IF($C$4>2,\"AP-1 EU-3\",\"\")","v":""},{"$f":"IF($C$4>2,\"Silo Filling\",\"\")","v":""},null,null,null,null,null,"Natural Gas Fired Heater",{"$f":"N10","v":0},{"$f":"IF(N56=0,0,LOOKUP(M56,'Emission Factors'!$A$19:$A$21,'Emission Factors'!$N$19:$N$21))","v":0},{"$f":"IF(O56=\"\",\"\",\"lb/MMCF\")","v":"lb/MMCF"},{"$f":"N56*O56","v":0},null,{"$f":"IF(N56=0,0,IF($G$16>0,\"\",IF($F$16>0,\"\",IF(R56=\"\",Q56*8760/2000,R56*8760/2000))))","v":0},{"$f":"($P$10*O56/2000)","v":0}]
[null,null,null,null,{"$f":"IF($C$4>2,\"AP-1 EP-3\",\"\")","v":""},{"$f":"IF($C$4>2,\"AP-1 EU-4\",\"\")","v":""},{"$f":"IF($C$4>2,\"Truck Loadout\",\"\")","v":""},null,null,null,null,null,"Silo Filling",{"$f":"N11","v":0},{"$f":"IF(N57=0,0,IF(N57=0,0,LOOKUP(M57,'Emission Factors'!$A$23:$A$25,'Emission Factors'!$N$23:$N$25)))","v":0},{"$f":"IF(O57=\"\",\"\",\"lb/ton\")","v":"lb/ton"},null,null,null,{"$f":"P11*O57/2000","v":0}]
[null,null,null,null,{"$f":"IF($C$4>2,\"AP-1 EP-3\",\"\")","v":""},{"$f":"IF($C$4>2,\"AP-1 EU-5\",\"\")","v":""},{"$f":"IF($C$4>2,\"Cold Aggregate Bins\",\"\")","v":""},null,null,null,null,null,"Truck Loadout",{"$f":"N12","v":0},{"$f":"IF(N58=0,0,IF(N58=0,0,LOOKUP(M58,'Emission Factors'!$A$23:$A$25,'Emission Factors'!$N$23:$N$25)))","v":0},{"$f":"IF(O58=\"\",\"\",\"lb/ton\")","v":"lb/ton"},null,null,null,{"$f":"P12*O58/2000","v":0}]
[null,null,null,null,null,null,null,null,null,null,null,null,"Acetaldehyde"]
[null,null,null,null,{"$f":"IF($C$4>2,\"Stock Pile Area\",\"\")","v":""},null,null,null,null,null,null,null,{"$f":"IF($C$5=\"\",\"\",$C$5)","v":""},{"$f":"IF(C5=\"drum mix plant\",SUM(N5:$N$6),SUM($N$5:$N$7))","v":0},{"$f":"IF(N60=0,0,IF(M60=\"Batch Mix Plant\",0.00032,IF(M60=\"Drum Mix Plant\",0.0013)))","v":0},{"$f":"IF(O60=\"\",\"\",\"lb/ton\")","v":"lb/ton"},{"$f":"N60*O60","v":0},null,{"$f":"IF(N60=0,0,IF($C$10>0,$C$10*O60/2000,IF($C$11>0,$C$11*365*O60/2000,IF($C$12>0,$C$12*365*O60*N60/2000,IF(R60=\"\",Q60*8760/2000,R60*8760/2000)))))","v":0},{"$f":"IF(C5=\"drum mix plant\",$P$6*O60/2000,SUM($P$5:$P$7)*O60/2000)","v":0}]
[null,null,null,null,null,{"$f":"IF($C$4>2,\"Emission Unit #\",\"\")","v":""},{"$f":"IF($C$4>2,\"Maximum Storage Area (acres)\",\"\")","v":""},{"$f":"IF($C$4>2,\"Actual Storage Area (acres)\",\"\")","v":""},{"$f":"IF($C$4>2,\"Actual Days in Existence (days)\",\"\")","v":""},null,null,null,"Acrolein"]
[null,null,null,null,null,null,null,null,null,null,null,null,{"$f":"IF($C$5=\"\",\"\",$C$5)","v":""},{"$f":"IF(C5=\"drum mix plant\",SUM(N5:$N$6),0)","v":0},{"$f":"IF(N62=0,0,0.000026)","v":0},{"$f":"IF(O62=\"\",\"\",\"lb/ton\")","v":"lb/ton"},{"$f":"N62*O62","v":0},null,{"$f":"IF(N62=0,0,IF($C$10>0,$C$10*O62/2000,IF($C$11>0,$C$11*365*O62/2000,IF($C$12>0,$C$12*365*O62*N62/2000,IF(R62=\"\",Q62*8760/2000,R62*8760/2000)))))","v":0},{"$f":"IF(C7=\"drum mix plant\",$P$6*O62/2000,SUM($P$5:$P$7)*O62/2000)","v":0}]
[null,null,null,null,null,null,null,null,null,null,null,null,"Benzene"]
[null,{"$f":"IF($C$4>3,\"Asphalt Plant\",\"\")","v":""},{"$f":"IF($C$4>3,\"Site 4\",\"\")","v":""},null,{"$f":"IF($C$4>3,\"Emission Point #\",\"\")","v":""},{"$f":"IF($C$4>3,\"Emission    Unit #\",\"\")","v":""},{"$f":"IF($C$4>3,\"Process\",\"\")","v":""},{"$f":"IF($C$4>3,\"Maximum Hourly     Design Rate\",\"\")","v":""},{"$f":"IF($C$4>3,('Facility Information'!G50&\" Annual Throughput\"),\"\")","v":""},null,null,null,{"$f":"IF($C$5=\"\",\"\",$C$5)","v":""},{"$f":"SUM($N$5:$N$7)","v":0},{"$f":"IF(N64=0,0,IF(M64=\"Batch Mix Plant\",0.00028,IF(M64=\"Drum Mix Plant\",0.00039)))","v":0},{"$f":"IF(O64=\"\",\"\",\"lb/ton\")","v":"lb/ton"},{"$f":"N64*O64","v":0},null,{"$f":"IF(N64=0,0,IF($C$10>0,$C$10*O64/2000,IF($C$11>0,$C$11*365*O64/2000,IF($C$12>0,$C$12*365*O64*N64/2000,IF(R64=\"\",Q64*8760/2000,R64*8760/2000)))))","v":0},{"$f":"SUM($P$5:$P$7)*O64/2000","v":0}]
[null,null,null,null,null,null,null,null,null,null,null,null,"Ethylbenzene"]
[null,{"$f":"IF($C$4>3,\"Site Name\",\"\")","v":""},null," ",{"$f":"IF($C$4>3,\"Dryers, Hot Screens, Mixer\",\"\")","v":""},null,null,{"$f":"IF($C$4>3,\"(tons/hr)\",\"\")","v":""},{"$f":"IF($C$4>3,\"(tons/yr)\",\"\")","v":""},"PM2.5","PM10",null,{"$f":"IF($C$5=\"\",\"\",$C$5)","v":""},{"$f":"SUM($N$5:$N$7)","v":0},{"$f":"IF(N66=0,0,IF(M66=\"Batch Mix Plant\",0.0022,IF(M66=\"Drum Mix Plant\",0.00024)))","v":0},{"$f":"IF(O66=\"\",\"\",\"lb/ton\")","v":"lb/ton"},{"$f":"N66*O66","v":0},null,{"$f":"IF(N66=0,0,IF($C$10>0,$C$10*O66/2000,IF($C$11>0,$C$11*365*O66/2000,IF($C$12>0,$C$12*365*O66*N66/2000,IF(R66=\"\",Q66*8760/2000,R66*8760/2000)))))","v":0},{"$f":"SUM($P$5:$P$7)*O66/2000","v":0}]
[null,{"$f":"IF($C$4>3,\"County:\",\"\")","v":""},null,null,{"$f":"IF(C69=\"\",\"\",\"AP-1 EP-1\")","v":""},{"$f":"IF(C69=\"\",\"\",\"AP-1 EU-1\")","v":""},{"$f":"IF(C69=\"\",\"\",C5 & \" - \"&C69)","v":""},null,null,{"$f":"IF(C70=\"\",\"\",IF(C70=\"yes\",LOOKUP(G67,'Emission Factors'!$A$12:$A$17,'Emission Factors'!$D$12:$D$17),LOOKUP(G67,'Emission Factors'!$A$5:$A$10,'Emission Factors'!$D$5:$D$10)))","v":""},{"$f":"IF(C70=\"\",\"\",IF(C70=\"yes\",LOOKUP(G67,'Emission Factors'!$A$12:$A$17,'Emission Factors'!$F$12:$F$17),LOOKUP(G67,'Emission Factors'!$A$5:$A$10,'Emission Factors'!$F$5:$F$10)))","v":""},null,"Formaldehyde"]
[null,{"$f":"IF($C$4>3,\"Production Period (Dates):\",\"\")","v":""},null,null,{"$f":"IF($C$4>3,\"Liquid Asphalt Heater\",\"\")","v":""},null,null,{"$f":"IF($C$4>3,IF(C69=\"natural gas\",\"(MMCF/hr)\",\"(gallons/hr)\"),\"\")","v":""},{"$f":"IF($C$4>3,IF(C69=\"natural gas\",\"(MMCF/yr)\",\"(gallons/yr)\"),\"\")","v":""},null,null,null,{"$f":"IF($C$5=\"\",\"\",$C$5)","v":""},{"$f":"SUM($N$5:$N$7)","v":0},{"$f":"IF(N68=0,0,IF(M68=\"Batch Mix Plant\",0.00074,IF(M68=\"Drum Mix Plant\",0.0031)))","v":0},{"$f":"IF(O68=\"\",\"\",\"lb/ton\")","v":"lb/ton"},{"$f":"N68*O68","v":0},null,{"$f":"IF(N68=0,0,IF($C$10>0,$C$10*O68/2000,IF($C$11>0,$C$11*365*O68/2000,IF($C$12>0,$C$12*365*O68*N68/2000,IF(R68=\"\",Q68*8760/2000,R68*8760/2000)))))","v":0},{"$f":"SUM($P$5:$P$7)*O68/2000","v":0}]
[null,{"$f":"IF($C$4>3,\"Type of Fuel Used:\",\"\")","v":""},null,null,{"$f":"IF(C69=\"\",\"\",\"AP-1 EP-2\")","v":""},{"$f":"IF(C69=\"\",\"\",\"AP-1 EU-2\")","v":""},{"$f":"IF(C69=\"\",\"\",C69& \" Fired Heater\")","v":""},null,null,null,null,null,{"$f":"\"Natural Gas Fired Heater\"","v":"Natural Gas Fired Heater"},{"$f":"N10","v":0},{"$f":"IF(N69=0,0,0.026)","v":0},{"$f":"IF(O69=\"\",\"\",\"lb/MMCF\")","v":"lb/MMCF"},{"$f":"N69*O69","v":0},null,{"$f":"IF(N69=0,0,IF(R69=\"\",Q69*8760/2000,R69*8760/2000))","v":0},{"$f":"($P$10*O69/2000)","v":0}]
[null,{"$f":"IF($C$4>3,\"Is Your Operation Controlled?:\",\"\")","v":""},null,null,{"$f":"IF($C$4>3,\"Silo Filling, Truck Loadout, Aggregate Transfer\",\"\")","v":""},null,null,{"$f":"IF($C$4>3,\"(tons/hr)\",\"\")","v":""},{"$f":"IF($C$4>3,\"(tons/yr)\",\"\")","v":""},null,null,null,"Hexane"]
[null,null,null,null,{"$f":"IF($C$4>3,\"AP-1 EP-3\",\"\")","v":""},{"$f":"IF($C$4>3,\"AP-1 EU-3\",\"\")","v":""},{"$f":"IF($C$4>3,\"Silo Filling\",\"\")","v":""},null,null,null,null,null,{"$f":"IF($C$5=\"\",\"\",$C$5)","v":""},{"$f":"IF(C5=\"drum mix plant\",SUM(N5:N7),0)","v":0},{"$f":"IF(N71=0,0,0.00092)","v":0},{"$f":"IF(O71=\"\",\"\",\"lb/ton\")","v":"lb/ton"},{"$f":"N71*O71","v":0},null,{"$f":"IF(N71=0,0,IF($C$10>0,$C$10*O71/2000,IF($C$11>0,$C$11*365*O71/2000,IF($C$12>0,$C$12*365*O71*N71/2000,IF(R71=\"\",Q71*8760/2000,R71*8760/2000)))))","v":0},{"$f":"IF(N71>0,SUM($P$5:$P$7)*O71/2000,0)","v":0}]
[null,null,null,null,{"$f":"IF($C$4>3,\"AP-1 EP-3\",\"\")","v":""},{"$f":"IF($C$4>3,\"AP-1 EU-4\",\"\")","v":""},{"$f":"IF($C$4>3,\"Truck Loadout\",\"\")","v":""},null,null,null,null,null,"Hydrochloric Acid"]
[null,null,null,null,{"$f":"IF($C$4>3,\"AP-1 EP-3\",\"\")","v":""},{"$f":"IF($C$4>3,\"AP-1 EU-5\",\"\")","v":""},{"$f":"IF($C$4>3,\"Cold Aggregate Bins\",\"\")","v":""},null,null,null,null,null,{"$f":"IF($C$5=\"\",\"\",$C$5)","v":""},{"$f":"IF(C5=\"drum mix plant\",SUM(N5:$N$6),0)","v":0},{"$f":"IF(N73=0,0,0.00021)","v":0},{"$f":"IF(O73=\"\",\"\",\"lb/ton\")","v":"lb/ton"},{"$f":"N73*O73","v":0},null,{"$f":"IF(N73=0,0,IF($C$10>0,$C$10*O73/2000,IF($C$11>0,$C$11*365*O73/2000,IF($C$12>0,$C$12*365*O73*N73/2000,IF(R73=\"\",Q73*8760/2000,R73*8760/2000)))))","v":0},{"$f":"IF(N73>0,$P$6*O73/2000,0)","v":0}]
[null,null,null,null,null,null,null,null,null,null,null,null,"Methyl Chloroform"]
[null,null,null,null,{"$f":"IF($C$4>3,\"Stock Pile Area\",\"\")","v":""},null,null,null,null,null,null,null,{"$f":"IF($C$5=\"\",\"\",$C$5)","v":""},{"$f":"IF(C5=\"drum mix plant\",SUM(N5:N7),0)","v":0},{"$f":"IF(N75=0,0,0.000048)","v":0},{"$f":"IF(O75=\"\",\"\",\"lb/ton\")","v":"lb/ton"},{"$f":"N75*O75","v":0},null,{"$f":"IF(N75=0,0,IF($C$10>0,$C$10*O75/2000,IF($C$11>0,$C$11*365*O75/2000,IF($C$12>0,$C$12*365*O75*N75/2000,IF(R75=\"\",Q75*8760/2000,R75*8760/2000)))))","v":0},{"$f":"IF(N75>0,SUM($P$5:$P$7)*O75/2000,0)","v":0}]
[null,null,null,null,null,{"$f":"IF($C$4>3,\"Emission Unit #\",\"\")","v":""},{"$f":"IF($C$4>3,\"Maximum Storage Area (acres)\",\"\")","v":""},{"$f":"IF($C$4>3,\"Actual Storage Area (acres)\",\"\")","v":""},{"$f":"IF($C$4>3,\"Actual Days in Existence (days)\",\"\")","v":""},null,null,null,"Propionaldehyde"]
[null,null,null,null,null,null,null,null,null,null,null,null,{"$f":"IF($C$5=\"\",\"\",$C$5)","v":""},{"$f":"IF(C5=\"drum mix plant\",SUM(N5:$N$6),0)","v":0},{"$f":"IF(N77=0,0,0.00013)","v":0},{"$f":"IF(O77=\"\",\"\",\"lb/ton\")","v":"lb/ton"},{"$f":"N77*O77","v":0},null,{"$f":"IF(N77=0,0,IF($C$10>0,$C$10*O77/2000,IF($C$11>0,$C$11*365*O77/2000,IF($C$12>0,$C$12*365*O77*N77/2000,IF(R77=\"\",Q77*8760/2000,R77*8760/2000)))))","v":0},{"$f":"IF(N77>0,$P$6*O77/2000,0)","v":0}]
[null,null,null,null,null,null,null,null,null,null,null,null,"Quinone"]
[null,{"$f":"IF($C$4>4,\"Asphalt Plant\",\"\")","v":""},{"$f":"IF($C$4>4,\"Site 5\",\"\")","v":""},null,{"$f":"IF($C$4>4,\"Emission Point #\",\"\")","v":""},{"$f":"IF($C$4>4,\"Emission    Unit #\",\"\")","v":""},{"$f":"IF($C$4>4,\"Process\",\"\")","v":""},{"$f":"IF($C$4>4,\"Maximum Hourly     Design Rate\",\"\")","v":""},{"$f":"IF($C$4>4,('Facility Information'!G65&\" Annual Throughput\"),\"\")","v":""},null,null,null,{"$f":"IF($C$5=\"\",\"\",$C$5)","v":""},{"$f":"IF(C5=\"drum mix plant\",SUM(N5:$N$6),SUM($N$5:$N$7))","v":0},{"$f":"IF(N79=0,0,IF(M79=\"Batch Mix Plant\",0.00027,IF(M79=\"Drum Mix Plant\",0.00016)))","v":0},{"$f":"IF(O79=\"\",\"\",\"lb/ton\")","v":"lb/ton"},{"$f":"N79*O79","v":0},null,{"$f":"IF(N79=0,0,IF($C$10>0,$C$10*O79/2000,IF($C$11>0,$C$11*365*O79/2000,IF($C$12>0,$C$12*365*O79*N79/2000,IF(R79=\"\",Q79*8760/2000,R79*8760/2000)))))","v":0},{"$f":"IF(C23=\"drum mix plant\",$P$6*O79/2000,SUM($P$5:$P$7)*O79/2000)","v":0}]
[null,null,null,null,null,null,null,null,null,null,null,null,"Toluene"]
[null,{"$f":"IF($C$4>4,\"Site Name\",\"\")","v":""},null,null,{"$f":"IF($C$4>4,\"Dryers, Hot Screens, Mixer\",\"\")","v":""},null,null,{"$f":"IF($C$4>4,\"(tons/hr)\",\"\")","v":""},{"$f":"IF($C$4>4,\"(tons/yr)\",\"\")","v":""},"PM2.5","PM10",null,{"$f":"$C$5 & \" - Fuel Oil\"","v":" - Fuel Oil"},{"$f":"$N$5","v":0},{"$f":"IF(N81=0,0,LOOKUP(M81,'Emission Factors'!$A$5:$A$10,'Emission Factors'!$AJ$5:$AJ$10))","v":0},{"$f":"IF(O81=\"\",\"\",\"lb/ton\")","v":"lb/ton"},{"$f":"N81*O81","v":0},null,{"$f":"IF(N81=0,0,IF($C$10>0,$C$10*O81/2000,IF($C$11>0,$C$11*365*O81/2000,IF($C$12>0,$C$12*365*O81*N81/2000,IF(R81=\"\",Q81*8760/2000,R81*8760/2000)))))","v":0},{"$f":"P5*O81/2000","v":0}]
[null,{"$f":"IF($C$4>4,\"County:\",\"\")","v":""},null,null,{"$f":"IF(C84=\"\",\"\",\"AP-1 EP-1\")","v":""},{"$f":"IF(C84=\"\",\"\",\"AP-1 EU-1\")","v":""},{"$f":"IF(C84=\"\",\"\",C5 & \" - \"&C84)","v":""},null,null,{"$f":"IF(C85=\"\",\"\",IF(C85=\"yes\",LOOKUP(G82,'Emission Factors'!$A$12:$A$17,'Emission Factors'!$D$12:$D$17),LOOKUP(G82,'Emission Factors'!$A$5:$A$10,'Emission Factors'!$D$5:$D$10)))","v":""},{"$f":"IF(C85=\"\",\"\",IF(C85=\"yes\",LOOKUP(G82,'Emission Factors'!$A$12:$A$17,'Emission Factors'!$F$12:$F$17),LOOKUP(G82,'Emission Factors'!$A$5:$A$10,'Emission Factors'!$F$5:$F$10)))","v":""},null,{"$f":"$C$5 & \" - Waste Oil\"","v":" - Waste Oil"},{"$f":"$N$6","v":0},{"$f":"IF(N82=0,0,LOOKUP(M82,'Emission Factors'!$A$5:$A$10,'Emission Factors'!$AJ$5:$AJ$10))","v":0},{"$f":"IF(O82=\"\",\"\",\"lb/ton\")","v":"lb/ton"},{"$f":"N82*O82","v":0},null,{"$f":"IF(N82=0,0,IF(OR(AND($C$10>0,$N$81>0),AND($C$11>0,$N$81>0),AND($C$12>0,$N$81>0)),\"\",IF($C$10>0,$C$10*O82/2000,IF($C$11>0,$C$11*365*O82/2000,IF($C$12>0,$C$12*365*O82*N82/2000,IF(R82=\"\",Q82*8760/2000,R82*8760/2000))))))","v":0},{"$f":"P6*O82/2000","v":0}]
[null,{"$f":"IF($C$4>4,\"Production Period (Dates):\",\"\")","v":""},null,null,{"$f":"IF($C$4>4,\"Liquid Asphalt Heater\",\"\")","v":""},null,null,{"$f":"IF($C$4>4,IF(C84=\"natural gas\",\"(MMCF/hr)\",\"(gallons/hr)\"),\"\")","v":""},{"$f":"IF($C$4>4,IF(C84=\"natural gas\",\"(MMCF/yr)\",\"(gallons/yr)\"),\"\")","v":""},null,null,null,{"$f":"$C$5 & \" - Natural Gas\"","v":" - Natural Gas"},{"$f":"$N$7","v":0},{"$f":"IF(N83=0,0,LOOKUP(M83,'Emission Factors'!$A$5:$A$10,'Emission Factors'!$AJ$5:$AJ$10))","v":0},{"$f":"IF(O83=\"\",\"\",\"lb/ton\")","v":"lb/ton"},{"$f":"N83*O83","v":0},null,{"$f":"IF(N83=0,0,IF(OR(AND($C$10>0,$N$81>0),AND($C$11>0,$N$81>0),AND($C$12>0,$N$81>0)),\"\",IF(OR(AND($C$10>0,$N$82>0),AND($C$11>0,$N$82>0),AND($C$12>0,$N$82>0)),\"\",IF($C$10>0,$C$10*O83/2000,IF($C$11>0,$C$11*365*O83/2000,IF($C$12>0,$C$12*365*O83*N83/2000,IF(R83=\"\",Q83*8760/2000,R83*8760/2000)))))))","v":0},{"$f":"P7*O83/2000","v":0}]
[null,{"$f":"IF($C$4>4,\"Type of Fuel Used:\",\"\")","v":""},null,null,{"$f":"IF(C84=\"\",\"\",\"AP-1 EP-2\")","v":""},{"$f":"IF(C84=\"\",\"\",\"AP-1 EU-2\")","v":""},{"$f":"IF(C84=\"\",\"\",C84& \" Fired Heater\")","v":""},null,null,null,"Controlled?",null,"Xylene"]
[null,{"$f":"IF($C$4>4,\"Is Your Operation Controlled?:\",\"\")","v":""},null,null,{"$f":"IF($C$4>4,\"Silo Filling, Truck Loadout, Aggregate Transfer\",\"\")","v":""},null,null,{"$f":"IF($C$4>4,\"(tons/hr)\",\"\")","v":""},{"$f":"IF($C$4>4,\"(tons/yr)\",\"\")","v":""},null,{"$f":"IF(OR(C25=\"yes\",C39=\"yes\",C70=\"yes\",C85=\"yes\",C101=\"yes\",C116=\"yes\",C131=\"yes\",C146=\"yes\",C161=\"yes\"),1,0)","v":0},null,{"$f":"IF($C$5=\"\",\"\",$C$5)","v":""},{"$f":"SUM($N$5:$N$7)","v":0},{"$f":"IF(N85=0,0,IF(M85=\"Batch Mix Plant\",0.0027,IF(M85=\"Drum Mix Plant\",0.0002)))","v":0},{"$f":"IF(O85=\"\",\"\",\"lb/ton\")","v":"lb/ton"},{"$f":"N85*O85","v":0},null,{"$f":"IF(N85=0,0,IF($C$10>0,$C$10*O85/2000,IF($C$11>0,$C$11*365*O85/2000,IF($C$12>0,$C$12*365*O85*N85/2000,IF(R85=\"\",Q85*8760/2000,R85*8760/2000)))))","v":0},{"$f":"SUM($P$5:$P$7)*O85/2000","v":0}]
[null,null,null,null,{"$f":"IF($C$4>4,\"AP-1 EP-3\",\"\")","v":""},{"$f":"IF($C$4>4,\"AP-1 EU-3\",\"\")","v":""},{"$f":"IF($C$4>4,\"Silo Filling\",\"\")","v":""},null,null,null,null,null,"2,2,4-Trimethylpentane"]
[null,null,null,null,{"$f":"IF($C$4>4,\"AP-1 EP-3\",\"\")","v":""},{"$f":"IF($C$4>4,\"AP-1 EU-4\",\"\")","v":""},{"$f":"IF($C$4>4,\"Truck Loadout\",\"\")","v":""},null,null,null,null,null,{"$f":"IF($C$5=\"\",\"\",$C$5)","v":""},{"$f":"IF(C5=\"drum mix plant\",SUM(N5:N7),0)","v":0},{"$f":"IF(N87=0,0,0.00004)","v":0},{"$f":"IF(O87=\"\",\"\",\"lb/ton\")","v":"lb/ton"},{"$f":"N87*O87","v":0},null,{"$f":"IF(N87=0,0,IF($C$10>0,$C$10*O87/2000,IF($C$11>0,$C$11*365*O87/2000,IF($C$12>0,$C$12*365*O87*N87/2000,IF(R87=\"\",Q87*8760/2000,R87*8760/2000)))))","v":0},{"$f":"IF(N87>0,SUM($P$5:$P$7)*O87/2000,0)","v":0}]
[null,null,null,null,{"$f":"IF($C$4>4,\"AP-1 EP-3\",\"\")","v":""},{"$f":"IF($C$4>4,\"AP-1 EU-5\",\"\")","v":""},{"$f":"IF($C$4>4,\"Cold Aggregate Bins\",\"\")","v":""},null,null,null,null,null,"Chromium Compounds"]
[null,null,null,null,null,null,null,null,null,null,null,null,{"$f":"IF($C$5=\"\",\"\",$C$5)","v":""},{"$f":"IF(C5=\"drum mix plant\",SUM(N5:N6),0)","v":0},{"$f":"IF(N89=0,0,IF($K$85=1,0.0000055,0.000024))","v":0},{"$f":"IF(O89=\"\",\"\",\"lb/ton\")","v":"lb/ton"},{"$f":"IF($K$85=1,\"\",N89*O89)","v":0},{"$f":"IF($K$85=1,N89*O89,\"\")","v":""},{"$f":"IF(N89=0,0,IF($C$10>0,$C$10*O89/2000,IF($C$11>0,$C$11*365*O89/2000,IF($C$12>0,$C$12*365*O89*N89/2000,IF(R89=\"\",Q89*8760/2000,R89*8760/2000)))))","v":0},{"$f":"IF(N89>0,$P$5*O89/2000,0)","v":0}]
[null,null,null,null,{"$f":"IF($C$4>4,\"Stock Pile Area\",\"\")","v":""},null,null,null,null,null,null,null,"Lead Compounds"]
[null,null,null,null,null,{"$f":"IF($C$4>4,\"Emission Unit #\",\"\")","v":""},{"$f":"IF($C$4>4,\"Maximum Storage Area (acres)\",\"\")","v":""},{"$f":"IF($C$4>4,\"Actual Storage Area (acres)\",\"\")","v":""},{"$f":"IF($C$4>4,\"Actual Days in Existence (days)\",\"\")","v":""},null,null,null,{"$f":"IF($C$5=\"\",\"\",$C$5)","v":""},{"$f":"IF(C5=\"drum mix plant\",SUM(N5:N6),0)","v":0},{"$f":"IF(N91=0,0,IF($K$85=1,0.000015,0.00054))","v":0},{"$f":"IF(O91=\"\",\"\",\"lb/ton\")","v":"lb/ton"},{"$f":"IF($K$85=1,\"\",N91*O91)","v":0},{"$f":"IF($K$85=1,N91*O91,\"\")","v":""},{"$f":"IF(N91=0,0,IF($C$10>0,$C$10*O91/2000,IF($C$11>0,$C$11*365*O91/2000,IF($C$12>0,$C$12*365*O91*N91/2000,IF(R91=\"\",Q91*8760/2000,R91*8760/2000)))))","v":0},{"$f":"IF(N91>0,$P$5*O91/2000,0)","v":0}]
[null,null,null,null,null,null,null,null,null,null,null,null,"Manganese Compounds",null,null,null,0]
[null,null,null,null,null,null,null,null,null,null,null,null,{"$f":"IF($C$5=\"\",\"\",$C$5)","v":""},{"$f":"IF(C5=\"drum mix plant\",SUM(N5:N6),0)","v":0},{"$f":"IF(N93=0,0,IF($K$85=1,0.0000077,0.00065))","v":0},{"$f":"IF(O93=\"\",\"\",\"lb/ton\")","v":"lb/ton"},0,{"$f":"IF($K$85=1,N93*O93,\"\")","v":""},{"$f":"IF(N93=0,0,IF($C$10>0,$C$10*O93/2000,IF($C$11>0,$C$11*365*O93/2000,IF($C$12>0,$C$12*365*O93*N93/2000,IF(R93=\"\",Q93*8760/2000,R93*8760/2000)))))","v":0},{"$f":"IF(N93>0,$P$5*O93/2000,0)","v":0}]
[null,null,null,null,null,null,null,null,null,null,null,null,"Nickel Compounds",null,null,null,0]
[null,{"$f":"IF($C$4>5,\"Asphalt Plant\",\"\")","v":""},{"$f":"IF($C$4>5,\"Site 6\",\"\")","v":""},null,{"$f":"IF($C$4>5,\"Emission Point #\",\"\")","v":""},{"$f":"IF($C$4>5,\"Emission    Unit #\",\"\")","v":""},{"$f":"IF($C$4>5,\"Process\",\"\")","v":""},{"$f":"IF($C$4>5,\"Maximum Hourly     Design Rate\",\"\")","v":""},{"$f":"IF($C$4>5,('Facility Information'!G80&\" Annual Throughput\"),\"\")","v":""},null,null,null,{"$f":"$C$5 & \" - Fuel Oil\"","v":" - Fuel Oil"},{"$f":"IF(C5=\"drum mix plant\",N5,0)","v":0},{"$f":"IF(N95=0,0,IF($K$85=1,0.000015,0.0013))","v":0},{"$f":"IF(O95=\"\",\"\",\"lb/ton\")","v":"lb/ton"},0,{"$f":"IF($K$85=1,N95*O95,\"\")","v":""},{"$f":"IF(N95=0,0,IF($C$10>0,$C$10*O95/2000,IF($C$11>0,$C$11*365*O95/2000,IF($C$12>0,$C$12*365*O95*N95/2000,IF(R95=\"\",Q95*8760/2000,R95*8760/2000)))))","v":0},{"$f":"IF(N95>0,$P$5*O95/2000,0)","v":0}]
[null,null,null,null,null,null,null,null,null,null,null,null,{"$f":"$C$5 & \" - Waste Oil\"","v":" - Waste Oil"},{"$f":"IF(C5=\"drum mix plant\",N6,0)","v":0},{"$f":"IF(N96=0,0,IF($K$85=1,0.000015,0.0013))","v":0},{"$f":"IF(O96=\"\",\"\",\"lb/ton\")","v":"lb/ton"},0,{"$f":"IF($K$85=1,N96*O96,\"\")","v":""},{"$f":"IF(N96=0,0,IF($C$10>0,$C$10*O96/2000,IF($C$11>0,$C$11*365*O96/2000,IF($C$12>0,$C$12*365*O96*N96/2000,IF(R96=\"\",Q96*8760/2000,R96*8760/2000)))))","v":0},{"$f":"IF(N96>0,$P$6*O96/2000,0)","v":0}]
[null,{"$f":"IF($C$4>5,\"Site Name\",\"\")","v":""},null,null,{"$f":"IF($C$4>5,\"Dryers, Hot Screens, Mixer\",\"\")","v":""},null,null,{"$f":"IF($C$4>5,\"(tons/hr)\",\"\")","v":""},{"$f":"IF($C$4>5,\"(tons/yr)\",\"\")","v":""},"PM2.5","PM10",null,{"$f":"$C$5 & \" - Natural Gas\"","v":" - Natural Gas"},{"$f":"IF(C5=\"drum mix plant\",N7,0)","v":0},{"$f":"IF(N97=0,0,IF($K$85=1,0.000063,0.00063))","v":0},{"$f":"IF(O97=\"\",\"\",\"lb/ton\")","v":"lb/ton"},0,{"$f":"IF($K$85=1,N97*O97,\"\")","v":""},{"$f":"IF(N97=0,0,IF($C$10>0,$C$10*O97/2000,IF($C$11>0,$C$11*365*O97/2000,IF($C$12>0,$C$12*365*O97*N97/2000,IF(R97=\"\",Q97*8760/2000,R97*8760/2000)))))","v":0},{"$f":"IF(N97>0,$P$7*O97/2000,0)","v":0}]
[null,{"$f":"IF($C$4>5,\"County:\",\"\")","v":""},null,null,{"$f":"IF(C100=\"\",\"\",\"AP-1 EP-1\")","v":""},{"$f":"IF(C100=\"\",\"\",\"AP-1 EU-1\")","v":""},{"$f":"IF(C100=\"\",\"\",C5 & \" - \"&C100)","v":""},null,null,{"$f":"IF(C101=\"\",\"\",IF(C101=\"yes\",LOOKUP(G98,'Emission Factors'!$A$12:$A$17,'Emission Factors'!$D$12:$D$17),LOOKUP(G98,'Emission Factors'!$A$5:$A$10,'Emission Factors'!$D$5:$D$10)))","v":""},{"$f":"IF(C101=\"\",\"\",IF(C101=\"yes\",LOOKUP(G98,'Emission Factors'!$A$12:$A$17,'Emission Factors'!$F$12:$F$17),LOOKUP(G98,'Emission Factors'!$A$5:$A$10,'Emission Factors'!$F$5:$F$10)))","v":""}]
[null,{"$f":"IF($C$4>5,\"Production Period (Dates):\",\"\")","v":""},null,null,{"$f":"IF($C$4>5,\"Liquid Asphalt Heater\",\"\")","v":""},null,null,{"$f":"IF($C$4>5,IF(C100=\"natural gas\",\"(MMCF/hr)\",\"(gallons/hr)\"),\"\")","v":""},{"$f":"IF($C$4>5,IF(C100=\"natural gas\",\"(MMCF/yr)\",\"(gallons/yr)\"),\"\")","v":""}]
[null,{"$f":"IF($C$4>5,\"Type of Fuel Used:\",\"\")","v":""},null,null,{"$f":"IF(C100=\"\",\"\",\"AP-1 EP-2\")","v":""},{"$f":"IF(C100=\"\",\"\",\"AP-1 EU-2\")","v":""},{"$f":"IF(C100=\"\",\"\",C100& \" Fired Heater\")","v":""}]
[null,{"$f":"IF($C$4>5,\"Is Your Operation Controlled?:\",\"\")","v":""},null,null,{"$f":"IF($C$4>5,\"Silo Filling, Truck Loadout, Aggregate Transfer\",\"\")","v":""},null,null,{"$f":"IF($C$4>5,\"(tons/hr)\",\"\")","v":""},{"$f":"IF($C$4>5,\"(tons/yr)\",\"\")","v":""}]
[null,null,null,null,{"$f":"IF($C$4>5,\"AP-1 EP-3\",\"\")","v":""},{"$f":"IF($C$4>5,\"AP-1 EU-3\",\"\")","v":""},{"$f":"IF($C$4>5,\"Silo Filling\",\"\")","v":""}]
[null,null,null,null,{"$f":"IF($C$4>5,\"AP-1 EP-3\",\"\")","v":""},{"$f":"IF($C$4>5,\"AP-1 EU-4\",\"\")","v":""},{"$f":"IF($C$4>5,\"Truck Loadout\",\"\")","v":""}]
[null,null,null,null,{"$f":"IF($C$4>5,\"AP-1 EP-3\",\"\")","v":""},{"$f":"IF($C$4>5,\"AP-1 EU-5\",\"\")","v":""},{"$f":"IF($C$4>5,\"Cold Aggregate Bins\",\"\")","v":""}]
[]
[null,null,null,null,{"$f":"IF($C$4>5,\"Stock Pile Area\",\"\")","v":""}]
[null,null,null,null,null,{"$f":"IF($C$4>5,\"Emission Unit #\",\"\")","v":""},{"$f":"IF($C$4>5,\"Maximum Storage Area (acres)\",\"\")","v":""},{"$f":"IF($C$4>5,\"Actual Storage Area (acres)\",\"\")","v":""},{"$f":"IF($C$4>5,\"Actual Days in Existence (days)\",\"\")","v":""}]
[]
[]
[null,{"$f":"IF($C$4>6,\"Asphalt Plant\",\"\")","v":""},{"$f":"IF($C$4>6,\"Site 7\",\"\")","v":""},null,{"$f":"IF($C$4>6,\"Emission Point #\",\"\")","v":""},{"$f":"IF($C$4>6,\"Emission    Unit #\",\"\")","v":""},{"$f":"IF($C$4>6,\"Process\",\"\")","v":""},{"$f":"IF($C$4>6,\"Maximum Hourly     Design Rate\",\"\")","v":""},{"$f":"IF($C$4>6,('Facility Information'!G95&\" Annual Throughput\"),\"\")","v":""}]
[]
[null,{"$f":"IF($C$4>6,\"Site Name\",\"\")","v":""},null,null,{"$f":"IF($C$4>6,\"Dryers, Hot Screens, Mixer\",\"\")","v":""},null,null,{"$f":"IF($C$4>6,\"(tons/hr)\",\"\")","v":""},{"$f":"IF($C$4>6,\"(tons/yr)\",\"\")","v":""},"PM2.5","PM10"]
[null,{"$f":"IF($C$4>6,\"County:\",\"\")","v":""},null,null,{"$f":"IF(C115=\"\",\"\",\"AP-1 EP-1\")","v":""},{"$f":"IF(C115=\"\",\"\",\"AP-1 EU-1\")","v":""},{"$f":"IF(C115=\"\",\"\",C5 & \" - \"&C115)","v":""},null,null,{"$f":"IF(C116=\"\",\"\",IF(C116=\"yes\",LOOKUP(G113,'Emission Factors'!$A$12:$A$17,'Emission Factors'!$D$12:$D$17),LOOKUP(G113,'Emission Factors'!$A$5:$A$10,'Emission Factors'!$D$5:$D$10)))","v":""},{"$f":"IF(C116=\"\",\"\",IF(C116=\"yes\",LOOKUP(G113,'Emission Factors'!$A$12:$A$17,'Emission Factors'!$F$12:$F$17),LOOKUP(G113,'Emission Factors'!$A$5:$A$10,'Emission Factors'!$F$5:$F$10)))","v":""}]
[null,{"$f":"IF($C$4>6,\"Production Period (Dates):\",\"\")","v":""},null,null,{"$f":"IF($C$4>6,\"Liquid Asphalt Heater\",\"\")","v":""},null,null,{"$f":"IF($C$4>6,IF(C115=\"natural gas\",\"(MMCF/hr)\",\"(gallons/hr)\"),\"\")","v":""},{"$f":"IF($C$4>6,IF(C115=\"natural gas\",\"(MMCF/yr)\",\"(gallons/yr)\"),\"\")","v":""}]
[null,{"$f":"IF($C$4>6,\"Type of Fuel Used:\",\"\")","v":""},null,null,{"$f":"IF(C115=\"\",\"\",\"AP-1 EP-2\")","v":""},{"$f":"IF(C115=\"\",\"\",\"AP-1 EU-2\")","v":""},{"$f":"IF(C115=\"\",\"\",C115& \" Fired Heater\")","v":""}]
[null,{"$f":"IF($C$4>6,\"Is Your Operation Controlled?:\",\"\")","v":""},null,null,{"$f":"IF($C$4>6,\"Silo Filling, Truck Loadout, Aggregate Transfer\",\"\")","v":""},null,null,{"$f":"IF($C$4>6,\"(tons/hr)\",\"\")","v":""},{"$f":"IF($C$4>6,\"(tons/yr)\",\"\")","v":""}]
[null,null,null,null,{"$f":"IF($C$4>6,\"AP-1 EP-3\",\"\")","v":""},{"$f":"IF($C$4>6,\"AP-1 EU-3\",\"\")","v":""},{"$f":"IF($C$4>6,\"Silo Filling\",\"\")","v":""}]
[null,null,null,null,{"$f":"IF($C$4>6,\"AP-1 EP-3\",\"\")","v":""},{"$f":"IF($C$4>6,\"AP-1 EU-4\",\"\")","v":""},{"$f":"IF($C$4>6,\"Truck Loadout\",\"\")","v":""}]
[null,null,null,null,{"$f":"IF($C$4>6,\"AP-1 EP-3\",\"\")","v":""},{"$f":"IF($C$4>6,\"AP-1 EU-5\",\"\")","v":""},{"$f":"IF($C$4>6,\"Cold Aggregate Bins\",\"\")","v":""}]
[]
[null,null,null,null,{"$f":"IF($C$4>6,\"Stock Pile Area\",\"\")","v":""}]
[null,null,null,null,null,{"$f":"IF($C$4>6,\"Emission Unit #\",\"\")","v":""},{"$f":"IF($C$4>6,\"Maximum Storage Area (acres)\",\"\")","v":""},{"$f":"IF($C$4>6,\"Actual Storage Area (acres)\",\"\")","v":""},{"$f":"IF($C$4>6,\"Actual Days in Existence (days)\",\"\")","v":""}]
[]
[]
[null,{"$f":"IF($C$4>7,\"Asphalt Plant\",\"\")","v":""},{"$f":"IF($C$4>7,\"Site 8\",\"\")","v":""},null,{"$f":"IF($C$4>7,\"Emission Point #\",\"\")","v":""},{"$f":"IF($C$4>7,\"Emission    Unit #\",\"\")","v":""},{"$f":"IF($C$4>7,\"Process\",\"\")","v":""},{"$f":"IF($C$4>7,\"Maximum Hourly     Design Rate\",\"\")","v":""},{"$f":"IF($C$4>7,('Facility Information'!G110&\" Annual Throughput\"),\"\")","v":""}]
[]
[null,{"$f":"IF($C$4>7,\"Site Name\",\"\")","v":""},null,null,{"$f":"IF($C$4>7,\"Dryers, Hot Screens, Mixer\",\"\")","v":""},null,null,{"$f":"IF($C$4>7,\"(tons/hr)\",\"\")","v":""},{"$f":"IF($C$4>7,\"(tons/yr)\",\"\")","v":""},"PM2.5","PM10"]
[null,{"$f":"IF($C$4>7,\"County:\",\"\")","v":""},null,null,{"$f":"IF(C130=\"\",\"\",\"AP-1 EP-1\")","v":""},{"$f":"IF(C130=\"\",\"\",\"AP-1 EU-1\")","v":""},{"$f":"IF(C130=\"\",\"\",C5 & \" - \"&C130)","v":""},null,null,{"$f":"IF(C131=\"\",\"\",IF(C131=\"yes\",LOOKUP(G128,'Emission Factors'!$A$12:$A$17,'Emission Factors'!$D$12:$D$17),LOOKUP(G128,'Emission Factors'!$A$5:$A$10,'Emission Factors'!$D$5:$D$10)))","v":""},{"$f":"IF(C131=\"\",\"\",IF(C131=\"yes\",LOOKUP(G128,'Emission Factors'!$A$12:$A$17,'Emission Factors'!$F$12:$F$17),LOOKUP(G128,'Emission Factors'!$A$5:$A$10,'Emission Factors'!$F$5:$F$10)))","v":""}]
[null,{"$f":"IF($C$4>7,\"Production Period (Dates):\",\"\")","v":""},null,null,{"$f":"IF($C$4>7,\"Liquid Asphalt Heater\",\"\")","v":""},null,null,{"$f":"IF($C$4>7,IF(C130=\"natural gas\",\"(MMCF/hr)\",\"(gallons/hr)\"),\"\")","v":""},{"$f":"IF($C$4>7,IF(C130=\"natural gas\",\"(MMCF/yr)\",\"(gallons/yr)\"),\"\")","v":""}]
[null,{"$f":"IF($C$4>7,\"Type of Fuel Used:\",\"\")","v":""},null,null,{"$f":"IF(C130=\"\",\"\",\"AP-1 EP-2\")","v":""},{"$f":"IF(C130=\"\",\"\",\"AP-1 EU-2\")","v":""},{"$f":"IF(C130=\"\",\"\",C130& \" Fired Heater\")","v":""}]
[null,{"$f":"IF($C$4>7,\"Is Your Operation Controlled?:\",\"\")","v":""},null,null,{"$f":"IF($C$4>7,\"Silo Filling, Truck Loadout, Aggregate Transfer\",\"\")","v":""},null,null,{"$f":"IF($C$4>7,\"(tons/hr)\",\"\")","v":""},{"$f":"IF($C$4>7,\"(tons/yr)\",\"\")","v":""}]
[null,null,null,null,{"$f":"IF($C$4>7,\"AP-1 EP-3\",\"\")","v":""},{"$f":"IF($C$4>7,\"AP-1 EU-3\",\"\")","v":""},{"$f":"IF($C$4>7,\"Silo Filling\",\"\")","v":""}]
[null,null,null,null,{"$f":"IF($C$4>7,\"AP-1 EP-3\",\"\")","v":""},{"$f":"IF($C$4>7,\"AP-1 EU-4\",\"\")","v":""},{"$f":"IF($C$4>7,\"Truck Loadout\",\"\")","v":""}]
[null,null,null,null,{"$f":"IF($C$4>7,\"AP-1 EP-3\",\"\")","v":""},{"$f":"IF($C$4>7,\"AP-1 EU-5\",\"\")","v":""},{"$f":"IF($C$4>7,\"Cold Aggregate Bins\",\"\")","v":""}]
[]
[null,null,null,null,{"$f":"IF($C$4>7,\"Stock Pile Area\",\"\")","v":""}]
[null,null,null,null,null,{"$f":"IF($C$4>7,\"Emission Unit #\",\"\")","v":""},{"$f":"IF($C$4>7,\"Maximum Storage Area (acres)\",\"\")","v":""},{"$f":"IF($C$4>7,\"Actual Storage Area (acres)\",\"\")","v":""},{"$f":"IF($C$4>7,\"Actual Days in Existence (days)\",\"\")","v":""}]
[]
[]
[null,{"$f":"IF($C$4>8,\"Asphalt Plant\",\"\")","v":""},{"$f":"IF($C$4>8,\"Site 9\",\"\")","v":""},null,{"$f":"IF($C$4>8,\"Emission Point #\",\"\")","v":""},{"$f":"IF($C$4>8,\"Emission    Unit #\",\"\")","v":""},{"$f":"IF($C$4>8,\"Process\",\"\")","v":""},{"$f":"IF($C$4>8,\"Maximum Hourly     Design Rate\",\"\")","v":""},{"$f":"IF($C$4>8,('Facility Information'!G125&\" Annual Throughput\"),\"\")","v":""}]
[]
[null,{"$f":"IF($C$4>8,\"Site Name\",\"\")","v":""},null,null,{"$f":"IF($C$4>8,\"Dryers, Hot Screens, Mixer\",\"\")","v":""},null,null,{"$f":"IF($C$4>8,\"(tons/hr)\",\"\")","v":""},{"$f":"IF($C$4>8,\"(tons/yr)\",\"\")","v":""},"PM2.5","PM10"]
[null,{"$f":"IF($C$4>8,\"County:\",\"\")","v":""},null,null,{"$f":"IF(C145=\"\",\"\",\"AP-1 EP-1\")","v":""},{"$f":"IF(C145=\"\",\"\",\"AP-1 EU-1\")","v":""},{"$f":"IF(C145=\"\",\"\",C5 & \" - \"&C145)","v":""},null,null,{"$f":"IF(C146=\"\",\"\",IF(C146=\"yes\",LOOKUP(G143,'Emission Factors'!$A$12:$A$17,'Emission Factors'!$D$12:$D$17),LOOKUP(G143,'Emission Factors'!$A$5:$A$10,'Emission Factors'!$D$5:$D$10)))","v":""},{"$f":"IF(C146=\"\",\"\",IF(C146=\"yes\",LOOKUP(G143,'Emission Factors'!$A$12:$A$17,'Emission Factors'!$F$12:$F$17),LOOKUP(G143,'Emission Factors'!$A$5:$A$10,'Emission Factors'!$F$5:$F$10)))","v":""}]
[null,{"$f":"IF($C$4>8,\"Production Period (Dates):\",\"\")","v":""},null,null,{"$f":"IF($C$4>8,\"Liquid Asphalt Heater\",\"\")","v":""},null,null,{"$f":"IF($C$4>8,IF(C145=\"natural gas\",\"(MMCF/hr)\",\"(gallons/hr)\"),\"\")","v":""},{"$f":"IF($C$4>8,IF(C145=\"natural gas\",\"(MMCF/yr)\",\"(gallons/yr)\"),\"\")","v":""}]
[null,{"$f":"IF($C$4>8,\"Type of Fuel Used:\",\"\")","v":""},null,null,{"$f":"IF(C145=\"\",\"\",\"AP-1 EP-2\")","v":""},{"$f":"IF(C145=\"\",\"\",\"AP-1 EU-2\")","v":""},{"$f":"IF(C145=\"\",\"\",C145& \" Fired Heater\")","v":""}]
[null,{"$f":"IF($C$4>8,\"Is Your Operation Controlled?:\",\"\")","v":""},null,null,{"$f":"IF($C$4>8,\"Silo Filling, Truck Loadout, Aggregate Transfer\",\"\")","v":""},null,null,{"$f":"IF($C$4>8,\"(tons/hr)\",\"\")","v":""},{"$f":"IF($C$4>8,\"(tons/yr)\",\"\")","v":""}]
[null,null,null,null,{"$f":"IF($C$4>8,\"AP-1 EP-3\",\"\")","v":""},{"$f":"IF($C$4>8,\"AP-1 EU-3\",\"\")","v":""},{"$f":"IF($C$4>8,\"Silo Filling\",\"\")","v":""}]
[null,null,null,null,{"$f":"IF($C$4>8,\"AP-1 EP-3\",\"\")","v":""},{"$f":"IF($C$4>8,\"AP-1 EU-4\",\"\")","v":""},{"$f":"IF($C$4>8,\"Truck Loadout\",\"\")","v":""}]
[null,null,null,null,{"$f":"IF($C$4>8,\"AP-1 EP-3\",\"\")","v":""},{"$f":"IF($C$4>8,\"AP-1 EU-5\",\"\")","v":""},{"$f":"IF($C$4>8,\"Cold Aggregate Bins\",\"\")","v":""}]
[]
[null,null,null,null,{"$f":"IF($C$4>8,\"Stock Pile Area\",\"\")","v":""}]
[null,null,null,null,null,{"$f":"IF($C$4>8,\"Emission Unit #\",\"\")","v":""},{"$f":"IF($C$4>8,\"Maximum Storage Area (acres)\",\"\")","v":""},{"$f":"IF($C$4>8,\"Actual Storage Area (acres)\",\"\")","v":""},{"$f":"IF($C$4>8,\"Actual Days in Existence (days)\",\"\")","v":""}]
[]
[]
[null,{"$f":"IF($C$4>9,\"Asphalt Plant\",\"\")","v":""},{"$f":"IF($C$4>9,\"Site 10\",\"\")","v":""},null,{"$f":"IF($C$4>9,\"Emission Point #\",\"\")","v":""},{"$f":"IF($C$4>9,\"Emission    Unit #\",\"\")","v":""},{"$f":"IF($C$4>9,\"Process\",\"\")","v":""},{"$f":"IF($C$4>9,\"Maximum Hourly     Design Rate\",\"\")","v":""},{"$f":"IF($C$4>9,('Facility Information'!G140&\" Annual Throughput\"),\"\")","v":""}]
[]
[null,{"$f":"IF($C$4>9,\"Site Name\",\"\")","v":""},null,null,{"$f":"IF($C$4>9,\"Dryers, Hot Screens, Mixer\",\"\")","v":""},null,null,{"$f":"IF($C$4>9,\"(tons/hr)\",\"\")","v":""},{"$f":"IF($C$4>9,\"(tons/yr)\",\"\")","v":""},"PM2.5","PM10"]
[null,{"$f":"IF($C$4>9,\"County:\",\"\")","v":""},null,null,{"$f":"IF(C160=\"\",\"\",\"AP-1 EP-1\")","v":""},{"$f":"IF(C160=\"\",\"\",\"AP-1 EU-1\")","v":""},{"$f":"IF(C160=\"\",\"\",C5 & \" - \"&C160)","v":""},null,null,{"$f":"IF(C161=\"\",\"\",IF(C161=\"yes\",LOOKUP(G158,'Emission Factors'!$A$12:$A$17,'Emission Factors'!$D$12:$D$17),LOOKUP(G158,'Emission Factors'!$A$5:$A$10,'Emission Factors'!$D$5:$D$10)))","v":""},{"$f":"IF(C161=\"\",\"\",IF(C161=\"yes\",LOOKUP(G158,'Emission Factors'!$A$12:$A$17,'Emission Factors'!$F$12:$F$17),LOOKUP(G158,'Emission Factors'!$A$5:$A$10,'Emission Factors'!$F$5:$F$10)))","v":""}]
[null,{"$f":"IF($C$4>9,\"Production Period (Dates):\",\"\")","v":""},null,null,{"$f":"IF($C$4>9,\"Liquid Asphalt Heater\",\"\")","v":""},null,null,{"$f":"IF($C$4>9,IF(C160=\"natural gas\",\"(MMCF/hr)\",\"(gallons/hr)\"),\"\")","v":""},{"$f":"IF($C$4>9,IF(C160=\"natural gas\",\"(MMCF/yr)\",\"(gallons/yr)\"),\"\")","v":""}]
[null,{"$f":"IF($C$4>9,\"Type of Fuel Used:\",\"\")","v":""},null,null,{"$f":"IF(C160=\"\",\"\",\"AP-1 EP-2\")","v":""},{"$f":"IF(C160=\"\",\"\",\"AP-1 EU-2\")","v":""},{"$f":"IF(C160=\"\",\"\",C160& \" Fired Heater\")","v":""}]
[null,{"$f":"IF($C$4>9,\"Is Your Operation Controlled?:\",\"\")","v":""},null,null,{"$f":"IF($C$4>9,\"Silo Filling, Truck Loadout, Aggregate Transfer\",\"\")","v":""},null,null,{"$f":"IF($C$4>9,\"(tons/hr)\",\"\")","v":""},{"$f":"IF($C$4>9,\"(tons/yr)\",\"\")","v":""}]
[null,null,null,null,{"$f":"IF($C$4>9,\"AP-1 EP-3\",\"\")","v":""},{"$f":"IF($C$4>9,\"AP-1 EU-3\",\"\")","v":""},{"$f":"IF($C$4>9,\"Silo Filling\",\"\")","v":""}]
[null,null,null,null,{"$f":"IF($C$4>9,\"AP-1 EP-3\",\"\")","v":""},{"$f":"IF($C$4>9,\"AP-1 EU-4\",\"\")","v":""},{"$f":"IF($C$4>9,\"Truck Loadout\",\"\")","v":""}]
[null,null,null,null,{"$f":"IF($C$4>9,\"AP-1 EP-3\",\"\")","v":""},{"$f":"IF($C$4>9,\"AP-1 EU-5\",\"\")","v":""},{"$f":"IF($C$4>9,\"Cold Aggregate Bins\",\"\")","v":""}]
[]
[null,null,null,null,{"$f":"IF($C$4>9,\"Stock Pile Area\",\"\")","v":""}]
[null,null,null,null,null,{"$f":"IF($C$4>9,\"Emission Unit #\",\"\")","v":""},{"$f":"IF($C$4>9,\"Maximum Storage Area (acres)\",\"\")","v":""},{"$f":"IF($C$4>9,\"Actual Storage Area (acres)\",\"\")","v":""},{"$f":"IF($C$4>9,\"Actual Days in Existence (days)\",\"\")","v":""}]

{"sheet":"Asphalt Plant (AP-2)","index":2,"n_rows":167,"n_cols":20,"rows_kept":167,"cut":false,"hidden":true,"merged":[]}
[null,"ASPHALT PLANT (AP-2)"]
[null,"Please fill in the yellow boxes as applicable for your facility. ",null,null,null,null,null,null,"Values used for calculating emissions →",null,null,null,"Values Used to Calculate Actual Emissions for the Listed Processes at this Plant"]
[]
[null,{"$f":"\"Number of Sites this Plant operated at in \"&'Facility Information'!G5&\":\"","v":"Number of Sites this Plant operated at in :"},null,null,null,null,null,null,null,null,null,null,"Process","Maximum Design Rate","Units","Actual throughput",null,"** As of 2016 Potential Emissions are no longer required to be reported in the Minor Source Emissions Inventory**",null,"Units"]
[null,"Plant Type:",null,null,null,null,null,null,null,null,null,null,{"$f":"$C$5 & \" - Fuel Oil\"","v":" - Fuel Oil"},{"$f":"MAX((IFERROR(OFFSET($G$21,MATCH(M5,$G$22,0),1),0)),((IFERROR(OFFSET($G$35,MATCH(M5,$G$36,0),1),0))),((IFERROR(OFFSET($G$50,MATCH(M5,$G$51,0),1),0))),((IFERROR(OFFSET($G$65,MATCH(M5,$G$66,0),1),0))),((IFERROR(OFFSET($G$80,MATCH(M5,$G$81,0),1),0))),((IFERROR(OFFSET($G$97,MATCH(M5,$G$98,0),1),0))),((IFERROR(OFFSET($G$112,MATCH(M5,$G$113,0),1),0))),((IFERROR(OFFSET($G$127,MATCH(M5,$G$128,0),1),0))),((IFERROR(OFFSET($G$142,MATCH(M5,$G$143,0),1),0))),((IFERROR(OFFSET($G$157,MATCH(M5,$G$158,0),1),0))))","v":0},"tons/hr",{"$f":"SUM((IFERROR(OFFSET($G$21,MATCH(M5,$G$22,0),2),0)),((IFERROR(OFFSET($G$35,MATCH(M5,$G$36,0),2),0))),((IFERROR(OFFSET($G$50,MATCH(M5,$G$51,0),2),0))),((IFERROR(OFFSET($G$65,MATCH(M5,$G$66,0),2),0))),((IFERROR(OFFSET($G$80,MATCH(M5,$G$81,0),2),0))),((IFERROR(OFFSET($G$97,MATCH(M5,$G$98,0),2),0))),((IFERROR(OFFSET($G$112,MATCH(M5,$G$113,0),2),0))),((IFERROR(OFFSET($G$127,MATCH(M5,$G$128,0),2),0))),((IFERROR(OFFSET($G$142,MATCH(M5,$G$143,0),2),0))),((IFERROR(OFFSET($G$157,MATCH(M5,$G$158,0),2),0))))","v":0},null,null,null,"tons/yr"]
[null,null,null,null,null,null,null,null,null,null,null,null,{"$f":"$C$5 & \" - Waste Oil\"","v":" - Waste Oil"},{"$f":"MAX((IFERROR(OFFSET($G$21,MATCH(M6,$G$22,0),1),0)),((IFERROR(OFFSET($G$35,MATCH(M6,$G$36,0),1),0))),((IFERROR(OFFSET($G$50,MATCH(M6,$G$51,0),1),0))),((IFERROR(OFFSET($G$65,MATCH(M6,$G$66,0),1),0))),((IFERROR(OFFSET($G$80,MATCH(M6,$G$81,0),1),0))),((IFERROR(OFFSET($G$97,MATCH(M6,$G$98,0),1),0))),((IFERROR(OFFSET($G$112,MATCH(M6,$G$113,0),1),0))),((IFERROR(OFFSET($G$127,MATCH(M6,$G$128,0),1),0))),((IFERROR(OFFSET($G$142,MATCH(M6,$G$143,0),1),0))),((IFERROR(OFFSET($G$157,MATCH(M6,$G$158,0),1),0))))","v":0},"tons/hr",{"$f":"SUM((IFERROR(OFFSET($G$21,MATCH(M6,$G$22,0),2),0)),((IFERROR(OFFSET($G$35,MATCH(M6,$G$36,0),2),0))),((IFERROR(OFFSET($G$50,MATCH(M6,$G$51,0),2),0))),((IFERROR(OFFSET($G$65,MATCH(M6,$G$66,0),2),0))),((IFERROR(OFFSET($G$80,MATCH(M6,$G$81,0),2),0))),((IFERROR(OFFSET($G$97,MATCH(M6,$G$98,0),2),0))),((IFERROR(OFFSET($G$112,MATCH(M6,$G$113,0),2),0))),((IFERROR(OFFSET($G$127,MATCH(M6,$G$128,0),2),0))),((IFERROR(OFFSET($G$142,MATCH(M6,$G$143,0),2),0))),((IFERROR(OFFSET($G$157,MATCH(M6,$G$158,0),2),0))))","v":0},null,null,null,"tons/yr"]
[null,"Plant Specific Permit Number: ",null,null,null,null,null,null,null,null,null,null,{"$f":"$C$5 & \" - Natural Gas\"","v":" - Natural Gas"},{"$f":"MAX((IFERROR(OFFSET($G$21,MATCH(M7,$G$22,0),1),0)),((IFERROR(OFFSET($G$35,MATCH(M7,$G$36,0),1),0))),((IFERROR(OFFSET($G$50,MATCH(M7,$G$51,0),1),0))),((IFERROR(OFFSET($G$65,MATCH(M7,$G$66,0),1),0))),((IFERROR(OFFSET($G$80,MATCH(M7,$G$81,0),1),0))),((IFERROR(OFFSET($G$97,MATCH(M7,$G$98,0),1),0))),((IFERROR(OFFSET($G$112,MATCH(M7,$G$113,0),1),0))),((IFERROR(OFFSET($G$127,MATCH(M7,$G$128,0),1),0))),((IFERROR(OFFSET($G$142,MATCH(M7,$G$143,0),1),0))),((IFERROR(OFFSET($G$157,MATCH(M7,$G$158,0),1),0))))","v":0},"tons/hr",{"$f":"SUM((IFERROR(OFFSET($G$21,MATCH(M7,$G$22,0),2),0)),((IFERROR(OFFSET($G$35,MATCH(M7,$G$36,0),2),0))),((IFERROR(OFFSET($G$50,MATCH(M7,$G$51,0),2),0))),((IFERROR(OFFSET($G$65,MATCH(M7,$G$66,0),2),0))),((IFERROR(OFFSET($G$80,MATCH(M7,$G$81,0),2),0))),((IFERROR(OFFSET($G$97,MATCH(M7,$G$98,0),2),0))),((IFERROR(OFFSET($G$112,MATCH(M7,$G$113,0),2),0))),((IFERROR(OFFSET($G$127,MATCH(M7,$G$128,0),2),0))),((IFERROR(OFFSET($G$142,MATCH(M7,$G$143,0),2),0))),((IFERROR(OFFSET($G$157,MATCH(M7,$G$158,0),2),0))))","v":0},null,null,null,"tons/yr"]
[null,null,null,null,null,null,null,null,null,null,null,null,"Fuel Oil Fired Heater",{"$f":"MAX((IFERROR(OFFSET($G$23,MATCH(\"Fuel Oil Fired Heater\",$G$24,0),1),0)),((IFERROR(OFFSET($G$37,MATCH(\"Fuel Oil Fired Heater\",$G$38,0),1),0))),((IFERROR(OFFSET($G$52,MATCH(\"Fuel Oil Fired Heater\",$G$53,0),1),0))),((IFERROR(OFFSET($G$67,MATCH(\"Fuel Oil Fired Heater\",$G$68,0),1),0))),((IFERROR(OFFSET($G$82,MATCH(\"Fuel Oil Fired Heater\",$G$83,0),1),0))),((IFERROR(OFFSET($G$99,MATCH(\"Fuel Oil Fired Heater\",$G$100,0),1),0))),((IFERROR(OFFSET($G$114,MATCH(\"Fuel Oil Fired Heater\",$G$115,0),1),0))),((IFERROR(OFFSET($G$129,MATCH(\"Fuel Oil Fired Heater\",$G$130,0),1),0))),((IFERROR(OFFSET($G$144,MATCH(\"Fuel Oil Fired Heater\",$G$145,0),1),0))),((IFERROR(OFFSET($G$159,MATCH(\"Fuel Oil Fired Heater\",$G$160,0),1),0))))","v":0},"gallons/hr",{"$f":"SUM((IFERROR(OFFSET($G$23,MATCH(\"Fuel Oil Fired Heater\",$G$24,0),2),0)),((IFERROR(OFFSET($G$37,MATCH(\"Fuel Oil Fired Heater\",$G$38,0),2),0))),((IFERROR(OFFSET($G$52,MATCH(\"Fuel Oil Fired Heater\",$G$53,0),2),0))),((IFERROR(OFFSET($G$67,MATCH(\"Fuel Oil Fired Heater\",$G$68,0),2),0))),((IFERROR(OFFSET($G$82,MATCH(\"Fuel Oil Fired Heater\",$G$83,0),2),0))),((IFERROR(OFFSET($G$99,MATCH(\"Fuel Oil Fired Heater\",$G$100,0),2),0))),((IFERROR(OFFSET($G$114,MATCH(\"Fuel Oil Fired Heater\",$G$115,0),2),0))),((IFERROR(OFFSET($G$129,MATCH(\"Fuel Oil Fired Heater\",$G$130,0),2),0))),((IFERROR(OFFSET($G$144,MATCH(\"Fuel Oil Fired Heater\",$G$145,0),2),0))),((IFERROR(OFFSET($G$159,MATCH(\"Fuel Oil Fired Heater\",$G$160,0),2),0))))","v":0},null,null,null,"gallons/yr"]
[null,"Plant Specific Operating Limits:",null,null,"Plant Specific Emission Limits:",null,null,null,null,null,null,null,"Waste Oil Fired Heater",{"$f":"MAX((IFERROR(OFFSET($G$23,MATCH(\"waste oil Fired Heater\",$G$24,0),1),0)),((IFERROR(OFFSET($G$37,MATCH(\"waste oil Fired Heater\",$G$38,0),1),0))),((IFERROR(OFFSET($G$52,MATCH(\"waste oil Fired Heater\",$G$53,0),1),0))),((IFERROR(OFFSET($G$67,MATCH(\"waste oil Fired Heater\",$G$68,0),1),0))),((IFERROR(OFFSET($G$82,MATCH(\"waste oil Fired Heater\",$G$83,0),1),0))),((IFERROR(OFFSET($G$99,MATCH(\"waste oil Fired Heater\",$G$100,0),1),0))),((IFERROR(OFFSET($G$114,MATCH(\"waste oil Fired Heater\",$G$115,0),1),0))),((IFERROR(OFFSET($G$129,MATCH(\"waste oil Fired Heater\",$G$130,0),1),0))),((IFERROR(OFFSET($G$144,MATCH(\"waste oil Fired Heater\",$G$145,0),1),0))),((IFERROR(OFFSET($G$159,MATCH(\"waste oil Fired Heater\",$G$160,0),1),0))))","v":0},"gallons/hr",{"$f":"SUM((IFERROR(OFFSET($G$23,MATCH(\"waste oil Fired Heater\",$G$24,0),2),0)),((IFERROR(OFFSET($G$37,MATCH(\"waste oil Fired Heater\",$G$38,0),2),0))),((IFERROR(OFFSET($G$52,MATCH(\"waste oil Fired Heater\",$G$53,0),2),0))),((IFERROR(OFFSET($G$67,MATCH(\"waste oil Fired Heater\",$G$68,0),2),0))),((IFERROR(OFFSET($G$82,MATCH(\"waste oil Fired Heater\",$G$83,0),2),0))),((IFERROR(OFFSET($G$99,MATCH(\"waste oil Fired Heater\",$G$100,0),2),0))),((IFERROR(OFFSET($G$114,MATCH(\"waste oil Fired Heater\",$G$115,0),2),0))),((IFERROR(OFFSET($G$129,MATCH(\"waste oil Fired Heater\",$G$130,0),2),0))),((IFERROR(OFFSET($G$144,MATCH(\"waste oil Fired Heater\",$G$145,0),2),0))),((IFERROR(OFFSET($G$159,MATCH(\"waste oil Fired Heater\",$G$160,0),2),0))))","v":0},null,null,null,"gallons/yr"]
[null,"Throughput Limit (tons/yr):",null,null,"Pollutant","lb/hr","tons/yr",null,null,null,null,null,"Natural Gas Fired Heater",{"$f":"MAX((IFERROR(OFFSET($G$23,MATCH(\"Natural Gas Fired Heater\",$G$24,0),1),0)),((IFERROR(OFFSET($G$37,MATCH(\"Natural Gas Fired Heater\",$G$38,0),1),0))),((IFERROR(OFFSET($G$52,MATCH(\"Natural Gas Fired Heater\",$G$53,0),1),0))),((IFERROR(OFFSET($G$67,MATCH(\"Natural Gas Fired Heater\",$G$68,0),1),0))),((IFERROR(OFFSET($G$82,MATCH(\"Natural Gas Fired Heater\",$G$83,0),1),0))),((IFERROR(OFFSET($G$99,MATCH(\"Natural Gas Fired Heater\",$G$100,0),1),0))),((IFERROR(OFFSET($G$114,MATCH(\"Natural Gas Fired Heater\",$G$115,0),1),0))),((IFERROR(OFFSET($G$129,MATCH(\"Natural Gas Fired Heater\",$G$130,0),1),0))),((IFERROR(OFFSET($G$144,MATCH(\"Natural Gas Fired Heater\",$G$145,0),1),0))),((IFERROR(OFFSET($G$159,MATCH(\"Natural Gas Fired Heater\",$G$160,0),1),0))))","v":0},"MMCF/hr",{"$f":"SUM((IFERROR(OFFSET($G$23,MATCH(\"Natural Gas Fired Heater\",$G$24,0),2),0)),((IFERROR(OFFSET($G$37,MATCH(\"Natural Gas Fired Heater\",$G$38,0),2),0))),((IFERROR(OFFSET($G$52,MATCH(\"Natural Gas Fired Heater\",$G$53,0),2),0))),((IFERROR(OFFSET($G$67,MATCH(\"Natural Gas Fired Heater\",$G$68,0),2),0))),((IFERROR(OFFSET($G$82,MATCH(\"Natural Gas Fired Heater\",$G$83,0),2),0))),((IFERROR(OFFSET($G$99,MATCH(\"Natural Gas Fired Heater\",$G$100,0),2),0))),((IFERROR(OFFSET($G$114,MATCH(\"Natural Gas Fired Heater\",$G$115,0),2),0))),((IFERROR(OFFSET($G$129,MATCH(\"Natural Gas Fired Heater\",$G$130,0),2),0))),((IFERROR(OFFSET($G$144,MATCH(\"Natural Gas Fired Heater\",$G$145,0),2),0))),((IFERROR(OFFSET($G$159,MATCH(\"Natural Gas Fired Heater\",$G$160,0),2),0))))","v":0},null,null,null,"MMCF/yr"]
[null,"Daily Throughput Limit (tons/day):",null,null,"PM2.5",null,null,null,null,null,null,null,"Silo Filling",{"$f":"MAX((IFERROR(OFFSET($G$25,MATCH(\"Silo Filling\",$G$26,0),1),0)),((IFERROR(OFFSET($G$39,MATCH(\"Silo Filling\",$G$40,0),1),0))),((IFERROR(OFFSET($G$54,MATCH(\"Silo Filling\",$G$55,0),1),0))),((IFERROR(OFFSET($G$69,MATCH(\"Silo Filling\",$G$70,0),1),0))),((IFERROR(OFFSET($G$84,MATCH(\"Silo Filling\",$G$85,0),1),0))),((IFERROR(OFFSET($G$101,MATCH(\"Silo Filling\",$G$102,0),1),0))),((IFERROR(OFFSET($G$116,MATCH(\"Silo Filling\",$G$117,0),1),0))),((IFERROR(OFFSET($G$131,MATCH(\"Silo Filling\",$G$132,0),1),0))),((IFERROR(OFFSET($G$146,MATCH(\"Silo Filling\",$G$147,0),1),0))),((IFERROR(OFFSET($G$161,MATCH(\"Silo Filling\",$G$162,0),1),0))))","v":0},"tons/hr",{"$f":"SUM((IFERROR(OFFSET($G$25,MATCH(\"Silo Filling\",$G$26,0),2),0)),((IFERROR(OFFSET($G$39,MATCH(\"Silo Filling\",$G$40,0),2),0))),((IFERROR(OFFSET($G$54,MATCH(\"Silo Filling\",$G$55,0),2),0))),((IFERROR(OFFSET($G$69,MATCH(\"Silo Filling\",$G$70,0),2),0))),((IFERROR(OFFSET($G$84,MATCH(\"Silo Filling\",$G$85,0),2),0))),((IFERROR(OFFSET($G$101,MATCH(\"Silo Filling\",$G$102,0),2),0))),((IFERROR(OFFSET($G$116,MATCH(\"Silo Filling\",$G$117,0),2),0))),((IFERROR(OFFSET($G$131,MATCH(\"Silo Filling\",$G$132,0),2),0))),((IFERROR(OFFSET($G$146,MATCH(\"Silo Filling\",$G$147,0),2),0))),((IFERROR(OFFSET($G$161,MATCH(\"Silo Filling\",$G$162,0),2),0))))","v":0},null,null,null,"tons/yr"]
[null,"Hours of Operation Limit (hours/day):",null,null,"PM10",null,null,null,null,null,null,null,"Truck Loadout",{"$f":"MAX((IFERROR(OFFSET(G26,MATCH(\"Truck Loadout\",G27,0),1),0)),((IFERROR(OFFSET(G40,MATCH(\"Truck Loadout\",G41,0),1),0))),((IFERROR(OFFSET(G55,MATCH(\"Truck Loadout\",G56,0),1),0))),((IFERROR(OFFSET(G70,MATCH(\"Truck Loadout\",G71,0),1),0))),((IFERROR(OFFSET(G85,MATCH(\"Truck Loadout\",G86,0),1),0))),((IFERROR(OFFSET(G102,MATCH(\"Truck Loadout\",G103,0),1),0))),((IFERROR(OFFSET(G117,MATCH(\"Truck Loadout\",G118,0),1),0))),((IFERROR(OFFSET(G132,MATCH(\"Truck Loadout\",G133,0),1),0))),((IFERROR(OFFSET(G147,MATCH(\"Truck Loadout\",G148,0),1),0))),((IFERROR(OFFSET(G162,MATCH(\"Truck Loadout\",G163,0),1),0))))","v":0},"tons/hr",{"$f":"SUM((IFERROR(OFFSET(G26,MATCH(\"Truck Loadout\",G27,0),2),0)),((IFERROR(OFFSET(G40,MATCH(\"Truck Loadout\",G41,0),2),0))),((IFERROR(OFFSET(G55,MATCH(\"Truck Loadout\",G56,0),2),0))),((IFERROR(OFFSET(G70,MATCH(\"Truck Loadout\",G71,0),2),0))),((IFERROR(OFFSET(G85,MATCH(\"Truck Loadout\",G86,0),2),0))),((IFERROR(OFFSET(G102,MATCH(\"Truck Loadout\",G103,0),2),0))),((IFERROR(OFFSET(G117,MATCH(\"Truck Loadout\",G118,0),2),0))),((IFERROR(OFFSET(G132,MATCH(\"Truck Loadout\",G133,0),2),0))),((IFERROR(OFFSET(G147,MATCH(\"Truck Loadout\",G148,0),2),0))),((IFERROR(OFFSET(G162,MATCH(\"Truck Loadout\",G163,0),2),0))))","v":0},null,null,null,"tons/yr"]
["Fuel Oil","Note: if the plant has an hrs/day and a tons/hr permit limit, those values",null,null,"SO2",null,null,null,null,null,null,null,"Cold Aggregate Bins",{"$f":"MAX((IFERROR(OFFSET(G27,MATCH(\"Cold Aggregate Bins\",G28,0),1),0)),((IFERROR(OFFSET(G41,MATCH(\"Cold Aggregate Bins\",G42,0),1),0))),((IFERROR(OFFSET(G56,MATCH(\"Cold Aggregate Bins\",G57,0),1),0))),((IFERROR(OFFSET(G71,MATCH(\"Cold Aggregate Bins\",G72,0),1),0))),((IFERROR(OFFSET(G86,MATCH(\"Cold Aggregate Bins\",G87,0),1),0))),((IFERROR(OFFSET(G103,MATCH(\"Cold Aggregate Bins\",G104,0),1),0))),((IFERROR(OFFSET(G118,MATCH(\"Cold Aggregate Bins\",G119,0),1),0))),((IFERROR(OFFSET(G133,MATCH(\"Cold Aggregate Bins\",G134,0),1),0))),((IFERROR(OFFSET(G148,MATCH(\"Cold Aggregate Bins\",G149,0),1),0))),((IFERROR(OFFSET(G163,MATCH(\"Cold Aggregate Bins\",G164,0),1),0))))","v":0},"tons/hr",{"$f":"SUM((IFERROR(OFFSET(G27,MATCH(\"Cold Aggregate Bins\",G28,0),2),0)),((IFERROR(OFFSET(G41,MATCH(\"Cold Aggregate Bins\",G42,0),2),0))),((IFERROR(OFFSET(G56,MATCH(\"Cold Aggregate Bins\",G57,0),2),0))),((IFERROR(OFFSET(G71,MATCH(\"Cold Aggregate Bins\",G72,0),2),0))),((IFERROR(OFFSET(G86,MATCH(\"Cold Aggregate Bins\",G87,0),2),0))),((IFERROR(OFFSET(G103,MATCH(\"Cold Aggregate Bins\",G104,0),2),0))),((IFERROR(OFFSET(G118,MATCH(\"Cold Aggregate Bins\",G119,0),2),0))),((IFERROR(OFFSET(G133,MATCH(\"Cold Aggregate Bins\",G134,0),2),0))),((IFERROR(OFFSET(G148,MATCH(\"Cold Aggregate Bins\",G149,0),2),0))),((IFERROR(OFFSET(G163,MATCH(\"Cold Aggregate Bins\",G164,0),2),0))))","v":0},null,null,null,"tons/yr"]
["Natural Gas","should be multiplied together to calculate a tons/day limit and that value ",null,null,"NOx",null,null,null,null,null,null,null,null,"Maximum (acres)","Actual (acres-day/yr)"]
["Waste Oil","should be placed in cell C11.",null,null,"VOC",null,null,null,null,null,null,null,"Storage Pile",{"$f":"SUM(G32,G46,G61,G76,G91,G108,G123,G138,G153,G168,)","v":0},{"$f":"SUM(H32*I32,H46*I46,H61*I61,H76*I76,H91*I91,H108*I108,H123*I123,H138*I138,H153*I153,H168*I168)","v":0}]
[null,null,null,null,"CO"]
["Batch Mix Plant"]
["Drum Mix Plant",null,null,null,null,null,null,null,null,null,null,null,"Actual Emissions for the Listed Processes at this Plant"]
[null,"Asphalt Plant","Site 1",null,"Emission Point #","Emission     Unit #","Processes","Maximum Hourly     Design Rate",{"$f":"('Facility Information'!G5&\" Annual Throughput\")","v":" Annual Throughput"},null,null,null,"PM2.5","Maximum Design Rate (tons/hr)","Emission Factor","Units","Potential Uncontrolled Emissions (lb/hr)","Potential Controlled Emissions (lb/hr)","Potential Annual Emissions (tons/yr)","Actual Annual Emissions (tons/yr)"]
["YES",null,null,null,null,null,null,null,null,null,null,null,{"$f":"$C$5 & \" - Fuel Oil\"","v":" - Fuel Oil"},{"$f":"N5","v":0},{"$f":"IF(N20=0,0,IF(MAX((IFERROR(OFFSET($G$21,MATCH(M20,$G$22,0),3),0)),((IFERROR(OFFSET($G$35,MATCH(M20,$G$36,0),3),0))),((IFERROR(OFFSET($G$50,MATCH(M20,$G$51,0),3),0))),((IFERROR(OFFSET($G$65,MATCH(M20,$G$66,0),3),0))),((IFERROR(OFFSET($G$80,MATCH(M20,$G$81,0),3),0))),((IFERROR(OFFSET($G$97,MATCH(M20,$G$98,0),3),0))),((IFERROR(OFFSET($G$112,MATCH(M20,$G$113,0),3),0))),((IFERROR(OFFSET($G$127,MATCH(M20,$G$128,0),3),0))),((IFERROR(OFFSET($G$142,MATCH(M20,$G$143,0),3),0))),((IFERROR(OFFSET($G$157,MATCH(M20,$G$158,0),3),0))))=0,0,(MAX((IFERROR(OFFSET($G$21,MATCH(M20,$G$22,0),3),0)),((IFERROR(OFFSET($G$35,MATCH(M20,$G$36,0),3),0))),((IFERROR(OFFSET($G$50,MATCH(M20,$G$51,0),3),0))),((IFERROR(OFFSET($G$65,MATCH(M20,$G$66,0),3),0))),((IFERROR(OFFSET($G$80,MATCH(M20,$G$81,0),3),0))),((IFERROR(OFFSET($G$97,MATCH(M20,$G$98,0),3),0))),((IFERROR(OFFSET($G$112,MATCH(M20,$G$113,0),3),0))),((IFERROR(OFFSET($G$127,MATCH(M20,$G$128,0),3),0))),((IFERROR(OFFSET($G$142,MATCH(M20,$G$143,0),3),0))),((IFERROR(OFFSET($G$157,MATCH(M20,$G$158,0),3),0)))))))","v":0},{"$f":"IF(O20=\"\",\"\",\"lb/ton\")","v":"lb/ton"},{"$f":"IF(O20=0.27,N20*O20,IF(O20=1.54,N20*O20,\"\"))","v":""},{"$f":"IF(N20=0,\"\",IF(AND($F$11>0,$O$20>=$O$21,$O$20>=$O$22),$F$11,IF(O20=0.0083,N20*O20,IF(O20=0.007,N20*O20,\"\"))))","v":""},{"$f":"IF(N20=0,0,IF($G$11>0,$G$11,IF(AND(OR($C$10>0,$C$11>0,$C$12>0),$O$20>=$O$21,$O$20>=$O$22),(IF($C$10>0,$C$10*O20/2000,IF($C$11>0,$C$11*365*O20/2000,IF($C$12>0,$C$12*365*O20*N20/2000)))),IF(AND($F$11>0,$O$20>=$O$21,$O$20>=$O$22),$F$11*8760/2000,IF(AND(OR($C$10=\"\",$C$10=0),OR($C$11=\"\",$C$11=0),OR($C$12=\"\",$C$12=0),$F$11=\"\"),IF(R20=\"\",Q20*8760/2000,R20*8760/2000),\"\")))))","v":0},{"$f":"IF(N20=\"\",\"\",SUM((IFERROR(MATCH(M20,$G$22,0)*$I$22*$J$22/2000,0)),(IFERROR(MATCH(M20,$G$36,0)*$I$36*$J$36/2000,0)),(IFERROR(MATCH(M20,$G$51,0)*$I$51*$J$51/2000,0)),(IFERROR(MATCH(M20,$G$66,0)*$I$66*$J$66/2000,0)),(IFERROR(MATCH(M20,$G$81,0)*$I$81*$J$81/2000,0)),(IFERROR(MATCH(M20,$G$98,0)*$I$98*$J$98/2000,0)),(IFERROR(MATCH(M20,$G$113,0)*$I$113*$J$113/2000,0)),(IFERROR(MATCH(M20,$G$128,0)*$I$128*$J$128/2000,0)),(IFERROR(MATCH(M20,$G$143,0)*$I$143*$J$143/2000,0)),(IFERROR(MATCH(M20,$G$158,0)*$I$158*$J$158/2000,0))))","v":0}]
["NO","Site Name:",null,null,"Dryer, Hot Screens, Mixer",null,null,"(tons/hr)","(tons/yr)","PM2.5","PM10",null,{"$f":"$C$5 & \" - Waste Oil\"","v":" - Waste Oil"},{"$f":"N6","v":0},{"$f":"IF(N21=0,0,IF(MAX((IFERROR(OFFSET($G$21,MATCH(M21,$G$22,0),3),0)),((IFERROR(OFFSET($G$35,MATCH(M21,$G$36,0),3),0))),((IFERROR(OFFSET($G$50,MATCH(M21,$G$51,0),3),0))),((IFERROR(OFFSET($G$65,MATCH(M21,$G$66,0),3),0))),((IFERROR(OFFSET($G$80,MATCH(M21,$G$81,0),3),0))),((IFERROR(OFFSET($G$97,MATCH(M21,$G$98,0),3),0))),((IFERROR(OFFSET($G$112,MATCH(M21,$G$113,0),3),0))),((IFERROR(OFFSET($G$127,MATCH(M21,$G$128,0),3),0))),((IFERROR(OFFSET($G$142,MATCH(M21,$G$143,0),3),0))),((IFERROR(OFFSET($G$157,MATCH(M21,$G$158,0),3),0))))=0,0,(MAX((IFERROR(OFFSET($G$21,MATCH(M21,$G$22,0),3),0)),((IFERROR(OFFSET($G$35,MATCH(M21,$G$36,0),3),0))),((IFERROR(OFFSET($G$50,MATCH(M21,$G$51,0),3),0))),((IFERROR(OFFSET($G$65,MATCH(M21,$G$66,0),3),0))),((IFERROR(OFFSET($G$80,MATCH(M21,$G$81,0),3),0))),((IFERROR(OFFSET($G$97,MATCH(M21,$G$98,0),3),0))),((IFERROR(OFFSET($G$112,MATCH(M21,$G$113,0),3),0))),((IFERROR(OFFSET($G$127,MATCH(M21,$G$128,0),3),0))),((IFERROR(OFFSET($G$142,MATCH(M21,$G$143,0),3),0))),((IFERROR(OFFSET($G$157,MATCH(M21,$G$158,0),3),0)))))))","v":0},"lb/ton",{"$f":"IF(O21=0.27,N21*O21,IF(O21=1.54,N21*O21,\"\"))","v":""},{"$f":"IF(N21=0,\"\",IF(AND($F$11>0,$O$21>$O$20,$O$21>=$O$22),$F$11,IF(O21=0.0083,N21*O21,IF(O21=0.007,N21*O21,\"\"))))","v":""},{"$f":"IF(N21=0,0,IF($G$11>0,IF(S20=0,G11,\"\"),IF(AND(OR($C$10>0,$C$11>0,$C$12>0),$O$21>$O$20,$O$21>=$O$22),(IF($C$10>0,$C$10*O21/2000,IF($C$11>0,$C$11*365*O21/2000,IF($C$12>0,$C$12*365*O21*N21/2000)))),IF(AND($F$11>0,$O$21>$O$20,$O$21>=$O$22),$F$11*8760/2000,IF(AND(OR($C$10=\"\",$C$10=0),OR($C$11=\"\",$C$11=0),OR($C$12=\"\",$C$12=0),$F$11=\"\"),IF(R21=\"\",Q21*8760/2000,R21*8760/2000),\"\")))))","v":0},{"$f":"IF(N21=\"\",\"\",SUM((IFERROR(MATCH(M21,$G$22,0)*$I$22*$J$22/2000,0)),(IFERROR(MATCH(M21,$G$36,0)*$I$36*$J$36/2000,0)),(IFERROR(MATCH(M21,$G$51,0)*$I$51*$J$51/2000,0)),(IFERROR(MATCH(M21,$G$66,0)*$I$66*$J$66/2000,0)),(IFERROR(MATCH(M21,$G$81,0)*$I$81*$J$81/2000,0)),(IFERROR(MATCH(M21,$G$98,0)*$I$98*$J$98/2000,0)),(IFERROR(MATCH(M21,$G$113,0)*$I$113*$J$113/2000,0)),(IFERROR(MATCH(M21,$G$128,0)*$I$128*$J$128/2000,0)),(IFERROR(MATCH(M21,$G$143,0)*$I$143*$J$143/2000,0)),(IFERROR(MATCH(M21,$G$158,0)*$I$158*$J$158/2000,0))))","v":0}]
[null,"County:",null,null,{"$f":"IF($C$4>0,\"AP-2 EP-1\",\"\")","v":""},{"$f":"IF($C$4>0,\"AP-2 EU-1\",\"\")","v":""},{"$f":"IF(C24=\"\",\"\",C5 & \" - \"&C24)","v":""},null,null,{"$f":"IF(C25=\"\",\"\",IF(C25=\"yes\",LOOKUP(G22,'Emission Factors'!$A$12:$A$17,'Emission Factors'!$D$12:$D$17),LOOKUP(G22,'Emission Factors'!$A$5:$A$10,'Emission Factors'!$D$5:$D$10)))","v":""},{"$f":"IF(C25=\"\",\"\",IF(C25=\"yes\",LOOKUP(G22,'Emission Factors'!$A$12:$A$17,'Emission Factors'!$F$12:$F$17),LOOKUP(G22,'Emission Factors'!$A$5:$A$10,'Emission Factors'!$F$5:$F$10)))","v":""},null,{"$f":"$C$5 & \" - Natural Gas\"","v":" - Natural Gas"},{"$f":"N7","v":0},{"$f":"IF(N22=0,0,IF(MAX((IFERROR(OFFSET($G$21,MATCH(M22,$G$22,0),3),0)),((IFERROR(OFFSET($G$35,MATCH(M22,$G$36,0),3),0))),((IFERROR(OFFSET($G$50,MATCH(M22,$G$51,0),3),0))),((IFERROR(OFFSET($G$65,MATCH(M22,$G$66,0),3),0))),((IFERROR(OFFSET($G$80,MATCH(M22,$G$81,0),3),0))),((IFERROR(OFFSET($G$97,MATCH(M22,$G$98,0),3),0))),((IFERROR(OFFSET($G$112,MATCH(M22,$G$113,0),3),0))),((IFERROR(OFFSET($G$127,MATCH(M22,$G$128,0),3),0))),((IFERROR(OFFSET($G$142,MATCH(M22,$G$143,0),3),0))),((IFERROR(OFFSET($G$157,MATCH(M22,$G$158,0),3),0))))=0,0,(MAX((IFERROR(OFFSET($G$21,MATCH(M22,$G$22,0),3),0)),((IFERROR(OFFSET($G$35,MATCH(M22,$G$36,0),3),0))),((IFERROR(OFFSET($G$50,MATCH(M22,$G$51,0),3),0))),((IFERROR(OFFSET($G$65,MATCH(M22,$G$66,0),3),0))),((IFERROR(OFFSET($G$80,MATCH(M22,$G$81,0),3),0))),((IFERROR(OFFSET($G$97,MATCH(M22,$G$98,0),3),0))),((IFERROR(OFFSET($G$112,MATCH(M22,$G$113,0),3),0))),((IFERROR(OFFSET($G$127,MATCH(M22,$G$128,0),3),0))),((IFERROR(OFFSET($G$142,MATCH(M22,$G$143,0),3),0))),((IFERROR(OFFSET($G$157,MATCH(M22,$G$158,0),3),0)))))))","v":0},"lb/ton",{"$f":"IF(O22=0.27,N22*O22,IF(O22=1.54,N22*O22,\"\"))","v":""},{"$f":"IF(N22=0,\"\",IF(AND($F$11>0,$O$22>$O$20,$O$22>$O$20),$F$11,IF(O22=0.0083,N22*O22,IF(O22=0.007,N22*O22,\"\"))))","v":""},{"$f":"IF(N22=0,0,IF($G$11>0,IF(AND(S20=0,S21=0),\"\"),IF(AND(OR($C$10>0,$C$11>0,$C$12>0),$O$22>$O$20,$O$22>$O$20),(IF($C$10>0,$C$10*O22/2000,IF($C$11>0,$C$11*365*O22/2000,IF($C$12>0,$C$12*365*O22*N22/2000)))),IF(AND($F$11>0,$O$22>$O$20,$O$22>$O$20),$F$11*8760/2000,IF(AND(OR($C$10=\"\",$C$10=0),OR($C$11=\"\",$C$11=0),OR($C$12=\"\",$C$12=0),$F$11=\"\"),IF(R22=\"\",Q22*8760/2000,R22*8760/2000),\"\")))))","v":0},{"$f":"IF(N22=\"\",\"\",SUM((IFERROR(MATCH(M22,$G$22,0)*$I$22*$J$22/2000,0)),(IFERROR(MATCH(M22,$G$36,0)*$I$36*$J$36/2000,0)),(IFERROR(MATCH(M22,$G$51,0)*$I$51*$J$51/2000,0)),(IFERROR(MATCH(M22,$G$66,0)*$I$66*$J$66/2000,0)),(IFERROR(MATCH(M22,$G$81,0)*$I$81*$J$81/2000,0)),(IFERROR(MATCH(M22,$G$98,0)*$I$98*$J$98/2000,0)),(IFERROR(MATCH(M22,$G$113,0)*$I$113*$J$113/2000,0)),(IFERROR(MATCH(M22,$G$128,0)*$I$128*$J$128/2000,0)),(IFERROR(MATCH(M22,$G$143,0)*$I$143*$J$143/2000,0)),(IFERROR(MATCH(M22,$G$158,0)*$I$158*$J$158/2000,0))))","v":0}]
[null,"Production Period (Dates):",null,null,"Liquid Asphalt Heater",null,null,{"$f":"IF(C24=\"natural gas\", \"(MMCF/hr)\",\"(gallons/hr)\")","v":"(gallons/hr)"},{"$f":"IF(C24=\"natural gas\", \"(MMCF/yr)\",\"(gallons/yr)\")","v":"(gallons/yr)"},null,null,null,"Silo Filling",{"$f":"N11","v":0},{"$f":"IF(N23=0,0,IF(N23=0,0,LOOKUP(M23,'Emission Factors'!$A$23:$A$25,'Emission Factors'!$D$23:$D$25)))","v":0},"lb/ton",{"$f":"N23*O23","v":0},null,{"$f":"IF($G$11>0,\"\",IF($C$10>0,$C$10*O23/2000,IF($C$11>0,$C$11*365*O23/2000,IF($C$12>0,$C$12*365*O23*N23/2000,IF($F$11>0,\"\",IF(R23=\"\",Q23*8760/2000,R23*8760/2000))))))","v":0},{"$f":"(P11*O23/2000)","v":0}]
[null,"Type of Fuel Used:",null,null,{"$f":"IF($C$4>0,\"AP-2 EP-2\",\"\")","v":""},{"$f":"IF($C$4>0,\"AP-2 EU-2\",\"\")","v":""},{"$f":"IF(C24=\"\",\"\",C24& \" Fired Heater\")","v":""},null,null,null,null,null,"Truck Loadout",{"$f":"N12","v":0},{"$f":"IF(N24=0,0,IF(N24=0,0,LOOKUP(M24,'Emission Factors'!$A$23:$A$25,'Emission Factors'!$D$23:$D$25)))","v":0},"lb/ton",{"$f":"N24*O24","v":0},null,{"$f":"IF($G$11>0,\"\",IF($C$10>0,$C$10*O24/2000,IF($C$11>0,$C$11*365*O24/2000,IF($C$12>0,$C$12*365*O24*N24/2000,IF($F$11>0,\"\",IF(R24=\"\",Q24*8760/2000,R24*8760/2000))))))","v":0},{"$f":"(P12*O24/2000)","v":0}]
[null,"Is Your Operation Controlled?:",null,null,"Silo Filling, Truck Loadout, Aggregate Transfer",null,null,"(tons/hr)","(tons/yr)",null,null,null,"Cold Aggregate Bins",{"$f":"N13","v":0},{"$f":"IF(N25=0,0,IF(N25=0,0,LOOKUP(M25,'Emission Factors'!A23:A25,'Emission Factors'!D23:D25)))","v":0},"lb/ton",{"$f":"N25*O25","v":0},null,{"$f":"IF($G$11>0,\"\",IF($C$10>0,$C$10*O25/2000,IF($C$11>0,$C$11*365*O25/2000,IF($C$12>0,$C$12*365*O25*N25/2000,IF($F$11>0,\"\",IF(R25=\"\",Q25*8760/2000,R25*8760/2000))))))","v":0},{"$f":"(P13*O25/2000)","v":0}]
[null,null,null,null,{"$f":"IF($C$4>0,\"AP-2 EP-3\",\"\")","v":""},{"$f":"IF($C$4>0,\"AP-2 EU-3\",\"\")","v":""},{"$f":"IF(C5=\"\",\"\",\"Silo Filling\")","v":""},null,null,null,null,null,"PM10"]
[null,null,null,null,{"$f":"IF($C$4>0,\"AP-2 EP-3\",\"\")","v":""},{"$f":"IF($C$4>0,\"AP-2 EU-4\",\"\")","v":""},{"$f":"IF(C5=\"\",\"\",\"Truck Loadout\")","v":""},null,null,null,null,null,{"$f":"$C$5 & \" - Fuel Oil\"","v":" - Fuel Oil"},{"$f":"N5","v":0},{"$f":"IF(N27=0,0,IF(MAX((IFERROR(OFFSET($G$21,MATCH(M27,$G$22,0),4),0)),((IFERROR(OFFSET($G$35,MATCH(M27,$G$36,0),4),0))),((IFERROR(OFFSET($G$50,MATCH(M27,$G$51,0),4),0))),((IFERROR(OFFSET($G$65,MATCH(M27,$G$66,0),4),0))),((IFERROR(OFFSET($G$80,MATCH(M27,$G$81,0),3),0))),((IFERROR(OFFSET($G$97,MATCH(M27,$G$98,0),4),0))),((IFERROR(OFFSET($G$112,MATCH(M27,$G$113,0),4),0))),((IFERROR(OFFSET($G$127,MATCH(M27,$G$128,0),4),0))),((IFERROR(OFFSET($G$142,MATCH(M27,$G$143,0),4),0))),((IFERROR(OFFSET($G$157,MATCH(M27,$G$158,0),4),0))))=0,0,(MAX((IFERROR(OFFSET($G$21,MATCH(M27,$G$22,0),4),0)),((IFERROR(OFFSET($G$35,MATCH(M27,$G$36,0),4),0))),((IFERROR(OFFSET($G$50,MATCH(M27,$G$51,0),4),0))),((IFERROR(OFFSET($G$65,MATCH(M27,$G$66,0),4),0))),((IFERROR(OFFSET($G$80,MATCH(M27,$G$81,0),4),0))),((IFERROR(OFFSET($G$97,MATCH(M27,$G$98,0),4),0))),((IFERROR(OFFSET($G$112,MATCH(M27,$G$113,0),4),0))),((IFERROR(OFFSET($G$127,MATCH(M27,$G$128,0),4),0))),((IFERROR(OFFSET($G$142,MATCH(M27,$G$143,0),4),0))),((IFERROR(OFFSET($G$157,MATCH(M27,$G$158,0),4),0)))))))","v":0},{"$f":"IF(O27=\"\",\"\",\"lb/ton\")","v":"lb/ton"},{"$f":"IF(O27=4.5,N27*O27,IF(O27=6.5,N27*O27,\"\"))","v":""},{"$f":"IF(N27=0,\"\",IF(AND($F$12>0,$O$27>=$O$28,$O$27>=$O$29),$F$12,IF(O27=0.0098,N27*O27,IF(O27=0.023,N27*O27,\"\"))))","v":""},{"$f":"IF(N27=0,0,IF($G$12>0,$G$12,IF(AND(OR($C$10>0,$C$11>0,$C$12>0),$O$27>=$O$28,$O$27>=$O$29),(IF($C$10>0,$C$10*O27/2000,IF($C$11>0,$C$11*365*O27/2000,IF($C$12>0,$C$12*365*O27*N27/2000)))),IF(AND($F$12>0,$O$27>=$O$28,$O$27>=$O$29),$F$12*8760/2000,IF(AND(OR($C$10=\"\",$C$10=0),OR($C$11=\"\",$C$11=0),OR($C$12=\"\",$C$12=0),$F$12=\"\"),IF(R27=\"\",Q27*8760/2000,R27*8760/2000),\"\")))))","v":0},{"$f":"IF(N27=\"\",\"\",SUM((IFERROR(MATCH(M27,$G$22,0)*$I$22*$K$22/2000,0)),(IFERROR(MATCH(M27,$G$36,0)*$I$36*$K$36/2000,0)),(IFERROR(MATCH(M27,$G$51,0)*$I$51*$K$51/2000,0)),(IFERROR(MATCH(M27,$G$66,0)*$I$66*$K$66/2000,0)),(IFERROR(MATCH(M27,$G$81,0)*$I$81*$K$81/2000,0)),(IFERROR(MATCH(M27,$G$98,0)*$I$98*$K$98/2000,0)),(IFERROR(MATCH(M27,$G$113,0)*$I$113*$K$113/2000,0)),(IFERROR(MATCH(M27,$G$128,0)*$I$128*$K$128/2000,0)),(IFERROR(MATCH(M27,$G$143,0)*$I$143*$K$143/2000,0)),(IFERROR(MATCH(M27,$G$158,0)*$I$158*$K$158/2000,0))))","v":0}]
[null,null,null,null,{"$f":"IF($C$4>0,\"AP-2 EP-3\",\"\")","v":""},{"$f":"IF($C$4>0,\"AP-2 EU-5\",\"\")","v":""},{"$f":"IF(C5=\"\",\"\",\"Cold Aggregate Bins\")","v":""},null,null,null,null,null,{"$f":"$C$5 & \" - Waste Oil\"","v":" - Waste Oil"},{"$f":"N6","v":0},{"$f":"IF(N28=0,0,IF(MAX((IFERROR(OFFSET($G$21,MATCH(M28,$G$22,0),4),0)),((IFERROR(OFFSET($G$35,MATCH(M28,$G$36,0),4),0))),((IFERROR(OFFSET($G$50,MATCH(M28,$G$51,0),4),0))),((IFERROR(OFFSET($G$65,MATCH(M28,$G$66,0),4),0))),((IFERROR(OFFSET($G$80,MATCH(M28,$G$81,0),3),0))),((IFERROR(OFFSET($G$97,MATCH(M28,$G$98,0),4),0))),((IFERROR(OFFSET($G$112,MATCH(M28,$G$113,0),4),0))),((IFERROR(OFFSET($G$127,MATCH(M28,$G$128,0),4),0))),((IFERROR(OFFSET($G$142,MATCH(M28,$G$143,0),4),0))),((IFERROR(OFFSET($G$157,MATCH(M28,$G$158,0),4),0))))=0,0,(MAX((IFERROR(OFFSET($G$21,MATCH(M28,$G$22,0),4),0)),((IFERROR(OFFSET($G$35,MATCH(M28,$G$36,0),4),0))),((IFERROR(OFFSET($G$50,MATCH(M28,$G$51,0),4),0))),((IFERROR(OFFSET($G$65,MATCH(M28,$G$66,0),4),0))),((IFERROR(OFFSET($G$80,MATCH(M28,$G$81,0),4),0))),((IFERROR(OFFSET($G$97,MATCH(M28,$G$98,0),4),0))),((IFERROR(OFFSET($G$112,MATCH(M28,$G$113,0),4),0))),((IFERROR(OFFSET($G$127,MATCH(M28,$G$128,0),4),0))),((IFERROR(OFFSET($G$142,MATCH(M28,$G$143,0),4),0))),((IFERROR(OFFSET($G$157,MATCH(M28,$G$158,0),4),0)))))))","v":0},"lb/ton",{"$f":"IF(O28=4.5,N28*O28,IF(O28=6.5,N28*O28,\"\"))","v":""},{"$f":"IF(N28=0,\"\",IF(AND($F$12>0,$O$28>$O$27,$O$28>=$O$29),$F$12,IF(O28=0.0098,N28*O28,IF(O28=0.023,N28*O28,\"\"))))","v":""},{"$f":"IF(N28=0,0,IF($G$12>0,IF(S27=0,$G$12,\"\"),IF(AND(OR($C$10>0,$C$11>0,$C$12>0),$O$28>$O$27,$O$28>=$O$29),(IF($C$10>0,$C$10*O28/2000,IF($C$11>0,$C$11*365*O28/2000,IF($C$12>0,$C$12*365*O28*N28/2000)))),IF(AND($F$12>0,$O$28>$O$27,$O$28>=$O$29),$F$12*8760/2000,IF(AND(OR($C$10=\"\",$C$10=0),OR($C$11=\"\",$C$11=0),OR($C$12=\"\",$C$12=0),$F$12=\"\"),IF(R28=\"\",Q28*8760/2000,R28*8760/2000),\"\")))))","v":0},{"$f":"IF(N28=\"\",\"\",SUM((IFERROR(MATCH(M28,$G$22,0)*$I$22*$K$22/2000,0)),(IFERROR(MATCH(M28,$G$36,0)*$I$36*$K$36/2000,0)),(IFERROR(MATCH(M28,$G$51,0)*$I$51*$K$51/2000,0)),(IFERROR(MATCH(M28,$G$66,0)*$I$66*$K$66/2000,0)),(IFERROR(MATCH(M28,$G$81,0)*$I$81*$K$81/2000,0)),(IFERROR(MATCH(M28,$G$98,0)*$I$98*$K$98/2000,0)),(IFERROR(MATCH(M28,$G$113,0)*$I$113*$K$113/2000,0)),(IFERROR(MATCH(M28,$G$128,0)*$I$128*$K$128/2000,0)),(IFERROR(MATCH(M28,$G$143,0)*$I$143*$K$143/2000,0)),(IFERROR(MATCH(M28,$G$158,0)*$I$158*$K$158/2000,0))))","v":0}]
[null,null,null,null,null,null,null,null,null,null,null,null,{"$f":"$C$5 & \" - Natural Gas\"","v":" - Natural Gas"},{"$f":"N7","v":0},{"$f":"IF(N29=0,0,IF(MAX((IFERROR(OFFSET($G$21,MATCH(M29,$G$22,0),4),0)),((IFERROR(OFFSET($G$35,MATCH(M29,$G$36,0),4),0))),((IFERROR(OFFSET($G$50,MATCH(M29,$G$51,0),4),0))),((IFERROR(OFFSET($G$65,MATCH(M29,$G$66,0),4),0))),((IFERROR(OFFSET($G$80,MATCH(M29,$G$81,0),3),0))),((IFERROR(OFFSET($G$97,MATCH(M29,$G$98,0),4),0))),((IFERROR(OFFSET($G$112,MATCH(M29,$G$113,0),4),0))),((IFERROR(OFFSET($G$127,MATCH(M29,$G$128,0),4),0))),((IFERROR(OFFSET($G$142,MATCH(M29,$G$143,0),4),0))),((IFERROR(OFFSET($G$157,MATCH(M29,$G$158,0),4),0))))=0,0,(MAX((IFERROR(OFFSET($G$21,MATCH(M29,$G$22,0),4),0)),((IFERROR(OFFSET($G$35,MATCH(M29,$G$36,0),4),0))),((IFERROR(OFFSET($G$50,MATCH(M29,$G$51,0),4),0))),((IFERROR(OFFSET($G$65,MATCH(M29,$G$66,0),4),0))),((IFERROR(OFFSET($G$80,MATCH(M29,$G$81,0),4),0))),((IFERROR(OFFSET($G$97,MATCH(M29,$G$98,0),4),0))),((IFERROR(OFFSET($G$112,MATCH(M29,$G$113,0),4),0))),((IFERROR(OFFSET($G$127,MATCH(M29,$G$128,0),4),0))),((IFERROR(OFFSET($G$142,MATCH(M29,$G$143,0),4),0))),((IFERROR(OFFSET($G$157,MATCH(M29,$G$158,0),4),0)))))))","v":0},"lb/ton",{"$f":"IF(O29=4.5,N29*O29,IF(O29=6.5,N29*O29,\"\"))","v":""},{"$f":"IF(N29=0,\"\",IF(AND($F$12>0,$O$29>$O$27,$O$29>$O$28),$F$12,IF(O29=0.0098,N29*O29,IF(O29=0.023,N29*O29,\"\"))))","v":""},{"$f":"IF(N29=0,0,IF($G$12>0,IF(AND(S27=0,S28=0),$G$12,\"\"),IF(AND(OR($C$10>0,$C$11>0,$C$12>0),$O$29>$O$27,$O$29>$O$28),(IF($C$10>0,$C$10*O29/2000,IF($C$11>0,$C$11*365*O29/2000,IF($C$12>0,$C$12*365*O29*N29/2000)))),IF(AND($F$12>0,$O$29>$O$27,$O$29>$O$28),$F$12*8760/2000,IF(AND(OR($C$10=\"\",$C$10=0),OR($C$11=\"\",$C$11=0),OR($C$12=\"\",$C$12=0),$F$12=\"\"),IF(R29=\"\",Q29*8760/2000,R29*8760/2000),\"\")))))","v":0},{"$f":"IF(N29=\"\",\"\",SUM((IFERROR(MATCH(M29,$G$22,0)*$I$22*$K$22/2000,0)),(IFERROR(MATCH(M29,$G$36,0)*$I$36*$K$36/2000,0)),(IFERROR(MATCH(M29,$G$51,0)*$I$51*$K$51/2000,0)),(IFERROR(MATCH(M29,$G$66,0)*$I$66*$K$66/2000,0)),(IFERROR(MATCH(M29,$G$81,0)*$I$81*$K$81/2000,0)),(IFERROR(MATCH(M29,$G$98,0)*$I$98*$K$98/2000,0)),(IFERROR(MATCH(M29,$G$113,0)*$I$113*$K$113/2000,0)),(IFERROR(MATCH(M29,$G$128,0)*$I$128*$K$128/2000,0)),(IFERROR(MATCH(M29,$G$143,0)*$I$143*$K$143/2000,0)),(IFERROR(MATCH(M29,$G$158,0)*$I$158*$K$158/2000,0))))","v":0}]
[null,null,null,null,"Stock Pile Area",null,null,null,null,null,null,null,"Silo Filling",{"$f":"N11","v":0},{"$f":"IF(N30=0,0,IF(N30=0,0,LOOKUP(M30,'Emission Factors'!$A$23:$A$25,'Emission Factors'!$F$23:$F$25)))","v":0},"lb/ton",{"$f":"N30*O30","v":0},null,{"$f":"IF($G$12>0,\"\",IF($C$10>0,$C$10*O30/2000,IF($C$11>0,$C$11*365*O30/2000,IF($C$12>0,$C$12*365*O30*N30/2000,IF($F$11>0,\"\",IF(R30=\"\",Q30*8760/2000,R30*8760/2000))))))","v":0},{"$f":"(P11*O30/2000)","v":0}]
[null,null,null,null,null,"Emission Unit #","Maximum Storage Area (acres)","Actual Storage Area (acres)","Actual Days in Existence (days)",null,null,null,"Truck Loadout",{"$f":"N12","v":0},{"$f":"IF(N31=0,0,IF(N31=0,0,LOOKUP(M31,'Emission Factors'!$A$23:$A$25,'Emission Factors'!$F$23:$F$25)))","v":0},"lb/ton",{"$f":"N31*O31","v":0},null,{"$f":"IF($G$12>0,\"\",IF($C$10>0,$C$10*O31/2000,IF($C$11>0,$C$11*365*O31/2000,IF($C$12>0,$C$12*365*O31*N31/2000,IF($F$11>0,\"\",IF(R31=\"\",Q31*8760/2000,R31*8760/2000))))))","v":0},{"$f":"(P12*O31/2000)","v":0}]
[null,null,null,null,null,null,null,null,null,null,null,null,"Cold Aggregate Bins",{"$f":"N13","v":0},{"$f":"IF(N32=0,0,IF(N32=0,0,LOOKUP(M32,'Emission Factors'!$A$23:$A$25,'Emission Factors'!$F$23:$F$25)))","v":0},"lb/ton",{"$f":"N32*O32","v":0},null,{"$f":"IF($G$12>0,\"\",IF($C$10>0,$C$10*O32/2000,IF($C$11>0,$C$11*365*O32/2000,IF($C$12>0,$C$12*365*O32*N32/2000,IF($F$11>0,\"\",IF(R32=\"\",Q32*8760/2000,R32*8760/2000))))))","v":0},{"$f":"(P13*O32/2000)","v":0}]
[]
[null,{"$f":"IF($C$4>1,\"Asphalt Plant\",\"\")","v":""},{"$f":"IF($C$4>1,\"Site 2\",\"\")","v":""},null,{"$f":"IF($C$4>1,\"Emission Point #\",\"\")","v":""},{"$f":"IF($C$4>1,\"Emission    Unit #\",\"\")","v":""},{"$f":"IF($C$4>1,\"Process\",\"\")","v":""},{"$f":"IF($C$4>1,\"Maximum Hourly     Design Rate\",\"\")","v":""},{"$f":"IF($C$4>1,('Facility Information'!G20&\" Annual Throughput\"),\"\")","v":""},null,null,null,null,"Storage Pile","Max Design Rate (acres)","Emission Factor   (lb/acre-day)","Potential Uncontrolled Emissions (lb/hr)","Potential Controlled Emissions (lb/hr)","Potential Annual Emissions (tons/yr)","Actual Annual Emissions (tons/yr)"]
[null,{"$f":"IF($C$4>1,\"Site Name\",\"\")","v":""},null,null,{"$f":"IF($C$4>1,\"Dryers, Hot Screens, Mixer\",\"\")","v":""},null,null,{"$f":"IF($C$4>1,\"(tons/hr)\",\"\")","v":""},{"$f":"IF($C$4>1,\"(tons/yr)\",\"\")","v":""},"PM2.5","PM10",null,null,"PM2.5/PM10",{"$f":"N15","v":0},3.64,{"$f":"O35*P35*(1/24)","v":0},null,{"$f":"O35*P35*365/2000","v":0},{"$f":"O15*P35/2000","v":0}]
[null,{"$f":"IF($C$4>1,\"County:\",\"\")","v":""},null,null,{"$f":"IF(C38=\"\",\"\",\"AP-2 EP-1\")","v":""},{"$f":"IF(C38=\"\",\"\",\"AP-2 EU-1\")","v":""},{"$f":"IF(C38=\"\",\"\",C5 & \" - \"&C38)","v":""},null,null,{"$f":"IF(C39=\"\",\"\",IF(C39=\"yes\",LOOKUP(G36,'Emission Factors'!$A$12:$A$17,'Emission Factors'!$D$12:$D$17),LOOKUP(G36,'Emission Factors'!$A$5:$A$10,'Emission Factors'!$D$5:$D$10)))","v":""},{"$f":"IF(C39=\"\",\"\",IF(C39=\"yes\",LOOKUP(G36,'Emission Factors'!$A$12:$A$17,'Emission Factors'!$F$12:$F$17),LOOKUP(G36,'Emission Factors'!$A$5:$A$10,'Emission Factors'!$F$5:$F$10)))","v":""}]
[null,{"$f":"IF($C$4>1,\"Production Period (Dates):\",\"\")","v":""},null,null,{"$f":"IF($C$4>1,\"Liquid Asphalt Heater\",\"\")","v":""},null,null,{"$f":"IF($C$4>1,IF(C38=\"natural gas\",\"MMCF/hr\",\"(gallons/hr)\"),\"\")","v":""},{"$f":"IF($C$4>1,IF(C38=\"natural gas\",\"MMCF/yr\",\"(gallons/yr)\"),\"\")","v":""},null,null,null,"SO2"]
[null,{"$f":"IF($C$4>1,\"Type of Fuel Used:\",\"\")","v":""},null,null,{"$f":"IF(C38=\"\",\"\",\"AP-2 EP-2\")","v":""},{"$f":"IF(C38=\"\",\"\",\"AP-2 EU-2\")","v":""},{"$f":"IF(C38=\"\",\"\",C38& \" Fired Heater\")","v":""},null,null,null,null,null,{"$f":"$C$5 & \" - Fuel Oil\"","v":" - Fuel Oil"},{"$f":"$N$5","v":0},{"$f":"IF(N38=0,0,LOOKUP(M38,'Emission Factors'!$A$5:$A$10,'Emission Factors'!$H$5:$H$10))","v":0},{"$f":"IF(O38=\"\",\"\",\"lb/ton\")","v":"lb/ton"},{"$f":"N38*O38","v":0},{"$f":"IF(N38=0,\"\",IF(AND($F$13>0,N39=0),$F$13,\"\"))","v":""},{"$f":"IF(N38=0,0,IF($G$13>0,$G$13,IF(OR(AND($C$10>0,$N$39>0),AND($C$11>0,$N$39>0),AND($C$12>0,$N$39>0)),\"\",IF($C$10>0,$C$10*O38/2000,IF($C$11>0,$C$11*365*O38/2000,IF($C$12>0,$C$12*365*O38*N38/2000,IF(AND(N39>0,F13>0),\"\",IF(R38=\"\",Q38*8760/2000,R38*8760/2000))))))))","v":0},{"$f":"P5*O38/2000","v":0}]
[null,{"$f":"IF($C$4>1,\"Is Your Operation Controlled?:\",\"\")","v":""},null,null,{"$f":"IF($C$4>1,\"Silo Filling, Truck Loadout, Aggregate Transfer\",\"\")","v":""},null,null,{"$f":"IF($C$4>1,\"(tons/hr)\",\"\")","v":""},{"$f":"IF($C$4>1,\"(tons/yr)\",\"\")","v":""},null,null,null,{"$f":"$C$5 & \" - Waste Oil\"","v":" - Waste Oil"},{"$f":"$N$6","v":0},{"$f":"IF(N39=0,0,LOOKUP(M39,'Emission Factors'!$A$5:$A$10,'Emission Factors'!$H$5:$H$10))","v":0},{"$f":"IF(O39=\"\",\"\",\"lb/ton\")","v":"lb/ton"},{"$f":"N39*O39","v":0},{"$f":"IF(N39=0,\"\",IF($F$13>0,$F$13,\"\"))","v":""},{"$f":"IF(N39=0,0,IF($G$13>0,IF(S38=0,G13,\"\"),IF($C$10>0,$C$10*O39/2000,IF($C$11>0,$C$11*365*O39/2000,IF($C$12>0,$C$12*365*O39*N39/2000,IF(R39=\"\",Q39*8760/2000,R39*8760/2000))))))","v":0},{"$f":"P6*O39/2000","v":0}]
[null,null,null,null,{"$f":"IF($C$4>1,\"AP-2 EP-3\",\"\")","v":""},{"$f":"IF($C$4>1,\"AP-2 EU-3\",\"\")","v":""},{"$f":"IF($C$4>1,\"Silo Filling\",\"\")","v":""},null,null,null,null,null,{"$f":"$C$5 & \" - Natural Gas\"","v":" - Natural Gas"},{"$f":"$N$7","v":0},{"$f":"IF(N40=0,0,LOOKUP(M40,'Emission Factors'!$A$5:$A$10,'Emission Factors'!$H$5:$H$10))","v":0},{"$f":"IF(O40=\"\",\"\",\"lb/ton\")","v":"lb/ton"},{"$f":"N40*O40","v":0},{"$f":"IF(N40=0,\"\",IF(AND($F$13>0,N38=0,N39=0),$F$13,\"\"))","v":""},{"$f":"IF(N40=0,0,IF($G$13>0,IF(AND(S38=0,S39=0),G13,\"\"),IF(OR(AND($C$10>0,$N$39>0),AND($C$11>0,$N$39>0),AND($C$12>0,$N$39>0)),\"\",IF(OR(AND($C$10>0,$N$38>0),AND($C$11>0,$N$38>0),AND($C$12>0,$N$38>0)),\"\",IF($C$10>0,$C$10*O40/2000,IF($C$11>0,$C$11*365*O40/2000,IF($C$12>0,$C$12*365*O40*N40/2000,IF(AND(N39>0,N38>0,F13>0),\"\",IF(R40=\"\",Q40*8760/2000,R40*8760/2000)))))))))","v":0},{"$f":"P7*O40/2000","v":0}]
[null,null,null,null,{"$f":"IF($C$4>1,\"AP-2 EP-3\",\"\")","v":""},{"$f":"IF($C$4>1,\"AP-2 EU-4\",\"\")","v":""},{"$f":"IF($C$4>1,\"Truck Loadout\",\"\")","v":""},null,null,null,null,null,"NOx"]
[null,null,null,null,{"$f":"IF($C$4>1,\"AP-2 EP-3\",\"\")","v":""},{"$f":"IF($C$4>1,\"AP-2 EU-5\",\"\")","v":""},{"$f":"IF($C$4>1,\"Cold Aggregate Bins\",\"\")","v":""},null,null,null,null,null,{"$f":"$C$5 & \" - Fuel Oil\"","v":" - Fuel Oil"},{"$f":"$N$5","v":0},{"$f":"IF(N42=0,0,LOOKUP(M42,'Emission Factors'!$A$5:$A$10,'Emission Factors'!$J$5:$J$10))","v":0},{"$f":"IF(O42=\"\",\"\",\"lb/ton\")","v":"lb/ton"},{"$f":"N42*O42","v":0},{"$f":"IF(N42=0,\"\",IF(AND($F$14>0,N43=0),$F$14,\"\"))","v":""},{"$f":"IF(N42=0,0,IF($G$14>0,$G$14,IF(OR(AND($C$10>0,$N$43>0),AND($C$11>0,$N$43>0),AND($C$12>0,$N$43>0)),\"\",IF($C$10>0,$C$10*O42/2000,IF($C$11>0,$C$11*365*O42/2000,IF($C$12>0,$C$12*365*O42*N42/2000,IF(AND(N43>0,F14>0),\"\",IF(R42=\"\",Q42*8760/2000,R42*8760/2000))))))))","v":0},{"$f":"P5*O42/2000","v":0}]
[null,null,null,null,null,null,null,null,null,null,null,null,{"$f":"$C$5 & \" - Waste Oil\"","v":" - Waste Oil"},{"$f":"$N$6","v":0},{"$f":"IF(N43=0,0,LOOKUP(M43,'Emission Factors'!$A$5:$A$10,'Emission Factors'!$J$5:$J$10))","v":0},{"$f":"IF(O43=\"\",\"\",\"lb/ton\")","v":"lb/ton"},{"$f":"N43*O43","v":0},{"$f":"IF(N43=0,\"\",IF($F$14>0,$F$14,\"\"))","v":""},{"$f":"IF(N43=0,0,IF($G$14>0,IF(S42=0,G14,\"\"),IF($C$10>0,$C$10*O43/2000,IF($C$11>0,$C$11*365*O43/2000,IF($C$12>0,$C$12*365*O43*N43/2000,IF(R43=\"\",Q43*8760/2000,R43*8760/2000))))))","v":0},{"$f":"P6*O43/2000","v":0}]
[null,null,null,null,{"$f":"IF($C$4>1,\"Stock Pile Area\",\"\")","v":""},null,null,null,null,null,null,null,{"$f":"$C$5 & \" - Natural Gas\"","v":" - Natural Gas"},{"$f":"$N$7","v":0},{"$f":"IF(N44=0,0,LOOKUP(M44,'Emission Factors'!$A$5:$A$10,'Emission Factors'!$J$5:$J$10))","v":0},{"$f":"IF(O44=\"\",\"\",\"lb/ton\")","v":"lb/ton"},{"$f":"N44*O44","v":0},{"$f":"IF(N44=0,\"\",IF(AND($F$14>0,N42=0,N43=0),$F$14,\"\"))","v":""},{"$f":"IF(N44=0,0,IF($G$14>0,IF(AND(S42=0,S43=0),G14,\"\"),IF(OR(AND($C$10>0,$N$43>0),AND($C$11>0,$N$43>0),AND($C$12>0,$N$43>0)),\"\",IF(OR(AND($C$10>0,$N$42>0),AND($C$11>0,$N$42>0),AND($C$12>0,$N$42>0)),\"\",IF($C$10>0,$C$10*O44/2000,IF($C$11>0,$C$11*365*O44/2000,IF($C$12>0,$C$12*365*O44*N44/2000,IF(AND(N42>0,N43>0,F14>0),\"\",IF(R44=\"\",Q44*8760/2000,R44*8760/2000)))))))))","v":0},{"$f":"P7*O44/2000","v":0}]
[null,null,null,null,null,{"$f":"IF($C$4>1,\"Emission Unit #\",\"\")","v":""},{"$f":"IF($C$4>1,\"Maximum Storage Area (acres)\",\"\")","v":""},{"$f":"IF($C$4>1,\"Actual Storage Area (acres)\",\"\")","v":""},{"$f":"IF($C$4>1,\"Actual Days in Existence (days)\",\"\")","v":""},null,null,null,"VOC"]
[null,null,null,null,null,null,null,null,null,null,null,null,{"$f":"$C$5 & \" - Fuel Oil\"","v":" - Fuel Oil"},{"$f":"$N$5","v":0},{"$f":"IF(N46=0,0,LOOKUP(M46,'Emission Factors'!$A$5:$A$10,'Emission Factors'!$L$5:$L$10))","v":0},{"$f":"IF(O46=\"\",\"\",\"lb/ton\")","v":"lb/ton"},{"$f":"N46*O46","v":0},{"$f":"IF(N46=0,\"\",IF(AND($F$15>0,N47=0),$F$15,\"\"))","v":""},{"$f":"IF(N46=0,0,IF($G$15>0,$G$15,IF(OR(AND($C$10>0,$N$47>0),AND($C$11>0,$N$47>0),AND($C$12>0,$N$47>0)),\"\",IF($C$10>0,$C$10*O46/2000,IF($C$11>0,$C$11*365*O46/2000,IF($C$12>0,$C$12*365*O46*N46/2000,IF(AND(N47>0,F15>0),\"\",IF(R46=\"\",Q46*8760/2000,R46*8760/2000))))))))","v":0},{"$f":"P5*O46/2000","v":0}]
[null,null,null,null,null,null,null,null,null,null,null,null,{"$f":"$C$5 & \" - Waste Oil\"","v":" - Waste Oil"},{"$f":"$N$6","v":0},{"$f":"IF(N47=0,0,LOOKUP(M47,'Emission Factors'!$A$5:$A$10,'Emission Factors'!$L$5:$L$10))","v":0},{"$f":"IF(O47=\"\",\"\",\"lb/ton\")","v":"lb/ton"},{"$f":"N47*O47","v":0},{"$f":"IF(N47=0,\"\",IF($F$15>0,$F$15,\"\"))","v":""},{"$f":"IF(N47=0,0,IF($G$15>0,IF(S46=0,G15,\"\"),IF($C$10>0,$C$10*O47/2000,IF($C$11>0,$C$11*365*O47/2000,IF($C$12>0,$C$12*365*O47*N47/2000,IF(R47=\"\",Q47*8760/2000,R47*8760/2000))))))","v":0},{"$f":"P6*O47/2000","v":0}]
[null,{"$f":"IF($C$4>2,\"Asphalt Plant\",\"\")","v":""},{"$f":"IF($C$4>2,\"Site 3\",\"\")","v":""},null,{"$f":"IF($C$4>2,\"Emission Point #\",\"\")","v":""},{"$f":"IF($C$4>2,\"Emission    Unit #\",\"\")","v":""},{"$f":"IF($C$4>2,\"Process\",\"\")","v":""},{"$f":"IF($C$4>2,\"Maximum Hourly     Design Rate\",\"\")","v":""},{"$f":"IF($C$4>2,('Facility Information'!G35&\" Annual Throughput\"),\"\")","v":""},null,null,null,{"$f":"$C$5 & \" - Natural Gas\"","v":" - Natural Gas"},{"$f":"$N$7","v":0},{"$f":"IF(N48=0,0,LOOKUP(M48,'Emission Factors'!$A$5:$A$10,'Emission Factors'!$L$5:$L$10))","v":0},{"$f":"IF(O48=\"\",\"\",\"lb/ton\")","v":"lb/ton"},{"$f":"N48*O48","v":0},{"$f":"IF(N48=0,\"\",IF(AND($F$15>0,N46=0,N47=0),$F$15,\"\"))","v":""},{"$f":"IF(N48=0,0,IF($G$15>0,IF(AND(S46=0,S47=0),G15,\"\"),IF(OR(AND($C$10>0,$N$47>0),AND($C$11>0,$N$47>0),AND($C$12>0,$N$47>0)),\"\",IF(OR(AND($C$10>0,$N$46>0),AND($C$11>0,$N$46>0),AND($C$12>0,$N$46>0)),\"\",IF($C$10>0,$C$10*O48/2000,IF($C$11>0,$C$11*365*O48/2000,IF($C$12>0,$C$12*365*O48*N48/2000,IF(AND(N46>0,N47>0,F15>0),\"\",IF(R48=\"\",Q48*8760/2000,R48*8760/2000)))))))))","v":0},{"$f":"P7*O48/2000","v":0}]
[null,null,null,null,null,null,null,null,null,null,null,null,{"$f":"\"Natural Gas Fired Heater\"","v":"Natural Gas Fired Heater"},{"$f":"N10","v":0},{"$f":"IF(N49=0,0,0.026)","v":0},{"$f":"IF(O49=\"\",\"\",\"lb/MMCF\")","v":"lb/MMCF"},{"$f":"N49*O49","v":0},null,{"$f":"IF(N49=0,0,IF(R49=\"\",Q49*8760/2000,R49*8760/2000))","v":0},{"$f":"($P$10*O49/2000)","v":0}]
[null,{"$f":"IF($C$4>2,\"Site Name\",\"\")","v":""},null,null,{"$f":"IF($C$4>2,\"Dryers, Hot Screens, Mixer\",\"\")","v":""},null,null,{"$f":"IF($C$4>2,\"(tons/hr)\",\"\")","v":""},{"$f":"IF($C$4>2,\"(tons/yr)\",\"\")","v":""},"PM2.5","PM10",null,"Silo Filling",{"$f":"N11","v":0},{"$f":"IF(N50=0,0,IF(N50=0,0,LOOKUP(M50,'Emission Factors'!$A$23:$A$25,'Emission Factors'!$L$23:$L$25)))","v":0},{"$f":"IF(O50=\"\",\"\",\"lb/ton\")","v":"lb/ton"},null,null,null,{"$f":"P11*O50/2000","v":0}]
[null,{"$f":"IF($C$4>2,\"County:\",\"\")","v":""},null,null,{"$f":"IF(C53=\"\",\"\",\"AP-2 EP-1\")","v":""},{"$f":"IF(C53=\"\",\"\",\"AP-2 EU-1\")","v":""},{"$f":"IF(C53=\"\",\"\",C5 & \" - \"&C53)","v":""},null,null,{"$f":"IF(C54=\"\",\"\",IF(C54=\"yes\",LOOKUP(G51,'Emission Factors'!$A$12:$A$17,'Emission Factors'!$D$12:$D$17),LOOKUP(G51,'Emission Factors'!$A$5:$A$10,'Emission Factors'!$D$5:$D$10)))","v":""},{"$f":"IF(C54=\"\",\"\",IF(C54=\"yes\",LOOKUP(G51,'Emission Factors'!$A$12:$A$17,'Emission Factors'!$F$12:$F$17),LOOKUP(G51,'Emission Factors'!$A$5:$A$10,'Emission Factors'!$F$5:$F$10)))","v":""},null,"Truck Loadout",{"$f":"N12","v":0},{"$f":"IF(N51=0,0,IF(N51=0,0,LOOKUP(M51,'Emission Factors'!$A$23:$A$25,'Emission Factors'!$L$23:$L$25)))","v":0},{"$f":"IF(O51=\"\",\"\",\"lb/ton\")","v":"lb/ton"},null,null,null,{"$f":"P12*O51/2000","v":0}]
[null,{"$f":"IF($C$4>2,\"Production Period (Dates):\",\"\")","v":""},null,null,{"$f":"IF($C$4>2,\"Liquid Asphalt Heater\",\"\")","v":""},null,null,{"$f":"IF($C$4>2,IF(C53=\"natural gas\",\"(MMCF/hr)\",\"(gallons/hr)\"),\"\")","v":""},{"$f":"IF($C$4>2,IF(C53=\"natural gas\",\"(MMCF/yr)\",\"(gallons/yr)\"),\"\")","v":""},null,null,null,"CO"]
[null,{"$f":"IF($C$4>2,\"Type of Fuel Used:\",\"\")","v":""},null,null,{"$f":"IF(C53=\"\",\"\",\"AP-2 EP-2\")","v":""},{"$f":"IF(C53=\"\",\"\",\"AP-2 EU-2\")","v":""},{"$f":"IF(C53=\"\",\"\",C53& \" Fired Heater\")","v":""},null,null,null,null,null,{"$f":"IF($C$5=\"\",\"\",$C$5)","v":""},{"$f":"SUM($N$5:$N$7)","v":0},{"$f":"IF(N53=0,0,IF(M53=\"Batch Mix Plant\",0.4,IF(M53=\"Drum Mix Plant\",0.13)))","v":0},{"$f":"IF(O53=\"\",\"\",\"lb/ton\")","v":"lb/ton"},{"$f":"N53*O53","v":0},{"$f":"IF(N53=0,\"\",IF($F$16>0,$F$16,\"\"))","v":""},{"$f":"IF($G$16>0,$G$16,IF(N53=0,0,IF($C$10>0,$C$10*O53/2000,IF($C$11>0,$C$11*365*O53/2000,IF($C$12>0,$C$12*365*O53*N53/2000,IF(R53=\"\",Q53*8760/2000,R53*8760/2000))))))","v":0},{"$f":"SUM($P$5:$P$7)*O53/2000","v":0}]
[null,{"$f":"IF($C$4>2,\"Is Your Operation Controlled?:\",\"\")","v":""},null,null,{"$f":"IF($C$4>2,\"Silo Filling, Truck Loadout, Aggregate Transfer\",\"\")","v":""},null,null,{"$f":"IF($C$4>2,\"(tons/hr)\",\"\")","v":""},{"$f":"IF($C$4>2,\"(tons/yr)\",\"\")","v":""},null,null,null,"Fuel Oil Fired Heater",{"$f":"N8","v":0},{"$f":"IF(N54=0,0,LOOKUP(M54,'Emission Factors'!$A$19:$A$21,'Emission Factors'!$N$19:$N$21))","v":0},{"$f":"IF(O54=\"\",\"\",\"lb/gallon\")","v":"lb/gallon"},{"$f":"N54*O54","v":0},null,{"$f":"IF(N54=0,0,IF($G$16>0,\"\",IF($F$16>0,\"\",IF(R54=\"\",Q54*8760/2000,R54*8760/2000))))","v":0},{"$f":"(P8*O54/2000)","v":0}]
[null,null,null,null,{"$f":"IF($C$4>2,\"AP-2 EP-3\",\"\")","v":""},{"$f":"IF($C$4>2,\"AP-2 EU-3\",\"\")","v":""},{"$f":"IF($C$4>2,\"Silo Filling\",\"\")","v":""},null,null,null,null,null,"Waste Oil Fired Heater",{"$f":"N9","v":0},{"$f":"IF(N55=0,0,LOOKUP(M55,'Emission Factors'!$A$19:$A$21,'Emission Factors'!$N$19:$N$21))","v":0},{"$f":"IF(O55=\"\",\"\",\"lb/gallon\")","v":"lb/gallon"},{"$f":"N55*O55","v":0},null,{"$f":"IF(N55=0,0,IF($G$16>0,\"\",IF($F$16>0,\"\",IF(R55=\"\",Q55*8760/2000,R55*8760/2000))))","v":0},{"$f":"(P9*O55/2000)","v":0}]
[null,null,null,null,{"$f":"IF($C$4>2,\"AP-2 EP-3\",\"\")","v":""},{"$f":"IF($C$4>2,\"AP-2 EU-4\",\"\")","v":""},{"$f":"IF($C$4>2,\"Truck Loadout\",\"\")","v":""},null,null,null,null,null,"Natural Gas Fired Heater",{"$f":"N10","v":0},{"$f":"IF(N56=0,0,LOOKUP(M56,'Emission Factors'!$A$19:$A$21,'Emission Factors'!$N$19:$N$21))","v":0},{"$f":"IF(O56=\"\",\"\",\"lb/MMCF\")","v":"lb/MMCF"},{"$f":"N56*O56","v":0},null,{"$f":"IF(N56=0,0,IF($G$16>0,\"\",IF($F$16>0,\"\",IF(R56=\"\",Q56*8760/2000,R56*8760/2000))))","v":0},{"$f":"($P$10*O56/2000)","v":0}]
[null,null,null,null,{"$f":"IF($C$4>2,\"AP-2 EP-3\",\"\")","v":""},{"$f":"IF($C$4>2,\"AP-2 EU-5\",\"\")","v":""},{"$f":"IF($C$4>2,\"Cold Aggregate Bins\",\"\")","v":""},null,null,null,null,null,"Silo Filling",{"$f":"N11","v":0},{"$f":"IF(N57=0,0,IF(N57=0,0,LOOKUP(M57,'Emission Factors'!$A$23:$A$25,'Emission Factors'!$N$23:$N$25)))","v":0},{"$f":"IF(O57=\"\",\"\",\"lb/ton\")","v":"lb/ton"},null,null,null,{"$f":"P11*O57/2000","v":0}]
[null,null,null,null,null,null,null,null,null,null,null,null,"Truck Loadout",{"$f":"N12","v":0},{"$f":"IF(N58=0,0,IF(N58=0,0,LOOKUP(M58,'Emission Factors'!$A$23:$A$25,'Emission Factors'!$N$23:$N$25)))","v":0},{"$f":"IF(O58=\"\",\"\",\"lb/ton\")","v":"lb/ton"},null,null,null,{"$f":"P12*O58/2000","v":0}]
[null,null,null,null,{"$f":"IF($C$4>2,\"Stock Pile Area\",\"\")","v":""},null,null,null,null,null,null,null,"Acetaldehyde"]
[null,null,null,null,null,{"$f":"IF($C$4>2,\"Emission Unit #\",\"\")","v":""},{"$f":"IF($C$4>2,\"Maximum Storage Area (acres)\",\"\")","v":""},{"$f":"IF($C$4>2,\"Actual Storage Area (acres)\",\"\")","v":""},{"$f":"IF($C$4>2,\"Actual Days in Existence (days)\",\"\")","v":""},null,null,null,{"$f":"IF($C$5=\"\",\"\",$C$5)","v":""},{"$f":"IF(C5=\"drum mix plant\",SUM(N5:$N$6),SUM($N$5:$N$7))","v":0},{"$f":"IF(N60=0,0,IF(M60=\"Batch Mix Plant\",0.00032,IF(M60=\"Drum Mix Plant\",0.0013)))","v":0},{"$f":"IF(O60=\"\",\"\",\"lb/ton\")","v":"lb/ton"},{"$f":"N60*O60","v":0},null,{"$f":"IF(N60=0,0,IF($C$10>0,$C$10*O60/2000,IF($C$11>0,$C$11*365*O60/2000,IF($C$12>0,$C$12*365*O60*N60/2000,IF(R60=\"\",Q60*8760/2000,R60*8760/2000)))))","v":0},{"$f":"IF(C5=\"drum mix plant\",$P$6*O60/2000,SUM($P$5:$P$7)*O60/2000)","v":0}]
[null,null,null,null,null,null,null,null,null,null,null,null,"Acrolein"]
[null,null,null,null,null,null,null,null,null,null,null,null,{"$f":"IF($C$5=\"\",\"\",$C$5)","v":""},{"$f":"IF(C5=\"drum mix plant\",SUM(N5:$N$6),0)","v":0},{"$f":"IF(N62=0,0,0.000026)","v":0},{"$f":"IF(O62=\"\",\"\",\"lb/ton\")","v":"lb/ton"},{"$f":"N62*O62","v":0},null,{"$f":"IF(N62=0,0,IF($C$10>0,$C$10*O62/2000,IF($C$11>0,$C$11*365*O62/2000,IF($C$12>0,$C$12*365*O62*N62/2000,IF(R62=\"\",Q62*8760/2000,R62*8760/2000)))))","v":0},{"$f":"IF(C7=\"drum mix plant\",$P$6*O62/2000,SUM($P$5:$P$7)*O62/2000)","v":0}]
[null,{"$f":"IF($C$4>3,\"Asphalt Plant\",\"\")","v":""},{"$f":"IF($C$4>3,\"Site 4\",\"\")","v":""},null,{"$f":"IF($C$4>3,\"Emission Point #\",\"\")","v":""},{"$f":"IF($C$4>3,\"Emission    Unit #\",\"\")","v":""},{"$f":"IF($C$4>3,\"Process\",\"\")","v":""},{"$f":"IF($C$4>3,\"Maximum Hourly     Design Rate\",\"\")","v":""},{"$f":"IF($C$4>3,('Facility Information'!G50&\" Annual Throughput\"),\"\")","v":""},null,null,null,"Benzene"]
[null,null,null,null,null,null,null,null,null,null,null,null,{"$f":"IF($C$5=\"\",\"\",$C$5)","v":""},{"$f":"SUM($N$5:$N$7)","v":0},{"$f":"IF(N64=0,0,IF(M64=\"Batch Mix Plant\",0.00028,IF(M64=\"Drum Mix Plant\",0.00039)))","v":0},{"$f":"IF(O64=\"\",\"\",\"lb/ton\")","v":"lb/ton"},{"$f":"N64*O64","v":0},null,{"$f":"IF(N64=0,0,IF($C$10>0,$C$10*O64/2000,IF($C$11>0,$C$11*365*O64/2000,IF($C$12>0,$C$12*365*O64*N64/2000,IF(R64=\"\",Q64*8760/2000,R64*8760/2000)))))","v":0},{"$f":"SUM($P$5:$P$7)*O64/2000","v":0}]
[null,{"$f":"IF($C$4>3,\"Site Name\",\"\")","v":""},null," ",{"$f":"IF($C$4>3,\"Dryers, Hot Screens, Mixer\",\"\")","v":""},null,null,{"$f":"IF($C$4>3,\"(tons/hr)\",\"\")","v":""},{"$f":"IF($C$4>3,\"(tons/yr)\",\"\")","v":""},"PM2.5","PM10",null,"Ethylbenzene"]
[null,{"$f":"IF($C$4>3,\"County:\",\"\")","v":""},null,null,{"$f":"IF(C68=\"\",\"\",\"AP-2 EP-1\")","v":""},{"$f":"IF(C68=\"\",\"\",\"AP-2 EU-1\")","v":""},{"$f":"IF(C68=\"\",\"\",C5 & \" - \"&C68)","v":""},null,null,{"$f":"IF(C69=\"\",\"\",IF(C69=\"yes\",LOOKUP(G66,'Emission Factors'!$A$12:$A$17,'Emission Factors'!$D$12:$D$17),LOOKUP(G66,'Emission Factors'!$A$5:$A$10,'Emission Factors'!$D$5:$D$10)))","v":""},{"$f":"IF(C69=\"\",\"\",IF(C69=\"yes\",LOOKUP(G66,'Emission Factors'!$A$12:$A$17,'Emission Factors'!$F$12:$F$17),LOOKUP(G66,'Emission Factors'!$A$5:$A$10,'Emission Factors'!$F$5:$F$10)))","v":""},null,{"$f":"IF($C$5=\"\",\"\",$C$5)","v":""},{"$f":"SUM($N$5:$N$7)","v":0},{"$f":"IF(N66=0,0,IF(M66=\"Batch Mix Plant\",0.0022,IF(M66=\"Drum Mix Plant\",0.00024)))","v":0},{"$f":"IF(O66=\"\",\"\",\"lb/ton\")","v":"lb/ton"},{"$f":"N66*O66","v":0},null,{"$f":"IF(N66=0,0,IF($C$10>0,$C$10*O66/2000,IF($C$11>0,$C$11*365*O66/2000,IF($C$12>0,$C$12*365*O66*N66/2000,IF(R66=\"\",Q66*8760/2000,R66*8760/2000)))))","v":0},{"$f":"SUM($P$5:$P$7)*O66/2000","v":0}]
[null,{"$f":"IF($C$4>3,\"Production Period (Dates):\",\"\")","v":""},null,null,{"$f":"IF($C$4>3,\"Liquid Asphalt Heater\",\"\")","v":""},null,null,{"$f":"IF($C$4>3,IF(C68=\"natural gas\",\"(MMCF/hr)\",\"(gallons/hr)\"),\"\")","v":""},{"$f":"IF($C$4>3,IF(C68=\"natural gas\",\"(MMCF/yr)\",\"(gallons/yr)\"),\"\")","v":""},null,null,null,"Formaldehyde"]
[null,{"$f":"IF($C$4>3,\"Type of Fuel Used:\",\"\")","v":""},null,null,{"$f":"IF(C68=\"\",\"\",\"AP-2 EP-2\")","v":""},{"$f":"IF(C68=\"\",\"\",\"AP-2 EU-2\")","v":""},{"$f":"IF(C68=\"\",\"\",C68& \" Fired Heater\")","v":""},null,null,null,null,null,{"$f":"IF($C$5=\"\",\"\",$C$5)","v":""},{"$f":"SUM($N$5:$N$7)","v":0},{"$f":"IF(N68=0,0,IF(M68=\"Batch Mix Plant\",0.00074,IF(M68=\"Drum Mix Plant\",0.0031)))","v":0},{"$f":"IF(O68=\"\",\"\",\"lb/ton\")","v":"lb/ton"},{"$f":"N68*O68","v":0},null,{"$f":"IF(N68=0,0,IF($C$10>0,$C$10*O68/2000,IF($C$11>0,$C$11*365*O68/2000,IF($C$12>0,$C$12*365*O68*N68/2000,IF(R68=\"\",Q68*8760/2000,R68*8760/2000)))))","v":0},{"$f":"SUM($P$5:$P$7)*O68/2000","v":0}]
[null,{"$f":"IF($C$4>3,\"Is Your Operation Controlled?:\",\"\")","v":""},null,null,{"$f":"IF($C$4>3,\"Silo Filling, Truck Loadout, Aggregate Transfer\",\"\")","v":""},null,null,{"$f":"IF($C$4>3,\"(tons/hr)\",\"\")","v":""},{"$f":"IF($C$4>3,\"(tons/yr)\",\"\")","v":""},null,null,null,{"$f":"\"Natural Gas Fired Heater\"","v":"Natural Gas Fired Heater"},{"$f":"N10","v":0},{"$f":"IF(N69=0,0,0.026)","v":0},{"$f":"IF(O69=\"\",\"\",\"lb/MMCF\")","v":"lb/MMCF"},{"$f":"N69*O69","v":0},null,{"$f":"IF(N69=0,0,IF(R69=\"\",Q69*8760/2000,R69*8760/2000))","v":0},{"$f":"($P$10*O69/2000)","v":0}]
[null,null,null,null,{"$f":"IF($C$4>3,\"AP-2 EP-3\",\"\")","v":""},{"$f":"IF($C$4>3,\"AP-2 EU-3\",\"\")","v":""},{"$f":"IF($C$4>3,\"Silo Filling\",\"\")","v":""},null,null,null,null,null,"Hexane"]
[null,null,null,null,{"$f":"IF($C$4>3,\"AP-2 EP-3\",\"\")","v":""},{"$f":"IF($C$4>3,\"AP-2 EU-4\",\"\")","v":""},{"$f":"IF($C$4>3,\"Truck Loadout\",\"\")","v":""},null,null,null,null,null,{"$f":"IF($C$5=\"\",\"\",$C$5)","v":""},{"$f":"IF(C5=\"drum mix plant\",SUM(N5:N7),0)","v":0},{"$f":"IF(N71=0,0,0.00092)","v":0},{"$f":"IF(O71=\"\",\"\",\"lb/ton\")","v":"lb/ton"},{"$f":"N71*O71","v":0},null,{"$f":"IF(N71=0,0,IF($C$10>0,$C$10*O71/2000,IF($C$11>0,$C$11*365*O71/2000,IF($C$12>0,$C$12*365*O71*N71/2000,IF(R71=\"\",Q71*8760/2000,R71*8760/2000)))))","v":0},{"$f":"IF(N71>0,SUM($P$5:$P$7)*O71/2000,0)","v":0}]
[null,null,null,null,{"$f":"IF($C$4>3,\"AP-2 EP-3\",\"\")","v":""},{"$f":"IF($C$4>3,\"AP-2 EU-5\",\"\")","v":""},{"$f":"IF($C$4>3,\"Cold Aggregate Bins\",\"\")","v":""},null,null,null,null,null,"Hydrochloric Acid"]
[null,null,null,null,null,null,null,null,null,null,null,null,{"$f":"IF($C$5=\"\",\"\",$C$5)","v":""},{"$f":"IF(C5=\"drum mix plant\",SUM(N5:$N$6),0)","v":0},{"$f":"IF(N73=0,0,0.00021)","v":0},{"$f":"IF(O73=\"\",\"\",\"lb/ton\")","v":"lb/ton"},{"$f":"N73*O73","v":0},null,{"$f":"IF(N73=0,0,IF($C$10>0,$C$10*O73/2000,IF($C$11>0,$C$11*365*O73/2000,IF($C$12>0,$C$12*365*O73*N73/2000,IF(R73=\"\",Q73*8760/2000,R73*8760/2000)))))","v":0},{"$f":"IF(N73>0,$P$6*O73/2000,0)","v":0}]
[null,null,null,null,{"$f":"IF($C$4>3,\"Stock Pile Area\",\"\")","v":""},null,null,null,null,null,null,null,"Methyl Chloroform"]
[null,null,null,null,null,{"$f":"IF($C$4>3,\"Emission Unit #\",\"\")","v":""},{"$f":"IF($C$4>3,\"Maximum Storage Area (acres)\",\"\")","v":""},{"$f":"IF($C$4>3,\"Actual Storage Area (acres)\",\"\")","v":""},{"$f":"IF($C$4>3,\"Actual Days in Existence (days)\",\"\")","v":""},null,null,null,{"$f":"IF($C$5=\"\",\"\",$C$5)","v":""},{"$f":"IF(C5=\"drum mix plant\",SUM(N5:N7),0)","v":0},{"$f":"IF(N75=0,0,0.000048)","v":0},{"$f":"IF(O75=\"\",\"\",\"lb/ton\")","v":"lb/ton"},{"$f":"N75*O75","v":0},null,{"$f":"IF(N75=0,0,IF($C$10>0,$C$10*O75/2000,IF($C$11>0,$C$11*365*O75/2000,IF($C$12>0,$C$12*365*O75*N75/2000,IF(R75=\"\",Q75*8760/2000,R75*8760/2000)))))","v":0},{"$f":"IF(N75>0,SUM($P$5:$P$7)*O75/2000,0)","v":0}]
[null,null,null,null,null,null,null,null,null,null,null,null,"Propionaldehyde"]
[null,null,null,null,null,null,null,null,null,null,null,null,{"$f":"IF($C$5=\"\",\"\",$C$5)","v":""},{"$f":"IF(C5=\"drum mix plant\",SUM(N5:$N$6),0)","v":0},{"$f":"IF(N77=0,0,0.00013)","v":0},{"$f":"IF(O77=\"\",\"\",\"lb/ton\")","v":"lb/ton"},{"$f":"N77*O77","v":0},null,{"$f":"IF(N77=0,0,IF($C$10>0,$C$10*O77/2000,IF($C$11>0,$C$11*365*O77/2000,IF($C$12>0,$C$12*365*O77*N77/2000,IF(R77=\"\",Q77*8760/2000,R77*8760/2000)))))","v":0},{"$f":"IF(N77>0,$P$6*O77/2000,0)","v":0}]
[null,{"$f":"IF($C$4>4,\"Asphalt Plant\",\"\")","v":""},{"$f":"IF($C$4>4,\"Site 5\",\"\")","v":""},null,{"$f":"IF($C$4>4,\"Emission Point #\",\"\")","v":""},{"$f":"IF($C$4>4,\"Emission    Unit #\",\"\")","v":""},{"$f":"IF($C$4>4,\"Process\",\"\")","v":""},{"$f":"IF($C$4>4,\"Maximum Hourly     Design Rate\",\"\")","v":""},{"$f":"IF($C$4>4,('Facility Information'!G65&\" Annual Throughput\"),\"\")","v":""},null,null,null,"Quinone"]
[null,null,null,null,null,null,null,null,null,null,null,null,{"$f":"IF($C$5=\"\",\"\",$C$5)","v":""},{"$f":"IF(C5=\"drum mix plant\",SUM(N5:$N$6),SUM($N$5:$N$7))","v":0},{"$f":"IF(N79=0,0,IF(M79=\"Batch Mix Plant\",0.00027,IF(M79=\"Drum Mix Plant\",0.00016)))","v":0},{"$f":"IF(O79=\"\",\"\",\"lb/ton\")","v":"lb/ton"},{"$f":"N79*O79","v":0},null,{"$f":"IF(N79=0,0,IF($C$10>0,$C$10*O79/2000,IF($C$11>0,$C$11*365*O79/2000,IF($C$12>0,$C$12*365*O79*N79/2000,IF(R79=\"\",Q79*8760/2000,R79*8760/2000)))))","v":0},{"$f":"IF(C23=\"drum mix plant\",$P$6*O79/2000,SUM($P$5:$P$7)*O79/2000)","v":0}]
[null,{"$f":"IF($C$4>4,\"Site Name\",\"\")","v":""},null,null,{"$f":"IF($C$4>4,\"Dryers, Hot Screens, Mixer\",\"\")","v":""},null,null,{"$f":"IF($C$4>4,\"(tons/hr)\",\"\")","v":""},{"$f":"IF($C$4>4,\"(tons/yr)\",\"\")","v":""},"PM2.5","PM10",null,"Toluene"]
[null,{"$f":"IF($C$4>4,\"County:\",\"\")","v":""},null,null,{"$f":"IF(C83=\"\",\"\",\"AP-2 EP-1\")","v":""},{"$f":"IF(C83=\"\",\"\",\"AP-2 EU-1\")","v":""},{"$f":"IF(C83=\"\",\"\",C5 & \" - \"&C83)","v":""},null,null,{"$f":"IF(C84=\"\",\"\",IF(C84=\"yes\",LOOKUP(G81,'Emission Factors'!$A$12:$A$17,'Emission Factors'!$D$12:$D$17),LOOKUP(G81,'Emission Factors'!$A$5:$A$10,'Emission Factors'!$D$5:$D$10)))","v":""},{"$f":"IF(C84=\"\",\"\",IF(C84=\"yes\",LOOKUP(G81,'Emission Factors'!$A$12:$A$17,'Emission Factors'!$F$12:$F$17),LOOKUP(G81,'Emission Factors'!$A$5:$A$10,'Emission Factors'!$F$5:$F$10)))","v":""},null,{"$f":"$C$5 & \" - Fuel Oil\"","v":" - Fuel Oil"},{"$f":"$N$5","v":0},{"$f":"IF(N81=0,0,LOOKUP(M81,'Emission Factors'!$A$5:$A$10,'Emission Factors'!$AJ$5:$AJ$10))","v":0},{"$f":"IF(O81=\"\",\"\",\"lb/ton\")","v":"lb/ton"},{"$f":"N81*O81","v":0},null,{"$f":"IF(N81=0,0,IF($C$10>0,$C$10*O81/2000,IF($C$11>0,$C$11*365*O81/2000,IF($C$12>0,$C$12*365*O81*N81/2000,IF(R81=\"\",Q81*8760/2000,R81*8760/2000)))))","v":0},{"$f":"P5*O81/2000","v":0}]
[null,{"$f":"IF($C$4>4,\"Production Period (Dates):\",\"\")","v":""},null,null,{"$f":"IF($C$4>4,\"Liquid Asphalt Heater\",\"\")","v":""},null,null,{"$f":"IF($C$4>4,IF(C83=\"natural gas\",\"(MMCF/hr)\",\"(gallons/hr)\"),\"\")","v":""},{"$f":"IF($C$4>4,IF(C83=\"natural gas\",\"(MMCF/yr)\",\"(gallons/yr)\"),\"\")","v":""},null,null,null,{"$f":"$C$5 & \" - Waste Oil\"","v":" - Waste Oil"},{"$f":"$N$6","v":0},{"$f":"IF(N82=0,0,LOOKUP(M82,'Emission Factors'!$A$5:$A$10,'Emission Factors'!$AJ$5:$AJ$10))","v":0},{"$f":"IF(O82=\"\",\"\",\"lb/ton\")","v":"lb/ton"},{"$f":"N82*O82","v":0},null,{"$f":"IF(N82=0,0,IF(OR(AND($C$10>0,$N$81>0),AND($C$11>0,$N$81>0),AND($C$12>0,$N$81>0)),\"\",IF($C$10>0,$C$10*O82/2000,IF($C$11>0,$C$11*365*O82/2000,IF($C$12>0,$C$12*365*O82*N82/2000,IF(R82=\"\",Q82*8760/2000,R82*8760/2000))))))","v":0},{"$f":"P6*O82/2000","v":0}]
[null,{"$f":"IF($C$4>4,\"Type of Fuel Used:\",\"\")","v":""},null,null,{"$f":"IF(C83=\"\",\"\",\"AP-2 EP-2\")","v":""},{"$f":"IF(C83=\"\",\"\",\"AP-2 EU-2\")","v":""},{"$f":"IF(C83=\"\",\"\",C83& \" Fired Heater\")","v":""},null,null,null,"Controlled?",null,{"$f":"$C$5 & \" - Natural Gas\"","v":" - Natural Gas"},{"$f":"$N$7","v":0},{"$f":"IF(N83=0,0,LOOKUP(M83,'Emission Factors'!$A$5:$A$10,'Emission Factors'!$AJ$5:$AJ$10))","v":0},{"$f":"IF(O83=\"\",\"\",\"lb/ton\")","v":"lb/ton"},{"$f":"N83*O83","v":0},null,{"$f":"IF(N83=0,0,IF(OR(AND($C$10>0,$N$81>0),AND($C$11>0,$N$81>0),AND($C$12>0,$N$81>0)),\"\",IF(OR(AND($C$10>0,$N$82>0),AND($C$11>0,$N$82>0),AND($C$12>0,$N$82>0)),\"\",IF($C$10>0,$C$10*O83/2000,IF($C$11>0,$C$11*365*O83/2000,IF($C$12>0,$C$12*365*O83*N83/2000,IF(R83=\"\",Q83*8760/2000,R83*8760/2000)))))))","v":0},{"$f":"P7*O83/2000","v":0}]
[null,{"$f":"IF($C$4>4,\"Is Your Operation Controlled?:\",\"\")","v":""},null,null,{"$f":"IF($C$4>4,\"Silo Filling, Truck Loadout, Aggregate Transfer\",\"\")","v":""},null,null,{"$f":"IF($C$4>4,\"(tons/hr)\",\"\")","v":""},{"$f":"IF($C$4>4,\"(tons/yr)\",\"\")","v":""},null,{"$f":"IF(OR(C25=\"yes\",C39=\"yes\",C69=\"yes\",C84=\"yes\",C101=\"yes\",C116=\"yes\",C131=\"yes\",C146=\"yes\",C161=\"yes\"),1,0)","v":0},null,"Xylene"]
[null,null,null,null,{"$f":"IF($C$4>4,\"AP-2 EP-3\",\"\")","v":""},{"$f":"IF($C$4>4,\"AP-2 EU-3\",\"\")","v":""},{"$f":"IF($C$4>4,\"Silo Filling\",\"\")","v":""},null,null,null,null,null,{"$f":"IF($C$5=\"\",\"\",$C$5)","v":""},{"$f":"SUM($N$5:$N$7)","v":0},{"$f":"IF(N85=0,0,IF(M85=\"Batch Mix Plant\",0.0027,IF(M85=\"Drum Mix Plant\",0.0002)))","v":0},{"$f":"IF(O85=\"\",\"\",\"lb/ton\")","v":"lb/ton"},{"$f":"N85*O85","v":0},null,{"$f":"IF(N85=0,0,IF($C$10>0,$C$10*O85/2000,IF($C$11>0,$C$11*365*O85/2000,IF($C$12>0,$C$12*365*O85*N85/2000,IF(R85=\"\",Q85*8760/2000,R85*8760/2000)))))","v":0},{"$f":"SUM($P$5:$P$7)*O85/2000","v":0}]
[null,null,null,null,{"$f":"IF($C$4>4,\"AP-2 EP-3\",\"\")","v":""},{"$f":"IF($C$4>4,\"AP-2 EU-4\",\"\")","v":""},{"$f":"IF($C$4>4,\"Truck Loadout\",\"\")","v":""},null,null,null,null,null,"2,2,4-Trimethylpentane"]
[null,null,null,null,{"$f":"IF($C$4>4,\"AP-2 EP-3\",\"\")","v":""},{"$f":"IF($C$4>4,\"AP-2 EU-5\",\"\")","v":""},{"$f":"IF($C$4>4,\"Cold Aggregate Bins\",\"\")","v":""},null,null,null,null,null,{"$f":"IF($C$5=\"\",\"\",$C$5)","v":""},{"$f":"IF(C5=\"drum mix plant\",SUM(N5:N7),0)","v":0},{"$f":"IF(N87=0,0,0.00004)","v":0},{"$f":"IF(O87=\"\",\"\",\"lb/ton\")","v":"lb/ton"},{"$f":"N87*O87","v":0},null,{"$f":"IF(N87=0,0,IF($C$10>0,$C$10*O87/2000,IF($C$11>0,$C$11*365*O87/2000,IF($C$12>0,$C$12*365*O87*N87/2000,IF(R87=\"\",Q87*8760/2000,R87*8760/2000)))))","v":0},{"$f":"IF(N87>0,SUM($P$5:$P$7)*O87/2000,0)","v":0}]
[null,null,null,null,null,null,null,null,null,null,null,null,"Chromium Compounds"]
[null,null,null,null,{"$f":"IF($C$4>4,\"Stock Pile Area\",\"\")","v":""},null,null,null,null,null,null,null,{"$f":"IF($C$5=\"\",\"\",$C$5)","v":""},{"$f":"IF(C5=\"drum mix plant\",SUM(N5:N6),0)","v":0},{"$f":"IF(N89=0,0,IF($K$84=1,0.0000055,0.000024))","v":0},{"$f":"IF(O89=\"\",\"\",\"lb/ton\")","v":"lb/ton"},{"$f":"IF($K$84=1,\"\",N89*O89)","v":0},{"$f":"IF($K$84=1,N89*O89,\"\")","v":""},{"$f":"IF(N89=0,0,IF($C$10>0,$C$10*O89/2000,IF($C$11>0,$C$11*365*O89/2000,IF($C$12>0,$C$12*365*O89*N89/2000,IF(R89=\"\",Q89*8760/2000,R89*8760/2000)))))","v":0},{"$f":"IF(N89>0,$P$5*O89/2000,0)","v":0}]
[null,null,null,null,null,{"$f":"IF($C$4>4,\"Emission Unit #\",\"\")","v":""},{"$f":"IF($C$4>4,\"Maximum Storage Area (acres)\",\"\")","v":""},{"$f":"IF($C$4>4,\"Actual Storage Area (acres)\",\"\")","v":""},{"$f":"IF($C$4>4,\"Actual Days in Existence (days)\",\"\")","v":""},null,null,null,"Lead Compounds"]
[null,null,null,null,null,null,null,null,null,null,null,null,{"$f":"IF($C$5=\"\",\"\",$C$5)","v":""},{"$f":"IF(C5=\"drum mix plant\",SUM(N5:N6),0)","v":0},{"$f":"IF(N91=0,0,IF($K$84=1,0.000015,0.00054))","v":0},{"$f":"IF(O91=\"\",\"\",\"lb/ton\")","v":"lb/ton"},{"$f":"IF($K$84=1,\"\",N91*O91)","v":0},{"$f":"IF($K$84=1,N91*O91,\"\")","v":""},{"$f":"IF(N91=0,0,IF($C$10>0,$C$10*O91/2000,IF($C$11>0,$C$11*365*O91/2000,IF($C$12>0,$C$12*365*O91*N91/2000,IF(R91=\"\",Q91*8760/2000,R91*8760/2000)))))","v":0},{"$f":"IF(N91>0,$P$5*O91/2000,0)","v":0}]
[null,null,null,null,null,null,null,null,null,null,null,null,"Manganese Compounds",null,null,null,0]
[null,null,null,null,null,null,null,null,null,null,null,null,{"$f":"IF($C$5=\"\",\"\",$C$5)","v":""},{"$f":"IF(C5=\"drum mix plant\",SUM(N5:N6),0)","v":0},{"$f":"IF(N93=0,0,IF($K$84=1,0.0000077,0.00065))","v":0},{"$f":"IF(O93=\"\",\"\",\"lb/ton\")","v":"lb/ton"},0,{"$f":"IF($K$84=1,N93*O93,\"\")","v":""},{"$f":"IF(N93=0,0,IF($C$10>0,$C$10*O93/2000,IF($C$11>0,$C$11*365*O93/2000,IF($C$12>0,$C$12*365*O93*N93/2000,IF(R93=\"\",Q93*8760/2000,R93*8760/2000)))))","v":0},{"$f":"IF(N93>0,$P$5*O93/2000,0)","v":0}]
[null,null,null,null,null,null,null,null,null,null,null,null,"Nickel Compounds",null,null,null,0]
[null,{"$f":"IF($C$4>5,\"Asphalt Plant\",\"\")","v":""},{"$f":"IF($C$4>5,\"Site 6\",\"\")","v":""},null,{"$f":"IF($C$4>5,\"Emission Point #\",\"\")","v":""},{"$f":"IF($C$4>5,\"Emission    Unit #\",\"\")","v":""},{"$f":"IF($C$4>5,\"Process\",\"\")","v":""},{"$f":"IF($C$4>5,\"Maximum Hourly     Design Rate\",\"\")","v":""},{"$f":"IF($C$4>5,('Facility Information'!G80&\" Annual Throughput\"),\"\")","v":""},null,null,null,{"$f":"$C$5 & \" - Fuel Oil\"","v":" - Fuel Oil"},{"$f":"IF(C5=\"drum mix plant\",N5,0)","v":0},{"$f":"IF(N95=0,0,IF($K$84=1,0.000015,0.0013))","v":0},{"$f":"IF(O95=\"\",\"\",\"lb/ton\")","v":"lb/ton"},0,{"$f":"IF($K$84=1,N95*O95,\"\")","v":""},{"$f":"IF(N95=0,0,IF($C$10>0,$C$10*O95/2000,IF($C$11>0,$C$11*365*O95/2000,IF($C$12>0,$C$12*365*O95*N95/2000,IF(R95=\"\",Q95*8760/2000,R95*8760/2000)))))","v":0},{"$f":"IF(N95>0,$P$5*O95/2000,0)","v":0}]
[null,null,null,null,null,null,null,null,null,null,null,null,{"$f":"$C$5 & \" - Waste Oil\"","v":" - Waste Oil"},{"$f":"IF(C5=\"drum mix plant\",N6,0)","v":0},{"$f":"IF(N96=0,0,IF($K$84=1,0.000015,0.0013))","v":0},{"$f":"IF(O96=\"\",\"\",\"lb/ton\")","v":"lb/ton"},0,{"$f":"IF($K$84=1,N96*O96,\"\")","v":""},{"$f":"IF(N96=0,0,IF($C$10>0,$C$10*O96/2000,IF($C$11>0,$C$11*365*O96/2000,IF($C$12>0,$C$12*365*O96*N96/2000,IF(R96=\"\",Q96*8760/2000,R96*8760/2000)))))","v":0},{"$f":"IF(N96>0,$P$6*O96/2000,0)","v":0}]
[null,{"$f":"IF($C$4>5,\"Site Name\",\"\")","v":""},null,null,{"$f":"IF($C$4>5,\"Dryers, Hot Screens, Mixer\",\"\")","v":""},null,null,{"$f":"IF($C$4>5,\"(tons/hr)\",\"\")","v":""},{"$f":"IF($C$4>5,\"(tons/yr)\",\"\")","v":""},"PM2.5","PM10",null,{"$f":"$C$5 & \" - Natural Gas\"","v":" - Natural Gas"},{"$f":"IF(C5=\"drum mix plant\",N7,0)","v":0},{"$f":"IF(N97=0,0,IF($K$84=1,0.000063,0.00063))","v":0},{"$f":"IF(O97=\"\",\"\",\"lb/ton\")","v":"lb/ton"},{"$f":"IF($K$84=1,\"\",N97*O97)","v":0},{"$f":"IF($K$84=1,N97*O97,\"\")","v":""},{"$f":"IF(N97=0,0,IF($C$10>0,$C$10*O97/2000,IF($C$11>0,$C$11*365*O97/2000,IF($C$12>0,$C$12*365*O97*N97/2000,IF(R97=\"\",Q97*8760/2000,R97*8760/2000)))))","v":0},{"$f":"IF(N97>0,$P$7*O97/2000,0)","v":0}]
[null,{"$f":"IF($C$4>5,\"County:\",\"\")","v":""},null,null,{"$f":"IF(C100=\"\",\"\",\"AP-2 EP-1\")","v":""},{"$f":"IF(C100=\"\",\"\",\"AP-2 EU-1\")","v":""},{"$f":"IF(C100=\"\",\"\",C5 & \" - \"&C100)","v":""},null,null,{"$f":"IF(C101=\"\",\"\",IF(C101=\"yes\",LOOKUP(G98,'Emission Factors'!$A$12:$A$17,'Emission Factors'!$D$12:$D$17),LOOKUP(G98,'Emission Factors'!$A$5:$A$10,'Emission Factors'!$D$5:$D$10)))","v":""},{"$f":"IF(C101=\"\",\"\",IF(C101=\"yes\",LOOKUP(G98,'Emission Factors'!$A$12:$A$17,'Emission Factors'!$F$12:$F$17),LOOKUP(G98,'Emission Factors'!$A$5:$A$10,'Emission Factors'!$F$5:$F$10)))","v":""}]
[null,{"$f":"IF($C$4>5,\"Production Period (Dates):\",\"\")","v":""},null,null,{"$f":"IF($C$4>5,\"Liquid Asphalt Heater\",\"\")","v":""},null,null,{"$f":"IF($C$4>5,IF(C100=\"natural gas\",\"(MMCF/hr)\",\"(gallons/hr)\"),\"\")","v":""},{"$f":"IF($C$4>5,IF(C100=\"natural gas\",\"(MMCF/yr)\",\"(gallons/yr)\"),\"\")","v":""}]
[null,{"$f":"IF($C$4>5,\"Type of Fuel Used:\",\"\")","v":""},null,null,{"$f":"IF(C100=\"\",\"\",\"AP-2 EP-2\")","v":""},{"$f":"IF(C100=\"\",\"\",\"AP-2 EU-2\")","v":""},{"$f":"IF(C100=\"\",\"\",C100& \" Fired Heater\")","v":""}]
[null,{"$f":"IF($C$4>5,\"Is Your Operation Controlled?:\",\"\")","v":""},null,null,{"$f":"IF($C$4>5,\"Silo Filling, Truck Loadout, Aggregate Transfer\",\"\")","v":""},null,null,{"$f":"IF($C$4>5,\"(tons/hr)\",\"\")","v":""},{"$f":"IF($C$4>5,\"(tons/yr)\",\"\")","v":""}]
[null,null,null,null,{"$f":"IF($C$4>5,\"AP-2 EP-3\",\"\")","v":""},{"$f":"IF($C$4>5,\"AP-2 EU-3\",\"\")","v":""},{"$f":"IF($C$4>5,\"Silo Filling\",\"\")","v":""}]
[null,null,null,null,{"$f":"IF($C$4>5,\"AP-2 EP-3\",\"\")","v":""},{"$f":"IF($C$4>5,\"AP-2 EU-4\",\"\")","v":""},{"$f":"IF($C$4>5,\"Truck Loadout\",\"\")","v":""}]
[null,null,null,null,{"$f":"IF($C$4>5,\"AP-2 EP-3\",\"\")","v":""},{"$f":"IF($C$4>5,\"AP-2 EU-5\",\"\")","v":""},{"$f":"IF($C$4>5,\"Cold Aggregate Bins\",\"\")","v":""}]
[]
[null,null,null,null,{"$f":"IF($C$4>5,\"Stock Pile Area\",\"\")","v":""}]
[null,null,null,null,null,{"$f":"IF($C$4>5,\"Emission Unit #\",\"\")","v":""},{"$f":"IF($C$4>5,\"Maximum Storage Area (acres)\",\"\")","v":""},{"$f":"IF($C$4>5,\"Actual Storage Area (acres)\",\"\")","v":""},{"$f":"IF($C$4>5,\"Actual Days in Existence (days)\",\"\")","v":""}]
[]
[]
[null,{"$f":"IF($C$4>6,\"Asphalt Plant\",\"\")","v":""},{"$f":"IF($C$4>6,\"Site 7\",\"\")","v":""},null,{"$f":"IF($C$4>6,\"Emission Point #\",\"\")","v":""},{"$f":"IF($C$4>6,\"Emission    Unit #\",\"\")","v":""},{"$f":"IF($C$4>6,\"Process\",\"\")","v":""},{"$f":"IF($C$4>6,\"Maximum Hourly     Design Rate\",\"\")","v":""},{"$f":"IF($C$4>6,('Facility Information'!G95&\" Annual Throughput\"),\"\")","v":""}]
[]
[null,{"$f":"IF($C$4>6,\"Site Name\",\"\")","v":""},null,null,{"$f":"IF($C$4>6,\"Dryers, Hot Screens, Mixer\",\"\")","v":""},null,null,{"$f":"IF($C$4>6,\"(tons/hr)\",\"\")","v":""},{"$f":"IF($C$4>6,\"(tons/yr)\",\"\")","v":""},"PM2.5","PM10"]
[null,{"$f":"IF($C$4>6,\"County:\",\"\")","v":""},null,null,{"$f":"IF(C115=\"\",\"\",\"AP-2 EP-1\")","v":""},{"$f":"IF(C115=\"\",\"\",\"AP-2 EU-1\")","v":""},{"$f":"IF(C115=\"\",\"\",C5 & \" - \"&C115)","v":""},null,null,{"$f":"IF(C116=\"\",\"\",IF(C116=\"yes\",LOOKUP(G113,'Emission Factors'!$A$12:$A$17,'Emission Factors'!$D$12:$D$17),LOOKUP(G113,'Emission Factors'!$A$5:$A$10,'Emission Factors'!$D$5:$D$10)))","v":""},{"$f":"IF(C116=\"\",\"\",IF(C116=\"yes\",LOOKUP(G113,'Emission Factors'!$A$12:$A$17,'Emission Factors'!$F$12:$F$17),LOOKUP(G113,'Emission Factors'!$A$5:$A$10,'Emission Factors'!$F$5:$F$10)))","v":""}]
[null,{"$f":"IF($C$4>6,\"Production Period (Dates):\",\"\")","v":""},null,null,{"$f":"IF($C$4>6,\"Liquid Asphalt Heater\",\"\")","v":""},null,null,{"$f":"IF($C$4>6,IF(C115=\"natural gas\",\"(MMCF/hr)\",\"(gallons/hr)\"),\"\")","v":""},{"$f":"IF($C$4>6,IF(C115=\"natural gas\",\"(MMCF/yr)\",\"(gallons/yr)\"),\"\")","v":""}]
[null,{"$f":"IF($C$4>6,\"Type of Fuel Used:\",\"\")","v":""},null,null,{"$f":"IF(C115=\"\",\"\",\"AP-2 EP-2\")","v":""},{"$f":"IF(C115=\"\",\"\",\"AP-2 EU-2\")","v":""},{"$f":"IF(C115=\"\",\"\",C115& \" Fired Heater\")","v":""}]
[null,{"$f":"IF($C$4>6,\"Is Your Operation Controlled?:\",\"\")","v":""},null,null,{"$f":"IF($C$4>6,\"Silo Filling, Truck Loadout, Aggregate Transfer\",\"\")","v":""},null,null,{"$f":"IF($C$4>6,\"(tons/hr)\",\"\")","v":""},{"$f":"IF($C$4>6,\"(tons/yr)\",\"\")","v":""}]
[null,null,null,null,{"$f":"IF($C$4>6,\"AP-2 EP-3\",\"\")","v":""},{"$f":"IF($C$4>6,\"AP-2 EU-3\",\"\")","v":""},{"$f":"IF($C$4>6,\"Silo Filling\",\"\")","v":""}]
[null,null,null,null,{"$f":"IF($C$4>6,\"AP-2 EP-3\",\"\")","v":""},{"$f":"IF($C$4>6,\"AP-2 EU-4\",\"\")","v":""},{"$f":"IF($C$4>6,\"Truck Loadout\",\"\")","v":""}]
[null,null,null,null,{"$f":"IF($C$4>6,\"AP-2 EP-3\",\"\")","v":""},{"$f":"IF($C$4>6,\"AP-2 EU-5\",\"\")","v":""},{"$f":"IF($C$4>6,\"Cold Aggregate Bins\",\"\")","v":""}]
[]
[null,null,null,null,{"$f":"IF($C$4>6,\"Stock Pile Area\",\"\")","v":""}]
[null,null,null,null,null,{"$f":"IF($C$4>6,\"Emission Unit #\",\"\")","v":""},{"$f":"IF($C$4>6,\"Maximum Storage Area (acres)\",\"\")","v":""},{"$f":"IF($C$4>6,\"Actual Storage Area (acres)\",\"\")","v":""},{"$f":"IF($C$4>6,\"Actual Days in Existence (days)\",\"\")","v":""}]
[]
[]
[null,{"$f":"IF($C$4>7,\"Asphalt Plant\",\"\")","v":""},{"$f":"IF($C$4>7,\"Site 8\",\"\")","v":""},null,{"$f":"IF($C$4>7,\"Emission Point #\",\"\")","v":""},{"$f":"IF($C$4>7,\"Emission    Unit #\",\"\")","v":""},{"$f":"IF($C$4>7,\"Process\",\"\")","v":""},{"$f":"IF($C$4>7,\"Maximum Hourly     Design Rate\",\"\")","v":""},{"$f":"IF($C$4>7,('Facility Information'!G110&\" Annual Throughput\"),\"\")","v":""}]
[]
[null,{"$f":"IF($C$4>7,\"Site Name\",\"\")","v":""},null,null,{"$f":"IF($C$4>7,\"Dryers, Hot Screens, Mixer\",\"\")","v":""},null,null,{"$f":"IF($C$4>7,\"(tons/hr)\",\"\")","v":""},{"$f":"IF($C$4>7,\"(tons/yr)\",\"\")","v":""},"PM2.5","PM10"]
[null,{"$f":"IF($C$4>7,\"County:\",\"\")","v":""},null,null,{"$f":"IF(C130=\"\",\"\",\"AP-2 EP-1\")","v":""},{"$f":"IF(C130=\"\",\"\",\"AP-2 EU-1\")","v":""},{"$f":"IF(C130=\"\",\"\",C5 & \" - \"&C130)","v":""},null,null,{"$f":"IF(C131=\"\",\"\",IF(C131=\"yes\",LOOKUP(G128,'Emission Factors'!$A$12:$A$17,'Emission Factors'!$D$12:$D$17),LOOKUP(G128,'Emission Factors'!$A$5:$A$10,'Emission Factors'!$D$5:$D$10)))","v":""},{"$f":"IF(C131=\"\",\"\",IF(C131=\"yes\",LOOKUP(G128,'Emission Factors'!$A$12:$A$17,'Emission Factors'!$F$12:$F$17),LOOKUP(G128,'Emission Factors'!$A$5:$A$10,'Emission Factors'!$F$5:$F$10)))","v":""}]
[null,{"$f":"IF($C$4>7,\"Production Period (Dates):\",\"\")","v":""},null,null,{"$f":"IF($C$4>7,\"Liquid Asphalt Heater\",\"\")","v":""},null,null,{"$f":"IF($C$4>7,IF(C130=\"natural gas\",\"(MMCF/hr)\",\"(gallons/hr)\"),\"\")","v":""},{"$f":"IF($C$4>7,IF(C130=\"natural gas\",\"(MMCF/yr)\",\"(gallons/yr)\"),\"\")","v":""}]
[null,{"$f":"IF($C$4>7,\"Type of Fuel Used:\",\"\")","v":""},null,null,{"$f":"IF(C130=\"\",\"\",\"AP-2 EP-2\")","v":""},{"$f":"IF(C130=\"\",\"\",\"AP-2 EU-2\")","v":""},{"$f":"IF(C130=\"\",\"\",C130& \" Fired Heater\")","v":""}]
[null,{"$f":"IF($C$4>7,\"Is Your Operation Controlled?:\",\"\")","v":""},null,null,{"$f":"IF($C$4>7,\"Silo Filling, Truck Loadout, Aggregate Transfer\",\"\")","v":""},null,null,{"$f":"IF($C$4>7,\"(tons/hr)\",\"\")","v":""},{"$f":"IF($C$4>7,\"(tons/yr)\",\"\")","v":""}]
[null,null,null,null,{"$f":"IF($C$4>7,\"AP-2 EP-3\",\"\")","v":""},{"$f":"IF($C$4>7,\"AP-2 EU-3\",\"\")","v":""},{"$f":"IF($C$4>7,\"Silo Filling\",\"\")","v":""}]
[null,null,null,null,{"$f":"IF($C$4>7,\"AP-2 EP-3\",\"\")","v":""},{"$f":"IF($C$4>7,\"AP-2 EU-4\",\"\")","v":""},{"$f":"IF($C$4>7,\"Truck Loadout\",\"\")","v":""}]
[null,null,null,null,{"$f":"IF($C$4>7,\"AP-2 EP-3\",\"\")","v":""},{"$f":"IF($C$4>7,\"AP-2 EU-5\",\"\")","v":""},{"$f":"IF($C$4>7,\"Cold Aggregate Bins\",\"\")","v":""}]
[]
[null,null,null,null,{"$f":"IF($C$4>7,\"Stock Pile Area\",\"\")","v":""}]
[null,null,null,null,null,{"$f":"IF($C$4>7,\"Emission Unit #\",\"\")","v":""},{"$f":"IF($C$4>7,\"Maximum Storage Area (acres)\",\"\")","v":""},{"$f":"IF($C$4>7,\"Actual Storage Area (acres)\",\"\")","v":""},{"$f":"IF($C$4>7,\"Actual Days in Existence (days)\",\"\")","v":""}]
[]
[]
[null,{"$f":"IF($C$4>8,\"Asphalt Plant\",\"\")","v":""},{"$f":"IF($C$4>8,\"Site 9\",\"\")","v":""},null,{"$f":"IF($C$4>8,\"Emission Point #\",\"\")","v":""},{"$f":"IF($C$4>8,\"Emission    Unit #\",\"\")","v":""},{"$f":"IF($C$4>8,\"Process\",\"\")","v":""},{"$f":"IF($C$4>8,\"Maximum Hourly     Design Rate\",\"\")","v":""},{"$f":"IF($C$4>8,('Facility Information'!G125&\" Annual Throughput\"),\"\")","v":""}]
[]
[null,{"$f":"IF($C$4>8,\"Site Name\",\"\")","v":""},null,null,{"$f":"IF($C$4>8,\"Dryers, Hot Screens, Mixer\",\"\")","v":""},null,null,{"$f":"IF($C$4>8,\"(tons/hr)\",\"\")","v":""},{"$f":"IF($C$4>8,\"(tons/yr)\",\"\")","v":""},"PM2.5","PM10"]
[null,{"$f":"IF($C$4>8,\"County:\",\"\")","v":""},null,null,{"$f":"IF(C145=\"\",\"\",\"AP-2 EP-1\")","v":""},{"$f":"IF(C145=\"\",\"\",\"AP-2 EU-1\")","v":""},{"$f":"IF(C145=\"\",\"\",C5 & \" - \"&C145)","v":""},null,null,{"$f":"IF(C146=\"\",\"\",IF(C146=\"yes\",LOOKUP(G143,'Emission Factors'!$A$12:$A$17,'Emission Factors'!$D$12:$D$17),LOOKUP(G143,'Emission Factors'!$A$5:$A$10,'Emission Factors'!$D$5:$D$10)))","v":""},{"$f":"IF(C146=\"\",\"\",IF(C146=\"yes\",LOOKUP(G143,'Emission Factors'!$A$12:$A$17,'Emission Factors'!$F$12:$F$17),LOOKUP(G143,'Emission Factors'!$A$5:$A$10,'Emission Factors'!$F$5:$F$10)))","v":""}]
[null,{"$f":"IF($C$4>8,\"Production Period (Dates):\",\"\")","v":""},null,null,{"$f":"IF($C$4>8,\"Liquid Asphalt Heater\",\"\")","v":""},null,null,{"$f":"IF($C$4>8,IF(C145=\"natural gas\",\"(MMCF/hr)\",\"(gallons/hr)\"),\"\")","v":""},{"$f":"IF($C$4>8,IF(C145=\"natural gas\",\"(MMCF/yr)\",\"(gallons/yr)\"),\"\")","v":""}]
[null,{"$f":"IF($C$4>8,\"Type of Fuel Used:\",\"\")","v":""},null,null,{"$f":"IF(C145=\"\",\"\",\"AP-2 EP-2\")","v":""},{"$f":"IF(C145=\"\",\"\",\"AP-2 EU-2\")","v":""},{"$f":"IF(C145=\"\",\"\",C145& \" Fired Heater\")","v":""}]
[null,{"$f":"IF($C$4>8,\"Is Your Operation Controlled?:\",\"\")","v":""},null,null,{"$f":"IF($C$4>8,\"Silo Filling, Truck Loadout, Aggregate Transfer\",\"\")","v":""},null,null,{"$f":"IF($C$4>8,\"(tons/hr)\",\"\")","v":""},{"$f":"IF($C$4>8,\"(tons/yr)\",\"\")","v":""}]
[null,null,null,null,{"$f":"IF($C$4>8,\"AP-2 EP-3\",\"\")","v":""},{"$f":"IF($C$4>8,\"AP-2 EU-3\",\"\")","v":""},{"$f":"IF($C$4>8,\"Silo Filling\",\"\")","v":""}]
[null,null,null,null,{"$f":"IF($C$4>8,\"AP-2 EP-3\",\"\")","v":""},{"$f":"IF($C$4>8,\"AP-2 EU-4\",\"\")","v":""},{"$f":"IF($C$4>8,\"Truck Loadout\",\"\")","v":""}]
[null,null,null,null,{"$f":"IF($C$4>8,\"AP-2 EP-3\",\"\")","v":""},{"$f":"IF($C$4>8,\"AP-2 EU-5\",\"\")","v":""},{"$f":"IF($C$4>8,\"Cold Aggregate Bins\",\"\")","v":""}]
[]
[null,null,null,null,{"$f":"IF($C$4>8,\"Stock Pile Area\",\"\")","v":""}]
[null,null,null,null,null,{"$f":"IF($C$4>8,\"Emission Unit #\",\"\")","v":""},{"$f":"IF($C$4>8,\"Maximum Storage Area (acres)\",\"\")","v":""},{"$f":"IF($C$4>8,\"Actual Storage Area (acres)\",\"\")","v":""},{"$f":"IF($C$4>8,\"Actual Days in Existence (days)\",\"\")","v":""}]
[]
[]
[null,{"$f":"IF($C$4>9,\"Asphalt Plant\",\"\")","v":""},{"$f":"IF($C$4>9,\"Site 10\",\"\")","v":""},null,{"$f":"IF($C$4>9,\"Emission Point #\",\"\")","v":""},{"$f":"IF($C$4>9,\"Emission    Unit #\",\"\")","v":""},{"$f":"IF($C$4>9,\"Process\",\"\")","v":""},{"$f":"IF($C$4>9,\"Maximum Hourly     Design Rate\",\"\")","v":""},{"$f":"IF($C$4>9,('Facility Information'!G140&\" Annual Throughput\"),\"\")","v":""}]
[]
[null,{"$f":"IF($C$4>9,\"Site Name\",\"\")","v":""},null,null,{"$f":"IF($C$4>9,\"Dryers, Hot Screens, Mixer\",\"\")","v":""},null,null,{"$f":"IF($C$4>9,\"(tons/hr)\",\"\")","v":""},{"$f":"IF($C$4>9,\"(tons/yr)\",\"\")","v":""},"PM2.5","PM10"]
[null,{"$f":"IF($C$4>9,\"County:\",\"\")","v":""},null,null,{"$f":"IF(C160=\"\",\"\",\"AP-2 EP-1\")","v":""},{"$f":"IF(C160=\"\",\"\",\"AP-2 EU-1\")","v":""},{"$f":"IF(C160=\"\",\"\",C5 & \" - \"&C160)","v":""},null,null,{"$f":"IF(C161=\"\",\"\",IF(C161=\"yes\",LOOKUP(G158,'Emission Factors'!$A$12:$A$17,'Emission Factors'!$D$12:$D$17),LOOKUP(G158,'Emission Factors'!$A$5:$A$10,'Emission Factors'!$D$5:$D$10)))","v":""},{"$f":"IF(C161=\"\",\"\",IF(C161=\"yes\",LOOKUP(G158,'Emission Factors'!$A$12:$A$17,'Emission Factors'!$F$12:$F$17),LOOKUP(G158,'Emission Factors'!$A$5:$A$10,'Emission Factors'!$F$5:$F$10)))","v":""}]
[null,{"$f":"IF($C$4>9,\"Production Period (Dates):\",\"\")","v":""},null,null,{"$f":"IF($C$4>9,\"Liquid Asphalt Heater\",\"\")","v":""},null,null,{"$f":"IF($C$4>9,IF(C160=\"natural gas\",\"(MMCF/hr)\",\"(gallons/hr)\"),\"\")","v":""},{"$f":"IF($C$4>9,IF(C160=\"natural gas\",\"(MMCF/yr)\",\"(gallons/yr)\"),\"\")","v":""}]
[null,{"$f":"IF($C$4>9,\"Type of Fuel Used:\",\"\")","v":""},null,null,{"$f":"IF(C160=\"\",\"\",\"AP-2 EP-2\")","v":""},{"$f":"IF(C160=\"\",\"\",\"AP-2 EU-2\")","v":""},{"$f":"IF(C160=\"\",\"\",C160& \" Fired Heater\")","v":""}]
[null,{"$f":"IF($C$4>9,\"Is Your Operation Controlled?:\",\"\")","v":""},null,null,{"$f":"IF($C$4>9,\"Silo Filling, Truck Loadout, Aggregate Transfer\",\"\")","v":""},null,null,{"$f":"IF($C$4>9,\"(tons/hr)\",\"\")","v":""},{"$f":"IF($C$4>9,\"(tons/yr)\",\"\")","v":""}]
[null,null,null,null,{"$f":"IF($C$4>9,\"AP-2 EP-3\",\"\")","v":""},{"$f":"IF($C$4>9,\"AP-2 EU-3\",\"\")","v":""},{"$f":"IF($C$4>9,\"Silo Filling\",\"\")","v":""}]
[null,null,null,null,{"$f":"IF($C$4>9,\"AP-2 EP-3\",\"\")","v":""},{"$f":"IF($C$4>9,\"AP-2 EU-4\",\"\")","v":""},{"$f":"IF($C$4>9,\"Truck Loadout\",\"\")","v":""}]
[null,null,null,null,{"$f":"IF($C$4>9,\"AP-2 EP-3\",\"\")","v":""},{"$f":"IF($C$4>9,\"AP-2 EU-5\",\"\")","v":""},{"$f":"IF($C$4>9,\"Cold Aggregate Bins\",\"\")","v":""}]
[]
[null,null,null,null,{"$f":"IF($C$4>9,\"Stock Pile Area\",\"\")","v":""}]
[null,null,null,null,null,{"$f":"IF($C$4>9,\"Emission Unit #\",\"\")","v":""},{"$f":"IF($C$4>9,\"Maximum Storage Area (acres)\",\"\")","v":""},{"$f":"IF($C$4>9,\"Actual Storage Area (acres)\",\"\")","v":""},{"$f":"IF($C$4>9,\"Actual Days in Existence (days)\",\"\")","v":""}]

{"sheet":"Asphalt Plant (AP-3)","index":3,"n_rows":166,"n_cols":20,"rows_kept":166,"cut":false,"hidden":true,"merged":[]}
[null,"ASPHALT PLANT (AP-3)"]
[null,"Please fill in the yellow boxes as applicable for your facility. ",null,null,null,null,null,null,"Values used for calculating emissions →",null,null,null,"Values Used to Calculate Actual Emissions for the Listed Processes at this Plant"]
[]
[null,{"$f":"\"Number of Sites this Plant operated at in \"&'Facility Information'!G5&\":\"","v":"Number of Sites this Plant operated at in :"},null,null,null,null,null,null,null,null,null,null,"Process","Maximum Design Rate","Units","Actual throughput",null,"** As of 2016 Potential Emissions are no longer required to be reported in the Minor Source Emissions Inventory**",null,"Units"]
[null,"Plant Type:",null,null,null,null,null,null,null,null,null,null,{"$f":"$C$5 & \" - Fuel Oil\"","v":" - Fuel Oil"},{"$f":"MAX((IFERROR(OFFSET($G$21,MATCH(M5,$G$22,0),1),0)),((IFERROR(OFFSET($G$35,MATCH(M5,$G$36,0),1),0))),((IFERROR(OFFSET($G$50,MATCH(M5,$G$51,0),1),0))),((IFERROR(OFFSET($G$65,MATCH(M5,$G$66,0),1),0))),((IFERROR(OFFSET($G$80,MATCH(M5,$G$81,0),1),0))),((IFERROR(OFFSET($G$96,MATCH(M5,$G$97,0),1),0))),((IFERROR(OFFSET($G$111,MATCH(M5,$G$112,0),1),0))),((IFERROR(OFFSET($G$126,MATCH(M5,$G$127,0),1),0))),((IFERROR(OFFSET($G$141,MATCH(M5,$G$142,0),1),0))),((IFERROR(OFFSET($G$156,MATCH(M5,$G$157,0),1),0))))","v":0},"tons/hr",{"$f":"SUM((IFERROR(OFFSET($G$21,MATCH(M5,$G$22,0),2),0)),((IFERROR(OFFSET($G$35,MATCH(M5,$G$36,0),2),0))),((IFERROR(OFFSET($G$50,MATCH(M5,$G$51,0),2),0))),((IFERROR(OFFSET($G$65,MATCH(M5,$G$66,0),2),0))),((IFERROR(OFFSET($G$80,MATCH(M5,$G$81,0),2),0))),((IFERROR(OFFSET($G$96,MATCH(M5,$G$97,0),2),0))),((IFERROR(OFFSET($G$111,MATCH(M5,$G$112,0),2),0))),((IFERROR(OFFSET($G$126,MATCH(M5,$G$127,0),2),0))),((IFERROR(OFFSET($G$141,MATCH(M5,$G$142,0),2),0))),((IFERROR(OFFSET($G$156,MATCH(M5,$G$157,0),2),0))))","v":0},null,null,null,"tons/yr"]
[null,null,null,null,null,null,null,null,null,null,null,null,{"$f":"$C$5 & \" - Waste Oil\"","v":" - Waste Oil"},{"$f":"MAX((IFERROR(OFFSET($G$21,MATCH(M6,$G$22,0),1),0)),((IFERROR(OFFSET($G$35,MATCH(M6,$G$36,0),1),0))),((IFERROR(OFFSET($G$50,MATCH(M6,$G$51,0),1),0))),((IFERROR(OFFSET($G$65,MATCH(M6,$G$66,0),1),0))),((IFERROR(OFFSET($G$80,MATCH(M6,$G$81,0),1),0))),((IFERROR(OFFSET($G$96,MATCH(M6,$G$97,0),1),0))),((IFERROR(OFFSET($G$111,MATCH(M6,$G$112,0),1),0))),((IFERROR(OFFSET($G$126,MATCH(M6,$G$127,0),1),0))),((IFERROR(OFFSET($G$141,MATCH(M6,$G$142,0),1),0))),((IFERROR(OFFSET($G$156,MATCH(M6,$G$157,0),1),0))))","v":0},"tons/hr",{"$f":"SUM((IFERROR(OFFSET($G$21,MATCH(M6,$G$22,0),2),0)),((IFERROR(OFFSET($G$35,MATCH(M6,$G$36,0),2),0))),((IFERROR(OFFSET($G$50,MATCH(M6,$G$51,0),2),0))),((IFERROR(OFFSET($G$65,MATCH(M6,$G$66,0),2),0))),((IFERROR(OFFSET($G$80,MATCH(M6,$G$81,0),2),0))),((IFERROR(OFFSET($G$96,MATCH(M6,$G$97,0),2),0))),((IFERROR(OFFSET($G$111,MATCH(M6,$G$112,0),2),0))),((IFERROR(OFFSET($G$126,MATCH(M6,$G$127,0),2),0))),((IFERROR(OFFSET($G$141,MATCH(M6,$G$142,0),2),0))),((IFERROR(OFFSET($G$156,MATCH(M6,$G$157,0),2),0))))","v":0},null,null,null,"tons/yr"]
[null,"Plant Specific Permit Number: ",null,null,null,null,null,null,null,null,null,null,{"$f":"$C$5 & \" - Natural Gas\"","v":" - Natural Gas"},{"$f":"MAX((IFERROR(OFFSET($G$21,MATCH(M7,$G$22,0),1),0)),((IFERROR(OFFSET($G$35,MATCH(M7,$G$36,0),1),0))),((IFERROR(OFFSET($G$50,MATCH(M7,$G$51,0),1),0))),((IFERROR(OFFSET($G$65,MATCH(M7,$G$66,0),1),0))),((IFERROR(OFFSET($G$80,MATCH(M7,$G$81,0),1),0))),((IFERROR(OFFSET($G$96,MATCH(M7,$G$97,0),1),0))),((IFERROR(OFFSET($G$111,MATCH(M7,$G$112,0),1),0))),((IFERROR(OFFSET($G$126,MATCH(M7,$G$127,0),1),0))),((IFERROR(OFFSET($G$141,MATCH(M7,$G$142,0),1),0))),((IFERROR(OFFSET($G$156,MATCH(M7,$G$157,0),1),0))))","v":0},"tons/hr",{"$f":"SUM((IFERROR(OFFSET($G$21,MATCH(M7,$G$22,0),2),0)),((IFERROR(OFFSET($G$35,MATCH(M7,$G$36,0),2),0))),((IFERROR(OFFSET($G$50,MATCH(M7,$G$51,0),2),0))),((IFERROR(OFFSET($G$65,MATCH(M7,$G$66,0),2),0))),((IFERROR(OFFSET($G$80,MATCH(M7,$G$81,0),2),0))),((IFERROR(OFFSET($G$96,MATCH(M7,$G$97,0),2),0))),((IFERROR(OFFSET($G$111,MATCH(M7,$G$112,0),2),0))),((IFERROR(OFFSET($G$126,MATCH(M7,$G$127,0),2),0))),((IFERROR(OFFSET($G$141,MATCH(M7,$G$142,0),2),0))),((IFERROR(OFFSET($G$156,MATCH(M7,$G$157,0),2),0))))","v":0},null,null,null,"tons/yr"]
[null,null,null,null,null,null,null,null,null,null,null,null,"Fuel Oil Fired Heater",{"$f":"MAX((IFERROR(OFFSET($G$23,MATCH(\"Fuel Oil Fired Heater\",$G$24,0),1),0)),((IFERROR(OFFSET($G$37,MATCH(\"Fuel Oil Fired Heater\",$G$38,0),1),0))),((IFERROR(OFFSET($G$52,MATCH(\"Fuel Oil Fired Heater\",$G$53,0),1),0))),((IFERROR(OFFSET($G$67,MATCH(\"Fuel Oil Fired Heater\",$G$68,0),1),0))),((IFERROR(OFFSET($G$82,MATCH(\"Fuel Oil Fired Heater\",$G$83,0),1),0))),((IFERROR(OFFSET($G$98,MATCH(\"Fuel Oil Fired Heater\",$G$99,0),1),0))),((IFERROR(OFFSET($G$113,MATCH(\"Fuel Oil Fired Heater\",$G$114,0),1),0))),((IFERROR(OFFSET($G$128,MATCH(\"Fuel Oil Fired Heater\",$G$129,0),1),0))),((IFERROR(OFFSET($G$143,MATCH(\"Fuel Oil Fired Heater\",$G$144,0),1),0))),((IFERROR(OFFSET($G$158,MATCH(\"Fuel Oil Fired Heater\",$G$159,0),1),0))))","v":0},"gallons/hr",{"$f":"SUM((IFERROR(OFFSET($G$23,MATCH(\"Fuel Oil Fired Heater\",$G$24,0),2),0)),((IFERROR(OFFSET($G$37,MATCH(\"Fuel Oil Fired Heater\",$G$38,0),2),0))),((IFERROR(OFFSET($G$52,MATCH(\"Fuel Oil Fired Heater\",$G$53,0),2),0))),((IFERROR(OFFSET($G$67,MATCH(\"Fuel Oil Fired Heater\",$G$68,0),2),0))),((IFERROR(OFFSET($G$82,MATCH(\"Fuel Oil Fired Heater\",$G$83,0),2),0))),((IFERROR(OFFSET($G$98,MATCH(\"Fuel Oil Fired Heater\",$G$99,0),2),0))),((IFERROR(OFFSET($G$113,MATCH(\"Fuel Oil Fired Heater\",$G$114,0),2),0))),((IFERROR(OFFSET($G$128,MATCH(\"Fuel Oil Fired Heater\",$G$129,0),2),0))),((IFERROR(OFFSET($G$143,MATCH(\"Fuel Oil Fired Heater\",$G$144,0),2),0))),((IFERROR(OFFSET($G$158,MATCH(\"Fuel Oil Fired Heater\",$G$159,0),2),0))))","v":0},null,null,null,"gallons/yr"]
[null,"Plant Specific Operating Limits:",null,null,"Plant Specific Emission Limits:",null,null,null,null,null,null,null,"Waste Oil Fired Heater",{"$f":"MAX((IFERROR(OFFSET($G$23,MATCH(\"waste oil Fired Heater\",$G$24,0),1),0)),((IFERROR(OFFSET($G$37,MATCH(\"waste oil Fired Heater\",$G$38,0),1),0))),((IFERROR(OFFSET($G$52,MATCH(\"waste oil Fired Heater\",$G$53,0),1),0))),((IFERROR(OFFSET($G$67,MATCH(\"waste oil Fired Heater\",$G$68,0),1),0))),((IFERROR(OFFSET($G$82,MATCH(\"waste oil Fired Heater\",$G$83,0),1),0))),((IFERROR(OFFSET($G$98,MATCH(\"waste oil Fired Heater\",$G$99,0),1),0))),((IFERROR(OFFSET($G$113,MATCH(\"waste oil Fired Heater\",$G$114,0),1),0))),((IFERROR(OFFSET($G$128,MATCH(\"waste oil Fired Heater\",$G$129,0),1),0))),((IFERROR(OFFSET($G$143,MATCH(\"waste oil Fired Heater\",$G$144,0),1),0))),((IFERROR(OFFSET($G$158,MATCH(\"waste oil Fired Heater\",$G$159,0),1),0))))","v":0},"gallons/hr",{"$f":"SUM((IFERROR(OFFSET($G$23,MATCH(\"waste oil Fired Heater\",$G$24,0),2),0)),((IFERROR(OFFSET($G$37,MATCH(\"waste oil Fired Heater\",$G$38,0),2),0))),((IFERROR(OFFSET($G$52,MATCH(\"waste oil Fired Heater\",$G$53,0),2),0))),((IFERROR(OFFSET($G$67,MATCH(\"waste oil Fired Heater\",$G$68,0),2),0))),((IFERROR(OFFSET($G$82,MATCH(\"waste oil Fired Heater\",$G$83,0),2),0))),((IFERROR(OFFSET($G$98,MATCH(\"waste oil Fired Heater\",$G$99,0),2),0))),((IFERROR(OFFSET($G$113,MATCH(\"waste oil Fired Heater\",$G$114,0),2),0))),((IFERROR(OFFSET($G$128,MATCH(\"waste oil Fired Heater\",$G$129,0),2),0))),((IFERROR(OFFSET($G$143,MATCH(\"waste oil Fired Heater\",$G$144,0),2),0))),((IFERROR(OFFSET($G$158,MATCH(\"waste oil Fired Heater\",$G$159,0),2),0))))","v":0},null,null,null,"gallons/yr"]
[null,"Throughput Limit (tons/yr):",null,null,"Pollutant","lb/hr","tons/yr",null,null,null,null,null,"Natural Gas Fired Heater",{"$f":"MAX((IFERROR(OFFSET($G$23,MATCH(\"Natural Gas Fired Heater\",$G$24,0),1),0)),((IFERROR(OFFSET($G$37,MATCH(\"Natural Gas Fired Heater\",$G$38,0),1),0))),((IFERROR(OFFSET($G$52,MATCH(\"Natural Gas Fired Heater\",$G$53,0),1),0))),((IFERROR(OFFSET($G$67,MATCH(\"Natural Gas Fired Heater\",$G$68,0),1),0))),((IFERROR(OFFSET($G$82,MATCH(\"Natural Gas Fired Heater\",$G$83,0),1),0))),((IFERROR(OFFSET($G$98,MATCH(\"Natural Gas Fired Heater\",$G$99,0),1),0))),((IFERROR(OFFSET($G$113,MATCH(\"Natural Gas Fired Heater\",$G$114,0),1),0))),((IFERROR(OFFSET($G$128,MATCH(\"Natural Gas Fired Heater\",$G$129,0),1),0))),((IFERROR(OFFSET($G$143,MATCH(\"Natural Gas Fired Heater\",$G$144,0),1),0))),((IFERROR(OFFSET($G$158,MATCH(\"Natural Gas Fired Heater\",$G$159,0),1),0))))","v":0},"MMCF/hr",{"$f":"SUM((IFERROR(OFFSET($G$23,MATCH(\"Natural Gas Fired Heater\",$G$24,0),2),0)),((IFERROR(OFFSET($G$37,MATCH(\"Natural Gas Fired Heater\",$G$38,0),2),0))),((IFERROR(OFFSET($G$52,MATCH(\"Natural Gas Fired Heater\",$G$53,0),2),0))),((IFERROR(OFFSET($G$67,MATCH(\"Natural Gas Fired Heater\",$G$68,0),2),0))),((IFERROR(OFFSET($G$82,MATCH(\"Natural Gas Fired Heater\",$G$83,0),2),0))),((IFERROR(OFFSET($G$98,MATCH(\"Natural Gas Fired Heater\",$G$99,0),2),0))),((IFERROR(OFFSET($G$113,MATCH(\"Natural Gas Fired Heater\",$G$114,0),2),0))),((IFERROR(OFFSET($G$128,MATCH(\"Natural Gas Fired Heater\",$G$129,0),2),0))),((IFERROR(OFFSET($G$143,MATCH(\"Natural Gas Fired Heater\",$G$144,0),2),0))),((IFERROR(OFFSET($G$158,MATCH(\"Natural Gas Fired Heater\",$G$159,0),2),0))))","v":0},null,null,null,"MMCF/yr"]
[null,"Daily Throughput Limit (tons/day):",null,null,"PM2.5",null,null,null,null,null,null,null,"Silo Filling",{"$f":"MAX((IFERROR(OFFSET($G$25,MATCH(\"Silo Filling\",$G$26,0),1),0)),((IFERROR(OFFSET($G$39,MATCH(\"Silo Filling\",$G$40,0),1),0))),((IFERROR(OFFSET($G$54,MATCH(\"Silo Filling\",$G$55,0),1),0))),((IFERROR(OFFSET($G$69,MATCH(\"Silo Filling\",$G$70,0),1),0))),((IFERROR(OFFSET($G$84,MATCH(\"Silo Filling\",$G$85,0),1),0))),((IFERROR(OFFSET($G$100,MATCH(\"Silo Filling\",$G$101,0),1),0))),((IFERROR(OFFSET($G$115,MATCH(\"Silo Filling\",$G$116,0),1),0))),((IFERROR(OFFSET($G$130,MATCH(\"Silo Filling\",$G$131,0),1),0))),((IFERROR(OFFSET($G$145,MATCH(\"Silo Filling\",$G$146,0),1),0))),((IFERROR(OFFSET($G$160,MATCH(\"Silo Filling\",$G$161,0),1),0))))","v":0},"tons/hr",{"$f":"SUM((IFERROR(OFFSET($G$25,MATCH(\"Silo Filling\",$G$26,0),2),0)),((IFERROR(OFFSET($G$39,MATCH(\"Silo Filling\",$G$40,0),2),0))),((IFERROR(OFFSET($G$54,MATCH(\"Silo Filling\",$G$55,0),2),0))),((IFERROR(OFFSET($G$69,MATCH(\"Silo Filling\",$G$70,0),2),0))),((IFERROR(OFFSET($G$84,MATCH(\"Silo Filling\",$G$85,0),2),0))),((IFERROR(OFFSET($G$100,MATCH(\"Silo Filling\",$G$101,0),2),0))),((IFERROR(OFFSET($G$115,MATCH(\"Silo Filling\",$G$116,0),2),0))),((IFERROR(OFFSET($G$130,MATCH(\"Silo Filling\",$G$131,0),2),0))),((IFERROR(OFFSET($G$145,MATCH(\"Silo Filling\",$G$146,0),2),0))),((IFERROR(OFFSET($G$160,MATCH(\"Silo Filling\",$G$161,0),2),0))))","v":0},null,null,null,"tons/yr"]
[null,"Hours of Operation Limit (hours/day):",null,null,"PM10",null,null,null,null,null,null,null,"Truck Loadout",{"$f":"MAX((IFERROR(OFFSET(G26,MATCH(\"Truck Loadout\",G27,0),1),0)),((IFERROR(OFFSET(G40,MATCH(\"Truck Loadout\",G41,0),1),0))),((IFERROR(OFFSET(G55,MATCH(\"Truck Loadout\",G56,0),1),0))),((IFERROR(OFFSET(G70,MATCH(\"Truck Loadout\",G71,0),1),0))),((IFERROR(OFFSET(G85,MATCH(\"Truck Loadout\",G86,0),1),0))),((IFERROR(OFFSET(G101,MATCH(\"Truck Loadout\",G102,0),1),0))),((IFERROR(OFFSET(G116,MATCH(\"Truck Loadout\",G117,0),1),0))),((IFERROR(OFFSET(G131,MATCH(\"Truck Loadout\",G132,0),1),0))),((IFERROR(OFFSET(G146,MATCH(\"Truck Loadout\",G147,0),1),0))),((IFERROR(OFFSET(G161,MATCH(\"Truck Loadout\",G162,0),1),0))))","v":0},"tons/hr",{"$f":"SUM((IFERROR(OFFSET(G26,MATCH(\"Truck Loadout\",G27,0),2),0)),((IFERROR(OFFSET(G40,MATCH(\"Truck Loadout\",G41,0),2),0))),((IFERROR(OFFSET(G55,MATCH(\"Truck Loadout\",G56,0),2),0))),((IFERROR(OFFSET(G70,MATCH(\"Truck Loadout\",G71,0),2),0))),((IFERROR(OFFSET(G85,MATCH(\"Truck Loadout\",G86,0),2),0))),((IFERROR(OFFSET(G101,MATCH(\"Truck Loadout\",G102,0),2),0))),((IFERROR(OFFSET(G116,MATCH(\"Truck Loadout\",G117,0),2),0))),((IFERROR(OFFSET(G131,MATCH(\"Truck Loadout\",G132,0),2),0))),((IFERROR(OFFSET(G146,MATCH(\"Truck Loadout\",G147,0),2),0))),((IFERROR(OFFSET(G161,MATCH(\"Truck Loadout\",G162,0),2),0))))","v":0},null,null,null,"tons/yr"]
["Fuel Oil","Note: if the plant has an hrs/day and a tons/hr permit limit, those values",null,null,"SO2",null,null,null,null,null,null,null,"Cold Aggregate Bins",{"$f":"MAX((IFERROR(OFFSET(G27,MATCH(\"Cold Aggregate Bins\",G28,0),1),0)),((IFERROR(OFFSET(G41,MATCH(\"Cold Aggregate Bins\",G42,0),1),0))),((IFERROR(OFFSET(G56,MATCH(\"Cold Aggregate Bins\",G57,0),1),0))),((IFERROR(OFFSET(G71,MATCH(\"Cold Aggregate Bins\",G72,0),1),0))),((IFERROR(OFFSET(G86,MATCH(\"Cold Aggregate Bins\",G87,0),1),0))),((IFERROR(OFFSET(G102,MATCH(\"Cold Aggregate Bins\",G103,0),1),0))),((IFERROR(OFFSET(G117,MATCH(\"Cold Aggregate Bins\",G118,0),1),0))),((IFERROR(OFFSET(G132,MATCH(\"Cold Aggregate Bins\",G133,0),1),0))),((IFERROR(OFFSET(G147,MATCH(\"Cold Aggregate Bins\",G148,0),1),0))),((IFERROR(OFFSET(G162,MATCH(\"Cold Aggregate Bins\",G163,0),1),0))))","v":0},"tons/hr",{"$f":"SUM((IFERROR(OFFSET(G27,MATCH(\"Cold Aggregate Bins\",G28,0),2),0)),((IFERROR(OFFSET(G41,MATCH(\"Cold Aggregate Bins\",G42,0),2),0))),((IFERROR(OFFSET(G56,MATCH(\"Cold Aggregate Bins\",G57,0),2),0))),((IFERROR(OFFSET(G71,MATCH(\"Cold Aggregate Bins\",G72,0),2),0))),((IFERROR(OFFSET(G86,MATCH(\"Cold Aggregate Bins\",G87,0),2),0))),((IFERROR(OFFSET(G102,MATCH(\"Cold Aggregate Bins\",G103,0),2),0))),((IFERROR(OFFSET(G117,MATCH(\"Cold Aggregate Bins\",G118,0),2),0))),((IFERROR(OFFSET(G132,MATCH(\"Cold Aggregate Bins\",G133,0),2),0))),((IFERROR(OFFSET(G147,MATCH(\"Cold Aggregate Bins\",G148,0),2),0))),((IFERROR(OFFSET(G162,MATCH(\"Cold Aggregate Bins\",G163,0),2),0))))","v":0},null,null,null,"tons/yr"]
["Natural Gas","should be multiplied together to calculate a tons/day limit and that value ",null,null,"NOx",null,null,null,null,null,null,null,null,"Maximum (acres)","Actual (acres-day/yr)"]
["Waste Oil","should be placed in cell C11.",null,null,"VOC",null,null,null,null,null,null,null,"Storage Pile",{"$f":"SUM(G32,G46,G61,G76,G91,G107,G122,G137,G152,G167,)","v":0},{"$f":"SUM(H32*I32,H46*I46,H61*I61,H76*I76,H91*I91,H107*I107,H122*I122,H137*I137,H152*I152,H167*I167)","v":0}]
[null,null,null,null,"CO"]
["Batch Mix Plant"]
["Drum Mix Plant",null,null,null,null,null,null,null,null,null,null,null,"Actual Emissions for the Listed Processes at this Plant"]
[null,"Asphalt Plant","Site 1",null,"Emission Point #","Emission     Unit #","Processes","Maximum Hourly     Design Rate",{"$f":"('Facility Information'!G5&\" Annual Throughput\")","v":" Annual Throughput"},null,null,null,"PM2.5","Maximum Design Rate (tons/hr)","Emission Factor","Units","Potential Uncontrolled Emissions (lb/hr)","Potential Controlled Emissions (lb/hr)","Potential Annual Emissions (tons/yr)","Actual Annual Emissions (tons/yr)"]
["YES",null,null,null,null,null,null,null,null,null,null,null,{"$f":"$C$5 & \" - Fuel Oil\"","v":" - Fuel Oil"},{"$f":"N5","v":0},{"$f":"IF(N20=0,0,IF(MAX((IFERROR(OFFSET($G$21,MATCH(M20,$G$22,0),3),0)),((IFERROR(OFFSET($G$35,MATCH(M20,$G$36,0),3),0))),((IFERROR(OFFSET($G$50,MATCH(M20,$G$51,0),3),0))),((IFERROR(OFFSET($G$65,MATCH(M20,$G$66,0),3),0))),((IFERROR(OFFSET($G$80,MATCH(M20,$G$81,0),3),0))),((IFERROR(OFFSET($G$96,MATCH(M20,$G$97,0),3),0))),((IFERROR(OFFSET($G$111,MATCH(M20,$G$112,0),3),0))),((IFERROR(OFFSET($G$126,MATCH(M20,$G$127,0),3),0))),((IFERROR(OFFSET($G$141,MATCH(M20,$G$142,0),3),0))),((IFERROR(OFFSET($G$156,MATCH(M20,$G$157,0),3),0))))=0,0,(MAX((IFERROR(OFFSET($G$21,MATCH(M20,$G$22,0),3),0)),((IFERROR(OFFSET($G$35,MATCH(M20,$G$36,0),3),0))),((IFERROR(OFFSET($G$50,MATCH(M20,$G$51,0),3),0))),((IFERROR(OFFSET($G$65,MATCH(M20,$G$66,0),3),0))),((IFERROR(OFFSET($G$80,MATCH(M20,$G$81,0),3),0))),((IFERROR(OFFSET($G$96,MATCH(M20,$G$97,0),3),0))),((IFERROR(OFFSET($G$111,MATCH(M20,$G$112,0),3),0))),((IFERROR(OFFSET($G$126,MATCH(M20,$G$127,0),3),0))),((IFERROR(OFFSET($G$141,MATCH(M20,$G$142,0),3),0))),((IFERROR(OFFSET($G$156,MATCH(M20,$G$157,0),3),0)))))))","v":0},{"$f":"IF(O20=\"\",\"\",\"lb/ton\")","v":"lb/ton"},{"$f":"IF(O20=0.27,N20*O20,IF(O20=1.54,N20*O20,\"\"))","v":""},{"$f":"IF(N20=0,\"\",IF(AND($F$11>0,$O$20>=$O$21,$O$20>=$O$22),$F$11,IF(O20=0.0083,N20*O20,IF(O20=0.007,N20*O20,\"\"))))","v":""},{"$f":"IF(N20=0,0,IF($G$11>0,$G$11,IF(AND(OR($C$10>0,$C$11>0,$C$12>0),$O$20>=$O$21,$O$20>=$O$22),(IF($C$10>0,$C$10*O20/2000,IF($C$11>0,$C$11*365*O20/2000,IF($C$12>0,$C$12*365*O20*N20/2000)))),IF(AND($F$11>0,$O$20>=$O$21,$O$20>=$O$22),$F$11*8760/2000,IF(AND(OR($C$10=\"\",$C$10=0),OR($C$11=\"\",$C$11=0),OR($C$12=\"\",$C$12=0),$F$11=\"\"),IF(R20=\"\",Q20*8760/2000,R20*8760/2000),\"\")))))","v":0},{"$f":"IF(N20=\"\",\"\",SUM((IFERROR(MATCH(M20,$G$22,0)*$I$22*$J$22/2000,0)),(IFERROR(MATCH(M20,$G$36,0)*$I$36*$J$36/2000,0)),(IFERROR(MATCH(M20,$G$51,0)*$I$51*$J$51/2000,0)),(IFERROR(MATCH(M20,$G$66,0)*$I$66*$J$66/2000,0)),(IFERROR(MATCH(M20,$G$81,0)*$I$81*$J$81/2000,0)),(IFERROR(MATCH(M20,$G$97,0)*$I$97*$J$97/2000,0)),(IFERROR(MATCH(M20,$G$112,0)*$I$112*$J$112/2000,0)),(IFERROR(MATCH(M20,$G$127,0)*$I$127*$J$127/2000,0)),(IFERROR(MATCH(M20,$G$142,0)*$I$142*$J$142/2000,0)),(IFERROR(MATCH(M20,$G$157,0)*$I$157*$J$157/2000,0))))","v":0}]
["NO","Site Name:",null,null,"Dryer, Hot Screens, Mixer",null,null,"(tons/hr)","(tons/yr)","PM2.5","PM10",null,{"$f":"$C$5 & \" - Waste Oil\"","v":" - Waste Oil"},{"$f":"N6","v":0},{"$f":"IF(N21=0,0,IF(MAX((IFERROR(OFFSET($G$21,MATCH(M21,$G$22,0),3),0)),((IFERROR(OFFSET($G$35,MATCH(M21,$G$36,0),3),0))),((IFERROR(OFFSET($G$50,MATCH(M21,$G$51,0),3),0))),((IFERROR(OFFSET($G$65,MATCH(M21,$G$66,0),3),0))),((IFERROR(OFFSET($G$80,MATCH(M21,$G$81,0),3),0))),((IFERROR(OFFSET($G$96,MATCH(M21,$G$97,0),3),0))),((IFERROR(OFFSET($G$111,MATCH(M21,$G$112,0),3),0))),((IFERROR(OFFSET($G$126,MATCH(M21,$G$127,0),3),0))),((IFERROR(OFFSET($G$141,MATCH(M21,$G$142,0),3),0))),((IFERROR(OFFSET($G$156,MATCH(M21,$G$157,0),3),0))))=0,0,(MAX((IFERROR(OFFSET($G$21,MATCH(M21,$G$22,0),3),0)),((IFERROR(OFFSET($G$35,MATCH(M21,$G$36,0),3),0))),((IFERROR(OFFSET($G$50,MATCH(M21,$G$51,0),3),0))),((IFERROR(OFFSET($G$65,MATCH(M21,$G$66,0),3),0))),((IFERROR(OFFSET($G$80,MATCH(M21,$G$81,0),3),0))),((IFERROR(OFFSET($G$96,MATCH(M21,$G$97,0),3),0))),((IFERROR(OFFSET($G$111,MATCH(M21,$G$112,0),3),0))),((IFERROR(OFFSET($G$126,MATCH(M21,$G$127,0),3),0))),((IFERROR(OFFSET($G$141,MATCH(M21,$G$142,0),3),0))),((IFERROR(OFFSET($G$156,MATCH(M21,$G$157,0),3),0)))))))","v":0},"lb/ton",{"$f":"IF(O21=0.27,N21*O21,IF(O21=1.54,N21*O21,\"\"))","v":""},{"$f":"IF(N21=0,\"\",IF(AND($F$11>0,$O$21>$O$20,$O$21>=$O$22),$F$11,IF(O21=0.0083,N21*O21,IF(O21=0.007,N21*O21,\"\"))))","v":""},{"$f":"IF(N21=0,0,IF($G$11>0,IF(S20=0,G11,\"\"),IF(AND(OR($C$10>0,$C$11>0,$C$12>0),$O$21>$O$20,$O$21>=$O$22),(IF($C$10>0,$C$10*O21/2000,IF($C$11>0,$C$11*365*O21/2000,IF($C$12>0,$C$12*365*O21*N21/2000)))),IF(AND($F$11>0,$O$21>$O$20,$O$21>=$O$22),$F$11*8760/2000,IF(AND(OR($C$10=\"\",$C$10=0),OR($C$11=\"\",$C$11=0),OR($C$12=\"\",$C$12=0),$F$11=\"\"),IF(R21=\"\",Q21*8760/2000,R21*8760/2000),\"\")))))","v":0},{"$f":"IF(N21=\"\",\"\",SUM((IFERROR(MATCH(M21,$G$22,0)*$I$22*$J$22/2000,0)),(IFERROR(MATCH(M21,$G$36,0)*$I$36*$J$36/2000,0)),(IFERROR(MATCH(M21,$G$51,0)*$I$51*$J$51/2000,0)),(IFERROR(MATCH(M21,$G$66,0)*$I$66*$J$66/2000,0)),(IFERROR(MATCH(M21,$G$81,0)*$I$81*$J$81/2000,0)),(IFERROR(MATCH(M21,$G$97,0)*$I$97*$J$97/2000,0)),(IFERROR(MATCH(M21,$G$112,0)*$I$112*$J$112/2000,0)),(IFERROR(MATCH(M21,$G$127,0)*$I$127*$J$127/2000,0)),(IFERROR(MATCH(M21,$G$142,0)*$I$142*$J$142/2000,0)),(IFERROR(MATCH(M21,$G$157,0)*$I$157*$J$157/2000,0))))","v":0}]
[null,"County:",null,null,{"$f":"IF($C$4>0,\"AP-3 EP-1\",\"\")","v":""},{"$f":"IF($C$4>0,\"AP-3 EU-1\",\"\")","v":""},{"$f":"IF(C24=\"\",\"\",C5 & \" - \"&C24)","v":""},null,null,{"$f":"IF(C25=\"\",\"\",IF(C25=\"yes\",LOOKUP(G22,'Emission Factors'!$A$12:$A$17,'Emission Factors'!$D$12:$D$17),LOOKUP(G22,'Emission Factors'!$A$5:$A$10,'Emission Factors'!$D$5:$D$10)))","v":""},{"$f":"IF(C25=\"\",\"\",IF(C25=\"yes\",LOOKUP(G22,'Emission Factors'!$A$12:$A$17,'Emission Factors'!$F$12:$F$17),LOOKUP(G22,'Emission Factors'!$A$5:$A$10,'Emission Factors'!$F$5:$F$10)))","v":""},null,{"$f":"$C$5 & \" - Natural Gas\"","v":" - Natural Gas"},{"$f":"N7","v":0},{"$f":"IF(N22=0,0,IF(MAX((IFERROR(OFFSET($G$21,MATCH(M22,$G$22,0),3),0)),((IFERROR(OFFSET($G$35,MATCH(M22,$G$36,0),3),0))),((IFERROR(OFFSET($G$50,MATCH(M22,$G$51,0),3),0))),((IFERROR(OFFSET($G$65,MATCH(M22,$G$66,0),3),0))),((IFERROR(OFFSET($G$80,MATCH(M22,$G$81,0),3),0))),((IFERROR(OFFSET($G$96,MATCH(M22,$G$97,0),3),0))),((IFERROR(OFFSET($G$111,MATCH(M22,$G$112,0),3),0))),((IFERROR(OFFSET($G$126,MATCH(M22,$G$127,0),3),0))),((IFERROR(OFFSET($G$141,MATCH(M22,$G$142,0),3),0))),((IFERROR(OFFSET($G$156,MATCH(M22,$G$157,0),3),0))))=0,0,(MAX((IFERROR(OFFSET($G$21,MATCH(M22,$G$22,0),3),0)),((IFERROR(OFFSET($G$35,MATCH(M22,$G$36,0),3),0))),((IFERROR(OFFSET($G$50,MATCH(M22,$G$51,0),3),0))),((IFERROR(OFFSET($G$65,MATCH(M22,$G$66,0),3),0))),((IFERROR(OFFSET($G$80,MATCH(M22,$G$81,0),3),0))),((IFERROR(OFFSET($G$96,MATCH(M22,$G$97,0),3),0))),((IFERROR(OFFSET($G$111,MATCH(M22,$G$112,0),3),0))),((IFERROR(OFFSET($G$126,MATCH(M22,$G$127,0),3),0))),((IFERROR(OFFSET($G$141,MATCH(M22,$G$142,0),3),0))),((IFERROR(OFFSET($G$156,MATCH(M22,$G$157,0),3),0)))))))","v":0},"lb/ton",{"$f":"IF(O22=0.27,N22*O22,IF(O22=1.54,N22*O22,\"\"))","v":""},{"$f":"IF(N22=0,\"\",IF(AND($F$11>0,$O$22>$O$20,$O$22>$O$20),$F$11,IF(O22=0.0083,N22*O22,IF(O22=0.007,N22*O22,\"\"))))","v":""},{"$f":"IF(N22=0,0,IF($G$11>0,IF(AND(S20=0,S21=0),\"\"),IF(AND(OR($C$10>0,$C$11>0,$C$12>0),$O$22>$O$20,$O$22>$O$20),(IF($C$10>0,$C$10*O22/2000,IF($C$11>0,$C$11*365*O22/2000,IF($C$12>0,$C$12*365*O22*N22/2000)))),IF(AND($F$11>0,$O$22>$O$20,$O$22>$O$20),$F$11*8760/2000,IF(AND(OR($C$10=\"\",$C$10=0),OR($C$11=\"\",$C$11=0),OR($C$12=\"\",$C$12=0),$F$11=\"\"),IF(R22=\"\",Q22*8760/2000,R22*8760/2000),\"\")))))","v":0},{"$f":"IF(N22=\"\",\"\",SUM((IFERROR(MATCH(M22,$G$22,0)*$I$22*$J$22/2000,0)),(IFERROR(MATCH(M22,$G$36,0)*$I$36*$J$36/2000,0)),(IFERROR(MATCH(M22,$G$51,0)*$I$51*$J$51/2000,0)),(IFERROR(MATCH(M22,$G$66,0)*$I$66*$J$66/2000,0)),(IFERROR(MATCH(M22,$G$81,0)*$I$81*$J$81/2000,0)),(IFERROR(MATCH(M22,$G$97,0)*$I$97*$J$97/2000,0)),(IFERROR(MATCH(M22,$G$112,0)*$I$112*$J$112/2000,0)),(IFERROR(MATCH(M22,$G$127,0)*$I$127*$J$127/2000,0)),(IFERROR(MATCH(M22,$G$142,0)*$I$142*$J$142/2000,0)),(IFERROR(MATCH(M22,$G$157,0)*$I$157*$J$157/2000,0))))","v":0}]
[null,"Production Period (Dates):",null,null,"Liquid Asphalt Heater",null,null,{"$f":"IF(C24=\"natural gas\", \"(MMCF/hr)\",\"(gallons/hr)\")","v":"(gallons/hr)"},{"$f":"IF(C24=\"natural gas\", \"(MMCF/yr)\",\"(gallons/yr)\")","v":"(gallons/yr)"},null,null,null,"Silo Filling",{"$f":"N11","v":0},{"$f":"IF(N23=0,0,IF(N23=0,0,LOOKUP(M23,'Emission Factors'!$A$23:$A$25,'Emission Factors'!$D$23:$D$25)))","v":0},"lb/ton",{"$f":"N23*O23","v":0},null,{"$f":"IF($G$11>0,\"\",IF($C$10>0,$C$10*O23/2000,IF($C$11>0,$C$11*365*O23/2000,IF($C$12>0,$C$12*365*O23*N23/2000,IF($F$11>0,\"\",IF(R23=\"\",Q23*8760/2000,R23*8760/2000))))))","v":0},{"$f":"(P11*O23/2000)","v":0}]
[null,"Type of Fuel Used:",null,null,{"$f":"IF($C$4>0,\"AP-3 EP-2\",\"\")","v":""},{"$f":"IF($C$4>0,\"AP-3 EU-2\",\"\")","v":""},{"$f":"IF(C24=\"\",\"\",C24& \" Fired Heater\")","v":""},null,null,null,null,null,"Truck Loadout",{"$f":"N12","v":0},{"$f":"IF(N24=0,0,IF(N24=0,0,LOOKUP(M24,'Emission Factors'!$A$23:$A$25,'Emission Factors'!$D$23:$D$25)))","v":0},"lb/ton",{"$f":"N24*O24","v":0},null,{"$f":"IF($G$11>0,\"\",IF($C$10>0,$C$10*O24/2000,IF($C$11>0,$C$11*365*O24/2000,IF($C$12>0,$C$12*365*O24*N24/2000,IF($F$11>0,\"\",IF(R24=\"\",Q24*8760/2000,R24*8760/2000))))))","v":0},{"$f":"(P12*O24/2000)","v":0}]
[null,"Is Your Operation Controlled?:",null,null,"Silo Filling, Truck Loadout, Aggregate Transfer",null,null,"(tons/hr)","(tons/yr)",null,null,null,"Cold Aggregate Bins",{"$f":"N13","v":0},{"$f":"IF(N25=0,0,IF(N25=0,0,LOOKUP(M25,'Emission Factors'!A23:A25,'Emission Factors'!D23:D25)))","v":0},"lb/ton",{"$f":"N25*O25","v":0},null,{"$f":"IF($G$11>0,\"\",IF($C$10>0,$C$10*O25/2000,IF($C$11>0,$C$11*365*O25/2000,IF($C$12>0,$C$12*365*O25*N25/2000,IF($F$11>0,\"\",IF(R25=\"\",Q25*8760/2000,R25*8760/2000))))))","v":0},{"$f":"(P13*O25/2000)","v":0}]
[null,null,null,null,{"$f":"IF($C$4>0,\"AP-3 EP-3\",\"\")","v":""},{"$f":"IF($C$4>0,\"AP-3 EU-3\",\"\")","v":""},{"$f":"IF(C5=\"\",\"\",\"Silo Filling\")","v":""},null,null,null,null,null,"PM10"]
[null,null,null,null,{"$f":"IF($C$4>0,\"AP-3 EP-3\",\"\")","v":""},{"$f":"IF($C$4>0,\"AP-3 EU-4\",\"\")","v":""},{"$f":"IF(C5=\"\",\"\",\"Truck Loadout\")","v":""},null,null,null,null,null,{"$f":"$C$5 & \" - Fuel Oil\"","v":" - Fuel Oil"},{"$f":"N5","v":0},{"$f":"IF(N27=0,0,IF(MAX((IFERROR(OFFSET($G$21,MATCH(M27,$G$22,0),4),0)),((IFERROR(OFFSET($G$35,MATCH(M27,$G$36,0),4),0))),((IFERROR(OFFSET($G$50,MATCH(M27,$G$51,0),4),0))),((IFERROR(OFFSET($G$65,MATCH(M27,$G$66,0),4),0))),((IFERROR(OFFSET($G$80,MATCH(M27,$G$81,0),3),0))),((IFERROR(OFFSET($G$96,MATCH(M27,$G$97,0),4),0))),((IFERROR(OFFSET($G$111,MATCH(M27,$G$112,0),4),0))),((IFERROR(OFFSET($G$126,MATCH(M27,$G$127,0),4),0))),((IFERROR(OFFSET($G$141,MATCH(M27,$G$142,0),4),0))),((IFERROR(OFFSET($G$156,MATCH(M27,$G$157,0),4),0))))=0,0,(MAX((IFERROR(OFFSET($G$21,MATCH(M27,$G$22,0),4),0)),((IFERROR(OFFSET($G$35,MATCH(M27,$G$36,0),4),0))),((IFERROR(OFFSET($G$50,MATCH(M27,$G$51,0),4),0))),((IFERROR(OFFSET($G$65,MATCH(M27,$G$66,0),4),0))),((IFERROR(OFFSET($G$80,MATCH(M27,$G$81,0),4),0))),((IFERROR(OFFSET($G$96,MATCH(M27,$G$97,0),4),0))),((IFERROR(OFFSET($G$111,MATCH(M27,$G$112,0),4),0))),((IFERROR(OFFSET($G$126,MATCH(M27,$G$127,0),4),0))),((IFERROR(OFFSET($G$141,MATCH(M27,$G$142,0),4),0))),((IFERROR(OFFSET($G$156,MATCH(M27,$G$157,0),4),0)))))))","v":0},{"$f":"IF(O27=\"\",\"\",\"lb/ton\")","v":"lb/ton"},{"$f":"IF(O27=4.5,N27*O27,IF(O27=6.5,N27*O27,\"\"))","v":""},{"$f":"IF(N27=0,\"\",IF(AND($F$12>0,$O$27>=$O$28,$O$27>=$O$29),$F$12,IF(O27=0.0098,N27*O27,IF(O27=0.023,N27*O27,\"\"))))","v":""},{"$f":"IF(N27=0,0,IF($G$12>0,$G$12,IF(AND(OR($C$10>0,$C$11>0,$C$12>0),$O$27>=$O$28,$O$27>=$O$29),(IF($C$10>0,$C$10*O27/2000,IF($C$11>0,$C$11*365*O27/2000,IF($C$12>0,$C$12*365*O27*N27/2000)))),IF(AND($F$12>0,$O$27>=$O$28,$O$27>=$O$29),$F$12*8760/2000,IF(AND(OR($C$10=\"\",$C$10=0),OR($C$11=\"\",$C$11=0),OR($C$12=\"\",$C$12=0),$F$12=\"\"),IF(R27=\"\",Q27*8760/2000,R27*8760/2000),\"\")))))","v":0},{"$f":"IF(N27=\"\",\"\",SUM((IFERROR(MATCH(M27,$G$22,0)*$I$22*$K$22/2000,0)),(IFERROR(MATCH(M27,$G$36,0)*$I$36*$K$36/2000,0)),(IFERROR(MATCH(M27,$G$51,0)*$I$51*$K$51/2000,0)),(IFERROR(MATCH(M27,$G$66,0)*$I$66*$K$66/2000,0)),(IFERROR(MATCH(M27,$G$81,0)*$I$81*$K$81/2000,0)),(IFERROR(MATCH(M27,$G$97,0)*$I$97*$K$97/2000,0)),(IFERROR(MATCH(M27,$G$112,0)*$I$112*$K$112/2000,0)),(IFERROR(MATCH(M27,$G$127,0)*$I$127*$K$127/2000,0)),(IFERROR(MATCH(M27,$G$142,0)*$I$142*$K$142/2000,0)),(IFERROR(MATCH(M27,$G$157,0)*$I$157*$K$157/2000,0))))","v":0}]
[null,null,null,null,{"$f":"IF($C$4>0,\"AP-3 EP-3\",\"\")","v":""},{"$f":"IF($C$4>0,\"AP-3 EU-5\",\"\")","v":""},{"$f":"IF(C5=\"\",\"\",\"Cold Aggregate Bins\")","v":""},null,null,null,null,null,{"$f":"$C$5 & \" - Waste Oil\"","v":" - Waste Oil"},{"$f":"N6","v":0},{"$f":"IF(N28=0,0,IF(MAX((IFERROR(OFFSET($G$21,MATCH(M28,$G$22,0),4),0)),((IFERROR(OFFSET($G$35,MATCH(M28,$G$36,0),4),0))),((IFERROR(OFFSET($G$50,MATCH(M28,$G$51,0),4),0))),((IFERROR(OFFSET($G$65,MATCH(M28,$G$66,0),4),0))),((IFERROR(OFFSET($G$80,MATCH(M28,$G$81,0),3),0))),((IFERROR(OFFSET($G$96,MATCH(M28,$G$97,0),4),0))),((IFERROR(OFFSET($G$111,MATCH(M28,$G$112,0),4),0))),((IFERROR(OFFSET($G$126,MATCH(M28,$G$127,0),4),0))),((IFERROR(OFFSET($G$141,MATCH(M28,$G$142,0),4),0))),((IFERROR(OFFSET($G$156,MATCH(M28,$G$157,0),4),0))))=0,0,(MAX((IFERROR(OFFSET($G$21,MATCH(M28,$G$22,0),4),0)),((IFERROR(OFFSET($G$35,MATCH(M28,$G$36,0),4),0))),((IFERROR(OFFSET($G$50,MATCH(M28,$G$51,0),4),0))),((IFERROR(OFFSET($G$65,MATCH(M28,$G$66,0),4),0))),((IFERROR(OFFSET($G$80,MATCH(M28,$G$81,0),4),0))),((IFERROR(OFFSET($G$96,MATCH(M28,$G$97,0),4),0))),((IFERROR(OFFSET($G$111,MATCH(M28,$G$112,0),4),0))),((IFERROR(OFFSET($G$126,MATCH(M28,$G$127,0),4),0))),((IFERROR(OFFSET($G$141,MATCH(M28,$G$142,0),4),0))),((IFERROR(OFFSET($G$156,MATCH(M28,$G$157,0),4),0)))))))","v":0},"lb/ton",{"$f":"IF(O28=4.5,N28*O28,IF(O28=6.5,N28*O28,\"\"))","v":""},{"$f":"IF(N28=0,\"\",IF(AND($F$12>0,$O$28>$O$27,$O$28>=$O$29),$F$12,IF(O28=0.0098,N28*O28,IF(O28=0.023,N28*O28,\"\"))))","v":""},{"$f":"IF(N28=0,0,IF($G$12>0,IF(S27=0,$G$12,\"\"),IF(AND(OR($C$10>0,$C$11>0,$C$12>0),$O$28>$O$27,$O$28>=$O$29),(IF($C$10>0,$C$10*O28/2000,IF($C$11>0,$C$11*365*O28/2000,IF($C$12>0,$C$12*365*O28*N28/2000)))),IF(AND($F$12>0,$O$28>$O$27,$O$28>=$O$29),$F$12*8760/2000,IF(AND(OR($C$10=\"\",$C$10=0),OR($C$11=\"\",$C$11=0),OR($C$12=\"\",$C$12=0),$F$12=\"\"),IF(R28=\"\",Q28*8760/2000,R28*8760/2000),\"\")))))","v":0},{"$f":"IF(N28=\"\",\"\",SUM((IFERROR(MATCH(M28,$G$22,0)*$I$22*$K$22/2000,0)),(IFERROR(MATCH(M28,$G$36,0)*$I$36*$K$36/2000,0)),(IFERROR(MATCH(M28,$G$51,0)*$I$51*$K$51/2000,0)),(IFERROR(MATCH(M28,$G$66,0)*$I$66*$K$66/2000,0)),(IFERROR(MATCH(M28,$G$81,0)*$I$81*$K$81/2000,0)),(IFERROR(MATCH(M28,$G$97,0)*$I$97*$K$97/2000,0)),(IFERROR(MATCH(M28,$G$112,0)*$I$112*$K$112/2000,0)),(IFERROR(MATCH(M28,$G$127,0)*$I$127*$K$127/2000,0)),(IFERROR(MATCH(M28,$G$142,0)*$I$142*$K$142/2000,0)),(IFERROR(MATCH(M28,$G$157,0)*$I$157*$K$157/2000,0))))","v":0}]
[null,null,null,null,null,null,null,null,null,null,null,null,{"$f":"$C$5 & \" - Natural Gas\"","v":" - Natural Gas"},{"$f":"N7","v":0},{"$f":"IF(N29=0,0,IF(MAX((IFERROR(OFFSET($G$21,MATCH(M29,$G$22,0),4),0)),((IFERROR(OFFSET($G$35,MATCH(M29,$G$36,0),4),0))),((IFERROR(OFFSET($G$50,MATCH(M29,$G$51,0),4),0))),((IFERROR(OFFSET($G$65,MATCH(M29,$G$66,0),4),0))),((IFERROR(OFFSET($G$80,MATCH(M29,$G$81,0),3),0))),((IFERROR(OFFSET($G$96,MATCH(M29,$G$97,0),4),0))),((IFERROR(OFFSET($G$111,MATCH(M29,$G$112,0),4),0))),((IFERROR(OFFSET($G$126,MATCH(M29,$G$127,0),4),0))),((IFERROR(OFFSET($G$141,MATCH(M29,$G$142,0),4),0))),((IFERROR(OFFSET($G$156,MATCH(M29,$G$157,0),4),0))))=0,0,(MAX((IFERROR(OFFSET($G$21,MATCH(M29,$G$22,0),4),0)),((IFERROR(OFFSET($G$35,MATCH(M29,$G$36,0),4),0))),((IFERROR(OFFSET($G$50,MATCH(M29,$G$51,0),4),0))),((IFERROR(OFFSET($G$65,MATCH(M29,$G$66,0),4),0))),((IFERROR(OFFSET($G$80,MATCH(M29,$G$81,0),4),0))),((IFERROR(OFFSET($G$96,MATCH(M29,$G$97,0),4),0))),((IFERROR(OFFSET($G$111,MATCH(M29,$G$112,0),4),0))),((IFERROR(OFFSET($G$126,MATCH(M29,$G$127,0),4),0))),((IFERROR(OFFSET($G$141,MATCH(M29,$G$142,0),4),0))),((IFERROR(OFFSET($G$156,MATCH(M29,$G$157,0),4),0)))))))","v":0},"lb/ton",{"$f":"IF(O29=4.5,N29*O29,IF(O29=6.5,N29*O29,\"\"))","v":""},{"$f":"IF(N29=0,\"\",IF(AND($F$12>0,$O$29>$O$27,$O$29>$O$28),$F$12,IF(O29=0.0098,N29*O29,IF(O29=0.023,N29*O29,\"\"))))","v":""},{"$f":"IF(N29=0,0,IF($G$12>0,IF(AND(S27=0,S28=0),$G$12,\"\"),IF(AND(OR($C$10>0,$C$11>0,$C$12>0),$O$29>$O$27,$O$29>$O$28),(IF($C$10>0,$C$10*O29/2000,IF($C$11>0,$C$11*365*O29/2000,IF($C$12>0,$C$12*365*O29*N29/2000)))),IF(AND($F$12>0,$O$29>$O$27,$O$29>$O$28),$F$12*8760/2000,IF(AND(OR($C$10=\"\",$C$10=0),OR($C$11=\"\",$C$11=0),OR($C$12=\"\",$C$12=0),$F$12=\"\"),IF(R29=\"\",Q29*8760/2000,R29*8760/2000),\"\")))))","v":0},{"$f":"IF(N29=\"\",\"\",SUM((IFERROR(MATCH(M29,$G$22,0)*$I$22*$K$22/2000,0)),(IFERROR(MATCH(M29,$G$36,0)*$I$36*$K$36/2000,0)),(IFERROR(MATCH(M29,$G$51,0)*$I$51*$K$51/2000,0)),(IFERROR(MATCH(M29,$G$66,0)*$I$66*$K$66/2000,0)),(IFERROR(MATCH(M29,$G$81,0)*$I$81*$K$81/2000,0)),(IFERROR(MATCH(M29,$G$97,0)*$I$97*$K$97/2000,0)),(IFERROR(MATCH(M29,$G$112,0)*$I$112*$K$112/2000,0)),(IFERROR(MATCH(M29,$G$127,0)*$I$127*$K$127/2000,0)),(IFERROR(MATCH(M29,$G$142,0)*$I$142*$K$142/2000,0)),(IFERROR(MATCH(M29,$G$157,0)*$I$157*$K$157/2000,0))))","v":0}]
[null,null,null,null,"Stock Pile Area",null,null,null,null,null,null,null,"Silo Filling",{"$f":"N11","v":0},{"$f":"IF(N30=0,0,IF(N30=0,0,LOOKUP(M30,'Emission Factors'!$A$23:$A$25,'Emission Factors'!$F$23:$F$25)))","v":0},"lb/ton",{"$f":"N30*O30","v":0},null,{"$f":"IF($G$12>0,\"\",IF($C$10>0,$C$10*O30/2000,IF($C$11>0,$C$11*365*O30/2000,IF($C$12>0,$C$12*365*O30*N30/2000,IF($F$11>0,\"\",IF(R30=\"\",Q30*8760/2000,R30*8760/2000))))))","v":0},{"$f":"(P11*O30/2000)","v":0}]
[null,null,null,null,null,"Emission Unit #","Maximum Storage Area (acres)","Actual Storage Area (acres)","Actual Days in Existence (days)",null,null,null,"Truck Loadout",{"$f":"N12","v":0},{"$f":"IF(N31=0,0,IF(N31=0,0,LOOKUP(M31,'Emission Factors'!$A$23:$A$25,'Emission Factors'!$F$23:$F$25)))","v":0},"lb/ton",{"$f":"N31*O31","v":0},null,{"$f":"IF($G$12>0,\"\",IF($C$10>0,$C$10*O31/2000,IF($C$11>0,$C$11*365*O31/2000,IF($C$12>0,$C$12*365*O31*N31/2000,IF($F$11>0,\"\",IF(R31=\"\",Q31*8760/2000,R31*8760/2000))))))","v":0},{"$f":"(P12*O31/2000)","v":0}]
[null,null,null,null,null,null,null,null,null,null,null,null,"Cold Aggregate Bins",{"$f":"N13","v":0},{"$f":"IF(N32=0,0,IF(N32=0,0,LOOKUP(M32,'Emission Factors'!$A$23:$A$25,'Emission Factors'!$F$23:$F$25)))","v":0},"lb/ton",{"$f":"N32*O32","v":0},null,{"$f":"IF($G$12>0,\"\",IF($C$10>0,$C$10*O32/2000,IF($C$11>0,$C$11*365*O32/2000,IF($C$12>0,$C$12*365*O32*N32/2000,IF($F$11>0,\"\",IF(R32=\"\",Q32*8760/2000,R32*8760/2000))))))","v":0},{"$f":"(P13*O32/2000)","v":0}]
[]
[null,{"$f":"IF($C$4>1,\"Asphalt Plant\",\"\")","v":""},{"$f":"IF($C$4>1,\"Site 2\",\"\")","v":""},null,{"$f":"IF($C$4>1,\"Emission Point #\",\"\")","v":""},{"$f":"IF($C$4>1,\"Emission    Unit #\",\"\")","v":""},{"$f":"IF($C$4>1,\"Process\",\"\")","v":""},{"$f":"IF($C$4>1,\"Maximum Hourly     Design Rate\",\"\")","v":""},{"$f":"IF($C$4>1,('Facility Information'!G20&\" Annual Throughput\"),\"\")","v":""},null,null,null,null,"Storage Pile","Max Design Rate (acres)","Emission Factor   (lb/acre-day)","Potential Uncontrolled Emissions (lb/hr)","Potential Controlled Emissions (lb/hr)","Potential Annual Emissions (tons/yr)","Actual Annual Emissions (tons/yr)"]
[null,{"$f":"IF($C$4>1,\"Site Name\",\"\")","v":""},null,null,{"$f":"IF($C$4>1,\"Dryers, Hot Screens, Mixer\",\"\")","v":""},null,null,{"$f":"IF($C$4>1,\"(tons/hr)\",\"\")","v":""},{"$f":"IF($C$4>1,\"(tons/yr)\",\"\")","v":""},"PM2.5","PM10",null,null,"PM2.5/PM10",{"$f":"N15","v":0},3.64,{"$f":"O35*P35*(1/24)","v":0},null,{"$f":"O35*P35*365/2000","v":0},{"$f":"O15*P35/2000","v":0}]
[null,{"$f":"IF($C$4>1,\"County:\",\"\")","v":""},null,null,{"$f":"IF(C38=\"\",\"\",\"AP-3 EP-1\")","v":""},{"$f":"IF(C38=\"\",\"\",\"AP-3 EU-1\")","v":""},{"$f":"IF(C38=\"\",\"\",C5 & \" - \"&C38)","v":""},null,null,{"$f":"IF(C39=\"\",\"\",IF(C39=\"yes\",LOOKUP(G36,'Emission Factors'!$A$12:$A$17,'Emission Factors'!$D$12:$D$17),LOOKUP(G36,'Emission Factors'!$A$5:$A$10,'Emission Factors'!$D$5:$D$10)))","v":""},{"$f":"IF(C39=\"\",\"\",IF(C39=\"yes\",LOOKUP(G36,'Emission Factors'!$A$12:$A$17,'Emission Factors'!$F$12:$F$17),LOOKUP(G36,'Emission Factors'!$A$5:$A$10,'Emission Factors'!$F$5:$F$10)))","v":""}]
[null,{"$f":"IF($C$4>1,\"Production Period (Dates):\",\"\")","v":""},null,null,{"$f":"IF($C$4>1,\"Liquid Asphalt Heater\",\"\")","v":""},null,null,{"$f":"IF($C$4>1,IF(C38=\"natural gas\",\"MMCF/hr\",\"(gallons/hr)\"),\"\")","v":""},{"$f":"IF($C$4>1,IF(C38=\"natural gas\",\"MMCF/yr\",\"(gallons/yr)\"),\"\")","v":""},null,null,null,"SO2"]
[null,{"$f":"IF($C$4>1,\"Type of Fuel Used:\",\"\")","v":""},null,null,{"$f":"IF(C38=\"\",\"\",\"AP-3 EP-2\")","v":""},{"$f":"IF(C38=\"\",\"\",\"AP-3 EU-2\")","v":""},{"$f":"IF(C38=\"\",\"\",C38& \" Fired Heater\")","v":""},null,null,null,null,null,{"$f":"$C$5 & \" - Fuel Oil\"","v":" - Fuel Oil"},{"$f":"$N$5","v":0},{"$f":"IF(N38=0,0,LOOKUP(M38,'Emission Factors'!$A$5:$A$10,'Emission Factors'!$H$5:$H$10))","v":0},{"$f":"IF(O38=\"\",\"\",\"lb/ton\")","v":"lb/ton"},{"$f":"N38*O38","v":0},{"$f":"IF(N38=0,\"\",IF(AND($F$13>0,N39=0),$F$13,\"\"))","v":""},{"$f":"IF(N38=0,0,IF($G$13>0,$G$13,IF(OR(AND($C$10>0,$N$39>0),AND($C$11>0,$N$39>0),AND($C$12>0,$N$39>0)),\"\",IF($C$10>0,$C$10*O38/2000,IF($C$11>0,$C$11*365*O38/2000,IF($C$12>0,$C$12*365*O38*N38/2000,IF(AND(N39>0,F13>0),\"\",IF(R38=\"\",Q38*8760/2000,R38*8760/2000))))))))","v":0},{"$f":"P5*O38/2000","v":0}]
[null,{"$f":"IF($C$4>1,\"Is Your Operation Controlled?:\",\"\")","v":""},null,null,{"$f":"IF($C$4>1,\"Silo Filling, Truck Loadout, Aggregate Transfer\",\"\")","v":""},null,null,{"$f":"IF($C$4>1,\"(tons/hr)\",\"\")","v":""},{"$f":"IF($C$4>1,\"(tons/yr)\",\"\")","v":""},null,null,null,{"$f":"$C$5 & \" - Waste Oil\"","v":" - Waste Oil"},{"$f":"$N$6","v":0},{"$f":"IF(N39=0,0,LOOKUP(M39,'Emission Factors'!$A$5:$A$10,'Emission Factors'!$H$5:$H$10))","v":0},{"$f":"IF(O39=\"\",\"\",\"lb/ton\")","v":"lb/ton"},{"$f":"N39*O39","v":0},{"$f":"IF(N39=0,\"\",IF($F$13>0,$F$13,\"\"))","v":""},{"$f":"IF(N39=0,0,IF($G$13>0,IF(S38=0,G13,\"\"),IF($C$10>0,$C$10*O39/2000,IF($C$11>0,$C$11*365*O39/2000,IF($C$12>0,$C$12*365*O39*N39/2000,IF(R39=\"\",Q39*8760/2000,R39*8760/2000))))))","v":0},{"$f":"P6*O39/2000","v":0}]
[null,null,null,null,{"$f":"IF($C$4>1,\"AP-3 EP-3\",\"\")","v":""},{"$f":"IF($C$4>1,\"AP-3 EU-3\",\"\")","v":""},{"$f":"IF($C$4>1,\"Silo Filling\",\"\")","v":""},null,null,null,null,null,{"$f":"$C$5 & \" - Natural Gas\"","v":" - Natural Gas"},{"$f":"$N$7","v":0},{"$f":"IF(N40=0,0,LOOKUP(M40,'Emission Factors'!$A$5:$A$10,'Emission Factors'!$H$5:$H$10))","v":0},{"$f":"IF(O40=\"\",\"\",\"lb/ton\")","v":"lb/ton"},{"$f":"N40*O40","v":0},{"$f":"IF(N40=0,\"\",IF(AND($F$13>0,N38=0,N39=0),$F$13,\"\"))","v":""},{"$f":"IF(N40=0,0,IF($G$13>0,IF(AND(S38=0,S39=0),G13,\"\"),IF(OR(AND($C$10>0,$N$39>0),AND($C$11>0,$N$39>0),AND($C$12>0,$N$39>0)),\"\",IF(OR(AND($C$10>0,$N$38>0),AND($C$11>0,$N$38>0),AND($C$12>0,$N$38>0)),\"\",IF($C$10>0,$C$10*O40/2000,IF($C$11>0,$C$11*365*O40/2000,IF($C$12>0,$C$12*365*O40*N40/2000,IF(AND(N39>0,N38>0,F13>0),\"\",IF(R40=\"\",Q40*8760/2000,R40*8760/2000)))))))))","v":0},{"$f":"P7*O40/2000","v":0}]
[null,null,null,null,{"$f":"IF($C$4>1,\"AP-3 EP-3\",\"\")","v":""},{"$f":"IF($C$4>1,\"AP-3 EU-4\",\"\")","v":""},{"$f":"IF($C$4>1,\"Truck Loadout\",\"\")","v":""},null,null,null,null,null,"NOx"]
[null,null,null,null,{"$f":"IF($C$4>1,\"AP-3 EP-3\",\"\")","v":""},{"$f":"IF($C$4>1,\"AP-3 EU-5\",\"\")","v":""},{"$f":"IF($C$4>1,\"Cold Aggregate Bins\",\"\")","v":""},null,null,null,null,null,{"$f":"$C$5 & \" - Fuel Oil\"","v":" - Fuel Oil"},{"$f":"$N$5","v":0},{"$f":"IF(N42=0,0,LOOKUP(M42,'Emission Factors'!$A$5:$A$10,'Emission Factors'!$J$5:$J$10))","v":0},{"$f":"IF(O42=\"\",\"\",\"lb/ton\")","v":"lb/ton"},{"$f":"N42*O42","v":0},{"$f":"IF(N42=0,\"\",IF(AND($F$14>0,N43=0),$F$14,\"\"))","v":""},{"$f":"IF(N42=0,0,IF($G$14>0,$G$14,IF(OR(AND($C$10>0,$N$43>0),AND($C$11>0,$N$43>0),AND($C$12>0,$N$43>0)),\"\",IF($C$10>0,$C$10*O42/2000,IF($C$11>0,$C$11*365*O42/2000,IF($C$12>0,$C$12*365*O42*N42/2000,IF(AND(N43>0,F14>0),\"\",IF(R42=\"\",Q42*8760/2000,R42*8760/2000))))))))","v":0},{"$f":"P5*O42/2000","v":0}]
[null,null,null,null,null,null,null,null,null,null,null,null,{"$f":"$C$5 & \" - Waste Oil\"","v":" - Waste Oil"},{"$f":"$N$6","v":0},{"$f":"IF(N43=0,0,LOOKUP(M43,'Emission Factors'!$A$5:$A$10,'Emission Factors'!$J$5:$J$10))","v":0},{"$f":"IF(O43=\"\",\"\",\"lb/ton\")","v":"lb/ton"},{"$f":"N43*O43","v":0},{"$f":"IF(N43=0,\"\",IF($F$14>0,$F$14,\"\"))","v":""},{"$f":"IF(N43=0,0,IF($G$14>0,IF(S42=0,G14,\"\"),IF($C$10>0,$C$10*O43/2000,IF($C$11>0,$C$11*365*O43/2000,IF($C$12>0,$C$12*365*O43*N43/2000,IF(R43=\"\",Q43*8760/2000,R43*8760/2000))))))","v":0},{"$f":"P6*O43/2000","v":0}]
[null,null,null,null,{"$f":"IF($C$4>1,\"Stock Pile Area\",\"\")","v":""},null,null,null,null,null,null,null,{"$f":"$C$5 & \" - Natural Gas\"","v":" - Natural Gas"},{"$f":"$N$7","v":0},{"$f":"IF(N44=0,0,LOOKUP(M44,'Emission Factors'!$A$5:$A$10,'Emission Factors'!$J$5:$J$10))","v":0},{"$f":"IF(O44=\"\",\"\",\"lb/ton\")","v":"lb/ton"},{"$f":"N44*O44","v":0},{"$f":"IF(N44=0,\"\",IF(AND($F$14>0,N42=0,N43=0),$F$14,\"\"))","v":""},{"$f":"IF(N44=0,0,IF($G$14>0,IF(AND(S42=0,S43=0),G14,\"\"),IF(OR(AND($C$10>0,$N$43>0),AND($C$11>0,$N$43>0),AND($C$12>0,$N$43>0)),\"\",IF(OR(AND($C$10>0,$N$42>0),AND($C$11>0,$N$42>0),AND($C$12>0,$N$42>0)),\"\",IF($C$10>0,$C$10*O44/2000,IF($C$11>0,$C$11*365*O44/2000,IF($C$12>0,$C$12*365*O44*N44/2000,IF(AND(N42>0,N43>0,F14>0),\"\",IF(R44=\"\",Q44*8760/2000,R44*8760/2000)))))))))","v":0},{"$f":"P7*O44/2000","v":0}]
[null,null,null,null,null,{"$f":"IF($C$4>1,\"Emission Unit #\",\"\")","v":""},{"$f":"IF($C$4>1,\"Maximum Storage Area (acres)\",\"\")","v":""},{"$f":"IF($C$4>1,\"Actual Storage Area (acres)\",\"\")","v":""},{"$f":"IF($C$4>1,\"Actual Days in Existence (days)\",\"\")","v":""},null,null,null,"VOC"]
[null,null,null,null,null,null,null,null,null,null,null,null,{"$f":"$C$5 & \" - Fuel Oil\"","v":" - Fuel Oil"},{"$f":"$N$5","v":0},{"$f":"IF(N46=0,0,LOOKUP(M46,'Emission Factors'!$A$5:$A$10,'Emission Factors'!$L$5:$L$10))","v":0},{"$f":"IF(O46=\"\",\"\",\"lb/ton\")","v":"lb/ton"},{"$f":"N46*O46","v":0},{"$f":"IF(N46=0,\"\",IF(AND($F$15>0,N47=0),$F$15,\"\"))","v":""},{"$f":"IF(N46=0,0,IF($G$15>0,$G$15,IF(OR(AND($C$10>0,$N$47>0),AND($C$11>0,$N$47>0),AND($C$12>0,$N$47>0)),\"\",IF($C$10>0,$C$10*O46/2000,IF($C$11>0,$C$11*365*O46/2000,IF($C$12>0,$C$12*365*O46*N46/2000,IF(AND(N47>0,F15>0),\"\",IF(R46=\"\",Q46*8760/2000,R46*8760/2000))))))))","v":0},{"$f":"P5*O46/2000","v":0}]
[null,null,null,null,null,null,null,null,null,null,null,null,{"$f":"$C$5 & \" - Waste Oil\"","v":" - Waste Oil"},{"$f":"$N$6","v":0},{"$f":"IF(N47=0,0,LOOKUP(M47,'Emission Factors'!$A$5:$A$10,'Emission Factors'!$L$5:$L$10))","v":0},{"$f":"IF(O47=\"\",\"\",\"lb/ton\")","v":"lb/ton"},{"$f":"N47*O47","v":0},{"$f":"IF(N47=0,\"\",IF($F$15>0,$F$15,\"\"))","v":""},{"$f":"IF(N47=0,0,IF($G$15>0,IF(S46=0,G15,\"\"),IF($C$10>0,$C$10*O47/2000,IF($C$11>0,$C$11*365*O47/2000,IF($C$12>0,$C$12*365*O47*N47/2000,IF(R47=\"\",Q47*8760/2000,R47*8760/2000))))))","v":0},{"$f":"P6*O47/2000","v":0}]
[null,{"$f":"IF($C$4>2,\"Asphalt Plant\",\"\")","v":""},{"$f":"IF($C$4>2,\"Site 3\",\"\")","v":""},null,{"$f":"IF($C$4>2,\"Emission Point #\",\"\")","v":""},{"$f":"IF($C$4>2,\"Emission    Unit #\",\"\")","v":""},{"$f":"IF($C$4>2,\"Process\",\"\")","v":""},{"$f":"IF($C$4>2,\"Maximum Hourly     Design Rate\",\"\")","v":""},{"$f":"IF($C$4>2,('Facility Information'!G35&\" Annual Throughput\"),\"\")","v":""},null,null,null,{"$f":"$C$5 & \" - Natural Gas\"","v":" - Natural Gas"},{"$f":"$N$7","v":0},{"$f":"IF(N48=0,0,LOOKUP(M48,'Emission Factors'!$A$5:$A$10,'Emission Factors'!$L$5:$L$10))","v":0},{"$f":"IF(O48=\"\",\"\",\"lb/ton\")","v":"lb/ton"},{"$f":"N48*O48","v":0},{"$f":"IF(N48=0,\"\",IF(AND($F$15>0,N46=0,N47=0),$F$15,\"\"))","v":""},{"$f":"IF(N48=0,0,IF($G$15>0,IF(AND(S46=0,S47=0),G15,\"\"),IF(OR(AND($C$10>0,$N$47>0),AND($C$11>0,$N$47>0),AND($C$12>0,$N$47>0)),\"\",IF(OR(AND($C$10>0,$N$46>0),AND($C$11>0,$N$46>0),AND($C$12>0,$N$46>0)),\"\",IF($C$10>0,$C$10*O48/2000,IF($C$11>0,$C$11*365*O48/2000,IF($C$12>0,$C$12*365*O48*N48/2000,IF(AND(N46>0,N47>0,F15>0),\"\",IF(R48=\"\",Q48*8760/2000,R48*8760/2000)))))))))","v":0},{"$f":"P7*O48/2000","v":0}]
[null,null,null,null,null,null,null,null,null,null,null,null,{"$f":"\"Natural Gas Fired Heater\"","v":"Natural Gas Fired Heater"},{"$f":"N10","v":0},{"$f":"IF(N49=0,0,0.026)","v":0},{"$f":"IF(O49=\"\",\"\",\"lb/MMCF\")","v":"lb/MMCF"},{"$f":"N49*O49","v":0},null,{"$f":"IF(N49=0,0,IF(R49=\"\",Q49*8760/2000,R49*8760/2000))","v":0},{"$f":"($P$10*O49/2000)","v":0}]
[null,{"$f":"IF($C$4>2,\"Site Name\",\"\")","v":""},null,null,{"$f":"IF($C$4>2,\"Dryers, Hot Screens, Mixer\",\"\")","v":""},null,null,{"$f":"IF($C$4>2,\"(tons/hr)\",\"\")","v":""},{"$f":"IF($C$4>2,\"(tons/yr)\",\"\")","v":""},"PM2.5","PM10",null,"Silo Filling",{"$f":"N11","v":0},{"$f":"IF(N50=0,0,IF(N50=0,0,LOOKUP(M50,'Emission Factors'!$A$23:$A$25,'Emission Factors'!$L$23:$L$25)))","v":0},{"$f":"IF(O50=\"\",\"\",\"lb/ton\")","v":"lb/ton"},null,null,null,{"$f":"P11*O50/2000","v":0}]
[null,{"$f":"IF($C$4>2,\"County:\",\"\")","v":""},null,null,{"$f":"IF(C53=\"\",\"\",\"AP-3 EP-1\")","v":""},{"$f":"IF(C53=\"\",\"\",\"AP-3 EU-1\")","v":""},{"$f":"IF(C53=\"\",\"\",C5 & \" - \"&C53)","v":""},null,null,{"$f":"IF(C54=\"\",\"\",IF(C54=\"yes\",LOOKUP(G51,'Emission Factors'!$A$12:$A$17,'Emission Factors'!$D$12:$D$17),LOOKUP(G51,'Emission Factors'!$A$5:$A$10,'Emission Factors'!$D$5:$D$10)))","v":""},{"$f":"IF(C54=\"\",\"\",IF(C54=\"yes\",LOOKUP(G51,'Emission Factors'!$A$12:$A$17,'Emission Factors'!$F$12:$F$17),LOOKUP(G51,'Emission Factors'!$A$5:$A$10,'Emission Factors'!$F$5:$F$10)))","v":""},null,"Truck Loadout",{"$f":"N12","v":0},{"$f":"IF(N51=0,0,IF(N51=0,0,LOOKUP(M51,'Emission Factors'!$A$23:$A$25,'Emission Factors'!$L$23:$L$25)))","v":0},{"$f":"IF(O51=\"\",\"\",\"lb/ton\")","v":"lb/ton"},null,null,null,{"$f":"P12*O51/2000","v":0}]
[null,{"$f":"IF($C$4>2,\"Production Period (Dates):\",\"\")","v":""},null,null,{"$f":"IF($C$4>2,\"Liquid Asphalt Heater\",\"\")","v":""},null,null,{"$f":"IF($C$4>2,IF(C53=\"natural gas\",\"(MMCF/hr)\",\"(gallons/hr)\"),\"\")","v":""},{"$f":"IF($C$4>2,IF(C53=\"natural gas\",\"(MMCF/yr)\",\"(gallons/yr)\"),\"\")","v":""},null,null,null,"CO"]
[null,{"$f":"IF($C$4>2,\"Type of Fuel Used:\",\"\")","v":""},null,null,{"$f":"IF(C53=\"\",\"\",\"AP-3 EP-2\")","v":""},{"$f":"IF(C53=\"\",\"\",\"AP-3 EU-2\")","v":""},{"$f":"IF(C53=\"\",\"\",C53& \" Fired Heater\")","v":""},null,null,null,null,null,{"$f":"IF($C$5=\"\",\"\",$C$5)","v":""},{"$f":"SUM($N$5:$N$7)","v":0},{"$f":"IF(N53=0,0,IF(M53=\"Batch Mix Plant\",0.4,IF(M53=\"Drum Mix Plant\",0.13)))","v":0},{"$f":"IF(O53=\"\",\"\",\"lb/ton\")","v":"lb/ton"},{"$f":"N53*O53","v":0},{"$f":"IF(N53=0,\"\",IF($F$16>0,$F$16,\"\"))","v":""},{"$f":"IF($G$16>0,$G$16,IF(N53=0,0,IF($C$10>0,$C$10*O53/2000,IF($C$11>0,$C$11*365*O53/2000,IF($C$12>0,$C$12*365*O53*N53/2000,IF(R53=\"\",Q53*8760/2000,R53*8760/2000))))))","v":0},{"$f":"SUM($P$5:$P$7)*O53/2000","v":0}]
[null,{"$f":"IF($C$4>2,\"Is Your Operation Controlled?:\",\"\")","v":""},null,null,{"$f":"IF($C$4>2,\"Silo Filling, Truck Loadout, Aggregate Transfer\",\"\")","v":""},null,null,{"$f":"IF($C$4>2,\"(tons/hr)\",\"\")","v":""},{"$f":"IF($C$4>2,\"(tons/yr)\",\"\")","v":""},null,null,null,"Fuel Oil Fired Heater",{"$f":"N8","v":0},{"$f":"IF(N54=0,0,LOOKUP(M54,'Emission Factors'!$A$19:$A$21,'Emission Factors'!$N$19:$N$21))","v":0},{"$f":"IF(O54=\"\",\"\",\"lb/gallon\")","v":"lb/gallon"},{"$f":"N54*O54","v":0},null,{"$f":"IF(N54=0,0,IF($G$16>0,\"\",IF($F$16>0,\"\",IF(R54=\"\",Q54*8760/2000,R54*8760/2000))))","v":0},{"$f":"(P8*O54/2000)","v":0}]
[null,null,null,null,{"$f":"IF($C$4>2,\"AP-3 EP-3\",\"\")","v":""},{"$f":"IF($C$4>2,\"AP-3 EU-3\",\"\")","v":""},{"$f":"IF($C$4>2,\"Silo Filling\",\"\")","v":""},null,null,null,null,null,"Waste Oil Fired Heater",{"$f":"N9","v":0},{"$f":"IF(N55=0,0,LOOKUP(M55,'Emission Factors'!$A$19:$A$21,'Emission Factors'!$N$19:$N$21))","v":0},{"$f":"IF(O55=\"\",\"\",\"lb/gallon\")","v":"lb/gallon"},{"$f":"N55*O55","v":0},null,{"$f":"IF(N55=0,0,IF($G$16>0,\"\",IF($F$16>0,\"\",IF(R55=\"\",Q55*8760/2000,R55*8760/2000))))","v":0},{"$f":"(P9*O55/2000)","v":0}]
[null,null,null,null,{"$f":"IF($C$4>2,\"AP-3 EP-3\",\"\")","v":""},{"$f":"IF($C$4>2,\"AP-3 EU-4\",\"\")","v":""},{"$f":"IF($C$4>2,\"Truck Loadout\",\"\")","v":""},null,null,null,null,null,"Natural Gas Fired Heater",{"$f":"N10","v":0},{"$f":"IF(N56=0,0,LOOKUP(M56,'Emission Factors'!$A$19:$A$21,'Emission Factors'!$N$19:$N$21))","v":0},{"$f":"IF(O56=\"\",\"\",\"lb/MMCF\")","v":"lb/MMCF"},{"$f":"N56*O56","v":0},null,{"$f":"IF(N56=0,0,IF($G$16>0,\"\",IF($F$16>0,\"\",IF(R56=\"\",Q56*8760/2000,R56*8760/2000))))","v":0},{"$f":"($P$10*O56/2000)","v":0}]
[null,null,null,null,{"$f":"IF($C$4>2,\"AP-3 EP-3\",\"\")","v":""},{"$f":"IF($C$4>2,\"AP-3 EU-5\",\"\")","v":""},{"$f":"IF($C$4>2,\"Cold Aggregate Bins\",\"\")","v":""},null,null,null,null,null,"Silo Filling",{"$f":"N11","v":0},{"$f":"IF(N57=0,0,IF(N57=0,0,LOOKUP(M57,'Emission Factors'!$A$23:$A$25,'Emission Factors'!$N$23:$N$25)))","v":0},{"$f":"IF(O57=\"\",\"\",\"lb/ton\")","v":"lb/ton"},null,null,null,{"$f":"P11*O57/2000","v":0}]
[null,null,null,null,null,null,null,null,null,null,null,null,"Truck Loadout",{"$f":"N12","v":0},{"$f":"IF(N58=0,0,IF(N58=0,0,LOOKUP(M58,'Emission Factors'!$A$23:$A$25,'Emission Factors'!$N$23:$N$25)))","v":0},{"$f":"IF(O58=\"\",\"\",\"lb/ton\")","v":"lb/ton"},null,null,null,{"$f":"P12*O58/2000","v":0}]
[null,null,null,null,{"$f":"IF($C$4>2,\"Stock Pile Area\",\"\")","v":""},null,null,null,null,null,null,null,"Acetaldehyde"]
[null,null,null,null,null,{"$f":"IF($C$4>2,\"Emission Unit #\",\"\")","v":""},{"$f":"IF($C$4>2,\"Maximum Storage Area (acres)\",\"\")","v":""},{"$f":"IF($C$4>2,\"Actual Storage Area (acres)\",\"\")","v":""},{"$f":"IF($C$4>2,\"Actual Days in Existence (days)\",\"\")","v":""},null,null,null,{"$f":"IF($C$5=\"\",\"\",$C$5)","v":""},{"$f":"IF(C5=\"drum mix plant\",SUM(N5:$N$6),SUM($N$5:$N$7))","v":0},{"$f":"IF(N60=0,0,IF(M60=\"Batch Mix Plant\",0.00032,IF(M60=\"Drum Mix Plant\",0.0013)))","v":0},{"$f":"IF(O60=\"\",\"\",\"lb/ton\")","v":"lb/ton"},{"$f":"N60*O60","v":0},null,{"$f":"IF(N60=0,0,IF($C$10>0,$C$10*O60/2000,IF($C$11>0,$C$11*365*O60/2000,IF($C$12>0,$C$12*365*O60*N60/2000,IF(R60=\"\",Q60*8760/2000,R60*8760/2000)))))","v":0},{"$f":"IF(C5=\"drum mix plant\",$P$6*O60/2000,SUM($P$5:$P$7)*O60/2000)","v":0}]
[null,null,null,null,null,null,null,null,null,null,null,null,"Acrolein"]
[null,null,null,null,null,null,null,null,null,null,null,null,{"$f":"IF($C$5=\"\",\"\",$C$5)","v":""},{"$f":"IF(C5=\"drum mix plant\",SUM(N5:$N$6),0)","v":0},{"$f":"IF(N62=0,0,0.000026)","v":0},{"$f":"IF(O62=\"\",\"\",\"lb/ton\")","v":"lb/ton"},{"$f":"N62*O62","v":0},null,{"$f":"IF(N62=0,0,IF($C$10>0,$C$10*O62/2000,IF($C$11>0,$C$11*365*O62/2000,IF($C$12>0,$C$12*365*O62*N62/2000,IF(R62=\"\",Q62*8760/2000,R62*8760/2000)))))","v":0},{"$f":"IF(C7=\"drum mix plant\",$P$6*O62/2000,SUM($P$5:$P$7)*O62/2000)","v":0}]
[null,{"$f":"IF($C$4>3,\"Asphalt Plant\",\"\")","v":""},{"$f":"IF($C$4>3,\"Site 4\",\"\")","v":""},null,{"$f":"IF($C$4>3,\"Emission Point #\",\"\")","v":""},{"$f":"IF($C$4>3,\"Emission    Unit #\",\"\")","v":""},{"$f":"IF($C$4>3,\"Process\",\"\")","v":""},{"$f":"IF($C$4>3,\"Maximum Hourly     Design Rate\",\"\")","v":""},{"$f":"IF($C$4>3,('Facility Information'!G50&\" Annual Throughput\"),\"\")","v":""},null,null,null,"Benzene"]
[null,null,null,null,null,null,null,null,null,null,null,null,{"$f":"IF($C$5=\"\",\"\",$C$5)","v":""},{"$f":"SUM($N$5:$N$7)","v":0},{"$f":"IF(N64=0,0,IF(M64=\"Batch Mix Plant\",0.00028,IF(M64=\"Drum Mix Plant\",0.00039)))","v":0},{"$f":"IF(O64=\"\",\"\",\"lb/ton\")","v":"lb/ton"},{"$f":"N64*O64","v":0},null,{"$f":"IF(N64=0,0,IF($C$10>0,$C$10*O64/2000,IF($C$11>0,$C$11*365*O64/2000,IF($C$12>0,$C$12*365*O64*N64/2000,IF(R64=\"\",Q64*8760/2000,R64*8760/2000)))))","v":0},{"$f":"SUM($P$5:$P$7)*O64/2000","v":0}]
[null,{"$f":"IF($C$4>3,\"Site Name\",\"\")","v":""},null," ",{"$f":"IF($C$4>3,\"Dryers, Hot Screens, Mixer\",\"\")","v":""},null,null,{"$f":"IF($C$4>3,\"(tons/hr)\",\"\")","v":""},{"$f":"IF($C$4>3,\"(tons/yr)\",\"\")","v":""},"PM2.5","PM10",null,"Ethylbenzene"]
[null,{"$f":"IF($C$4>3,\"County:\",\"\")","v":""},null,null,{"$f":"IF(C68=\"\",\"\",\"AP-3 EP-1\")","v":""},{"$f":"IF(C68=\"\",\"\",\"AP-3 EU-1\")","v":""},{"$f":"IF(C68=\"\",\"\",C5 & \" - \"&C68)","v":""},null,null,{"$f":"IF(C69=\"\",\"\",IF(C69=\"yes\",LOOKUP(G66,'Emission Factors'!$A$12:$A$17,'Emission Factors'!$D$12:$D$17),LOOKUP(G66,'Emission Factors'!$A$5:$A$10,'Emission Factors'!$D$5:$D$10)))","v":""},{"$f":"IF(C69=\"\",\"\",IF(C69=\"yes\",LOOKUP(G66,'Emission Factors'!$A$12:$A$17,'Emission Factors'!$F$12:$F$17),LOOKUP(G66,'Emission Factors'!$A$5:$A$10,'Emission Factors'!$F$5:$F$10)))","v":""},null,{"$f":"IF($C$5=\"\",\"\",$C$5)","v":""},{"$f":"SUM($N$5:$N$7)","v":0},{"$f":"IF(N66=0,0,IF(M66=\"Batch Mix Plant\",0.0022,IF(M66=\"Drum Mix Plant\",0.00024)))","v":0},{"$f":"IF(O66=\"\",\"\",\"lb/ton\")","v":"lb/ton"},{"$f":"N66*O66","v":0},null,{"$f":"IF(N66=0,0,IF($C$10>0,$C$10*O66/2000,IF($C$11>0,$C$11*365*O66/2000,IF($C$12>0,$C$12*365*O66*N66/2000,IF(R66=\"\",Q66*8760/2000,R66*8760/2000)))))","v":0},{"$f":"SUM($P$5:$P$7)*O66/2000","v":0}]
[null,{"$f":"IF($C$4>3,\"Production Period (Dates):\",\"\")","v":""},null,null,{"$f":"IF($C$4>3,\"Liquid Asphalt Heater\",\"\")","v":""},null,null,{"$f":"IF($C$4>3,IF(C68=\"natural gas\",\"(MMCF/hr)\",\"(gallons/hr)\"),\"\")","v":""},{"$f":"IF($C$4>3,IF(C68=\"natural gas\",\"(MMCF/yr)\",\"(gallons/yr)\"),\"\")","v":""},null,null,null,"Formaldehyde"]
[null,{"$f":"IF($C$4>3,\"Type of Fuel Used:\",\"\")","v":""},null,null,{"$f":"IF(C68=\"\",\"\",\"AP-3 EP-2\")","v":""},{"$f":"IF(C68=\"\",\"\",\"AP-3 EU-2\")","v":""},{"$f":"IF(C68=\"\",\"\",C68& \" Fired Heater\")","v":""},null,null,null,null,null,{"$f":"IF($C$5=\"\",\"\",$C$5)","v":""},{"$f":"SUM($N$5:$N$7)","v":0},{"$f":"IF(N68=0,0,IF(M68=\"Batch Mix Plant\",0.00074,IF(M68=\"Drum Mix Plant\",0.0031)))","v":0},{"$f":"IF(O68=\"\",\"\",\"lb/ton\")","v":"lb/ton"},{"$f":"N68*O68","v":0},null,{"$f":"IF(N68=0,0,IF($C$10>0,$C$10*O68/2000,IF($C$11>0,$C$11*365*O68/2000,IF($C$12>0,$C$12*365*O68*N68/2000,IF(R68=\"\",Q68*8760/2000,R68*8760/2000)))))","v":0},{"$f":"SUM($P$5:$P$7)*O68/2000","v":0}]
[null,{"$f":"IF($C$4>3,\"Is Your Operation Controlled?:\",\"\")","v":""},null,null,{"$f":"IF($C$4>3,\"Silo Filling, Truck Loadout, Aggregate Transfer\",\"\")","v":""},null,null,{"$f":"IF($C$4>3,\"(tons/hr)\",\"\")","v":""},{"$f":"IF($C$4>3,\"(tons/yr)\",\"\")","v":""},null,null,null,{"$f":"\"Natural Gas Fired Heater\"","v":"Natural Gas Fired Heater"},{"$f":"N10","v":0},{"$f":"IF(N69=0,0,0.026)","v":0},{"$f":"IF(O69=\"\",\"\",\"lb/MMCF\")","v":"lb/MMCF"},{"$f":"N69*O69","v":0},null,{"$f":"IF(N69=0,0,IF(R69=\"\",Q69*8760/2000,R69*8760/2000))","v":0},{"$f":"($P$10*O69/2000)","v":0}]
[null,null,null,null,{"$f":"IF($C$4>3,\"AP-3 EP-3\",\"\")","v":""},{"$f":"IF($C$4>3,\"AP-3 EU-3\",\"\")","v":""},{"$f":"IF($C$4>3,\"Silo Filling\",\"\")","v":""},null,null,null,null,null,"Hexane"]
[null,null,null,null,{"$f":"IF($C$4>3,\"AP-3 EP-3\",\"\")","v":""},{"$f":"IF($C$4>3,\"AP-3 EU-4\",\"\")","v":""},{"$f":"IF($C$4>3,\"Truck Loadout\",\"\")","v":""},null,null,null,null,null,{"$f":"IF($C$5=\"\",\"\",$C$5)","v":""},{"$f":"IF(C5=\"drum mix plant\",SUM(N5:N7),0)","v":0},{"$f":"IF(N71=0,0,0.00092)","v":0},{"$f":"IF(O71=\"\",\"\",\"lb/ton\")","v":"lb/ton"},{"$f":"N71*O71","v":0},null,{"$f":"IF(N71=0,0,IF($C$10>0,$C$10*O71/2000,IF($C$11>0,$C$11*365*O71/2000,IF($C$12>0,$C$12*365*O71*N71/2000,IF(R71=\"\",Q71*8760/2000,R71*8760/2000)))))","v":0},{"$f":"IF(N71>0,SUM($P$5:$P$7)*O71/2000,0)","v":0}]
[null,null,null,null,{"$f":"IF($C$4>3,\"AP-3 EP-3\",\"\")","v":""},{"$f":"IF($C$4>3,\"AP-3 EU-5\",\"\")","v":""},{"$f":"IF($C$4>3,\"Cold Aggregate Bins\",\"\")","v":""},null,null,null,null,null,"Hydrochloric Acid"]
[null,null,null,null,null,null,null,null,null,null,null,null,{"$f":"IF($C$5=\"\",\"\",$C$5)","v":""},{"$f":"IF(C5=\"drum mix plant\",SUM(N5:$N$6),0)","v":0},{"$f":"IF(N73=0,0,0.00021)","v":0},{"$f":"IF(O73=\"\",\"\",\"lb/ton\")","v":"lb/ton"},{"$f":"N73*O73","v":0},null,{"$f":"IF(N73=0,0,IF($C$10>0,$C$10*O73/2000,IF($C$11>0,$C$11*365*O73/2000,IF($C$12>0,$C$12*365*O73*N73/2000,IF(R73=\"\",Q73*8760/2000,R73*8760/2000)))))","v":0},{"$f":"IF(N73>0,$P$6*O73/2000,0)","v":0}]
[null,null,null,null,{"$f":"IF($C$4>3,\"Stock Pile Area\",\"\")","v":""},null,null,null,null,null,null,null,"Methyl Chloroform"]
[null,null,null,null,null,{"$f":"IF($C$4>3,\"Emission Unit #\",\"\")","v":""},{"$f":"IF($C$4>3,\"Maximum Storage Area (acres)\",\"\")","v":""},{"$f":"IF($C$4>3,\"Actual Storage Area (acres)\",\"\")","v":""},{"$f":"IF($C$4>3,\"Actual Days in Existence (days)\",\"\")","v":""},null,null,null,{"$f":"IF($C$5=\"\",\"\",$C$5)","v":""},{"$f":"IF(C5=\"drum mix plant\",SUM(N5:N7),0)","v":0},{"$f":"IF(N75=0,0,0.000048)","v":0},{"$f":"IF(O75=\"\",\"\",\"lb/ton\")","v":"lb/ton"},{"$f":"N75*O75","v":0},null,{"$f":"IF(N75=0,0,IF($C$10>0,$C$10*O75/2000,IF($C$11>0,$C$11*365*O75/2000,IF($C$12>0,$C$12*365*O75*N75/2000,IF(R75=\"\",Q75*8760/2000,R75*8760/2000)))))","v":0},{"$f":"IF(N75>0,SUM($P$5:$P$7)*O75/2000,0)","v":0}]
[null,null,null,null,null,null,null,null,null,null,null,null,"Propionaldehyde"]
[null,null,null,null,null,null,null,null,null,null,null,null,{"$f":"IF($C$5=\"\",\"\",$C$5)","v":""},{"$f":"IF(C5=\"drum mix plant\",SUM(N5:$N$6),0)","v":0},{"$f":"IF(N77=0,0,0.00013)","v":0},{"$f":"IF(O77=\"\",\"\",\"lb/ton\")","v":"lb/ton"},{"$f":"N77*O77","v":0},null,{"$f":"IF(N77=0,0,IF($C$10>0,$C$10*O77/2000,IF($C$11>0,$C$11*365*O77/2000,IF($C$12>0,$C$12*365*O77*N77/2000,IF(R77=\"\",Q77*8760/2000,R77*8760/2000)))))","v":0},{"$f":"IF(N77>0,$P$6*O77/2000,0)","v":0}]
[null,{"$f":"IF($C$4>4,\"Asphalt Plant\",\"\")","v":""},{"$f":"IF($C$4>4,\"Site 5\",\"\")","v":""},null,{"$f":"IF($C$4>4,\"Emission Point #\",\"\")","v":""},{"$f":"IF($C$4>4,\"Emission    Unit #\",\"\")","v":""},{"$f":"IF($C$4>4,\"Process\",\"\")","v":""},{"$f":"IF($C$4>4,\"Maximum Hourly     Design Rate\",\"\")","v":""},{"$f":"IF($C$4>4,('Facility Information'!G65&\" Annual Throughput\"),\"\")","v":""},null,null,null,"Quinone"]
[null,null,null,null,null,null,null,null,null,null,null,null,{"$f":"IF($C$5=\"\",\"\",$C$5)","v":""},{"$f":"IF(C5=\"drum mix plant\",SUM(N5:$N$6),SUM($N$5:$N$7))","v":0},{"$f":"IF(N79=0,0,IF(M79=\"Batch Mix Plant\",0.00027,IF(M79=\"Drum Mix Plant\",0.00016)))","v":0},{"$f":"IF(O79=\"\",\"\",\"lb/ton\")","v":"lb/ton"},{"$f":"N79*O79","v":0},null,{"$f":"IF(N79=0,0,IF($C$10>0,$C$10*O79/2000,IF($C$11>0,$C$11*365*O79/2000,IF($C$12>0,$C$12*365*O79*N79/2000,IF(R79=\"\",Q79*8760/2000,R79*8760/2000)))))","v":0},{"$f":"IF(C23=\"drum mix plant\",$P$6*O79/2000,SUM($P$5:$P$7)*O79/2000)","v":0}]
[null,{"$f":"IF($C$4>4,\"Site Name\",\"\")","v":""},null,null,{"$f":"IF($C$4>4,\"Dryers, Hot Screens, Mixer\",\"\")","v":""},null,null,{"$f":"IF($C$4>4,\"(tons/hr)\",\"\")","v":""},{"$f":"IF($C$4>4,\"(tons/yr)\",\"\")","v":""},"PM2.5","PM10",null,"Toluene"]
[null,{"$f":"IF($C$4>4,\"County:\",\"\")","v":""},null,null,{"$f":"IF(C83=\"\",\"\",\"AP-3 EP-1\")","v":""},{"$f":"IF(C83=\"\",\"\",\"AP-3 EU-1\")","v":""},{"$f":"IF(C83=\"\",\"\",C5 & \" - \"&C83)","v":""},null,null,{"$f":"IF(C84=\"\",\"\",IF(C84=\"yes\",LOOKUP(G81,'Emission Factors'!$A$12:$A$17,'Emission Factors'!$D$12:$D$17),LOOKUP(G81,'Emission Factors'!$A$5:$A$10,'Emission Factors'!$D$5:$D$10)))","v":""},{"$f":"IF(C84=\"\",\"\",IF(C84=\"yes\",LOOKUP(G81,'Emission Factors'!$A$12:$A$17,'Emission Factors'!$F$12:$F$17),LOOKUP(G81,'Emission Factors'!$A$5:$A$10,'Emission Factors'!$F$5:$F$10)))","v":""},null,{"$f":"$C$5 & \" - Fuel Oil\"","v":" - Fuel Oil"},{"$f":"$N$5","v":0},{"$f":"IF(N81=0,0,LOOKUP(M81,'Emission Factors'!$A$5:$A$10,'Emission Factors'!$AJ$5:$AJ$10))","v":0},{"$f":"IF(O81=\"\",\"\",\"lb/ton\")","v":"lb/ton"},{"$f":"N81*O81","v":0},null,{"$f":"IF(N81=0,0,IF($C$10>0,$C$10*O81/2000,IF($C$11>0,$C$11*365*O81/2000,IF($C$12>0,$C$12*365*O81*N81/2000,IF(R81=\"\",Q81*8760/2000,R81*8760/2000)))))","v":0},{"$f":"P5*O81/2000","v":0}]
[null,{"$f":"IF($C$4>4,\"Production Period (Dates):\",\"\")","v":""},null,null,{"$f":"IF($C$4>4,\"Liquid Asphalt Heater\",\"\")","v":""},null,null,{"$f":"IF($C$4>4,IF(C83=\"natural gas\",\"(MMCF/hr)\",\"(gallons/hr)\"),\"\")","v":""},{"$f":"IF($C$4>4,IF(C83=\"natural gas\",\"(MMCF/yr)\",\"(gallons/yr)\"),\"\")","v":""},null,null,null,{"$f":"$C$5 & \" - Waste Oil\"","v":" - Waste Oil"},{"$f":"$N$6","v":0},{"$f":"IF(N82=0,0,LOOKUP(M82,'Emission Factors'!$A$5:$A$10,'Emission Factors'!$AJ$5:$AJ$10))","v":0},{"$f":"IF(O82=\"\",\"\",\"lb/ton\")","v":"lb/ton"},{"$f":"N82*O82","v":0},null,{"$f":"IF(N82=0,0,IF(OR(AND($C$10>0,$N$81>0),AND($C$11>0,$N$81>0),AND($C$12>0,$N$81>0)),\"\",IF($C$10>0,$C$10*O82/2000,IF($C$11>0,$C$11*365*O82/2000,IF($C$12>0,$C$12*365*O82*N82/2000,IF(R82=\"\",Q82*8760/2000,R82*8760/2000))))))","v":0},{"$f":"P6*O82/2000","v":0}]
[null,{"$f":"IF($C$4>4,\"Type of Fuel Used:\",\"\")","v":""},null,null,{"$f":"IF(C83=\"\",\"\",\"AP-3 EP-2\")","v":""},{"$f":"IF(C83=\"\",\"\",\"AP-3 EU-2\")","v":""},{"$f":"IF(C83=\"\",\"\",C83& \" Fired Heater\")","v":""},null,null,null,"Controlled?",null,{"$f":"$C$5 & \" - Natural Gas\"","v":" - Natural Gas"},{"$f":"$N$7","v":0},{"$f":"IF(N83=0,0,LOOKUP(M83,'Emission Factors'!$A$5:$A$10,'Emission Factors'!$AJ$5:$AJ$10))","v":0},{"$f":"IF(O83=\"\",\"\",\"lb/ton\")","v":"lb/ton"},{"$f":"N83*O83","v":0},null,{"$f":"IF(N83=0,0,IF(OR(AND($C$10>0,$N$81>0),AND($C$11>0,$N$81>0),AND($C$12>0,$N$81>0)),\"\",IF(OR(AND($C$10>0,$N$82>0),AND($C$11>0,$N$82>0),AND($C$12>0,$N$82>0)),\"\",IF($C$10>0,$C$10*O83/2000,IF($C$11>0,$C$11*365*O83/2000,IF($C$12>0,$C$12*365*O83*N83/2000,IF(R83=\"\",Q83*8760/2000,R83*8760/2000)))))))","v":0},{"$f":"P7*O83/2000","v":0}]
[null,{"$f":"IF($C$4>4,\"Is Your Operation Controlled?:\",\"\")","v":""},null,null,{"$f":"IF($C$4>4,\"Silo Filling, Truck Loadout, Aggregate Transfer\",\"\")","v":""},null,null,{"$f":"IF($C$4>4,\"(tons/hr)\",\"\")","v":""},{"$f":"IF($C$4>4,\"(tons/yr)\",\"\")","v":""},null,{"$f":"IF(OR(C25=\"yes\",C39=\"yes\",C69=\"yes\",C84=\"yes\",C100=\"yes\",C115=\"yes\",C130=\"yes\",C145=\"yes\",C160=\"yes\"),1,0)","v":0},null,"Xylene"]
[null,null,null,null,{"$f":"IF($C$4>4,\"AP-3 EP-3\",\"\")","v":""},{"$f":"IF($C$4>4,\"AP-3 EU-3\",\"\")","v":""},{"$f":"IF($C$4>4,\"Silo Filling\",\"\")","v":""},null,null,null,null,null,{"$f":"IF($C$5=\"\",\"\",$C$5)","v":""},{"$f":"SUM($N$5:$N$7)","v":0},{"$f":"IF(N85=0,0,IF(M85=\"Batch Mix Plant\",0.0027,IF(M85=\"Drum Mix Plant\",0.0002)))","v":0},{"$f":"IF(O85=\"\",\"\",\"lb/ton\")","v":"lb/ton"},{"$f":"N85*O85","v":0},null,{"$f":"IF(N85=0,0,IF($C$10>0,$C$10*O85/2000,IF($C$11>0,$C$11*365*O85/2000,IF($C$12>0,$C$12*365*O85*N85/2000,IF(R85=\"\",Q85*8760/2000,R85*8760/2000)))))","v":0},{"$f":"SUM($P$5:$P$7)*O85/2000","v":0}]
[null,null,null,null,{"$f":"IF($C$4>4,\"AP-3 EP-3\",\"\")","v":""},{"$f":"IF($C$4>4,\"AP-3 EU-4\",\"\")","v":""},{"$f":"IF($C$4>4,\"Truck Loadout\",\"\")","v":""},null,null,null,null,null,"2,2,4-Trimethylpentane"]
[null,null,null,null,{"$f":"IF($C$4>4,\"AP-3 EP-3\",\"\")","v":""},{"$f":"IF($C$4>4,\"AP-3 EU-5\",\"\")","v":""},{"$f":"IF($C$4>4,\"Cold Aggregate Bins\",\"\")","v":""},null,null,null,null,null,{"$f":"IF($C$5=\"\",\"\",$C$5)","v":""},{"$f":"IF(C5=\"drum mix plant\",SUM(N5:N7),0)","v":0},{"$f":"IF(N87=0,0,0.00004)","v":0},{"$f":"IF(O87=\"\",\"\",\"lb/ton\")","v":"lb/ton"},{"$f":"N87*O87","v":0},null,{"$f":"IF(N87=0,0,IF($C$10>0,$C$10*O87/2000,IF($C$11>0,$C$11*365*O87/2000,IF($C$12>0,$C$12*365*O87*N87/2000,IF(R87=\"\",Q87*8760/2000,R87*8760/2000)))))","v":0},{"$f":"IF(N87>0,SUM($P$5:$P$7)*O87/2000,0)","v":0}]
[null,null,null,null,null,null,null,null,null,null,null,null,"Chromium Compounds"]
[null,null,null,null,{"$f":"IF($C$4>4,\"Stock Pile Area\",\"\")","v":""},null,null,null,null,null,null,null,{"$f":"IF($C$5=\"\",\"\",$C$5)","v":""},{"$f":"IF(C5=\"drum mix plant\",SUM(N5:N6),0)","v":0},{"$f":"IF(N89=0,0,IF($K$84=1,0.0000055,0.000024))","v":0},{"$f":"IF(O89=\"\",\"\",\"lb/ton\")","v":"lb/ton"},{"$f":"IF($K$84=1,\"\",N89*O89)","v":0},{"$f":"IF($K$84=1,N89*O89,\"\")","v":""},{"$f":"IF(N89=0,0,IF($C$10>0,$C$10*O89/2000,IF($C$11>0,$C$11*365*O89/2000,IF($C$12>0,$C$12*365*O89*N89/2000,IF(R89=\"\",Q89*8760/2000,R89*8760/2000)))))","v":0},{"$f":"IF(N89>0,$P$5*O89/2000,0)","v":0}]
[null,null,null,null,null,{"$f":"IF($C$4>4,\"Emission Unit #\",\"\")","v":""},{"$f":"IF($C$4>4,\"Maximum Storage Area (acres)\",\"\")","v":""},{"$f":"IF($C$4>4,\"Actual Storage Area (acres)\",\"\")","v":""},{"$f":"IF($C$4>4,\"Actual Days in Existence (days)\",\"\")","v":""},null,null,null,"Lead Compounds"]
[null,null,null,null,null,null,null,null,null,null,null,null,{"$f":"IF($C$5=\"\",\"\",$C$5)","v":""},{"$f":"IF(C5=\"drum mix plant\",SUM(N5:N6),0)","v":0},{"$f":"IF(N91=0,0,IF($K$84=1,0.000015,0.00054))","v":0},{"$f":"IF(O91=\"\",\"\",\"lb/ton\")","v":"lb/ton"},{"$f":"IF($K$84=1,\"\",N91*O91)","v":0},{"$f":"IF($K$84=1,N91*O91,\"\")","v":""},{"$f":"IF(N91=0,0,IF($C$10>0,$C$10*O91/2000,IF($C$11>0,$C$11*365*O91/2000,IF($C$12>0,$C$12*365*O91*N91/2000,IF(R91=\"\",Q91*8760/2000,R91*8760/2000)))))","v":0},{"$f":"IF(N91>0,$P$5*O91/2000,0)","v":0}]
[null,null,null,null,null,null,null,null,null,null,null,null,"Manganese Compounds",null,null,null,0]
[null,null,null,null,null,null,null,null,null,null,null,null,{"$f":"IF($C$5=\"\",\"\",$C$5)","v":""},{"$f":"IF(C5=\"drum mix plant\",SUM(N5:N6),0)","v":0},{"$f":"IF(N93=0,0,IF($K$84=1,0.0000077,0.00065))","v":0},{"$f":"IF(O93=\"\",\"\",\"lb/ton\")","v":"lb/ton"},0,{"$f":"IF($K$84=1,N93*O93,\"\")","v":""},{"$f":"IF(N93=0,0,IF($C$10>0,$C$10*O93/2000,IF($C$11>0,$C$11*365*O93/2000,IF($C$12>0,$C$12*365*O93*N93/2000,IF(R93=\"\",Q93*8760/2000,R93*8760/2000)))))","v":0},{"$f":"IF(N93>0,$P$5*O93/2000,0)","v":0}]
[null,{"$f":"IF($C$4>5,\"Asphalt Plant\",\"\")","v":""},{"$f":"IF($C$4>5,\"Site 6\",\"\")","v":""},null,{"$f":"IF($C$4>5,\"Emission Point #\",\"\")","v":""},{"$f":"IF($C$4>5,\"Emission    Unit #\",\"\")","v":""},{"$f":"IF($C$4>5,\"Process\",\"\")","v":""},{"$f":"IF($C$4>5,\"Maximum Hourly     Design Rate\",\"\")","v":""},{"$f":"IF($C$4>5,('Facility Information'!G80&\" Annual Throughput\"),\"\")","v":""},null,null,null,"Nickel Compounds",null,null,null,0]
[null,null,null,null,null,null,null,null,null,null,null,null,{"$f":"$C$5 & \" - Fuel Oil\"","v":" - Fuel Oil"},{"$f":"IF(C5=\"drum mix plant\",N5,0)","v":0},{"$f":"IF(N95=0,0,IF($K$84=1,0.000015,0.0013))","v":0},{"$f":"IF(O95=\"\",\"\",\"lb/ton\")","v":"lb/ton"},0,{"$f":"IF($K$84=1,N95*O95,\"\")","v":""},{"$f":"IF(N95=0,0,IF($C$10>0,$C$10*O95/2000,IF($C$11>0,$C$11*365*O95/2000,IF($C$12>0,$C$12*365*O95*N95/2000,IF(R95=\"\",Q95*8760/2000,R95*8760/2000)))))","v":0},{"$f":"IF(N95>0,$P$5*O95/2000,0)","v":0}]
[null,{"$f":"IF($C$4>5,\"Site Name\",\"\")","v":""},null,null,{"$f":"IF($C$4>5,\"Dryers, Hot Screens, Mixer\",\"\")","v":""},null,null,{"$f":"IF($C$4>5,\"(tons/hr)\",\"\")","v":""},{"$f":"IF($C$4>5,\"(tons/yr)\",\"\")","v":""},"PM2.5","PM10",null,{"$f":"$C$5 & \" - Waste Oil\"","v":" - Waste Oil"},{"$f":"IF(C5=\"drum mix plant\",N6,0)","v":0},{"$f":"IF(N96=0,0,IF($K$84=1,0.000015,0.0013))","v":0},{"$f":"IF(O96=\"\",\"\",\"lb/ton\")","v":"lb/ton"},0,{"$f":"IF($K$84=1,N96*O96,\"\")","v":""},{"$f":"IF(N96=0,0,IF($C$10>0,$C$10*O96/2000,IF($C$11>0,$C$11*365*O96/2000,IF($C$12>0,$C$12*365*O96*N96/2000,IF(R96=\"\",Q96*8760/2000,R96*8760/2000)))))","v":0},{"$f":"IF(N96>0,$P$6*O96/2000,0)","v":0}]
[null,{"$f":"IF($C$4>5,\"County:\",\"\")","v":""},null,null,{"$f":"IF(C99=\"\",\"\",\"AP-3 EP-1\")","v":""},{"$f":"IF(C99=\"\",\"\",\"AP-3 EU-1\")","v":""},{"$f":"IF(C99=\"\",\"\",C5 & \" - \"&C99)","v":""},null,null,{"$f":"IF(C100=\"\",\"\",IF(C100=\"yes\",LOOKUP(G97,'Emission Factors'!$A$12:$A$17,'Emission Factors'!$D$12:$D$17),LOOKUP(G97,'Emission Factors'!$A$5:$A$10,'Emission Factors'!$D$5:$D$10)))","v":""},{"$f":"IF(C100=\"\",\"\",IF(C100=\"yes\",LOOKUP(G97,'Emission Factors'!$A$12:$A$17,'Emission Factors'!$F$12:$F$17),LOOKUP(G97,'Emission Factors'!$A$5:$A$10,'Emission Factors'!$F$5:$F$10)))","v":""},null,{"$f":"$C$5 & \" - Natural Gas\"","v":" - Natural Gas"},{"$f":"IF(C5=\"drum mix plant\",N7,0)","v":0},{"$f":"IF(N97=0,0,IF($K$84=1,0.000063,0.00063))","v":0},{"$f":"IF(O97=\"\",\"\",\"lb/ton\")","v":"lb/ton"},{"$f":"IF($K$84=1,\"\",N97*O97)","v":0},{"$f":"IF($K$84=1,N97*O97,\"\")","v":""},{"$f":"IF(N97=0,0,IF($C$10>0,$C$10*O97/2000,IF($C$11>0,$C$11*365*O97/2000,IF($C$12>0,$C$12*365*O97*N97/2000,IF(R97=\"\",Q97*8760/2000,R97*8760/2000)))))","v":0},{"$f":"IF(N97>0,$P$7*O97/2000,0)","v":0}]
[null,{"$f":"IF($C$4>5,\"Production Period (Dates):\",\"\")","v":""},null,null,{"$f":"IF($C$4>5,\"Liquid Asphalt Heater\",\"\")","v":""},null,null,{"$f":"IF($C$4>5,IF(C99=\"natural gas\",\"(MMCF/hr)\",\"(gallons/hr)\"),\"\")","v":""},{"$f":"IF($C$4>5,IF(C99=\"natural gas\",\"(MMCF/yr)\",\"(gallons/yr)\"),\"\")","v":""}]
[null,{"$f":"IF($C$4>5,\"Type of Fuel Used:\",\"\")","v":""},null,null,{"$f":"IF(C99=\"\",\"\",\"AP-3 EP-2\")","v":""},{"$f":"IF(C99=\"\",\"\",\"AP-3 EU-2\")","v":""},{"$f":"IF(C99=\"\",\"\",C99& \" Fired Heater\")","v":""}]
[null,{"$f":"IF($C$4>5,\"Is Your Operation Controlled?:\",\"\")","v":""},null,null,{"$f":"IF($C$4>5,\"Silo Filling, Truck Loadout, Aggregate Transfer\",\"\")","v":""},null,null,{"$f":"IF($C$4>5,\"(tons/hr)\",\"\")","v":""},{"$f":"IF($C$4>5,\"(tons/yr)\",\"\")","v":""}]
[null,null,null,null,{"$f":"IF($C$4>5,\"AP-3 EP-3\",\"\")","v":""},{"$f":"IF($C$4>5,\"AP-3 EU-3\",\"\")","v":""},{"$f":"IF($C$4>5,\"Silo Filling\",\"\")","v":""}]
[null,null,null,null,{"$f":"IF($C$4>5,\"AP-3 EP-3\",\"\")","v":""},{"$f":"IF($C$4>5,\"AP-3 EU-4\",\"\")","v":""},{"$f":"IF($C$4>5,\"Truck Loadout\",\"\")","v":""}]
[null,null,null,null,{"$f":"IF($C$4>5,\"AP-3 EP-3\",\"\")","v":""},{"$f":"IF($C$4>5,\"AP-3 EU-5\",\"\")","v":""},{"$f":"IF($C$4>5,\"Cold Aggregate Bins\",\"\")","v":""}]
[]
[null,null,null,null,{"$f":"IF($C$4>5,\"Stock Pile Area\",\"\")","v":""}]
[null,null,null,null,null,{"$f":"IF($C$4>5,\"Emission Unit #\",\"\")","v":""},{"$f":"IF($C$4>5,\"Maximum Storage Area (acres)\",\"\")","v":""},{"$f":"IF($C$4>5,\"Actual Storage Area (acres)\",\"\")","v":""},{"$f":"IF($C$4>5,\"Actual Days in Existence (days)\",\"\")","v":""}]
[]
[]
[null,{"$f":"IF($C$4>6,\"Asphalt Plant\",\"\")","v":""},{"$f":"IF($C$4>6,\"Site 7\",\"\")","v":""},null,{"$f":"IF($C$4>6,\"Emission Point #\",\"\")","v":""},{"$f":"IF($C$4>6,\"Emission    Unit #\",\"\")","v":""},{"$f":"IF($C$4>6,\"Process\",\"\")","v":""},{"$f":"IF($C$4>6,\"Maximum Hourly     Design Rate\",\"\")","v":""},{"$f":"IF($C$4>6,('Facility Information'!G95&\" Annual Throughput\"),\"\")","v":""}]
[]
[null,{"$f":"IF($C$4>6,\"Site Name\",\"\")","v":""},null,null,{"$f":"IF($C$4>6,\"Dryers, Hot Screens, Mixer\",\"\")","v":""},null,null,{"$f":"IF($C$4>6,\"(tons/hr)\",\"\")","v":""},{"$f":"IF($C$4>6,\"(tons/yr)\",\"\")","v":""},"PM2.5","PM10"]
[null,{"$f":"IF($C$4>6,\"County:\",\"\")","v":""},null,null,{"$f":"IF(C114=\"\",\"\",\"AP-3 EP-1\")","v":""},{"$f":"IF(C114=\"\",\"\",\"AP-3 EU-1\")","v":""},{"$f":"IF(C114=\"\",\"\",C5 & \" - \"&C114)","v":""},null,null,{"$f":"IF(C115=\"\",\"\",IF(C115=\"yes\",LOOKUP(G112,'Emission Factors'!$A$12:$A$17,'Emission Factors'!$D$12:$D$17),LOOKUP(G112,'Emission Factors'!$A$5:$A$10,'Emission Factors'!$D$5:$D$10)))","v":""},{"$f":"IF(C115=\"\",\"\",IF(C115=\"yes\",LOOKUP(G112,'Emission Factors'!$A$12:$A$17,'Emission Factors'!$F$12:$F$17),LOOKUP(G112,'Emission Factors'!$A$5:$A$10,'Emission Factors'!$F$5:$F$10)))","v":""}]
[null,{"$f":"IF($C$4>6,\"Production Period (Dates):\",\"\")","v":""},null,null,{"$f":"IF($C$4>6,\"Liquid Asphalt Heater\",\"\")","v":""},null,null,{"$f":"IF($C$4>6,IF(C114=\"natural gas\",\"(MMCF/hr)\",\"(gallons/hr)\"),\"\")","v":""},{"$f":"IF($C$4>6,IF(C114=\"natural gas\",\"(MMCF/yr)\",\"(gallons/yr)\"),\"\")","v":""}]
[null,{"$f":"IF($C$4>6,\"Type of Fuel Used:\",\"\")","v":""},null,null,{"$f":"IF(C114=\"\",\"\",\"AP-3 EP-2\")","v":""},{"$f":"IF(C114=\"\",\"\",\"AP-3 EU-2\")","v":""},{"$f":"IF(C114=\"\",\"\",C114& \" Fired Heater\")","v":""}]
[null,{"$f":"IF($C$4>6,\"Is Your Operation Controlled?:\",\"\")","v":""},null,null,{"$f":"IF($C$4>6,\"Silo Filling, Truck Loadout, Aggregate Transfer\",\"\")","v":""},null,null,{"$f":"IF($C$4>6,\"(tons/hr)\",\"\")","v":""},{"$f":"IF($C$4>6,\"(tons/yr)\",\"\")","v":""}]
[null,null,null,null,{"$f":"IF($C$4>6,\"AP-3 EP-3\",\"\")","v":""},{"$f":"IF($C$4>6,\"AP-3 EU-3\",\"\")","v":""},{"$f":"IF($C$4>6,\"Silo Filling\",\"\")","v":""}]
[null,null,null,null,{"$f":"IF($C$4>6,\"AP-3 EP-3\",\"\")","v":""},{"$f":"IF($C$4>6,\"AP-3 EU-4\",\"\")","v":""},{"$f":"IF($C$4>6,\"Truck Loadout\",\"\")","v":""}]
[null,null,null,null,{"$f":"IF($C$4>6,\"AP-3 EP-3\",\"\")","v":""},{"$f":"IF($C$4>6,\"AP-3 EU-5\",\"\")","v":""},{"$f":"IF($C$4>6,\"Cold Aggregate Bins\",\"\")","v":""}]
[]
[null,null,null,null,{"$f":"IF($C$4>6,\"Stock Pile Area\",\"\")","v":""}]
[null,null,null,null,null,{"$f":"IF($C$4>6,\"Emission Unit #\",\"\")","v":""},{"$f":"IF($C$4>6,\"Maximum Storage Area (acres)\",\"\")","v":""},{"$f":"IF($C$4>6,\"Actual Storage Area (acres)\",\"\")","v":""},{"$f":"IF($C$4>6,\"Actual Days in Existence (days)\",\"\")","v":""}]
[]
[]
[null,{"$f":"IF($C$4>7,\"Asphalt Plant\",\"\")","v":""},{"$f":"IF($C$4>7,\"Site 8\",\"\")","v":""},null,{"$f":"IF($C$4>7,\"Emission Point #\",\"\")","v":""},{"$f":"IF($C$4>7,\"Emission    Unit #\",\"\")","v":""},{"$f":"IF($C$4>7,\"Process\",\"\")","v":""},{"$f":"IF($C$4>7,\"Maximum Hourly     Design Rate\",\"\")","v":""},{"$f":"IF($C$4>7,('Facility Information'!G110&\" Annual Throughput\"),\"\")","v":""}]
[]
[null,{"$f":"IF($C$4>7,\"Site Name\",\"\")","v":""},null,null,{"$f":"IF($C$4>7,\"Dryers, Hot Screens, Mixer\",\"\")","v":""},null,null,{"$f":"IF($C$4>7,\"(tons/hr)\",\"\")","v":""},{"$f":"IF($C$4>7,\"(tons/yr)\",\"\")","v":""},"PM2.5","PM10"]
[null,{"$f":"IF($C$4>7,\"County:\",\"\")","v":""},null,null,{"$f":"IF(C129=\"\",\"\",\"AP-3 EP-1\")","v":""},{"$f":"IF(C129=\"\",\"\",\"AP-3 EU-1\")","v":""},{"$f":"IF(C129=\"\",\"\",C5 & \" - \"&C129)","v":""},null,null,{"$f":"IF(C130=\"\",\"\",IF(C130=\"yes\",LOOKUP(G127,'Emission Factors'!$A$12:$A$17,'Emission Factors'!$D$12:$D$17),LOOKUP(G127,'Emission Factors'!$A$5:$A$10,'Emission Factors'!$D$5:$D$10)))","v":""},{"$f":"IF(C130=\"\",\"\",IF(C130=\"yes\",LOOKUP(G127,'Emission Factors'!$A$12:$A$17,'Emission Factors'!$F$12:$F$17),LOOKUP(G127,'Emission Factors'!$A$5:$A$10,'Emission Factors'!$F$5:$F$10)))","v":""}]
[null,{"$f":"IF($C$4>7,\"Production Period (Dates):\",\"\")","v":""},null,null,{"$f":"IF($C$4>7,\"Liquid Asphalt Heater\",\"\")","v":""},null,null,{"$f":"IF($C$4>7,IF(C129=\"natural gas\",\"(MMCF/hr)\",\"(gallons/hr)\"),\"\")","v":""},{"$f":"IF($C$4>7,IF(C129=\"natural gas\",\"(MMCF/yr)\",\"(gallons/yr)\"),\"\")","v":""}]
[null,{"$f":"IF($C$4>7,\"Type of Fuel Used:\",\"\")","v":""},null,null,{"$f":"IF(C129=\"\",\"\",\"AP-3 EP-2\")","v":""},{"$f":"IF(C129=\"\",\"\",\"AP-3 EU-2\")","v":""},{"$f":"IF(C129=\"\",\"\",C129& \" Fired Heater\")","v":""}]
[null,{"$f":"IF($C$4>7,\"Is Your Operation Controlled?:\",\"\")","v":""},null,null,{"$f":"IF($C$4>7,\"Silo Filling, Truck Loadout, Aggregate Transfer\",\"\")","v":""},null,null,{"$f":"IF($C$4>7,\"(tons/hr)\",\"\")","v":""},{"$f":"IF($C$4>7,\"(tons/yr)\",\"\")","v":""}]
[null,null,null,null,{"$f":"IF($C$4>7,\"AP-3 EP-3\",\"\")","v":""},{"$f":"IF($C$4>7,\"AP-3 EU-3\",\"\")","v":""},{"$f":"IF($C$4>7,\"Silo Filling\",\"\")","v":""}]
[null,null,null,null,{"$f":"IF($C$4>7,\"AP-3 EP-3\",\"\")","v":""},{"$f":"IF($C$4>7,\"AP-3 EU-4\",\"\")","v":""},{"$f":"IF($C$4>7,\"Truck Loadout\",\"\")","v":""}]
[null,null,null,null,{"$f":"IF($C$4>7,\"AP-3 EP-3\",\"\")","v":""},{"$f":"IF($C$4>7,\"AP-3 EU-5\",\"\")","v":""},{"$f":"IF($C$4>7,\"Cold Aggregate Bins\",\"\")","v":""}]
[]
[null,null,null,null,{"$f":"IF($C$4>7,\"Stock Pile Area\",\"\")","v":""}]
[null,null,null,null,null,{"$f":"IF($C$4>7,\"Emission Unit #\",\"\")","v":""},{"$f":"IF($C$4>7,\"Maximum Storage Area (acres)\",\"\")","v":""},{"$f":"IF($C$4>7,\"Actual Storage Area (acres)\",\"\")","v":""},{"$f":"IF($C$4>7,\"Actual Days in Existence (days)\",\"\")","v":""}]
[]
[]
[null,{"$f":"IF($C$4>8,\"Asphalt Plant\",\"\")","v":""},{"$f":"IF($C$4>8,\"Site 9\",\"\")","v":""},null,{"$f":"IF($C$4>8,\"Emission Point #\",\"\")","v":""},{"$f":"IF($C$4>8,\"Emission    Unit #\",\"\")","v":""},{"$f":"IF($C$4>8,\"Process\",\"\")","v":""},{"$f":"IF($C$4>8,\"Maximum Hourly     Design Rate\",\"\")","v":""},{"$f":"IF($C$4>8,('Facility Information'!G125&\" Annual Throughput\"),\"\")","v":""}]
[]
[null,{"$f":"IF($C$4>8,\"Site Name\",\"\")","v":""},null,null,{"$f":"IF($C$4>8,\"Dryers, Hot Screens, Mixer\",\"\")","v":""},null,null,{"$f":"IF($C$4>8,\"(tons/hr)\",\"\")","v":""},{"$f":"IF($C$4>8,\"(tons/yr)\",\"\")","v":""},"PM2.5","PM10"]
[null,{"$f":"IF($C$4>8,\"County:\",\"\")","v":""},null,null,{"$f":"IF(C144=\"\",\"\",\"AP-3 EP-1\")","v":""},{"$f":"IF(C144=\"\",\"\",\"AP-3 EU-1\")","v":""},{"$f":"IF(C144=\"\",\"\",C5 & \" - \"&C144)","v":""},null,null,{"$f":"IF(C145=\"\",\"\",IF(C145=\"yes\",LOOKUP(G142,'Emission Factors'!$A$12:$A$17,'Emission Factors'!$D$12:$D$17),LOOKUP(G142,'Emission Factors'!$A$5:$A$10,'Emission Factors'!$D$5:$D$10)))","v":""},{"$f":"IF(C145=\"\",\"\",IF(C145=\"yes\",LOOKUP(G142,'Emission Factors'!$A$12:$A$17,'Emission Factors'!$F$12:$F$17),LOOKUP(G142,'Emission Factors'!$A$5:$A$10,'Emission Factors'!$F$5:$F$10)))","v":""}]
[null,{"$f":"IF($C$4>8,\"Production Period (Dates):\",\"\")","v":""},null,null,{"$f":"IF($C$4>8,\"Liquid Asphalt Heater\",\"\")","v":""},null,null,{"$f":"IF($C$4>8,IF(C144=\"natural gas\",\"(MMCF/hr)\",\"(gallons/hr)\"),\"\")","v":""},{"$f":"IF($C$4>8,IF(C144=\"natural gas\",\"(MMCF/yr)\",\"(gallons/yr)\"),\"\")","v":""}]
[null,{"$f":"IF($C$4>8,\"Type of Fuel Used:\",\"\")","v":""},null,null,{"$f":"IF(C144=\"\",\"\",\"AP-3 EP-2\")","v":""},{"$f":"IF(C144=\"\",\"\",\"AP-3 EU-2\")","v":""},{"$f":"IF(C144=\"\",\"\",C144& \" Fired Heater\")","v":""}]
[null,{"$f":"IF($C$4>8,\"Is Your Operation Controlled?:\",\"\")","v":""},null,null,{"$f":"IF($C$4>8,\"Silo Filling, Truck Loadout, Aggregate Transfer\",\"\")","v":""},null,null,{"$f":"IF($C$4>8,\"(tons/hr)\",\"\")","v":""},{"$f":"IF($C$4>8,\"(tons/yr)\",\"\")","v":""}]
[null,null,null,null,{"$f":"IF($C$4>8,\"AP-3 EP-3\",\"\")","v":""},{"$f":"IF($C$4>8,\"AP-3 EU-3\",\"\")","v":""},{"$f":"IF($C$4>8,\"Silo Filling\",\"\")","v":""}]
[null,null,null,null,{"$f":"IF($C$4>8,\"AP-3 EP-3\",\"\")","v":""},{"$f":"IF($C$4>8,\"AP-3 EU-4\",\"\")","v":""},{"$f":"IF($C$4>8,\"Truck Loadout\",\"\")","v":""}]
[null,null,null,null,{"$f":"IF($C$4>8,\"AP-3 EP-3\",\"\")","v":""},{"$f":"IF($C$4>8,\"AP-3 EU-5\",\"\")","v":""},{"$f":"IF($C$4>8,\"Cold Aggregate Bins\",\"\")","v":""}]
[]
[null,null,null,null,{"$f":"IF($C$4>8,\"Stock Pile Area\",\"\")","v":""}]
[null,null,null,null,null,{"$f":"IF($C$4>8,\"Emission Unit #\",\"\")","v":""},{"$f":"IF($C$4>8,\"Maximum Storage Area (acres)\",\"\")","v":""},{"$f":"IF($C$4>8,\"Actual Storage Area (acres)\",\"\")","v":""},{"$f":"IF($C$4>8,\"Actual Days in Existence (days)\",\"\")","v":""}]
[]
[]
[null,{"$f":"IF($C$4>9,\"Asphalt Plant\",\"\")","v":""},{"$f":"IF($C$4>9,\"Site 10\",\"\")","v":""},null,{"$f":"IF($C$4>9,\"Emission Point #\",\"\")","v":""},{"$f":"IF($C$4>9,\"Emission    Unit #\",\"\")","v":""},{"$f":"IF($C$4>9,\"Process\",\"\")","v":""},{"$f":"IF($C$4>9,\"Maximum Hourly     Design Rate\",\"\")","v":""},{"$f":"IF($C$4>9,('Facility Information'!G140&\" Annual Throughput\"),\"\")","v":""}]
[]
[null,{"$f":"IF($C$4>9,\"Site Name\",\"\")","v":""},null,null,{"$f":"IF($C$4>9,\"Dryers, Hot Screens, Mixer\",\"\")","v":""},null,null,{"$f":"IF($C$4>9,\"(tons/hr)\",\"\")","v":""},{"$f":"IF($C$4>9,\"(tons/yr)\",\"\")","v":""},"PM2.5","PM10"]
[null,{"$f":"IF($C$4>9,\"County:\",\"\")","v":""},null,null,{"$f":"IF(C159=\"\",\"\",\"AP-3 EP-1\")","v":""},{"$f":"IF(C159=\"\",\"\",\"AP-3 EU-1\")","v":""},{"$f":"IF(C159=\"\",\"\",C5 & \" - \"&C159)","v":""},null,null,{"$f":"IF(C160=\"\",\"\",IF(C160=\"yes\",LOOKUP(G157,'Emission Factors'!$A$12:$A$17,'Emission Factors'!$D$12:$D$17),LOOKUP(G157,'Emission Factors'!$A$5:$A$10,'Emission Factors'!$D$5:$D$10)))","v":""},{"$f":"IF(C160=\"\",\"\",IF(C160=\"yes\",LOOKUP(G157,'Emission Factors'!$A$12:$A$17,'Emission Factors'!$F$12:$F$17),LOOKUP(G157,'Emission Factors'!$A$5:$A$10,'Emission Factors'!$F$5:$F$10)))","v":""}]
[null,{"$f":"IF($C$4>9,\"Production Period (Dates):\",\"\")","v":""},null,null,{"$f":"IF($C$4>9,\"Liquid Asphalt Heater\",\"\")","v":""},null,null,{"$f":"IF($C$4>9,IF(C159=\"natural gas\",\"(MMCF/hr)\",\"(gallons/hr)\"),\"\")","v":""},{"$f":"IF($C$4>9,IF(C159=\"natural gas\",\"(MMCF/yr)\",\"(gallons/yr)\"),\"\")","v":""}]
[null,{"$f":"IF($C$4>9,\"Type of Fuel Used:\",\"\")","v":""},null,null,{"$f":"IF(C159=\"\",\"\",\"AP-3 EP-2\")","v":""},{"$f":"IF(C159=\"\",\"\",\"AP-3 EU-2\")","v":""},{"$f":"IF(C159=\"\",\"\",C159& \" Fired Heater\")","v":""}]
[null,{"$f":"IF($C$4>9,\"Is Your Operation Controlled?:\",\"\")","v":""},null,null,{"$f":"IF($C$4>9,\"Silo Filling, Truck Loadout, Aggregate Transfer\",\"\")","v":""},null,null,{"$f":"IF($C$4>9,\"(tons/hr)\",\"\")","v":""},{"$f":"IF($C$4>9,\"(tons/yr)\",\"\")","v":""}]
[null,null,null,null,{"$f":"IF($C$4>9,\"AP-3 EP-3\",\"\")","v":""},{"$f":"IF($C$4>9,\"AP-3 EU-3\",\"\")","v":""},{"$f":"IF($C$4>9,\"Silo Filling\",\"\")","v":""}]
[null,null,null,null,{"$f":"IF($C$4>9,\"AP-3 EP-3\",\"\")","v":""},{"$f":"IF($C$4>9,\"AP-3 EU-4\",\"\")","v":""},{"$f":"IF($C$4>9,\"Truck Loadout\",\"\")","v":""}]
[null,null,null,null,{"$f":"IF($C$4>9,\"AP-3 EP-3\",\"\")","v":""},{"$f":"IF($C$4>9,\"AP-3 EU-5\",\"\")","v":""},{"$f":"IF($C$4>9,\"Cold Aggregate Bins\",\"\")","v":""}]
[]
[null,null,null,null,{"$f":"IF($C$4>9,\"Stock Pile Area\",\"\")","v":""}]
[null,null,null,null,null,{"$f":"IF($C$4>9,\"Emission Unit #\",\"\")","v":""},{"$f":"IF($C$4>9,\"Maximum Storage Area (acres)\",\"\")","v":""},{"$f":"IF($C$4>9,\"Actual Storage Area (acres)\",\"\")","v":""},{"$f":"IF($C$4>9,\"Actual Days in Existence (days)\",\"\")","v":""}]

{"sheet":"Asphalt Plant (AP-4)","index":4,"n_rows":166,"n_cols":20,"rows_kept":166,"cut":false,"hidden":true,"merged":[]}
[null,"ASPHALT PLANT (AP-4)"]
[null,"Please fill in the yellow boxes as applicable for your facility. ",null,null,null,null,null,null,"Values used for calculating emissions →",null,null,null,"Values Used to Calculate Actual Emissions for the Listed Processes at this Plant"]
[]
[null,{"$f":"\"Number of Sites this Plant operated at in \"&'Facility Information'!G5&\":\"","v":"Number of Sites this Plant operated at in :"},null,null,null,null,null,null,null,null,null,null,"Process","Maximum Design Rate","Units","Actual throughput",null,"** As of 2016 Potential Emissions are no longer required to be reported in the Minor Source Emissions Inventory**",null,"Units"]
[null,"Plant Type:",null,null,null,null,null,null,null,null,null,null,{"$f":"$C$5 & \" - Fuel Oil\"","v":" - Fuel Oil"},{"$f":"MAX((IFERROR(OFFSET($G$21,MATCH(M5,$G$22,0),1),0)),((IFERROR(OFFSET($G$35,MATCH(M5,$G$36,0),1),0))),((IFERROR(OFFSET($G$50,MATCH(M5,$G$51,0),1),0))),((IFERROR(OFFSET($G$65,MATCH(M5,$G$66,0),1),0))),((IFERROR(OFFSET($G$80,MATCH(M5,$G$81,0),1),0))),((IFERROR(OFFSET($G$96,MATCH(M5,$G$97,0),1),0))),((IFERROR(OFFSET($G$111,MATCH(M5,$G$112,0),1),0))),((IFERROR(OFFSET($G$126,MATCH(M5,$G$127,0),1),0))),((IFERROR(OFFSET($G$141,MATCH(M5,$G$142,0),1),0))),((IFERROR(OFFSET($G$156,MATCH(M5,$G$157,0),1),0))))","v":0},"tons/hr",{"$f":"SUM((IFERROR(OFFSET($G$21,MATCH(M5,$G$22,0),2),0)),((IFERROR(OFFSET($G$35,MATCH(M5,$G$36,0),2),0))),((IFERROR(OFFSET($G$50,MATCH(M5,$G$51,0),2),0))),((IFERROR(OFFSET($G$65,MATCH(M5,$G$66,0),2),0))),((IFERROR(OFFSET($G$80,MATCH(M5,$G$81,0),2),0))),((IFERROR(OFFSET($G$96,MATCH(M5,$G$97,0),2),0))),((IFERROR(OFFSET($G$111,MATCH(M5,$G$112,0),2),0))),((IFERROR(OFFSET($G$126,MATCH(M5,$G$127,0),2),0))),((IFERROR(OFFSET($G$141,MATCH(M5,$G$142,0),2),0))),((IFERROR(OFFSET($G$156,MATCH(M5,$G$157,0),2),0))))","v":0},null,null,null,"tons/yr"]
[null,null,null,null,null,null,null,null,null,null,null,null,{"$f":"$C$5 & \" - Waste Oil\"","v":" - Waste Oil"},{"$f":"MAX((IFERROR(OFFSET($G$21,MATCH(M6,$G$22,0),1),0)),((IFERROR(OFFSET($G$35,MATCH(M6,$G$36,0),1),0))),((IFERROR(OFFSET($G$50,MATCH(M6,$G$51,0),1),0))),((IFERROR(OFFSET($G$65,MATCH(M6,$G$66,0),1),0))),((IFERROR(OFFSET($G$80,MATCH(M6,$G$81,0),1),0))),((IFERROR(OFFSET($G$96,MATCH(M6,$G$97,0),1),0))),((IFERROR(OFFSET($G$111,MATCH(M6,$G$112,0),1),0))),((IFERROR(OFFSET($G$126,MATCH(M6,$G$127,0),1),0))),((IFERROR(OFFSET($G$141,MATCH(M6,$G$142,0),1),0))),((IFERROR(OFFSET($G$156,MATCH(M6,$G$157,0),1),0))))","v":0},"tons/hr",{"$f":"SUM((IFERROR(OFFSET($G$21,MATCH(M6,$G$22,0),2),0)),((IFERROR(OFFSET($G$35,MATCH(M6,$G$36,0),2),0))),((IFERROR(OFFSET($G$50,MATCH(M6,$G$51,0),2),0))),((IFERROR(OFFSET($G$65,MATCH(M6,$G$66,0),2),0))),((IFERROR(OFFSET($G$80,MATCH(M6,$G$81,0),2),0))),((IFERROR(OFFSET($G$96,MATCH(M6,$G$97,0),2),0))),((IFERROR(OFFSET($G$111,MATCH(M6,$G$112,0),2),0))),((IFERROR(OFFSET($G$126,MATCH(M6,$G$127,0),2),0))),((IFERROR(OFFSET($G$141,MATCH(M6,$G$142,0),2),0))),((IFERROR(OFFSET($G$156,MATCH(M6,$G$157,0),2),0))))","v":0},null,null,null,"tons/yr"]
[null,"Plant Specific Permit Number: ",null,null,null,null,null,null,null,null,null,null,{"$f":"$C$5 & \" - Natural Gas\"","v":" - Natural Gas"},{"$f":"MAX((IFERROR(OFFSET($G$21,MATCH(M7,$G$22,0),1),0)),((IFERROR(OFFSET($G$35,MATCH(M7,$G$36,0),1),0))),((IFERROR(OFFSET($G$50,MATCH(M7,$G$51,0),1),0))),((IFERROR(OFFSET($G$65,MATCH(M7,$G$66,0),1),0))),((IFERROR(OFFSET($G$80,MATCH(M7,$G$81,0),1),0))),((IFERROR(OFFSET($G$96,MATCH(M7,$G$97,0),1),0))),((IFERROR(OFFSET($G$111,MATCH(M7,$G$112,0),1),0))),((IFERROR(OFFSET($G$126,MATCH(M7,$G$127,0),1),0))),((IFERROR(OFFSET($G$141,MATCH(M7,$G$142,0),1),0))),((IFERROR(OFFSET($G$156,MATCH(M7,$G$157,0),1),0))))","v":0},"tons/hr",{"$f":"SUM((IFERROR(OFFSET($G$21,MATCH(M7,$G$22,0),2),0)),((IFERROR(OFFSET($G$35,MATCH(M7,$G$36,0),2),0))),((IFERROR(OFFSET($G$50,MATCH(M7,$G$51,0),2),0))),((IFERROR(OFFSET($G$65,MATCH(M7,$G$66,0),2),0))),((IFERROR(OFFSET($G$80,MATCH(M7,$G$81,0),2),0))),((IFERROR(OFFSET($G$96,MATCH(M7,$G$97,0),2),0))),((IFERROR(OFFSET($G$111,MATCH(M7,$G$112,0),2),0))),((IFERROR(OFFSET($G$126,MATCH(M7,$G$127,0),2),0))),((IFERROR(OFFSET($G$141,MATCH(M7,$G$142,0),2),0))),((IFERROR(OFFSET($G$156,MATCH(M7,$G$157,0),2),0))))","v":0},null,null,null,"tons/yr"]
[null,null,null,null,null,null,null,null,null,null,null,null,"Fuel Oil Fired Heater",{"$f":"MAX((IFERROR(OFFSET($G$23,MATCH(\"Fuel Oil Fired Heater\",$G$24,0),1),0)),((IFERROR(OFFSET($G$37,MATCH(\"Fuel Oil Fired Heater\",$G$38,0),1),0))),((IFERROR(OFFSET($G$52,MATCH(\"Fuel Oil Fired Heater\",$G$53,0),1),0))),((IFERROR(OFFSET($G$67,MATCH(\"Fuel Oil Fired Heater\",$G$68,0),1),0))),((IFERROR(OFFSET($G$82,MATCH(\"Fuel Oil Fired Heater\",$G$83,0),1),0))),((IFERROR(OFFSET($G$98,MATCH(\"Fuel Oil Fired Heater\",$G$99,0),1),0))),((IFERROR(OFFSET($G$113,MATCH(\"Fuel Oil Fired Heater\",$G$114,0),1),0))),((IFERROR(OFFSET($G$128,MATCH(\"Fuel Oil Fired Heater\",$G$129,0),1),0))),((IFERROR(OFFSET($G$143,MATCH(\"Fuel Oil Fired Heater\",$G$144,0),1),0))),((IFERROR(OFFSET($G$158,MATCH(\"Fuel Oil Fired Heater\",$G$159,0),1),0))))","v":0},"gallons/hr",{"$f":"SUM((IFERROR(OFFSET($G$23,MATCH(\"Fuel Oil Fired Heater\",$G$24,0),2),0)),((IFERROR(OFFSET($G$37,MATCH(\"Fuel Oil Fired Heater\",$G$38,0),2),0))),((IFERROR(OFFSET($G$52,MATCH(\"Fuel Oil Fired Heater\",$G$53,0),2),0))),((IFERROR(OFFSET($G$67,MATCH(\"Fuel Oil Fired Heater\",$G$68,0),2),0))),((IFERROR(OFFSET($G$82,MATCH(\"Fuel Oil Fired Heater\",$G$83,0),2),0))),((IFERROR(OFFSET($G$98,MATCH(\"Fuel Oil Fired Heater\",$G$99,0),2),0))),((IFERROR(OFFSET($G$113,MATCH(\"Fuel Oil Fired Heater\",$G$114,0),2),0))),((IFERROR(OFFSET($G$128,MATCH(\"Fuel Oil Fired Heater\",$G$129,0),2),0))),((IFERROR(OFFSET($G$143,MATCH(\"Fuel Oil Fired Heater\",$G$144,0),2),0))),((IFERROR(OFFSET($G$158,MATCH(\"Fuel Oil Fired Heater\",$G$159,0),2),0))))","v":0},null,null,null,"gallons/yr"]
[null,"Plant Specific Operating Limits:",null,null,"Plant Specific Emission Limits:",null,null,null,null,null,null,null,"Waste Oil Fired Heater",{"$f":"MAX((IFERROR(OFFSET($G$23,MATCH(\"waste oil Fired Heater\",$G$24,0),1),0)),((IFERROR(OFFSET($G$37,MATCH(\"waste oil Fired Heater\",$G$38,0),1),0))),((IFERROR(OFFSET($G$52,MATCH(\"waste oil Fired Heater\",$G$53,0),1),0))),((IFERROR(OFFSET($G$67,MATCH(\"waste oil Fired Heater\",$G$68,0),1),0))),((IFERROR(OFFSET($G$82,MATCH(\"waste oil Fired Heater\",$G$83,0),1),0))),((IFERROR(OFFSET($G$98,MATCH(\"waste oil Fired Heater\",$G$99,0),1),0))),((IFERROR(OFFSET($G$113,MATCH(\"waste oil Fired Heater\",$G$114,0),1),0))),((IFERROR(OFFSET($G$128,MATCH(\"waste oil Fired Heater\",$G$129,0),1),0))),((IFERROR(OFFSET($G$143,MATCH(\"waste oil Fired Heater\",$G$144,0),1),0))),((IFERROR(OFFSET($G$158,MATCH(\"waste oil Fired Heater\",$G$159,0),1),0))))","v":0},"gallons/hr",{"$f":"SUM((IFERROR(OFFSET($G$23,MATCH(\"waste oil Fired Heater\",$G$24,0),2),0)),((IFERROR(OFFSET($G$37,MATCH(\"waste oil Fired Heater\",$G$38,0),2),0))),((IFERROR(OFFSET($G$52,MATCH(\"waste oil Fired Heater\",$G$53,0),2),0))),((IFERROR(OFFSET($G$67,MATCH(\"waste oil Fired Heater\",$G$68,0),2),0))),((IFERROR(OFFSET($G$82,MATCH(\"waste oil Fired Heater\",$G$83,0),2),0))),((IFERROR(OFFSET($G$98,MATCH(\"waste oil Fired Heater\",$G$99,0),2),0))),((IFERROR(OFFSET($G$113,MATCH(\"waste oil Fired Heater\",$G$114,0),2),0))),((IFERROR(OFFSET($G$128,MATCH(\"waste oil Fired Heater\",$G$129,0),2),0))),((IFERROR(OFFSET($G$143,MATCH(\"waste oil Fired Heater\",$G$144,0),2),0))),((IFERROR(OFFSET($G$158,MATCH(\"waste oil Fired Heater\",$G$159,0),2),0))))","v":0},null,null,null,"gallons/yr"]
[null,"Throughput Limit (tons/yr):",null,null,"Pollutant","lb/hr","tons/yr",null,null,null,null,null,"Natural Gas Fired Heater",{"$f":"MAX((IFERROR(OFFSET($G$23,MATCH(\"Natural Gas Fired Heater\",$G$24,0),1),0)),((IFERROR(OFFSET($G$37,MATCH(\"Natural Gas Fired Heater\",$G$38,0),1),0))),((IFERROR(OFFSET($G$52,MATCH(\"Natural Gas Fired Heater\",$G$53,0),1),0))),((IFERROR(OFFSET($G$67,MATCH(\"Natural Gas Fired Heater\",$G$68,0),1),0))),((IFERROR(OFFSET($G$82,MATCH(\"Natural Gas Fired Heater\",$G$83,0),1),0))),((IFERROR(OFFSET($G$98,MATCH(\"Natural Gas Fired Heater\",$G$99,0),1),0))),((IFERROR(OFFSET($G$113,MATCH(\"Natural Gas Fired Heater\",$G$114,0),1),0))),((IFERROR(OFFSET($G$128,MATCH(\"Natural Gas Fired Heater\",$G$129,0),1),0))),((IFERROR(OFFSET($G$143,MATCH(\"Natural Gas Fired Heater\",$G$144,0),1),0))),((IFERROR(OFFSET($G$158,MATCH(\"Natural Gas Fired Heater\",$G$159,0),1),0))))","v":0},"MMCF/hr",{"$f":"SUM((IFERROR(OFFSET($G$23,MATCH(\"Natural Gas Fired Heater\",$G$24,0),2),0)),((IFERROR(OFFSET($G$37,MATCH(\"Natural Gas Fired Heater\",$G$38,0),2),0))),((IFERROR(OFFSET($G$52,MATCH(\"Natural Gas Fired Heater\",$G$53,0),2),0))),((IFERROR(OFFSET($G$67,MATCH(\"Natural Gas Fired Heater\",$G$68,0),2),0))),((IFERROR(OFFSET($G$82,MATCH(\"Natural Gas Fired Heater\",$G$83,0),2),0))),((IFERROR(OFFSET($G$98,MATCH(\"Natural Gas Fired Heater\",$G$99,0),2),0))),((IFERROR(OFFSET($G$113,MATCH(\"Natural Gas Fired Heater\",$G$114,0),2),0))),((IFERROR(OFFSET($G$128,MATCH(\"Natural Gas Fired Heater\",$G$129,0),2),0))),((IFERROR(OFFSET($G$143,MATCH(\"Natural Gas Fired Heater\",$G$144,0),2),0))),((IFERROR(OFFSET($G$158,MATCH(\"Natural Gas Fired Heater\",$G$159,0),2),0))))","v":0},null,null,null,"MMCF/yr"]
[null,"Daily Throughput Limit (tons/day):",null,null,"PM2.5",null,null,null,null,null,null,null,"Silo Filling",{"$f":"MAX((IFERROR(OFFSET($G$25,MATCH(\"Silo Filling\",$G$26,0),1),0)),((IFERROR(OFFSET($G$39,MATCH(\"Silo Filling\",$G$40,0),1),0))),((IFERROR(OFFSET($G$54,MATCH(\"Silo Filling\",$G$55,0),1),0))),((IFERROR(OFFSET($G$69,MATCH(\"Silo Filling\",$G$70,0),1),0))),((IFERROR(OFFSET($G$84,MATCH(\"Silo Filling\",$G$85,0),1),0))),((IFERROR(OFFSET($G$100,MATCH(\"Silo Filling\",$G$101,0),1),0))),((IFERROR(OFFSET($G$115,MATCH(\"Silo Filling\",$G$116,0),1),0))),((IFERROR(OFFSET($G$130,MATCH(\"Silo Filling\",$G$131,0),1),0))),((IFERROR(OFFSET($G$145,MATCH(\"Silo Filling\",$G$146,0),1),0))),((IFERROR(OFFSET($G$160,MATCH(\"Silo Filling\",$G$161,0),1),0))))","v":0},"tons/hr",{"$f":"SUM((IFERROR(OFFSET($G$25,MATCH(\"Silo Filling\",$G$26,0),2),0)),((IFERROR(OFFSET($G$39,MATCH(\"Silo Filling\",$G$40,0),2),0))),((IFERROR(OFFSET($G$54,MATCH(\"Silo Filling\",$G$55,0),2),0))),((IFERROR(OFFSET($G$69,MATCH(\"Silo Filling\",$G$70,0),2),0))),((IFERROR(OFFSET($G$84,MATCH(\"Silo Filling\",$G$85,0),2),0))),((IFERROR(OFFSET($G$100,MATCH(\"Silo Filling\",$G$101,0),2),0))),((IFERROR(OFFSET($G$115,MATCH(\"Silo Filling\",$G$116,0),2),0))),((IFERROR(OFFSET($G$130,MATCH(\"Silo Filling\",$G$131,0),2),0))),((IFERROR(OFFSET($G$145,MATCH(\"Silo Filling\",$G$146,0),2),0))),((IFERROR(OFFSET($G$160,MATCH(\"Silo Filling\",$G$161,0),2),0))))","v":0},null,null,null,"tons/yr"]
[null,"Hours of Operation Limit (hours/day):",null,null,"PM10",null,null,null,null,null,null,null,"Truck Loadout",{"$f":"MAX((IFERROR(OFFSET(G26,MATCH(\"Truck Loadout\",G27,0),1),0)),((IFERROR(OFFSET(G40,MATCH(\"Truck Loadout\",G41,0),1),0))),((IFERROR(OFFSET(G55,MATCH(\"Truck Loadout\",G56,0),1),0))),((IFERROR(OFFSET(G70,MATCH(\"Truck Loadout\",G71,0),1),0))),((IFERROR(OFFSET(G85,MATCH(\"Truck Loadout\",G86,0),1),0))),((IFERROR(OFFSET(G101,MATCH(\"Truck Loadout\",G102,0),1),0))),((IFERROR(OFFSET(G116,MATCH(\"Truck Loadout\",G117,0),1),0))),((IFERROR(OFFSET(G131,MATCH(\"Truck Loadout\",G132,0),1),0))),((IFERROR(OFFSET(G146,MATCH(\"Truck Loadout\",G147,0),1),0))),((IFERROR(OFFSET(G161,MATCH(\"Truck Loadout\",G162,0),1),0))))","v":0},"tons/hr",{"$f":"SUM((IFERROR(OFFSET(G26,MATCH(\"Truck Loadout\",G27,0),2),0)),((IFERROR(OFFSET(G40,MATCH(\"Truck Loadout\",G41,0),2),0))),((IFERROR(OFFSET(G55,MATCH(\"Truck Loadout\",G56,0),2),0))),((IFERROR(OFFSET(G70,MATCH(\"Truck Loadout\",G71,0),2),0))),((IFERROR(OFFSET(G85,MATCH(\"Truck Loadout\",G86,0),2),0))),((IFERROR(OFFSET(G101,MATCH(\"Truck Loadout\",G102,0),2),0))),((IFERROR(OFFSET(G116,MATCH(\"Truck Loadout\",G117,0),2),0))),((IFERROR(OFFSET(G131,MATCH(\"Truck Loadout\",G132,0),2),0))),((IFERROR(OFFSET(G146,MATCH(\"Truck Loadout\",G147,0),2),0))),((IFERROR(OFFSET(G161,MATCH(\"Truck Loadout\",G162,0),2),0))))","v":0},null,null,null,"tons/yr"]
["Fuel Oil","Note: if the plant has an hrs/day and a tons/hr permit limit, those values",null,null,"SO2",null,null,null,null,null,null,null,"Cold Aggregate Bins",{"$f":"MAX((IFERROR(OFFSET(G27,MATCH(\"Cold Aggregate Bins\",G28,0),1),0)),((IFERROR(OFFSET(G41,MATCH(\"Cold Aggregate Bins\",G42,0),1),0))),((IFERROR(OFFSET(G56,MATCH(\"Cold Aggregate Bins\",G57,0),1),0))),((IFERROR(OFFSET(G71,MATCH(\"Cold Aggregate Bins\",G72,0),1),0))),((IFERROR(OFFSET(G86,MATCH(\"Cold Aggregate Bins\",G87,0),1),0))),((IFERROR(OFFSET(G102,MATCH(\"Cold Aggregate Bins\",G103,0),1),0))),((IFERROR(OFFSET(G117,MATCH(\"Cold Aggregate Bins\",G118,0),1),0))),((IFERROR(OFFSET(G132,MATCH(\"Cold Aggregate Bins\",G133,0),1),0))),((IFERROR(OFFSET(G147,MATCH(\"Cold Aggregate Bins\",G148,0),1),0))),((IFERROR(OFFSET(G162,MATCH(\"Cold Aggregate Bins\",G163,0),1),0))))","v":0},"tons/hr",{"$f":"SUM((IFERROR(OFFSET(G27,MATCH(\"Cold Aggregate Bins\",G28,0),2),0)),((IFERROR(OFFSET(G41,MATCH(\"Cold Aggregate Bins\",G42,0),2),0))),((IFERROR(OFFSET(G56,MATCH(\"Cold Aggregate Bins\",G57,0),2),0))),((IFERROR(OFFSET(G71,MATCH(\"Cold Aggregate Bins\",G72,0),2),0))),((IFERROR(OFFSET(G86,MATCH(\"Cold Aggregate Bins\",G87,0),2),0))),((IFERROR(OFFSET(G102,MATCH(\"Cold Aggregate Bins\",G103,0),2),0))),((IFERROR(OFFSET(G117,MATCH(\"Cold Aggregate Bins\",G118,0),2),0))),((IFERROR(OFFSET(G132,MATCH(\"Cold Aggregate Bins\",G133,0),2),0))),((IFERROR(OFFSET(G147,MATCH(\"Cold Aggregate Bins\",G148,0),2),0))),((IFERROR(OFFSET(G162,MATCH(\"Cold Aggregate Bins\",G163,0),2),0))))","v":0},null,null,null,"tons/yr"]
["Natural Gas","should be multiplied together to calculate a tons/day limit and that value ",null,null,"NOx",null,null,null,null,null,null,null,null,"Maximum (acres)","Actual (acres-day/yr)"]
["Waste Oil","should be placed in cell C11.",null,null,"VOC",null,null,null,null,null,null,null,"Storage Pile",{"$f":"SUM(G32,G46,G61,G76,G91,G107,G122,G137,G152,G167,)","v":0},{"$f":"SUM(H32*I32,H46*I46,H61*I61,H76*I76,H91*I91,H107*I107,H122*I122,H137*I137,H152*I152,H167*I167)","v":0}]
[null,null,null,null,"CO"]
["Batch Mix Plant"]
["Drum Mix Plant",null,null,null,null,null,null,null,null,null,null,null,"Actual Emissions for the Listed Processes at this Plant"]
[null,"Asphalt Plant","Site 1",null,"Emission Point #","Emission     Unit #","Processes","Maximum Hourly     Design Rate",{"$f":"('Facility Information'!G5&\" Annual Throughput\")","v":" Annual Throughput"},null,null,null,"PM2.5","Maximum Design Rate (tons/hr)","Emission Factor","Units","Potential Uncontrolled Emissions (lb/hr)","Potential Controlled Emissions (lb/hr)","Potential Annual Emissions (tons/yr)","Actual Annual Emissions (tons/yr)"]
["YES",null,null,null,null,null,null,null,null,null,null,null,{"$f":"$C$5 & \" - Fuel Oil\"","v":" - Fuel Oil"},{"$f":"N5","v":0},{"$f":"IF(N20=0,0,IF(MAX((IFERROR(OFFSET($G$21,MATCH(M20,$G$22,0),3),0)),((IFERROR(OFFSET($G$35,MATCH(M20,$G$36,0),3),0))),((IFERROR(OFFSET($G$50,MATCH(M20,$G$51,0),3),0))),((IFERROR(OFFSET($G$65,MATCH(M20,$G$66,0),3),0))),((IFERROR(OFFSET($G$80,MATCH(M20,$G$81,0),3),0))),((IFERROR(OFFSET($G$96,MATCH(M20,$G$97,0),3),0))),((IFERROR(OFFSET($G$111,MATCH(M20,$G$112,0),3),0))),((IFERROR(OFFSET($G$126,MATCH(M20,$G$127,0),3),0))),((IFERROR(OFFSET($G$141,MATCH(M20,$G$142,0),3),0))),((IFERROR(OFFSET($G$156,MATCH(M20,$G$157,0),3),0))))=0,0,(MAX((IFERROR(OFFSET($G$21,MATCH(M20,$G$22,0),3),0)),((IFERROR(OFFSET($G$35,MATCH(M20,$G$36,0),3),0))),((IFERROR(OFFSET($G$50,MATCH(M20,$G$51,0),3),0))),((IFERROR(OFFSET($G$65,MATCH(M20,$G$66,0),3),0))),((IFERROR(OFFSET($G$80,MATCH(M20,$G$81,0),3),0))),((IFERROR(OFFSET($G$96,MATCH(M20,$G$97,0),3),0))),((IFERROR(OFFSET($G$111,MATCH(M20,$G$112,0),3),0))),((IFERROR(OFFSET($G$126,MATCH(M20,$G$127,0),3),0))),((IFERROR(OFFSET($G$141,MATCH(M20,$G$142,0),3),0))),((IFERROR(OFFSET($G$156,MATCH(M20,$G$157,0),3),0)))))))","v":0},{"$f":"IF(O20=\"\",\"\",\"lb/ton\")","v":"lb/ton"},{"$f":"IF(O20=0.27,N20*O20,IF(O20=1.54,N20*O20,\"\"))","v":""},{"$f":"IF(N20=0,\"\",IF(AND($F$11>0,$O$20>=$O$21,$O$20>=$O$22),$F$11,IF(O20=0.0083,N20*O20,IF(O20=0.007,N20*O20,\"\"))))","v":""},{"$f":"IF(N20=0,0,IF($G$11>0,$G$11,IF(AND(OR($C$10>0,$C$11>0,$C$12>0),$O$20>=$O$21,$O$20>=$O$22),(IF($C$10>0,$C$10*O20/2000,IF($C$11>0,$C$11*365*O20/2000,IF($C$12>0,$C$12*365*O20*N20/2000)))),IF(AND($F$11>0,$O$20>=$O$21,$O$20>=$O$22),$F$11*8760/2000,IF(AND(OR($C$10=\"\",$C$10=0),OR($C$11=\"\",$C$11=0),OR($C$12=\"\",$C$12=0),$F$11=\"\"),IF(R20=\"\",Q20*8760/2000,R20*8760/2000),\"\")))))","v":0},{"$f":"IF(N20=\"\",\"\",SUM((IFERROR(MATCH(M20,$G$22,0)*$I$22*$J$22/2000,0)),(IFERROR(MATCH(M20,$G$36,0)*$I$36*$J$36/2000,0)),(IFERROR(MATCH(M20,$G$51,0)*$I$51*$J$51/2000,0)),(IFERROR(MATCH(M20,$G$66,0)*$I$66*$J$66/2000,0)),(IFERROR(MATCH(M20,$G$81,0)*$I$81*$J$81/2000,0)),(IFERROR(MATCH(M20,$G$97,0)*$I$97*$J$97/2000,0)),(IFERROR(MATCH(M20,$G$112,0)*$I$112*$J$112/2000,0)),(IFERROR(MATCH(M20,$G$127,0)*$I$127*$J$127/2000,0)),(IFERROR(MATCH(M20,$G$142,0)*$I$142*$J$142/2000,0)),(IFERROR(MATCH(M20,$G$157,0)*$I$157*$J$157/2000,0))))","v":0}]
["NO","Site Name:",null,null,"Dryer, Hot Screens, Mixer",null,null,"(tons/hr)","(tons/yr)","PM2.5","PM10",null,{"$f":"$C$5 & \" - Waste Oil\"","v":" - Waste Oil"},{"$f":"N6","v":0},{"$f":"IF(N21=0,0,IF(MAX((IFERROR(OFFSET($G$21,MATCH(M21,$G$22,0),3),0)),((IFERROR(OFFSET($G$35,MATCH(M21,$G$36,0),3),0))),((IFERROR(OFFSET($G$50,MATCH(M21,$G$51,0),3),0))),((IFERROR(OFFSET($G$65,MATCH(M21,$G$66,0),3),0))),((IFERROR(OFFSET($G$80,MATCH(M21,$G$81,0),3),0))),((IFERROR(OFFSET($G$96,MATCH(M21,$G$97,0),3),0))),((IFERROR(OFFSET($G$111,MATCH(M21,$G$112,0),3),0))),((IFERROR(OFFSET($G$126,MATCH(M21,$G$127,0),3),0))),((IFERROR(OFFSET($G$141,MATCH(M21,$G$142,0),3),0))),((IFERROR(OFFSET($G$156,MATCH(M21,$G$157,0),3),0))))=0,0,(MAX((IFERROR(OFFSET($G$21,MATCH(M21,$G$22,0),3),0)),((IFERROR(OFFSET($G$35,MATCH(M21,$G$36,0),3),0))),((IFERROR(OFFSET($G$50,MATCH(M21,$G$51,0),3),0))),((IFERROR(OFFSET($G$65,MATCH(M21,$G$66,0),3),0))),((IFERROR(OFFSET($G$80,MATCH(M21,$G$81,0),3),0))),((IFERROR(OFFSET($G$96,MATCH(M21,$G$97,0),3),0))),((IFERROR(OFFSET($G$111,MATCH(M21,$G$112,0),3),0))),((IFERROR(OFFSET($G$126,MATCH(M21,$G$127,0),3),0))),((IFERROR(OFFSET($G$141,MATCH(M21,$G$142,0),3),0))),((IFERROR(OFFSET($G$156,MATCH(M21,$G$157,0),3),0)))))))","v":0},"lb/ton",{"$f":"IF(O21=0.27,N21*O21,IF(O21=1.54,N21*O21,\"\"))","v":""},{"$f":"IF(N21=0,\"\",IF(AND($F$11>0,$O$21>$O$20,$O$21>=$O$22),$F$11,IF(O21=0.0083,N21*O21,IF(O21=0.007,N21*O21,\"\"))))","v":""},{"$f":"IF(N21=0,0,IF($G$11>0,IF(S20=0,G11,\"\"),IF(AND(OR($C$10>0,$C$11>0,$C$12>0),$O$21>$O$20,$O$21>=$O$22),(IF($C$10>0,$C$10*O21/2000,IF($C$11>0,$C$11*365*O21/2000,IF($C$12>0,$C$12*365*O21*N21/2000)))),IF(AND($F$11>0,$O$21>$O$20,$O$21>=$O$22),$F$11*8760/2000,IF(AND(OR($C$10=\"\",$C$10=0),OR($C$11=\"\",$C$11=0),OR($C$12=\"\",$C$12=0),$F$11=\"\"),IF(R21=\"\",Q21*8760/2000,R21*8760/2000),\"\")))))","v":0},{"$f":"IF(N21=\"\",\"\",SUM((IFERROR(MATCH(M21,$G$22,0)*$I$22*$J$22/2000,0)),(IFERROR(MATCH(M21,$G$36,0)*$I$36*$J$36/2000,0)),(IFERROR(MATCH(M21,$G$51,0)*$I$51*$J$51/2000,0)),(IFERROR(MATCH(M21,$G$66,0)*$I$66*$J$66/2000,0)),(IFERROR(MATCH(M21,$G$81,0)*$I$81*$J$81/2000,0)),(IFERROR(MATCH(M21,$G$97,0)*$I$97*$J$97/2000,0)),(IFERROR(MATCH(M21,$G$112,0)*$I$112*$J$112/2000,0)),(IFERROR(MATCH(M21,$G$127,0)*$I$127*$J$127/2000,0)),(IFERROR(MATCH(M21,$G$142,0)*$I$142*$J$142/2000,0)),(IFERROR(MATCH(M21,$G$157,0)*$I$157*$J$157/2000,0))))","v":0}]
[null,"County:",null,null,{"$f":"IF($C$4>0,\"AP-4 EP-1\",\"\")","v":""},{"$f":"IF($C$4>0,\"AP-4 EU-1\",\"\")","v":""},{"$f":"IF(C24=\"\",\"\",C5 & \" - \"&C24)","v":""},null,null,{"$f":"IF(C25=\"\",\"\",IF(C25=\"yes\",LOOKUP(G22,'Emission Factors'!$A$12:$A$17,'Emission Factors'!$D$12:$D$17),LOOKUP(G22,'Emission Factors'!$A$5:$A$10,'Emission Factors'!$D$5:$D$10)))","v":""},{"$f":"IF(C25=\"\",\"\",IF(C25=\"yes\",LOOKUP(G22,'Emission Factors'!$A$12:$A$17,'Emission Factors'!$F$12:$F$17),LOOKUP(G22,'Emission Factors'!$A$5:$A$10,'Emission Factors'!$F$5:$F$10)))","v":""},null,{"$f":"$C$5 & \" - Natural Gas\"","v":" - Natural Gas"},{"$f":"N7","v":0},{"$f":"IF(N22=0,0,IF(MAX((IFERROR(OFFSET($G$21,MATCH(M22,$G$22,0),3),0)),((IFERROR(OFFSET($G$35,MATCH(M22,$G$36,0),3),0))),((IFERROR(OFFSET($G$50,MATCH(M22,$G$51,0),3),0))),((IFERROR(OFFSET($G$65,MATCH(M22,$G$66,0),3),0))),((IFERROR(OFFSET($G$80,MATCH(M22,$G$81,0),3),0))),((IFERROR(OFFSET($G$96,MATCH(M22,$G$97,0),3),0))),((IFERROR(OFFSET($G$111,MATCH(M22,$G$112,0),3),0))),((IFERROR(OFFSET($G$126,MATCH(M22,$G$127,0),3),0))),((IFERROR(OFFSET($G$141,MATCH(M22,$G$142,0),3),0))),((IFERROR(OFFSET($G$156,MATCH(M22,$G$157,0),3),0))))=0,0,(MAX((IFERROR(OFFSET($G$21,MATCH(M22,$G$22,0),3),0)),((IFERROR(OFFSET($G$35,MATCH(M22,$G$36,0),3),0))),((IFERROR(OFFSET($G$50,MATCH(M22,$G$51,0),3),0))),((IFERROR(OFFSET($G$65,MATCH(M22,$G$66,0),3),0))),((IFERROR(OFFSET($G$80,MATCH(M22,$G$81,0),3),0))),((IFERROR(OFFSET($G$96,MATCH(M22,$G$97,0),3),0))),((IFERROR(OFFSET($G$111,MATCH(M22,$G$112,0),3),0))),((IFERROR(OFFSET($G$126,MATCH(M22,$G$127,0),3),0))),((IFERROR(OFFSET($G$141,MATCH(M22,$G$142,0),3),0))),((IFERROR(OFFSET($G$156,MATCH(M22,$G$157,0),3),0)))))))","v":0},"lb/ton",{"$f":"IF(O22=0.27,N22*O22,IF(O22=1.54,N22*O22,\"\"))","v":""},{"$f":"IF(N22=0,\"\",IF(AND($F$11>0,$O$22>$O$20,$O$22>$O$20),$F$11,IF(O22=0.0083,N22*O22,IF(O22=0.007,N22*O22,\"\"))))","v":""},{"$f":"IF(N22=0,0,IF($G$11>0,IF(AND(S20=0,S21=0),\"\"),IF(AND(OR($C$10>0,$C$11>0,$C$12>0),$O$22>$O$20,$O$22>$O$20),(IF($C$10>0,$C$10*O22/2000,IF($C$11>0,$C$11*365*O22/2000,IF($C$12>0,$C$12*365*O22*N22/2000)))),IF(AND($F$11>0,$O$22>$O$20,$O$22>$O$20),$F$11*8760/2000,IF(AND(OR($C$10=\"\",$C$10=0),OR($C$11=\"\",$C$11=0),OR($C$12=\"\",$C$12=0),$F$11=\"\"),IF(R22=\"\",Q22*8760/2000,R22*8760/2000),\"\")))))","v":0},{"$f":"IF(N22=\"\",\"\",SUM((IFERROR(MATCH(M22,$G$22,0)*$I$22*$J$22/2000,0)),(IFERROR(MATCH(M22,$G$36,0)*$I$36*$J$36/2000,0)),(IFERROR(MATCH(M22,$G$51,0)*$I$51*$J$51/2000,0)),(IFERROR(MATCH(M22,$G$66,0)*$I$66*$J$66/2000,0)),(IFERROR(MATCH(M22,$G$81,0)*$I$81*$J$81/2000,0)),(IFERROR(MATCH(M22,$G$97,0)*$I$97*$J$97/2000,0)),(IFERROR(MATCH(M22,$G$112,0)*$I$112*$J$112/2000,0)),(IFERROR(MATCH(M22,$G$127,0)*$I$127*$J$127/2000,0)),(IFERROR(MATCH(M22,$G$142,0)*$I$142*$J$142/2000,0)),(IFERROR(MATCH(M22,$G$157,0)*$I$157*$J$157/2000,0))))","v":0}]
[null,"Production Period (Dates):",null,null,"Liquid Asphalt Heater",null,null,{"$f":"IF(C24=\"natural gas\", \"(MMCF/hr)\",\"(gallons/hr)\")","v":"(gallons/hr)"},{"$f":"IF(C24=\"natural gas\", \"(MMCF/yr)\",\"(gallons/yr)\")","v":"(gallons/yr)"},null,null,null,"Silo Filling",{"$f":"N11","v":0},{"$f":"IF(N23=0,0,IF(N23=0,0,LOOKUP(M23,'Emission Factors'!$A$23:$A$25,'Emission Factors'!$D$23:$D$25)))","v":0},"lb/ton",{"$f":"N23*O23","v":0},null,{"$f":"IF($G$11>0,\"\",IF($C$10>0,$C$10*O23/2000,IF($C$11>0,$C$11*365*O23/2000,IF($C$12>0,$C$12*365*O23*N23/2000,IF($F$11>0,\"\",IF(R23=\"\",Q23*8760/2000,R23*8760/2000))))))","v":0},{"$f":"(P11*O23/2000)","v":0}]
[null,"Type of Fuel Used:",null,null,{"$f":"IF($C$4>0,\"AP-4 EP-2\",\"\")","v":""},{"$f":"IF($C$4>0,\"AP-4 EU-2\",\"\")","v":""},{"$f":"IF(C24=\"\",\"\",C24& \" Fired Heater\")","v":""},null,null,null,null,null,"Truck Loadout",{"$f":"N12","v":0},{"$f":"IF(N24=0,0,IF(N24=0,0,LOOKUP(M24,'Emission Factors'!$A$23:$A$25,'Emission Factors'!$D$23:$D$25)))","v":0},"lb/ton",{"$f":"N24*O24","v":0},null,{"$f":"IF($G$11>0,\"\",IF($C$10>0,$C$10*O24/2000,IF($C$11>0,$C$11*365*O24/2000,IF($C$12>0,$C$12*365*O24*N24/2000,IF($F$11>0,\"\",IF(R24=\"\",Q24*8760/2000,R24*8760/2000))))))","v":0},{"$f":"(P12*O24/2000)","v":0}]
[null,"Is Your Operation Controlled?:",null,null,"Silo Filling, Truck Loadout, Aggregate Transfer",null,null,"(tons/hr)","(tons/yr)",null,null,null,"Cold Aggregate Bins",{"$f":"N13","v":0},{"$f":"IF(N25=0,0,IF(N25=0,0,LOOKUP(M25,'Emission Factors'!A23:A25,'Emission Factors'!D23:D25)))","v":0},"lb/ton",{"$f":"N25*O25","v":0},null,{"$f":"IF($G$11>0,\"\",IF($C$10>0,$C$10*O25/2000,IF($C$11>0,$C$11*365*O25/2000,IF($C$12>0,$C$12*365*O25*N25/2000,IF($F$11>0,\"\",IF(R25=\"\",Q25*8760/2000,R25*8760/2000))))))","v":0},{"$f":"(P13*O25/2000)","v":0}]
[null,null,null,null,{"$f":"IF($C$4>0,\"AP-4 EP-3\",\"\")","v":""},{"$f":"IF($C$4>0,\"AP-4 EU-3\",\"\")","v":""},{"$f":"IF(C5=\"\",\"\",\"Silo Filling\")","v":""},null,null,null,null,null,"PM10"]
[null,null,null,null,{"$f":"IF($C$4>0,\"AP-4 EP-3\",\"\")","v":""},{"$f":"IF($C$4>0,\"AP-4 EU-4\",\"\")","v":""},{"$f":"IF(C5=\"\",\"\",\"Truck Loadout\")","v":""},null,null,null,null,null,{"$f":"$C$5 & \" - Fuel Oil\"","v":" - Fuel Oil"},{"$f":"N5","v":0},{"$f":"IF(N27=0,0,IF(MAX((IFERROR(OFFSET($G$21,MATCH(M27,$G$22,0),4),0)),((IFERROR(OFFSET($G$35,MATCH(M27,$G$36,0),4),0))),((IFERROR(OFFSET($G$50,MATCH(M27,$G$51,0),4),0))),((IFERROR(OFFSET($G$65,MATCH(M27,$G$66,0),4),0))),((IFERROR(OFFSET($G$80,MATCH(M27,$G$81,0),3),0))),((IFERROR(OFFSET($G$96,MATCH(M27,$G$97,0),4),0))),((IFERROR(OFFSET($G$111,MATCH(M27,$G$112,0),4),0))),((IFERROR(OFFSET($G$126,MATCH(M27,$G$127,0),4),0))),((IFERROR(OFFSET($G$141,MATCH(M27,$G$142,0),4),0))),((IFERROR(OFFSET($G$156,MATCH(M27,$G$157,0),4),0))))=0,0,(MAX((IFERROR(OFFSET($G$21,MATCH(M27,$G$22,0),4),0)),((IFERROR(OFFSET($G$35,MATCH(M27,$G$36,0),4),0))),((IFERROR(OFFSET($G$50,MATCH(M27,$G$51,0),4),0))),((IFERROR(OFFSET($G$65,MATCH(M27,$G$66,0),4),0))),((IFERROR(OFFSET($G$80,MATCH(M27,$G$81,0),4),0))),((IFERROR(OFFSET($G$96,MATCH(M27,$G$97,0),4),0))),((IFERROR(OFFSET($G$111,MATCH(M27,$G$112,0),4),0))),((IFERROR(OFFSET($G$126,MATCH(M27,$G$127,0),4),0))),((IFERROR(OFFSET($G$141,MATCH(M27,$G$142,0),4),0))),((IFERROR(OFFSET($G$156,MATCH(M27,$G$157,0),4),0)))))))","v":0},{"$f":"IF(O27=\"\",\"\",\"lb/ton\")","v":"lb/ton"},{"$f":"IF(O27=4.5,N27*O27,IF(O27=6.5,N27*O27,\"\"))","v":""},{"$f":"IF(N27=0,\"\",IF(AND($F$12>0,$O$27>=$O$28,$O$27>=$O$29),$F$12,IF(O27=0.0098,N27*O27,IF(O27=0.023,N27*O27,\"\"))))","v":""},{"$f":"IF(N27=0,0,IF($G$12>0,$G$12,IF(AND(OR($C$10>0,$C$11>0,$C$12>0),$O$27>=$O$28,$O$27>=$O$29),(IF($C$10>0,$C$10*O27/2000,IF($C$11>0,$C$11*365*O27/2000,IF($C$12>0,$C$12*365*O27*N27/2000)))),IF(AND($F$12>0,$O$27>=$O$28,$O$27>=$O$29),$F$12*8760/2000,IF(AND(OR($C$10=\"\",$C$10=0),OR($C$11=\"\",$C$11=0),OR($C$12=\"\",$C$12=0),$F$12=\"\"),IF(R27=\"\",Q27*8760/2000,R27*8760/2000),\"\")))))","v":0},{"$f":"IF(N27=\"\",\"\",SUM((IFERROR(MATCH(M27,$G$22,0)*$I$22*$K$22/2000,0)),(IFERROR(MATCH(M27,$G$36,0)*$I$36*$K$36/2000,0)),(IFERROR(MATCH(M27,$G$51,0)*$I$51*$K$51/2000,0)),(IFERROR(MATCH(M27,$G$66,0)*$I$66*$K$66/2000,0)),(IFERROR(MATCH(M27,$G$81,0)*$I$81*$K$81/2000,0)),(IFERROR(MATCH(M27,$G$97,0)*$I$97*$K$97/2000,0)),(IFERROR(MATCH(M27,$G$112,0)*$I$112*$K$112/2000,0)),(IFERROR(MATCH(M27,$G$127,0)*$I$127*$K$127/2000,0)),(IFERROR(MATCH(M27,$G$142,0)*$I$142*$K$142/2000,0)),(IFERROR(MATCH(M27,$G$157,0)*$I$157*$K$157/2000,0))))","v":0}]
[null,null,null,null,{"$f":"IF($C$4>0,\"AP-4 EP-3\",\"\")","v":""},{"$f":"IF($C$4>0,\"AP-4 EU-5\",\"\")","v":""},{"$f":"IF(C5=\"\",\"\",\"Cold Aggregate Bins\")","v":""},null,null,null,null,null,{"$f":"$C$5 & \" - Waste Oil\"","v":" - Waste Oil"},{"$f":"N6","v":0},{"$f":"IF(N28=0,0,IF(MAX((IFERROR(OFFSET($G$21,MATCH(M28,$G$22,0),4),0)),((IFERROR(OFFSET($G$35,MATCH(M28,$G$36,0),4),0))),((IFERROR(OFFSET($G$50,MATCH(M28,$G$51,0),4),0))),((IFERROR(OFFSET($G$65,MATCH(M28,$G$66,0),4),0))),((IFERROR(OFFSET($G$80,MATCH(M28,$G$81,0),3),0))),((IFERROR(OFFSET($G$96,MATCH(M28,$G$97,0),4),0))),((IFERROR(OFFSET($G$111,MATCH(M28,$G$112,0),4),0))),((IFERROR(OFFSET($G$126,MATCH(M28,$G$127,0),4),0))),((IFERROR(OFFSET($G$141,MATCH(M28,$G$142,0),4),0))),((IFERROR(OFFSET($G$156,MATCH(M28,$G$157,0),4),0))))=0,0,(MAX((IFERROR(OFFSET($G$21,MATCH(M28,$G$22,0),4),0)),((IFERROR(OFFSET($G$35,MATCH(M28,$G$36,0),4),0))),((IFERROR(OFFSET($G$50,MATCH(M28,$G$51,0),4),0))),((IFERROR(OFFSET($G$65,MATCH(M28,$G$66,0),4),0))),((IFERROR(OFFSET($G$80,MATCH(M28,$G$81,0),4),0))),((IFERROR(OFFSET($G$96,MATCH(M28,$G$97,0),4),0))),((IFERROR(OFFSET($G$111,MATCH(M28,$G$112,0),4),0))),((IFERROR(OFFSET($G$126,MATCH(M28,$G$127,0),4),0))),((IFERROR(OFFSET($G$141,MATCH(M28,$G$142,0),4),0))),((IFERROR(OFFSET($G$156,MATCH(M28,$G$157,0),4),0)))))))","v":0},"lb/ton",{"$f":"IF(O28=4.5,N28*O28,IF(O28=6.5,N28*O28,\"\"))","v":""},{"$f":"IF(N28=0,\"\",IF(AND($F$12>0,$O$28>$O$27,$O$28>=$O$29),$F$12,IF(O28=0.0098,N28*O28,IF(O28=0.023,N28*O28,\"\"))))","v":""},{"$f":"IF(N28=0,0,IF($G$12>0,IF(S27=0,$G$12,\"\"),IF(AND(OR($C$10>0,$C$11>0,$C$12>0),$O$28>$O$27,$O$28>=$O$29),(IF($C$10>0,$C$10*O28/2000,IF($C$11>0,$C$11*365*O28/2000,IF($C$12>0,$C$12*365*O28*N28/2000)))),IF(AND($F$12>0,$O$28>$O$27,$O$28>=$O$29),$F$12*8760/2000,IF(AND(OR($C$10=\"\",$C$10=0),OR($C$11=\"\",$C$11=0),OR($C$12=\"\",$C$12=0),$F$12=\"\"),IF(R28=\"\",Q28*8760/2000,R28*8760/2000),\"\")))))","v":0},{"$f":"IF(N28=\"\",\"\",SUM((IFERROR(MATCH(M28,$G$22,0)*$I$22*$K$22/2000,0)),(IFERROR(MATCH(M28,$G$36,0)*$I$36*$K$36/2000,0)),(IFERROR(MATCH(M28,$G$51,0)*$I$51*$K$51/2000,0)),(IFERROR(MATCH(M28,$G$66,0)*$I$66*$K$66/2000,0)),(IFERROR(MATCH(M28,$G$81,0)*$I$81*$K$81/2000,0)),(IFERROR(MATCH(M28,$G$97,0)*$I$97*$K$97/2000,0)),(IFERROR(MATCH(M28,$G$112,0)*$I$112*$K$112/2000,0)),(IFERROR(MATCH(M28,$G$127,0)*$I$127*$K$127/2000,0)),(IFERROR(MATCH(M28,$G$142,0)*$I$142*$K$142/2000,0)),(IFERROR(MATCH(M28,$G$157,0)*$I$157*$K$157/2000,0))))","v":0}]
[null,null,null,null,null,null,null,null,null,null,null,null,{"$f":"$C$5 & \" - Natural Gas\"","v":" - Natural Gas"},{"$f":"N7","v":0},{"$f":"IF(N29=0,0,IF(MAX((IFERROR(OFFSET($G$21,MATCH(M29,$G$22,0),4),0)),((IFERROR(OFFSET($G$35,MATCH(M29,$G$36,0),4),0))),((IFERROR(OFFSET($G$50,MATCH(M29,$G$51,0),4),0))),((IFERROR(OFFSET($G$65,MATCH(M29,$G$66,0),4),0))),((IFERROR(OFFSET($G$80,MATCH(M29,$G$81,0),3),0))),((IFERROR(OFFSET($G$96,MATCH(M29,$G$97,0),4),0))),((IFERROR(OFFSET($G$111,MATCH(M29,$G$112,0),4),0))),((IFERROR(OFFSET($G$126,MATCH(M29,$G$127,0),4),0))),((IFERROR(OFFSET($G$141,MATCH(M29,$G$142,0),4),0))),((IFERROR(OFFSET($G$156,MATCH(M29,$G$157,0),4),0))))=0,0,(MAX((IFERROR(OFFSET($G$21,MATCH(M29,$G$22,0),4),0)),((IFERROR(OFFSET($G$35,MATCH(M29,$G$36,0),4),0))),((IFERROR(OFFSET($G$50,MATCH(M29,$G$51,0),4),0))),((IFERROR(OFFSET($G$65,MATCH(M29,$G$66,0),4),0))),((IFERROR(OFFSET($G$80,MATCH(M29,$G$81,0),4),0))),((IFERROR(OFFSET($G$96,MATCH(M29,$G$97,0),4),0))),((IFERROR(OFFSET($G$111,MATCH(M29,$G$112,0),4),0))),((IFERROR(OFFSET($G$126,MATCH(M29,$G$127,0),4),0))),((IFERROR(OFFSET($G$141,MATCH(M29,$G$142,0),4),0))),((IFERROR(OFFSET($G$156,MATCH(M29,$G$157,0),4),0)))))))","v":0},"lb/ton",{"$f":"IF(O29=4.5,N29*O29,IF(O29=6.5,N29*O29,\"\"))","v":""},{"$f":"IF(N29=0,\"\",IF(AND($F$12>0,$O$29>$O$27,$O$29>$O$28),$F$12,IF(O29=0.0098,N29*O29,IF(O29=0.023,N29*O29,\"\"))))","v":""},{"$f":"IF(N29=0,0,IF($G$12>0,IF(AND(S27=0,S28=0),$G$12,\"\"),IF(AND(OR($C$10>0,$C$11>0,$C$12>0),$O$29>$O$27,$O$29>$O$28),(IF($C$10>0,$C$10*O29/2000,IF($C$11>0,$C$11*365*O29/2000,IF($C$12>0,$C$12*365*O29*N29/2000)))),IF(AND($F$12>0,$O$29>$O$27,$O$29>$O$28),$F$12*8760/2000,IF(AND(OR($C$10=\"\",$C$10=0),OR($C$11=\"\",$C$11=0),OR($C$12=\"\",$C$12=0),$F$12=\"\"),IF(R29=\"\",Q29*8760/2000,R29*8760/2000),\"\")))))","v":0},{"$f":"IF(N29=\"\",\"\",SUM((IFERROR(MATCH(M29,$G$22,0)*$I$22*$K$22/2000,0)),(IFERROR(MATCH(M29,$G$36,0)*$I$36*$K$36/2000,0)),(IFERROR(MATCH(M29,$G$51,0)*$I$51*$K$51/2000,0)),(IFERROR(MATCH(M29,$G$66,0)*$I$66*$K$66/2000,0)),(IFERROR(MATCH(M29,$G$81,0)*$I$81*$K$81/2000,0)),(IFERROR(MATCH(M29,$G$97,0)*$I$97*$K$97/2000,0)),(IFERROR(MATCH(M29,$G$112,0)*$I$112*$K$112/2000,0)),(IFERROR(MATCH(M29,$G$127,0)*$I$127*$K$127/2000,0)),(IFERROR(MATCH(M29,$G$142,0)*$I$142*$K$142/2000,0)),(IFERROR(MATCH(M29,$G$157,0)*$I$157*$K$157/2000,0))))","v":0}]
[null,null,null,null,"Stock Pile Area",null,null,null,null,null,null,null,"Silo Filling",{"$f":"N11","v":0},{"$f":"IF(N30=0,0,IF(N30=0,0,LOOKUP(M30,'Emission Factors'!$A$23:$A$25,'Emission Factors'!$F$23:$F$25)))","v":0},"lb/ton",{"$f":"N30*O30","v":0},null,{"$f":"IF($G$12>0,\"\",IF($C$10>0,$C$10*O30/2000,IF($C$11>0,$C$11*365*O30/2000,IF($C$12>0,$C$12*365*O30*N30/2000,IF($F$11>0,\"\",IF(R30=\"\",Q30*8760/2000,R30*8760/2000))))))","v":0},{"$f":"(P11*O30/2000)","v":0}]
[null,null,null,null,null,"Emission Unit #","Maximum Storage Area (acres)","Actual Storage Area (acres)","Actual Days in Existence (days)",null,null,null,"Truck Loadout",{"$f":"N12","v":0},{"$f":"IF(N31=0,0,IF(N31=0,0,LOOKUP(M31,'Emission Factors'!$A$23:$A$25,'Emission Factors'!$F$23:$F$25)))","v":0},"lb/ton",{"$f":"N31*O31","v":0},null,{"$f":"IF($G$12>0,\"\",IF($C$10>0,$C$10*O31/2000,IF($C$11>0,$C$11*365*O31/2000,IF($C$12>0,$C$12*365*O31*N31/2000,IF($F$11>0,\"\",IF(R31=\"\",Q31*8760/2000,R31*8760/2000))))))","v":0},{"$f":"(P12*O31/2000)","v":0}]
[null,null,null,null,null,null,null,null,null,null,null,null,"Cold Aggregate Bins",{"$f":"N13","v":0},{"$f":"IF(N32=0,0,IF(N32=0,0,LOOKUP(M32,'Emission Factors'!$A$23:$A$25,'Emission Factors'!$F$23:$F$25)))","v":0},"lb/ton",{"$f":"N32*O32","v":0},null,{"$f":"IF($G$12>0,\"\",IF($C$10>0,$C$10*O32/2000,IF($C$11>0,$C$11*365*O32/2000,IF($C$12>0,$C$12*365*O32*N32/2000,IF($F$11>0,\"\",IF(R32=\"\",Q32*8760/2000,R32*8760/2000))))))","v":0},{"$f":"(P13*O32/2000)","v":0}]
[]
[null,{"$f":"IF($C$4>1,\"Asphalt Plant\",\"\")","v":""},{"$f":"IF($C$4>1,\"Site 2\",\"\")","v":""},null,{"$f":"IF($C$4>1,\"Emission Point #\",\"\")","v":""},{"$f":"IF($C$4>1,\"Emission    Unit #\",\"\")","v":""},{"$f":"IF($C$4>1,\"Process\",\"\")","v":""},{"$f":"IF($C$4>1,\"Maximum Hourly     Design Rate\",\"\")","v":""},{"$f":"IF($C$4>1,('Facility Information'!G20&\" Annual Throughput\"),\"\")","v":""},null,null,null,null,"Storage Pile","Max Design Rate (acres)","Emission Factor   (lb/acre-day)","Potential Uncontrolled Emissions (lb/hr)","Potential Controlled Emissions (lb/hr)","Potential Annual Emissions (tons/yr)","Actual Annual Emissions (tons/yr)"]
[null,{"$f":"IF($C$4>1,\"Site Name\",\"\")","v":""},null,null,{"$f":"IF($C$4>1,\"Dryers, Hot Screens, Mixer\",\"\")","v":""},null,null,{"$f":"IF($C$4>1,\"(tons/hr)\",\"\")","v":""},{"$f":"IF($C$4>1,\"(tons/yr)\",\"\")","v":""},"PM2.5","PM10",null,null,"PM2.5/PM10",{"$f":"N15","v":0},3.64,{"$f":"O35*P35*(1/24)","v":0},null,{"$f":"O35*P35*365/2000","v":0},{"$f":"O15*P35/2000","v":0}]
[null,{"$f":"IF($C$4>1,\"County:\",\"\")","v":""},null,null,{"$f":"IF(C38=\"\",\"\",\"AP-4 EP-1\")","v":""},{"$f":"IF(C38=\"\",\"\",\"AP-4 EU-1\")","v":""},{"$f":"IF(C38=\"\",\"\",C5 & \" - \"&C38)","v":""},null,null,{"$f":"IF(C39=\"\",\"\",IF(C39=\"yes\",LOOKUP(G36,'Emission Factors'!$A$12:$A$17,'Emission Factors'!$D$12:$D$17),LOOKUP(G36,'Emission Factors'!$A$5:$A$10,'Emission Factors'!$D$5:$D$10)))","v":""},{"$f":"IF(C39=\"\",\"\",IF(C39=\"yes\",LOOKUP(G36,'Emission Factors'!$A$12:$A$17,'Emission Factors'!$F$12:$F$17),LOOKUP(G36,'Emission Factors'!$A$5:$A$10,'Emission Factors'!$F$5:$F$10)))","v":""}]
[null,{"$f":"IF($C$4>1,\"Production Period (Dates):\",\"\")","v":""},null,null,{"$f":"IF($C$4>1,\"Liquid Asphalt Heater\",\"\")","v":""},null,null,{"$f":"IF($C$4>1,IF(C38=\"natural gas\",\"MMCF/hr\",\"(gallons/hr)\"),\"\")","v":""},{"$f":"IF($C$4>1,IF(C38=\"natural gas\",\"MMCF/yr\",\"(gallons/yr)\"),\"\")","v":""},null,null,null,"SO2"]
[null,{"$f":"IF($C$4>1,\"Type of Fuel Used:\",\"\")","v":""},null,null,{"$f":"IF(C38=\"\",\"\",\"AP-4 EP-2\")","v":""},{"$f":"IF(C38=\"\",\"\",\"AP-4 EU-2\")","v":""},{"$f":"IF(C38=\"\",\"\",C38& \" Fired Heater\")","v":""},null,null,null,null,null,{"$f":"$C$5 & \" - Fuel Oil\"","v":" - Fuel Oil"},{"$f":"$N$5","v":0},{"$f":"IF(N38=0,0,LOOKUP(M38,'Emission Factors'!$A$5:$A$10,'Emission Factors'!$H$5:$H$10))","v":0},{"$f":"IF(O38=\"\",\"\",\"lb/ton\")","v":"lb/ton"},{"$f":"N38*O38","v":0},{"$f":"IF(N38=0,\"\",IF(AND($F$13>0,N39=0),$F$13,\"\"))","v":""},{"$f":"IF(N38=0,0,IF($G$13>0,$G$13,IF(OR(AND($C$10>0,$N$39>0),AND($C$11>0,$N$39>0),AND($C$12>0,$N$39>0)),\"\",IF($C$10>0,$C$10*O38/2000,IF($C$11>0,$C$11*365*O38/2000,IF($C$12>0,$C$12*365*O38*N38/2000,IF(AND(N39>0,F13>0),\"\",IF(R38=\"\",Q38*8760/2000,R38*8760/2000))))))))","v":0},{"$f":"P5*O38/2000","v":0}]
[null,{"$f":"IF($C$4>1,\"Is Your Operation Controlled?:\",\"\")","v":""},null,null,{"$f":"IF($C$4>1,\"Silo Filling, Truck Loadout, Aggregate Transfer\",\"\")","v":""},null,null,{"$f":"IF($C$4>1,\"(tons/hr)\",\"\")","v":""},{"$f":"IF($C$4>1,\"(tons/yr)\",\"\")","v":""},null,null,null,{"$f":"$C$5 & \" - Waste Oil\"","v":" - Waste Oil"},{"$f":"$N$6","v":0},{"$f":"IF(N39=0,0,LOOKUP(M39,'Emission Factors'!$A$5:$A$10,'Emission Factors'!$H$5:$H$10))","v":0},{"$f":"IF(O39=\"\",\"\",\"lb/ton\")","v":"lb/ton"},{"$f":"N39*O39","v":0},{"$f":"IF(N39=0,\"\",IF($F$13>0,$F$13,\"\"))","v":""},{"$f":"IF(N39=0,0,IF($G$13>0,IF(S38=0,G13,\"\"),IF($C$10>0,$C$10*O39/2000,IF($C$11>0,$C$11*365*O39/2000,IF($C$12>0,$C$12*365*O39*N39/2000,IF(R39=\"\",Q39*8760/2000,R39*8760/2000))))))","v":0},{"$f":"P6*O39/2000","v":0}]
[null,null,null,null,{"$f":"IF($C$4>1,\"AP-4 EP-3\",\"\")","v":""},{"$f":"IF($C$4>1,\"AP-4 EU-3\",\"\")","v":""},{"$f":"IF($C$4>1,\"Silo Filling\",\"\")","v":""},null,null,null,null,null,{"$f":"$C$5 & \" - Natural Gas\"","v":" - Natural Gas"},{"$f":"$N$7","v":0},{"$f":"IF(N40=0,0,LOOKUP(M40,'Emission Factors'!$A$5:$A$10,'Emission Factors'!$H$5:$H$10))","v":0},{"$f":"IF(O40=\"\",\"\",\"lb/ton\")","v":"lb/ton"},{"$f":"N40*O40","v":0},{"$f":"IF(N40=0,\"\",IF(AND($F$13>0,N38=0,N39=0),$F$13,\"\"))","v":""},{"$f":"IF(N40=0,0,IF($G$13>0,IF(AND(S38=0,S39=0),G13,\"\"),IF(OR(AND($C$10>0,$N$39>0),AND($C$11>0,$N$39>0),AND($C$12>0,$N$39>0)),\"\",IF(OR(AND($C$10>0,$N$38>0),AND($C$11>0,$N$38>0),AND($C$12>0,$N$38>0)),\"\",IF($C$10>0,$C$10*O40/2000,IF($C$11>0,$C$11*365*O40/2000,IF($C$12>0,$C$12*365*O40*N40/2000,IF(AND(N39>0,N38>0,F13>0),\"\",IF(R40=\"\",Q40*8760/2000,R40*8760/2000)))))))))","v":0},{"$f":"P7*O40/2000","v":0}]
[null,null,null,null,{"$f":"IF($C$4>1,\"AP-4 EP-3\",\"\")","v":""},{"$f":"IF($C$4>1,\"AP-4 EU-4\",\"\")","v":""},{"$f":"IF($C$4>1,\"Truck Loadout\",\"\")","v":""},null,null,null,null,null,"NOx"]
[null,null,null,null,{"$f":"IF($C$4>1,\"AP-4 EP-3\",\"\")","v":""},{"$f":"IF($C$4>1,\"AP-4 EU-5\",\"\")","v":""},{"$f":"IF($C$4>1,\"Cold Aggregate Bins\",\"\")","v":""},null,null,null,null,null,{"$f":"$C$5 & \" - Fuel Oil\"","v":" - Fuel Oil"},{"$f":"$N$5","v":0},{"$f":"IF(N42=0,0,LOOKUP(M42,'Emission Factors'!$A$5:$A$10,'Emission Factors'!$J$5:$J$10))","v":0},{"$f":"IF(O42=\"\",\"\",\"lb/ton\")","v":"lb/ton"},{"$f":"N42*O42","v":0},{"$f":"IF(N42=0,\"\",IF(AND($F$14>0,N43=0),$F$14,\"\"))","v":""},{"$f":"IF(N42=0,0,IF($G$14>0,$G$14,IF(OR(AND($C$10>0,$N$43>0),AND($C$11>0,$N$43>0),AND($C$12>0,$N$43>0)),\"\",IF($C$10>0,$C$10*O42/2000,IF($C$11>0,$C$11*365*O42/2000,IF($C$12>0,$C$12*365*O42*N42/2000,IF(AND(N43>0,F14>0),\"\",IF(R42=\"\",Q42*8760/2000,R42*8760/2000))))))))","v":0},{"$f":"P5*O42/2000","v":0}]
[null,null,null,null,null,null,null,null,null,null,null,null,{"$f":"$C$5 & \" - Waste Oil\"","v":" - Waste Oil"},{"$f":"$N$6","v":0},{"$f":"IF(N43=0,0,LOOKUP(M43,'Emission Factors'!$A$5:$A$10,'Emission Factors'!$J$5:$J$10))","v":0},{"$f":"IF(O43=\"\",\"\",\"lb/ton\")","v":"lb/ton"},{"$f":"N43*O43","v":0},{"$f":"IF(N43=0,\"\",IF($F$14>0,$F$14,\"\"))","v":""},{"$f":"IF(N43=0,0,IF($G$14>0,IF(S42=0,G14,\"\"),IF($C$10>0,$C$10*O43/2000,IF($C$11>0,$C$11*365*O43/2000,IF($C$12>0,$C$12*365*O43*N43/2000,IF(R43=\"\",Q43*8760/2000,R43*8760/2000))))))","v":0},{"$f":"P6*O43/2000","v":0}]
[null,null,null,null,{"$f":"IF($C$4>1,\"Stock Pile Area\",\"\")","v":""},null,null,null,null,null,null,null,{"$f":"$C$5 & \" - Natural Gas\"","v":" - Natural Gas"},{"$f":"$N$7","v":0},{"$f":"IF(N44=0,0,LOOKUP(M44,'Emission Factors'!$A$5:$A$10,'Emission Factors'!$J$5:$J$10))","v":0},{"$f":"IF(O44=\"\",\"\",\"lb/ton\")","v":"lb/ton"},{"$f":"N44*O44","v":0},{"$f":"IF(N44=0,\"\",IF(AND($F$14>0,N42=0,N43=0),$F$14,\"\"))","v":""},{"$f":"IF(N44=0,0,IF($G$14>0,IF(AND(S42=0,S43=0),G14,\"\"),IF(OR(AND($C$10>0,$N$43>0),AND($C$11>0,$N$43>0),AND($C$12>0,$N$43>0)),\"\",IF(OR(AND($C$10>0,$N$42>0),AND($C$11>0,$N$42>0),AND($C$12>0,$N$42>0)),\"\",IF($C$10>0,$C$10*O44/2000,IF($C$11>0,$C$11*365*O44/2000,IF($C$12>0,$C$12*365*O44*N44/2000,IF(AND(N42>0,N43>0,F14>0),\"\",IF(R44=\"\",Q44*8760/2000,R44*8760/2000)))))))))","v":0},{"$f":"P7*O44/2000","v":0}]
[null,null,null,null,null,{"$f":"IF($C$4>1,\"Emission Unit #\",\"\")","v":""},{"$f":"IF($C$4>1,\"Maximum Storage Area (acres)\",\"\")","v":""},{"$f":"IF($C$4>1,\"Actual Storage Area (acres)\",\"\")","v":""},{"$f":"IF($C$4>1,\"Actual Days in Existence (days)\",\"\")","v":""},null,null,null,"VOC"]
[null,null,null,null,null,null,null,null,null,null,null,null,{"$f":"$C$5 & \" - Fuel Oil\"","v":" - Fuel Oil"},{"$f":"$N$5","v":0},{"$f":"IF(N46=0,0,LOOKUP(M46,'Emission Factors'!$A$5:$A$10,'Emission Factors'!$L$5:$L$10))","v":0},{"$f":"IF(O46=\"\",\"\",\"lb/ton\")","v":"lb/ton"},{"$f":"N46*O46","v":0},{"$f":"IF(N46=0,\"\",IF(AND($F$15>0,N47=0),$F$15,\"\"))","v":""},{"$f":"IF(N46=0,0,IF($G$15>0,$G$15,IF(OR(AND($C$10>0,$N$47>0),AND($C$11>0,$N$47>0),AND($C$12>0,$N$47>0)),\"\",IF($C$10>0,$C$10*O46/2000,IF($C$11>0,$C$11*365*O46/2000,IF($C$12>0,$C$12*365*O46*N46/2000,IF(AND(N47>0,F15>0),\"\",IF(R46=\"\",Q46*8760/2000,R46*8760/2000))))))))","v":0},{"$f":"P5*O46/2000","v":0}]
[null,null,null,null,null,null,null,null,null,null,null,null,{"$f":"$C$5 & \" - Waste Oil\"","v":" - Waste Oil"},{"$f":"$N$6","v":0},{"$f":"IF(N47=0,0,LOOKUP(M47,'Emission Factors'!$A$5:$A$10,'Emission Factors'!$L$5:$L$10))","v":0},{"$f":"IF(O47=\"\",\"\",\"lb/ton\")","v":"lb/ton"},{"$f":"N47*O47","v":0},{"$f":"IF(N47=0,\"\",IF($F$15>0,$F$15,\"\"))","v":""},{"$f":"IF(N47=0,0,IF($G$15>0,IF(S46=0,G15,\"\"),IF($C$10>0,$C$10*O47/2000,IF($C$11>0,$C$11*365*O47/2000,IF($C$12>0,$C$12*365*O47*N47/2000,IF(R47=\"\",Q47*8760/2000,R47*8760/2000))))))","v":0},{"$f":"P6*O47/2000","v":0}]
[null,{"$f":"IF($C$4>2,\"Asphalt Plant\",\"\")","v":""},{"$f":"IF($C$4>2,\"Site 3\",\"\")","v":""},null,{"$f":"IF($C$4>2,\"Emission Point #\",\"\")","v":""},{"$f":"IF($C$4>2,\"Emission    Unit #\",\"\")","v":""},{"$f":"IF($C$4>2,\"Process\",\"\")","v":""},{"$f":"IF($C$4>2,\"Maximum Hourly     Design Rate\",\"\")","v":""},{"$f":"IF($C$4>2,('Facility Information'!G35&\" Annual Throughput\"),\"\")","v":""},null,null,null,{"$f":"$C$5 & \" - Natural Gas\"","v":" - Natural Gas"},{"$f":"$N$7","v":0},{"$f":"IF(N48=0,0,LOOKUP(M48,'Emission Factors'!$A$5:$A$10,'Emission Factors'!$L$5:$L$10))","v":0},{"$f":"IF(O48=\"\",\"\",\"lb/ton\")","v":"lb/ton"},{"$f":"N48*O48","v":0},{"$f":"IF(N48=0,\"\",IF(AND($F$15>0,N46=0,N47=0),$F$15,\"\"))","v":""},{"$f":"IF(N48=0,0,IF($G$15>0,IF(AND(S46=0,S47=0),G15,\"\"),IF(OR(AND($C$10>0,$N$47>0),AND($C$11>0,$N$47>0),AND($C$12>0,$N$47>0)),\"\",IF(OR(AND($C$10>0,$N$46>0),AND($C$11>0,$N$46>0),AND($C$12>0,$N$46>0)),\"\",IF($C$10>0,$C$10*O48/2000,IF($C$11>0,$C$11*365*O48/2000,IF($C$12>0,$C$12*365*O48*N48/2000,IF(AND(N46>0,N47>0,F15>0),\"\",IF(R48=\"\",Q48*8760/2000,R48*8760/2000)))))))))","v":0},{"$f":"P7*O48/2000","v":0}]
[null,null,null,null,null,null,null,null,null,null,null,null,{"$f":"\"Natural Gas Fired Heater\"","v":"Natural Gas Fired Heater"},{"$f":"N10","v":0},{"$f":"IF(N49=0,0,0.026)","v":0},{"$f":"IF(O49=\"\",\"\",\"lb/MMCF\")","v":"lb/MMCF"},{"$f":"N49*O49","v":0},null,{"$f":"IF(N49=0,0,IF(R49=\"\",Q49*8760/2000,R49*8760/2000))","v":0},{"$f":"($P$10*O49/2000)","v":0}]
[null,{"$f":"IF($C$4>2,\"Site Name\",\"\")","v":""},null,null,{"$f":"IF($C$4>2,\"Dryers, Hot Screens, Mixer\",\"\")","v":""},null,null,{"$f":"IF($C$4>2,\"(tons/hr)\",\"\")","v":""},{"$f":"IF($C$4>2,\"(tons/yr)\",\"\")","v":""},"PM2.5","PM10",null,"Silo Filling",{"$f":"N11","v":0},{"$f":"IF(N50=0,0,IF(N50=0,0,LOOKUP(M50,'Emission Factors'!$A$23:$A$25,'Emission Factors'!$L$23:$L$25)))","v":0},{"$f":"IF(O50=\"\",\"\",\"lb/ton\")","v":"lb/ton"},null,null,null,{"$f":"P11*O50/2000","v":0}]
[null,{"$f":"IF($C$4>2,\"County:\",\"\")","v":""},null,null,{"$f":"IF(C53=\"\",\"\",\"AP-4 EP-1\")","v":""},{"$f":"IF(C53=\"\",\"\",\"AP-4 EU-1\")","v":""},{"$f":"IF(C53=\"\",\"\",C5 & \" - \"&C53)","v":""},null,null,{"$f":"IF(C54=\"\",\"\",IF(C54=\"yes\",LOOKUP(G51,'Emission Factors'!$A$12:$A$17,'Emission Factors'!$D$12:$D$17),LOOKUP(G51,'Emission Factors'!$A$5:$A$10,'Emission Factors'!$D$5:$D$10)))","v":""},{"$f":"IF(C54=\"\",\"\",IF(C54=\"yes\",LOOKUP(G51,'Emission Factors'!$A$12:$A$17,'Emission Factors'!$F$12:$F$17),LOOKUP(G51,'Emission Factors'!$A$5:$A$10,'Emission Factors'!$F$5:$F$10)))","v":""},null,"Truck Loadout",{"$f":"N12","v":0},{"$f":"IF(N51=0,0,IF(N51=0,0,LOOKUP(M51,'Emission Factors'!$A$23:$A$25,'Emission Factors'!$L$23:$L$25)))","v":0},{"$f":"IF(O51=\"\",\"\",\"lb/ton\")","v":"lb/ton"},null,null,null,{"$f":"P12*O51/2000","v":0}]
[null,{"$f":"IF($C$4>2,\"Production Period (Dates):\",\"\")","v":""},null,null,{"$f":"IF($C$4>2,\"Liquid Asphalt Heater\",\"\")","v":""},null,null,{"$f":"IF($C$4>2,IF(C53=\"natural gas\",\"(MMCF/hr)\",\"(gallons/hr)\"),\"\")","v":""},{"$f":"IF($C$4>2,IF(C53=\"natural gas\",\"(MMCF/yr)\",\"(gallons/yr)\"),\"\")","v":""},null,null,null,"CO"]
[null,{"$f":"IF($C$4>2,\"Type of Fuel Used:\",\"\")","v":""},null,null,{"$f":"IF(C53=\"\",\"\",\"AP-4 EP-2\")","v":""},{"$f":"IF(C53=\"\",\"\",\"AP-4 EU-2\")","v":""},{"$f":"IF(C53=\"\",\"\",C53& \" Fired Heater\")","v":""},null,null,null,null,null,{"$f":"IF($C$5=\"\",\"\",$C$5)","v":""},{"$f":"SUM($N$5:$N$7)","v":0},{"$f":"IF(N53=0,0,IF(M53=\"Batch Mix Plant\",0.4,IF(M53=\"Drum Mix Plant\",0.13)))","v":0},{"$f":"IF(O53=\"\",\"\",\"lb/ton\")","v":"lb/ton"},{"$f":"N53*O53","v":0},{"$f":"IF(N53=0,\"\",IF($F$16>0,$F$16,\"\"))","v":""},{"$f":"IF($G$16>0,$G$16,IF(N53=0,0,IF($C$10>0,$C$10*O53/2000,IF($C$11>0,$C$11*365*O53/2000,IF($C$12>0,$C$12*365*O53*N53/2000,IF(R53=\"\",Q53*8760/2000,R53*8760/2000))))))","v":0},{"$f":"SUM($P$5:$P$7)*O53/2000","v":0}]
[null,{"$f":"IF($C$4>2,\"Is Your Operation Controlled?:\",\"\")","v":""},null,null,{"$f":"IF($C$4>2,\"Silo Filling, Truck Loadout, Aggregate Transfer\",\"\")","v":""},null,null,{"$f":"IF($C$4>2,\"(tons/hr)\",\"\")","v":""},{"$f":"IF($C$4>2,\"(tons/yr)\",\"\")","v":""},null,null,null,"Fuel Oil Fired Heater",{"$f":"N8","v":0},{"$f":"IF(N54=0,0,LOOKUP(M54,'Emission Factors'!$A$19:$A$21,'Emission Factors'!$N$19:$N$21))","v":0},{"$f":"IF(O54=\"\",\"\",\"lb/gallon\")","v":"lb/gallon"},{"$f":"N54*O54","v":0},null,{"$f":"IF(N54=0,0,IF($G$16>0,\"\",IF($F$16>0,\"\",IF(R54=\"\",Q54*8760/2000,R54*8760/2000))))","v":0},{"$f":"(P8*O54/2000)","v":0}]
[null,null,null,null,{"$f":"IF($C$4>2,\"AP-4 EP-3\",\"\")","v":""},{"$f":"IF($C$4>2,\"AP-4 EU-3\",\"\")","v":""},{"$f":"IF($C$4>2,\"Silo Filling\",\"\")","v":""},null,null,null,null,null,"Waste Oil Fired Heater",{"$f":"N9","v":0},{"$f":"IF(N55=0,0,LOOKUP(M55,'Emission Factors'!$A$19:$A$21,'Emission Factors'!$N$19:$N$21))","v":0},{"$f":"IF(O55=\"\",\"\",\"lb/gallon\")","v":"lb/gallon"},{"$f":"N55*O55","v":0},null,{"$f":"IF(N55=0,0,IF($G$16>0,\"\",IF($F$16>0,\"\",IF(R55=\"\",Q55*8760/2000,R55*8760/2000))))","v":0},{"$f":"(P9*O55/2000)","v":0}]
[null,null,null,null,{"$f":"IF($C$4>2,\"AP-4 EP-3\",\"\")","v":""},{"$f":"IF($C$4>2,\"AP-4 EU-4\",\"\")","v":""},{"$f":"IF($C$4>2,\"Truck Loadout\",\"\")","v":""},null,null,null,null,null,"Natural Gas Fired Heater",{"$f":"N10","v":0},{"$f":"IF(N56=0,0,LOOKUP(M56,'Emission Factors'!$A$19:$A$21,'Emission Factors'!$N$19:$N$21))","v":0},{"$f":"IF(O56=\"\",\"\",\"lb/MMCF\")","v":"lb/MMCF"},{"$f":"N56*O56","v":0},null,{"$f":"IF(N56=0,0,IF($G$16>0,\"\",IF($F$16>0,\"\",IF(R56=\"\",Q56*8760/2000,R56*8760/2000))))","v":0},{"$f":"($P$10*O56/2000)","v":0}]
[null,null,null,null,{"$f":"IF($C$4>2,\"AP-4 EP-3\",\"\")","v":""},{"$f":"IF($C$4>2,\"AP-4 EU-5\",\"\")","v":""},{"$f":"IF($C$4>2,\"Cold Aggregate Bins\",\"\")","v":""},null,null,null,null,null,"Silo Filling",{"$f":"N11","v":0},{"$f":"IF(N57=0,0,IF(N57=0,0,LOOKUP(M57,'Emission Factors'!$A$23:$A$25,'Emission Factors'!$N$23:$N$25)))","v":0},{"$f":"IF(O57=\"\",\"\",\"lb/ton\")","v":"lb/ton"},null,null,null,{"$f":"P11*O57/2000","v":0}]
[null,null,null,null,null,null,null,null,null,null,null,null,"Truck Loadout",{"$f":"N12","v":0},{"$f":"IF(N58=0,0,IF(N58=0,0,LOOKUP(M58,'Emission Factors'!$A$23:$A$25,'Emission Factors'!$N$23:$N$25)))","v":0},{"$f":"IF(O58=\"\",\"\",\"lb/ton\")","v":"lb/ton"},null,null,null,{"$f":"P12*O58/2000","v":0}]
[null,null,null,null,{"$f":"IF($C$4>2,\"Stock Pile Area\",\"\")","v":""},null,null,null,null,null,null,null,"Acetaldehyde"]
[null,null,null,null,null,{"$f":"IF($C$4>2,\"Emission Unit #\",\"\")","v":""},{"$f":"IF($C$4>2,\"Maximum Storage Area (acres)\",\"\")","v":""},{"$f":"IF($C$4>2,\"Actual Storage Area (acres)\",\"\")","v":""},{"$f":"IF($C$4>2,\"Actual Days in Existence (days)\",\"\")","v":""},null,null,null,{"$f":"IF($C$5=\"\",\"\",$C$5)","v":""},{"$f":"IF(C5=\"drum mix plant\",SUM(N5:$N$6),SUM($N$5:$N$7))","v":0},{"$f":"IF(N60=0,0,IF(M60=\"Batch Mix Plant\",0.00032,IF(M60=\"Drum Mix Plant\",0.0013)))","v":0},{"$f":"IF(O60=\"\",\"\",\"lb/ton\")","v":"lb/ton"},{"$f":"N60*O60","v":0},null,{"$f":"IF(N60=0,0,IF($C$10>0,$C$10*O60/2000,IF($C$11>0,$C$11*365*O60/2000,IF($C$12>0,$C$12*365*O60*N60/2000,IF(R60=\"\",Q60*8760/2000,R60*8760/2000)))))","v":0},{"$f":"IF(C5=\"drum mix plant\",$P$6*O60/2000,SUM($P$5:$P$7)*O60/2000)","v":0}]
[null,null,null,null,null,null,null,null,null,null,null,null,"Acrolein"]
[null,null,null,null,null,null,null,null,null,null,null,null,{"$f":"IF($C$5=\"\",\"\",$C$5)","v":""},{"$f":"IF(C5=\"drum mix plant\",SUM(N5:$N$6),0)","v":0},{"$f":"IF(N62=0,0,0.000026)","v":0},{"$f":"IF(O62=\"\",\"\",\"lb/ton\")","v":"lb/ton"},{"$f":"N62*O62","v":0},null,{"$f":"IF(N62=0,0,IF($C$10>0,$C$10*O62/2000,IF($C$11>0,$C$11*365*O62/2000,IF($C$12>0,$C$12*365*O62*N62/2000,IF(R62=\"\",Q62*8760/2000,R62*8760/2000)))))","v":0},{"$f":"IF(C7=\"drum mix plant\",$P$6*O62/2000,SUM($P$5:$P$7)*O62/2000)","v":0}]
[null,{"$f":"IF($C$4>3,\"Asphalt Plant\",\"\")","v":""},{"$f":"IF($C$4>3,\"Site 4\",\"\")","v":""},null,{"$f":"IF($C$4>3,\"Emission Point #\",\"\")","v":""},{"$f":"IF($C$4>3,\"Emission    Unit #\",\"\")","v":""},{"$f":"IF($C$4>3,\"Process\",\"\")","v":""},{"$f":"IF($C$4>3,\"Maximum Hourly     Design Rate\",\"\")","v":""},{"$f":"IF($C$4>3,('Facility Information'!G50&\" Annual Throughput\"),\"\")","v":""},null,null,null,"Benzene"]
[null,null,null,null,null,null,null,null,null,null,null,null,{"$f":"IF($C$5=\"\",\"\",$C$5)","v":""},{"$f":"SUM($N$5:$N$7)","v":0},{"$f":"IF(N64=0,0,IF(M64=\"Batch Mix Plant\",0.00028,IF(M64=\"Drum Mix Plant\",0.00039)))","v":0},{"$f":"IF(O64=\"\",\"\",\"lb/ton\")","v":"lb/ton"},{"$f":"N64*O64","v":0},null,{"$f":"IF(N64=0,0,IF($C$10>0,$C$10*O64/2000,IF($C$11>0,$C$11*365*O64/2000,IF($C$12>0,$C$12*365*O64*N64/2000,IF(R64=\"\",Q64*8760/2000,R64*8760/2000)))))","v":0},{"$f":"SUM($P$5:$P$7)*O64/2000","v":0}]
[null,{"$f":"IF($C$4>3,\"Site Name\",\"\")","v":""},null," ",{"$f":"IF($C$4>3,\"Dryers, Hot Screens, Mixer\",\"\")","v":""},null,null,{"$f":"IF($C$4>3,\"(tons/hr)\",\"\")","v":""},{"$f":"IF($C$4>3,\"(tons/yr)\",\"\")","v":""},"PM2.5","PM10",null,"Ethylbenzene"]
[null,{"$f":"IF($C$4>3,\"County:\",\"\")","v":""},null,null,{"$f":"IF(C68=\"\",\"\",\"AP-4 EP-1\")","v":""},{"$f":"IF(C68=\"\",\"\",\"AP-4 EU-1\")","v":""},{"$f":"IF(C68=\"\",\"\",C5 & \" - \"&C68)","v":""},null,null,{"$f":"IF(C69=\"\",\"\",IF(C69=\"yes\",LOOKUP(G66,'Emission Factors'!$A$12:$A$17,'Emission Factors'!$D$12:$D$17),LOOKUP(G66,'Emission Factors'!$A$5:$A$10,'Emission Factors'!$D$5:$D$10)))","v":""},{"$f":"IF(C69=\"\",\"\",IF(C69=\"yes\",LOOKUP(G66,'Emission Factors'!$A$12:$A$17,'Emission Factors'!$F$12:$F$17),LOOKUP(G66,'Emission Factors'!$A$5:$A$10,'Emission Factors'!$F$5:$F$10)))","v":""},null,{"$f":"IF($C$5=\"\",\"\",$C$5)","v":""},{"$f":"SUM($N$5:$N$7)","v":0},{"$f":"IF(N66=0,0,IF(M66=\"Batch Mix Plant\",0.0022,IF(M66=\"Drum Mix Plant\",0.00024)))","v":0},{"$f":"IF(O66=\"\",\"\",\"lb/ton\")","v":"lb/ton"},{"$f":"N66*O66","v":0},null,{"$f":"IF(N66=0,0,IF($C$10>0,$C$10*O66/2000,IF($C$11>0,$C$11*365*O66/2000,IF($C$12>0,$C$12*365*O66*N66/2000,IF(R66=\"\",Q66*8760/2000,R66*8760/2000)))))","v":0},{"$f":"SUM($P$5:$P$7)*O66/2000","v":0}]
[null,{"$f":"IF($C$4>3,\"Production Period (Dates):\",\"\")","v":""},null,null,{"$f":"IF($C$4>3,\"Liquid Asphalt Heater\",\"\")","v":""},null,null,{"$f":"IF($C$4>3,IF(C68=\"natural gas\",\"(MMCF/hr)\",\"(gallons/hr)\"),\"\")","v":""},{"$f":"IF($C$4>3,IF(C68=\"natural gas\",\"(MMCF/yr)\",\"(gallons/yr)\"),\"\")","v":""},null,null,null,"Formaldehyde"]
[null,{"$f":"IF($C$4>3,\"Type of Fuel Used:\",\"\")","v":""},null,null,{"$f":"IF(C68=\"\",\"\",\"AP-4 EP-2\")","v":""},{"$f":"IF(C68=\"\",\"\",\"AP-4 EU-2\")","v":""},{"$f":"IF(C68=\"\",\"\",C68& \" Fired Heater\")","v":""},null,null,null,null,null,{"$f":"IF($C$5=\"\",\"\",$C$5)","v":""},{"$f":"SUM($N$5:$N$7)","v":0},{"$f":"IF(N68=0,0,IF(M68=\"Batch Mix Plant\",0.00074,IF(M68=\"Drum Mix Plant\",0.0031)))","v":0},{"$f":"IF(O68=\"\",\"\",\"lb/ton\")","v":"lb/ton"},{"$f":"N68*O68","v":0},null,{"$f":"IF(N68=0,0,IF($C$10>0,$C$10*O68/2000,IF($C$11>0,$C$11*365*O68/2000,IF($C$12>0,$C$12*365*O68*N68/2000,IF(R68=\"\",Q68*8760/2000,R68*8760/2000)))))","v":0},{"$f":"SUM($P$5:$P$7)*O68/2000","v":0}]
[null,{"$f":"IF($C$4>3,\"Is Your Operation Controlled?:\",\"\")","v":""},null,null,{"$f":"IF($C$4>3,\"Silo Filling, Truck Loadout, Aggregate Transfer\",\"\")","v":""},null,null,{"$f":"IF($C$4>3,\"(tons/hr)\",\"\")","v":""},{"$f":"IF($C$4>3,\"(tons/yr)\",\"\")","v":""},null,null,null,{"$f":"\"Natural Gas Fired Heater\"","v":"Natural Gas Fired Heater"},{"$f":"N10","v":0},{"$f":"IF(N69=0,0,0.026)","v":0},{"$f":"IF(O69=\"\",\"\",\"lb/MMCF\")","v":"lb/MMCF"},{"$f":"N69*O69","v":0},null,{"$f":"IF(N69=0,0,IF(R69=\"\",Q69*8760/2000,R69*8760/2000))","v":0},{"$f":"($P$10*O69/2000)","v":0}]
[null,null,null,null,{"$f":"IF($C$4>3,\"AP-4 EP-3\",\"\")","v":""},{"$f":"IF($C$4>3,\"AP-4 EU-3\",\"\")","v":""},{"$f":"IF($C$4>3,\"Silo Filling\",\"\")","v":""},null,null,null,null,null,"Hexane"]
[null,null,null,null,{"$f":"IF($C$4>3,\"AP-4 EP-3\",\"\")","v":""},{"$f":"IF($C$4>3,\"AP-4 EU-4\",\"\")","v":""},{"$f":"IF($C$4>3,\"Truck Loadout\",\"\")","v":""},null,null,null,null,null,{"$f":"IF($C$5=\"\",\"\",$C$5)","v":""},{"$f":"IF(C5=\"drum mix plant\",SUM(N5:N7),0)","v":0},{"$f":"IF(N71=0,0,0.00092)","v":0},{"$f":"IF(O71=\"\",\"\",\"lb/ton\")","v":"lb/ton"},{"$f":"N71*O71","v":0},null,{"$f":"IF(N71=0,0,IF($C$10>0,$C$10*O71/2000,IF($C$11>0,$C$11*365*O71/2000,IF($C$12>0,$C$12*365*O71*N71/2000,IF(R71=\"\",Q71*8760/2000,R71*8760/2000)))))","v":0},{"$f":"IF(N71>0,SUM($P$5:$P$7)*O71/2000,0)","v":0}]
[null,null,null,null,{"$f":"IF($C$4>3,\"AP-4 EP-3\",\"\")","v":""},{"$f":"IF($C$4>3,\"AP-4 EU-5\",\"\")","v":""},{"$f":"IF($C$4>3,\"Cold Aggregate Bins\",\"\")","v":""},null,null,null,null,null,"Hydrochloric Acid"]
[null,null,null,null,null,null,null,null,null,null,null,null,{"$f":"IF($C$5=\"\",\"\",$C$5)","v":""},{"$f":"IF(C5=\"drum mix plant\",SUM(N5:$N$6),0)","v":0},{"$f":"IF(N73=0,0,0.00021)","v":0},{"$f":"IF(O73=\"\",\"\",\"lb/ton\")","v":"lb/ton"},{"$f":"N73*O73","v":0},null,{"$f":"IF(N73=0,0,IF($C$10>0,$C$10*O73/2000,IF($C$11>0,$C$11*365*O73/2000,IF($C$12>0,$C$12*365*O73*N73/2000,IF(R73=\"\",Q73*8760/2000,R73*8760/2000)))))","v":0},{"$f":"IF(N73>0,$P$6*O73/2000,0)","v":0}]
[null,null,null,null,{"$f":"IF($C$4>3,\"Stock Pile Area\",\"\")","v":""},null,null,null,null,null,null,null,"Methyl Chloroform"]
[null,null,null,null,null,{"$f":"IF($C$4>3,\"Emission Unit #\",\"\")","v":""},{"$f":"IF($C$4>3,\"Maximum Storage Area (acres)\",\"\")","v":""},{"$f":"IF($C$4>3,\"Actual Storage Area (acres)\",\"\")","v":""},{"$f":"IF($C$4>3,\"Actual Days in Existence (days)\",\"\")","v":""},null,null,null,{"$f":"IF($C$5=\"\",\"\",$C$5)","v":""},{"$f":"IF(C5=\"drum mix plant\",SUM(N5:N7),0)","v":0},{"$f":"IF(N75=0,0,0.000048)","v":0},{"$f":"IF(O75=\"\",\"\",\"lb/ton\")","v":"lb/ton"},{"$f":"N75*O75","v":0},null,{"$f":"IF(N75=0,0,IF($C$10>0,$C$10*O75/2000,IF($C$11>0,$C$11*365*O75/2000,IF($C$12>0,$C$12*365*O75*N75/2000,IF(R75=\"\",Q75*8760/2000,R75*8760/2000)))))","v":0},{"$f":"IF(N75>0,SUM($P$5:$P$7)*O75/2000,0)","v":0}]
[null,null,null,null,null,null,null,null,null,null,null,null,"Propionaldehyde"]
[null,null,null,null,null,null,null,null,null,null,null,null,{"$f":"IF($C$5=\"\",\"\",$C$5)","v":""},{"$f":"IF(C5=\"drum mix plant\",SUM(N5:$N$6),0)","v":0},{"$f":"IF(N77=0,0,0.00013)","v":0},{"$f":"IF(O77=\"\",\"\",\"lb/ton\")","v":"lb/ton"},{"$f":"N77*O77","v":0},null,{"$f":"IF(N77=0,0,IF($C$10>0,$C$10*O77/2000,IF($C$11>0,$C$11*365*O77/2000,IF($C$12>0,$C$12*365*O77*N77/2000,IF(R77=\"\",Q77*8760/2000,R77*8760/2000)))))","v":0},{"$f":"IF(N77>0,$P$6*O77/2000,0)","v":0}]
[null,{"$f":"IF($C$4>4,\"Asphalt Plant\",\"\")","v":""},{"$f":"IF($C$4>4,\"Site 5\",\"\")","v":""},null,{"$f":"IF($C$4>4,\"Emission Point #\",\"\")","v":""},{"$f":"IF($C$4>4,\"Emission    Unit #\",\"\")","v":""},{"$f":"IF($C$4>4,\"Process\",\"\")","v":""},{"$f":"IF($C$4>4,\"Maximum Hourly     Design Rate\",\"\")","v":""},{"$f":"IF($C$4>4,('Facility Information'!G65&\" Annual Throughput\"),\"\")","v":""},null,null,null,"Quinone"]
[null,null,null,null,null,null,null,null,null,null,null,null,{"$f":"IF($C$5=\"\",\"\",$C$5)","v":""},{"$f":"IF(C5=\"drum mix plant\",SUM(N5:$N$6),SUM($N$5:$N$7))","v":0},{"$f":"IF(N79=0,0,IF(M79=\"Batch Mix Plant\",0.00027,IF(M79=\"Drum Mix Plant\",0.00016)))","v":0},{"$f":"IF(O79=\"\",\"\",\"lb/ton\")","v":"lb/ton"},{"$f":"N79*O79","v":0},null,{"$f":"IF(N79=0,0,IF($C$10>0,$C$10*O79/2000,IF($C$11>0,$C$11*365*O79/2000,IF($C$12>0,$C$12*365*O79*N79/2000,IF(R79=\"\",Q79*8760/2000,R79*8760/2000)))))","v":0},{"$f":"IF(C23=\"drum mix plant\",$P$6*O79/2000,SUM($P$5:$P$7)*O79/2000)","v":0}]
[null,{"$f":"IF($C$4>4,\"Site Name\",\"\")","v":""},null,null,{"$f":"IF($C$4>4,\"Dryers, Hot Screens, Mixer\",\"\")","v":""},null,null,{"$f":"IF($C$4>4,\"(tons/hr)\",\"\")","v":""},{"$f":"IF($C$4>4,\"(tons/yr)\",\"\")","v":""},"PM2.5","PM10",null,"Toluene"]
[null,{"$f":"IF($C$4>4,\"County:\",\"\")","v":""},null,null,{"$f":"IF(C83=\"\",\"\",\"AP-4 EP-1\")","v":""},{"$f":"IF(C83=\"\",\"\",\"AP-4 EU-1\")","v":""},{"$f":"IF(C83=\"\",\"\",C5 & \" - \"&C83)","v":""},null,null,{"$f":"IF(C84=\"\",\"\",IF(C84=\"yes\",LOOKUP(G81,'Emission Factors'!$A$12:$A$17,'Emission Factors'!$D$12:$D$17),LOOKUP(G81,'Emission Factors'!$A$5:$A$10,'Emission Factors'!$D$5:$D$10)))","v":""},{"$f":"IF(C84=\"\",\"\",IF(C84=\"yes\",LOOKUP(G81,'Emission Factors'!$A$12:$A$17,'Emission Factors'!$F$12:$F$17),LOOKUP(G81,'Emission Factors'!$A$5:$A$10,'Emission Factors'!$F$5:$F$10)))","v":""},null,{"$f":"$C$5 & \" - Fuel Oil\"","v":" - Fuel Oil"},{"$f":"$N$5","v":0},{"$f":"IF(N81=0,0,LOOKUP(M81,'Emission Factors'!$A$5:$A$10,'Emission Factors'!$AJ$5:$AJ$10))","v":0},{"$f":"IF(O81=\"\",\"\",\"lb/ton\")","v":"lb/ton"},{"$f":"N81*O81","v":0},null,{"$f":"IF(N81=0,0,IF($C$10>0,$C$10*O81/2000,IF($C$11>0,$C$11*365*O81/2000,IF($C$12>0,$C$12*365*O81*N81/2000,IF(R81=\"\",Q81*8760/2000,R81*8760/2000)))))","v":0},{"$f":"P5*O81/2000","v":0}]
[null,{"$f":"IF($C$4>4,\"Production Period (Dates):\",\"\")","v":""},null,null,{"$f":"IF($C$4>4,\"Liquid Asphalt Heater\",\"\")","v":""},null,null,{"$f":"IF($C$4>4,IF(C83=\"natural gas\",\"(MMCF/hr)\",\"(gallons/hr)\"),\"\")","v":""},{"$f":"IF($C$4>4,IF(C83=\"natural gas\",\"(MMCF/yr)\",\"(gallons/yr)\"),\"\")","v":""},null,null,null,{"$f":"$C$5 & \" - Waste Oil\"","v":" - Waste Oil"},{"$f":"$N$6","v":0},{"$f":"IF(N82=0,0,LOOKUP(M82,'Emission Factors'!$A$5:$A$10,'Emission Factors'!$AJ$5:$AJ$10))","v":0},{"$f":"IF(O82=\"\",\"\",\"lb/ton\")","v":"lb/ton"},{"$f":"N82*O82","v":0},null,{"$f":"IF(N82=0,0,IF(OR(AND($C$10>0,$N$81>0),AND($C$11>0,$N$81>0),AND($C$12>0,$N$81>0)),\"\",IF($C$10>0,$C$10*O82/2000,IF($C$11>0,$C$11*365*O82/2000,IF($C$12>0,$C$12*365*O82*N82/2000,IF(R82=\"\",Q82*8760/2000,R82*8760/2000))))))","v":0},{"$f":"P6*O82/2000","v":0}]
[null,{"$f":"IF($C$4>4,\"Type of Fuel Used:\",\"\")","v":""},null,null,{"$f":"IF(C83=\"\",\"\",\"AP-4 EP-2\")","v":""},{"$f":"IF(C83=\"\",\"\",\"AP-4 EU-2\")","v":""},{"$f":"IF(C83=\"\",\"\",C83& \" Fired Heater\")","v":""},null,null,null,"Controlled?",null,{"$f":"$C$5 & \" - Natural Gas\"","v":" - Natural Gas"},{"$f":"$N$7","v":0},{"$f":"IF(N83=0,0,LOOKUP(M83,'Emission Factors'!$A$5:$A$10,'Emission Factors'!$AJ$5:$AJ$10))","v":0},{"$f":"IF(O83=\"\",\"\",\"lb/ton\")","v":"lb/ton"},{"$f":"N83*O83","v":0},null,{"$f":"IF(N83=0,0,IF(OR(AND($C$10>0,$N$81>0),AND($C$11>0,$N$81>0),AND($C$12>0,$N$81>0)),\"\",IF(OR(AND($C$10>0,$N$82>0),AND($C$11>0,$N$82>0),AND($C$12>0,$N$82>0)),\"\",IF($C$10>0,$C$10*O83/2000,IF($C$11>0,$C$11*365*O83/2000,IF($C$12>0,$C$12*365*O83*N83/2000,IF(R83=\"\",Q83*8760/2000,R83*8760/2000)))))))","v":0},{"$f":"P7*O83/2000","v":0}]
[null,{"$f":"IF($C$4>4,\"Is Your Operation Controlled?:\",\"\")","v":""},null,null,{"$f":"IF($C$4>4,\"Silo Filling, Truck Loadout, Aggregate Transfer\",\"\")","v":""},null,null,{"$f":"IF($C$4>4,\"(tons/hr)\",\"\")","v":""},{"$f":"IF($C$4>4,\"(tons/yr)\",\"\")","v":""},null,{"$f":"IF(OR(C25=\"yes\",C39=\"yes\",C69=\"yes\",C84=\"yes\",C100=\"yes\",C115=\"yes\",C130=\"yes\",C145=\"yes\",C160=\"yes\"),1,0)","v":0},null,"Xylene"]
[null,null,null,null,{"$f":"IF($C$4>4,\"AP-4 EP-3\",\"\")","v":""},{"$f":"IF($C$4>4,\"AP-4 EU-3\",\"\")","v":""},{"$f":"IF($C$4>4,\"Silo Filling\",\"\")","v":""},null,null,null,null,null,{"$f":"IF($C$5=\"\",\"\",$C$5)","v":""},{"$f":"SUM($N$5:$N$7)","v":0},{"$f":"IF(N85=0,0,IF(M85=\"Batch Mix Plant\",0.0027,IF(M85=\"Drum Mix Plant\",0.0002)))","v":0},{"$f":"IF(O85=\"\",\"\",\"lb/ton\")","v":"lb/ton"},{"$f":"N85*O85","v":0},null,{"$f":"IF(N85=0,0,IF($C$10>0,$C$10*O85/2000,IF($C$11>0,$C$11*365*O85/2000,IF($C$12>0,$C$12*365*O85*N85/2000,IF(R85=\"\",Q85*8760/2000,R85*8760/2000)))))","v":0},{"$f":"SUM($P$5:$P$7)*O85/2000","v":0}]
[null,null,null,null,{"$f":"IF($C$4>4,\"AP-4 EP-3\",\"\")","v":""},{"$f":"IF($C$4>4,\"AP-4 EU-4\",\"\")","v":""},{"$f":"IF($C$4>4,\"Truck Loadout\",\"\")","v":""},null,null,null,null,null,"2,2,4-Trimethylpentane"]
[null,null,null,null,{"$f":"IF($C$4>4,\"AP-4 EP-3\",\"\")","v":""},{"$f":"IF($C$4>4,\"AP-4 EU-5\",\"\")","v":""},{"$f":"IF($C$4>4,\"Cold Aggregate Bins\",\"\")","v":""},null,null,null,null,null,{"$f":"IF($C$5=\"\",\"\",$C$5)","v":""},{"$f":"IF(C5=\"drum mix plant\",SUM(N5:N7),0)","v":0},{"$f":"IF(N87=0,0,0.00004)","v":0},{"$f":"IF(O87=\"\",\"\",\"lb/ton\")","v":"lb/ton"},{"$f":"N87*O87","v":0},null,{"$f":"IF(N87=0,0,IF($C$10>0,$C$10*O87/2000,IF($C$11>0,$C$11*365*O87/2000,IF($C$12>0,$C$12*365*O87*N87/2000,IF(R87=\"\",Q87*8760/2000,R87*8760/2000)))))","v":0},{"$f":"IF(N87>0,SUM($P$5:$P$7)*O87/2000,0)","v":0}]
[null,null,null,null,null,null,null,null,null,null,null,null,"Chromium Compounds"]
[null,null,null,null,{"$f":"IF($C$4>4,\"Stock Pile Area\",\"\")","v":""},null,null,null,null,null,null,null,{"$f":"IF($C$5=\"\",\"\",$C$5)","v":""},{"$f":"IF(C5=\"drum mix plant\",SUM(N5:N6),0)","v":0},{"$f":"IF(N89=0,0,IF($K$84=1,0.0000055,0.000024))","v":0},{"$f":"IF(O89=\"\",\"\",\"lb/ton\")","v":"lb/ton"},{"$f":"IF($K$84=1,\"\",N89*O89)","v":0},{"$f":"IF($K$84=1,N89*O89,\"\")","v":""},{"$f":"IF(N89=0,0,IF($C$10>0,$C$10*O89/2000,IF($C$11>0,$C$11*365*O89/2000,IF($C$12>0,$C$12*365*O89*N89/2000,IF(R89=\"\",Q89*8760/2000,R89*8760/2000)))))","v":0},{"$f":"IF(N89>0,$P$5*O89/2000,0)","v":0}]
[null,null,null,null,null,{"$f":"IF($C$4>4,\"Emission Unit #\",\"\")","v":""},{"$f":"IF($C$4>4,\"Maximum Storage Area (acres)\",\"\")","v":""},{"$f":"IF($C$4>4,\"Actual Storage Area (acres)\",\"\")","v":""},{"$f":"IF($C$4>4,\"Actual Days in Existence (days)\",\"\")","v":""},null,null,null,"Lead Compounds"]
[null,null,null,null,null,null,null,null,null,null,null,null,{"$f":"IF($C$5=\"\",\"\",$C$5)","v":""},{"$f":"IF(C5=\"drum mix plant\",SUM(N5:N6),0)","v":0},{"$f":"IF(N91=0,0,IF($K$84=1,0.000015,0.00054))","v":0},{"$f":"IF(O91=\"\",\"\",\"lb/ton\")","v":"lb/ton"},{"$f":"IF($K$84=1,\"\",N91*O91)","v":0},{"$f":"IF($K$84=1,N91*O91,\"\")","v":""},{"$f":"IF(N91=0,0,IF($C$10>0,$C$10*O91/2000,IF($C$11>0,$C$11*365*O91/2000,IF($C$12>0,$C$12*365*O91*N91/2000,IF(R91=\"\",Q91*8760/2000,R91*8760/2000)))))","v":0},{"$f":"IF(N91>0,$P$5*O91/2000,0)","v":0}]
[null,null,null,null,null,null,null,null,null,null,null,null,"Manganese Compounds",null,null,null,0]
[null,null,null,null,null,null,null,null,null,null,null,null,{"$f":"IF($C$5=\"\",\"\",$C$5)","v":""},{"$f":"IF(C5=\"drum mix plant\",SUM(N5:N6),0)","v":0},{"$f":"IF(N93=0,0,IF($K$84=1,0.0000077,0.00065))","v":0},{"$f":"IF(O93=\"\",\"\",\"lb/ton\")","v":"lb/ton"},0,{"$f":"IF($K$84=1,N93*O93,\"\")","v":""},{"$f":"IF(N93=0,0,IF($C$10>0,$C$10*O93/2000,IF($C$11>0,$C$11*365*O93/2000,IF($C$12>0,$C$12*365*O93*N93/2000,IF(R93=\"\",Q93*8760/2000,R93*8760/2000)))))","v":0},{"$f":"IF(N93>0,$P$5*O93/2000,0)","v":0}]
[null,{"$f":"IF($C$4>5,\"Asphalt Plant\",\"\")","v":""},{"$f":"IF($C$4>5,\"Site 6\",\"\")","v":""},null,{"$f":"IF($C$4>5,\"Emission Point #\",\"\")","v":""},{"$f":"IF($C$4>5,\"Emission    Unit #\",\"\")","v":""},{"$f":"IF($C$4>5,\"Process\",\"\")","v":""},{"$f":"IF($C$4>5,\"Maximum Hourly     Design Rate\",\"\")","v":""},{"$f":"IF($C$4>5,('Facility Information'!G80&\" Annual Throughput\"),\"\")","v":""},null,null,null,"Nickel Compounds",null,null,null,0]
[null,null,null,null,null,null,null,null,null,null,null,null,{"$f":"$C$5 & \" - Fuel Oil\"","v":" - Fuel Oil"},{"$f":"IF(C5=\"drum mix plant\",N5,0)","v":0},{"$f":"IF(N95=0,0,IF($K$84=1,0.000015,0.0013))","v":0},{"$f":"IF(O95=\"\",\"\",\"lb/ton\")","v":"lb/ton"},0,{"$f":"IF($K$84=1,N95*O95,\"\")","v":""},{"$f":"IF(N95=0,0,IF($C$10>0,$C$10*O95/2000,IF($C$11>0,$C$11*365*O95/2000,IF($C$12>0,$C$12*365*O95*N95/2000,IF(R95=\"\",Q95*8760/2000,R95*8760/2000)))))","v":0},{"$f":"IF(N95>0,$P$5*O95/2000,0)","v":0}]
[null,{"$f":"IF($C$4>5,\"Site Name\",\"\")","v":""},null,null,{"$f":"IF($C$4>5,\"Dryers, Hot Screens, Mixer\",\"\")","v":""},null,null,{"$f":"IF($C$4>5,\"(tons/hr)\",\"\")","v":""},{"$f":"IF($C$4>5,\"(tons/yr)\",\"\")","v":""},"PM2.5","PM10",null,{"$f":"$C$5 & \" - Waste Oil\"","v":" - Waste Oil"},{"$f":"IF(C5=\"drum mix plant\",N6,0)","v":0},{"$f":"IF(N96=0,0,IF($K$84=1,0.000015,0.0013))","v":0},{"$f":"IF(O96=\"\",\"\",\"lb/ton\")","v":"lb/ton"},0,{"$f":"IF($K$84=1,N96*O96,\"\")","v":""},{"$f":"IF(N96=0,0,IF($C$10>0,$C$10*O96/2000,IF($C$11>0,$C$11*365*O96/2000,IF($C$12>0,$C$12*365*O96*N96/2000,IF(R96=\"\",Q96*8760/2000,R96*8760/2000)))))","v":0},{"$f":"IF(N96>0,$P$6*O96/2000,0)","v":0}]
[null,{"$f":"IF($C$4>5,\"County:\",\"\")","v":""},null,null,{"$f":"IF(C99=\"\",\"\",\"AP-4 EP-1\")","v":""},{"$f":"IF(C99=\"\",\"\",\"AP-4 EU-1\")","v":""},{"$f":"IF(C99=\"\",\"\",C5 & \" - \"&C99)","v":""},null,null,{"$f":"IF(C100=\"\",\"\",IF(C100=\"yes\",LOOKUP(G97,'Emission Factors'!$A$12:$A$17,'Emission Factors'!$D$12:$D$17),LOOKUP(G97,'Emission Factors'!$A$5:$A$10,'Emission Factors'!$D$5:$D$10)))","v":""},{"$f":"IF(C100=\"\",\"\",IF(C100=\"yes\",LOOKUP(G97,'Emission Factors'!$A$12:$A$17,'Emission Factors'!$F$12:$F$17),LOOKUP(G97,'Emission Factors'!$A$5:$A$10,'Emission Factors'!$F$5:$F$10)))","v":""},null,{"$f":"$C$5 & \" - Natural Gas\"","v":" - Natural Gas"},{"$f":"IF(C5=\"drum mix plant\",N7,0)","v":0},{"$f":"IF(N97=0,0,IF($K$84=1,0.000063,0.00063))","v":0},{"$f":"IF(O97=\"\",\"\",\"lb/ton\")","v":"lb/ton"},{"$f":"IF($K$84=1,\"\",N97*O97)","v":0},{"$f":"IF($K$84=1,N97*O97,\"\")","v":""},{"$f":"IF(N97=0,0,IF($C$10>0,$C$10*O97/2000,IF($C$11>0,$C$11*365*O97/2000,IF($C$12>0,$C$12*365*O97*N97/2000,IF(R97=\"\",Q97*8760/2000,R97*8760/2000)))))","v":0},{"$f":"IF(N97>0,$P$7*O97/2000,0)","v":0}]
[null,{"$f":"IF($C$4>5,\"Production Period (Dates):\",\"\")","v":""},null,null,{"$f":"IF($C$4>5,\"Liquid Asphalt Heater\",\"\")","v":""},null,null,{"$f":"IF($C$4>5,IF(C99=\"natural gas\",\"(MMCF/hr)\",\"(gallons/hr)\"),\"\")","v":""},{"$f":"IF($C$4>5,IF(C99=\"natural gas\",\"(MMCF/yr)\",\"(gallons/yr)\"),\"\")","v":""}]
[null,{"$f":"IF($C$4>5,\"Type of Fuel Used:\",\"\")","v":""},null,null,{"$f":"IF(C99=\"\",\"\",\"AP-4 EP-2\")","v":""},{"$f":"IF(C99=\"\",\"\",\"AP-4 EU-2\")","v":""},{"$f":"IF(C99=\"\",\"\",C99& \" Fired Heater\")","v":""}]
[null,{"$f":"IF($C$4>5,\"Is Your Operation Controlled?:\",\"\")","v":""},null,null,{"$f":"IF($C$4>5,\"Silo Filling, Truck Loadout, Aggregate Transfer\",\"\")","v":""},null,null,{"$f":"IF($C$4>5,\"(tons/hr)\",\"\")","v":""},{"$f":"IF($C$4>5,\"(tons/yr)\",\"\")","v":""}]
[null,null,null,null,{"$f":"IF($C$4>5,\"AP-4 EP-3\",\"\")","v":""},{"$f":"IF($C$4>5,\"AP-4 EU-3\",\"\")","v":""},{"$f":"IF($C$4>5,\"Silo Filling\",\"\")","v":""}]
[null,null,null,null,{"$f":"IF($C$4>5,\"AP-4 EP-3\",\"\")","v":""},{"$f":"IF($C$4>5,\"AP-4 EU-4\",\"\")","v":""},{"$f":"IF($C$4>5,\"Truck Loadout\",\"\")","v":""}]
[null,null,null,null,{"$f":"IF($C$4>5,\"AP-4 EP-3\",\"\")","v":""},{"$f":"IF($C$4>5,\"AP-4 EU-5\",\"\")","v":""},{"$f":"IF($C$4>5,\"Cold Aggregate Bins\",\"\")","v":""}]
[]
[null,null,null,null,{"$f":"IF($C$4>5,\"Stock Pile Area\",\"\")","v":""}]
[null,null,null,null,null,{"$f":"IF($C$4>5,\"Emission Unit #\",\"\")","v":""},{"$f":"IF($C$4>5,\"Maximum Storage Area (acres)\",\"\")","v":""},{"$f":"IF($C$4>5,\"Actual Storage Area (acres)\",\"\")","v":""},{"$f":"IF($C$4>5,\"Actual Days in Existence (days)\",\"\")","v":""}]
[]
[]
[null,{"$f":"IF($C$4>6,\"Asphalt Plant\",\"\")","v":""},{"$f":"IF($C$4>6,\"Site 7\",\"\")","v":""},null,{"$f":"IF($C$4>6,\"Emission Point #\",\"\")","v":""},{"$f":"IF($C$4>6,\"Emission    Unit #\",\"\")","v":""},{"$f":"IF($C$4>6,\"Process\",\"\")","v":""},{"$f":"IF($C$4>6,\"Maximum Hourly     Design Rate\",\"\")","v":""},{"$f":"IF($C$4>6,('Facility Information'!G95&\" Annual Throughput\"),\"\")","v":""}]
[]
[null,{"$f":"IF($C$4>6,\"Site Name\",\"\")","v":""},null,null,{"$f":"IF($C$4>6,\"Dryers, Hot Screens, Mixer\",\"\")","v":""},null,null,{"$f":"IF($C$4>6,\"(tons/hr)\",\"\")","v":""},{"$f":"IF($C$4>6,\"(tons/yr)\",\"\")","v":""},"PM2.5","PM10"]
[null,{"$f":"IF($C$4>6,\"County:\",\"\")","v":""},null,null,{"$f":"IF(C114=\"\",\"\",\"AP-4 EP-1\")","v":""},{"$f":"IF(C114=\"\",\"\",\"AP-4 EU-1\")","v":""},{"$f":"IF(C114=\"\",\"\",C5 & \" - \"&C114)","v":""},null,null,{"$f":"IF(C115=\"\",\"\",IF(C115=\"yes\",LOOKUP(G112,'Emission Factors'!$A$12:$A$17,'Emission Factors'!$D$12:$D$17),LOOKUP(G112,'Emission Factors'!$A$5:$A$10,'Emission Factors'!$D$5:$D$10)))","v":""},{"$f":"IF(C115=\"\",\"\",IF(C115=\"yes\",LOOKUP(G112,'Emission Factors'!$A$12:$A$17,'Emission Factors'!$F$12:$F$17),LOOKUP(G112,'Emission Factors'!$A$5:$A$10,'Emission Factors'!$F$5:$F$10)))","v":""}]
[null,{"$f":"IF($C$4>6,\"Production Period (Dates):\",\"\")","v":""},null,null,{"$f":"IF($C$4>6,\"Liquid Asphalt Heater\",\"\")","v":""},null,null,{"$f":"IF($C$4>6,IF(C114=\"natural gas\",\"(MMCF/hr)\",\"(gallons/hr)\"),\"\")","v":""},{"$f":"IF($C$4>6,IF(C114=\"natural gas\",\"(MMCF/yr)\",\"(gallons/yr)\"),\"\")","v":""}]
[null,{"$f":"IF($C$4>6,\"Type of Fuel Used:\",\"\")","v":""},null,null,{"$f":"IF(C114=\"\",\"\",\"AP-4 EP-2\")","v":""},{"$f":"IF(C114=\"\",\"\",\"AP-4 EU-2\")","v":""},{"$f":"IF(C114=\"\",\"\",C114& \" Fired Heater\")","v":""}]
[null,{"$f":"IF($C$4>6,\"Is Your Operation Controlled?:\",\"\")","v":""},null,null,{"$f":"IF($C$4>6,\"Silo Filling, Truck Loadout, Aggregate Transfer\",\"\")","v":""},null,null,{"$f":"IF($C$4>6,\"(tons/hr)\",\"\")","v":""},{"$f":"IF($C$4>6,\"(tons/yr)\",\"\")","v":""}]
[null,null,null,null,{"$f":"IF($C$4>6,\"AP-4 EP-3\",\"\")","v":""},{"$f":"IF($C$4>6,\"AP-4 EU-3\",\"\")","v":""},{"$f":"IF($C$4>6,\"Silo Filling\",\"\")","v":""}]
[null,null,null,null,{"$f":"IF($C$4>6,\"AP-4 EP-3\",\"\")","v":""},{"$f":"IF($C$4>6,\"AP-4 EU-4\",\"\")","v":""},{"$f":"IF($C$4>6,\"Truck Loadout\",\"\")","v":""}]
[null,null,null,null,{"$f":"IF($C$4>6,\"AP-4 EP-3\",\"\")","v":""},{"$f":"IF($C$4>6,\"AP-4 EU-5\",\"\")","v":""},{"$f":"IF($C$4>6,\"Cold Aggregate Bins\",\"\")","v":""}]
[]
[null,null,null,null,{"$f":"IF($C$4>6,\"Stock Pile Area\",\"\")","v":""}]
[null,null,null,null,null,{"$f":"IF($C$4>6,\"Emission Unit #\",\"\")","v":""},{"$f":"IF($C$4>6,\"Maximum Storage Area (acres)\",\"\")","v":""},{"$f":"IF($C$4>6,\"Actual Storage Area (acres)\",\"\")","v":""},{"$f":"IF($C$4>6,\"Actual Days in Existence (days)\",\"\")","v":""}]
[]
[]
[null,{"$f":"IF($C$4>7,\"Asphalt Plant\",\"\")","v":""},{"$f":"IF($C$4>7,\"Site 8\",\"\")","v":""},null,{"$f":"IF($C$4>7,\"Emission Point #\",\"\")","v":""},{"$f":"IF($C$4>7,\"Emission    Unit #\",\"\")","v":""},{"$f":"IF($C$4>7,\"Process\",\"\")","v":""},{"$f":"IF($C$4>7,\"Maximum Hourly     Design Rate\",\"\")","v":""},{"$f":"IF($C$4>7,('Facility Information'!G110&\" Annual Throughput\"),\"\")","v":""}]
[]
[null,{"$f":"IF($C$4>7,\"Site Name\",\"\")","v":""},null,null,{"$f":"IF($C$4>7,\"Dryers, Hot Screens, Mixer\",\"\")","v":""},null,null,{"$f":"IF($C$4>7,\"(tons/hr)\",\"\")","v":""},{"$f":"IF($C$4>7,\"(tons/yr)\",\"\")","v":""},"PM2.5","PM10"]
[null,{"$f":"IF($C$4>7,\"County:\",\"\")","v":""},null,null,{"$f":"IF(C129=\"\",\"\",\"AP-4 EP-1\")","v":""},{"$f":"IF(C129=\"\",\"\",\"AP-4 EU-1\")","v":""},{"$f":"IF(C129=\"\",\"\",C5 & \" - \"&C129)","v":""},null,null,{"$f":"IF(C130=\"\",\"\",IF(C130=\"yes\",LOOKUP(G127,'Emission Factors'!$A$12:$A$17,'Emission Factors'!$D$12:$D$17),LOOKUP(G127,'Emission Factors'!$A$5:$A$10,'Emission Factors'!$D$5:$D$10)))","v":""},{"$f":"IF(C130=\"\",\"\",IF(C130=\"yes\",LOOKUP(G127,'Emission Factors'!$A$12:$A$17,'Emission Factors'!$F$12:$F$17),LOOKUP(G127,'Emission Factors'!$A$5:$A$10,'Emission Factors'!$F$5:$F$10)))","v":""}]
[null,{"$f":"IF($C$4>7,\"Production Period (Dates):\",\"\")","v":""},null,null,{"$f":"IF($C$4>7,\"Liquid Asphalt Heater\",\"\")","v":""},null,null,{"$f":"IF($C$4>7,IF(C129=\"natural gas\",\"(MMCF/hr)\",\"(gallons/hr)\"),\"\")","v":""},{"$f":"IF($C$4>7,IF(C129=\"natural gas\",\"(MMCF/yr)\",\"(gallons/yr)\"),\"\")","v":""}]
[null,{"$f":"IF($C$4>7,\"Type of Fuel Used:\",\"\")","v":""},null,null,{"$f":"IF(C129=\"\",\"\",\"AP-4 EP-2\")","v":""},{"$f":"IF(C129=\"\",\"\",\"AP-4 EU-2\")","v":""},{"$f":"IF(C129=\"\",\"\",C129& \" Fired Heater\")","v":""}]
[null,{"$f":"IF($C$4>7,\"Is Your Operation Controlled?:\",\"\")","v":""},null,null,{"$f":"IF($C$4>7,\"Silo Filling, Truck Loadout, Aggregate Transfer\",\"\")","v":""},null,null,{"$f":"IF($C$4>7,\"(tons/hr)\",\"\")","v":""},{"$f":"IF($C$4>7,\"(tons/yr)\",\"\")","v":""}]
[null,null,null,null,{"$f":"IF($C$4>7,\"AP-4 EP-3\",\"\")","v":""},{"$f":"IF($C$4>7,\"AP-4 EU-3\",\"\")","v":""},{"$f":"IF($C$4>7,\"Silo Filling\",\"\")","v":""}]
[null,null,null,null,{"$f":"IF($C$4>7,\"AP-4 EP-3\",\"\")","v":""},{"$f":"IF($C$4>7,\"AP-4 EU-4\",\"\")","v":""},{"$f":"IF($C$4>7,\"Truck Loadout\",\"\")","v":""}]
[null,null,null,null,{"$f":"IF($C$4>7,\"AP-4 EP-3\",\"\")","v":""},{"$f":"IF($C$4>7,\"AP-4 EU-5\",\"\")","v":""},{"$f":"IF($C$4>7,\"Cold Aggregate Bins\",\"\")","v":""}]
[]
[null,null,null,null,{"$f":"IF($C$4>7,\"Stock Pile Area\",\"\")","v":""}]
[null,null,null,null,null,{"$f":"IF($C$4>7,\"Emission Unit #\",\"\")","v":""},{"$f":"IF($C$4>7,\"Maximum Storage Area (acres)\",\"\")","v":""},{"$f":"IF($C$4>7,\"Actual Storage Area (acres)\",\"\")","v":""},{"$f":"IF($C$4>7,\"Actual Days in Existence (days)\",\"\")","v":""}]
[]
[]
[null,{"$f":"IF($C$4>8,\"Asphalt Plant\",\"\")","v":""},{"$f":"IF($C$4>8,\"Site 9\",\"\")","v":""},null,{"$f":"IF($C$4>8,\"Emission Point #\",\"\")","v":""},{"$f":"IF($C$4>8,\"Emission    Unit #\",\"\")","v":""},{"$f":"IF($C$4>8,\"Process\",\"\")","v":""},{"$f":"IF($C$4>8,\"Maximum Hourly     Design Rate\",\"\")","v":""},{"$f":"IF($C$4>8,('Facility Information'!G125&\" Annual Throughput\"),\"\")","v":""}]
[]
[null,{"$f":"IF($C$4>8,\"Site Name\",\"\")","v":""},null,null,{"$f":"IF($C$4>8,\"Dryers, Hot Screens, Mixer\",\"\")","v":""},null,null,{"$f":"IF($C$4>8,\"(tons/hr)\",\"\")","v":""},{"$f":"IF($C$4>8,\"(tons/yr)\",\"\")","v":""},"PM2.5","PM10"]
[null,{"$f":"IF($C$4>8,\"County:\",\"\")","v":""},null,null,{"$f":"IF(C144=\"\",\"\",\"AP-4 EP-1\")","v":""},{"$f":"IF(C144=\"\",\"\",\"AP-4 EU-1\")","v":""},{"$f":"IF(C144=\"\",\"\",C5 & \" - \"&C144)","v":""},null,null,{"$f":"IF(C145=\"\",\"\",IF(C145=\"yes\",LOOKUP(G142,'Emission Factors'!$A$12:$A$17,'Emission Factors'!$D$12:$D$17),LOOKUP(G142,'Emission Factors'!$A$5:$A$10,'Emission Factors'!$D$5:$D$10)))","v":""},{"$f":"IF(C145=\"\",\"\",IF(C145=\"yes\",LOOKUP(G142,'Emission Factors'!$A$12:$A$17,'Emission Factors'!$F$12:$F$17),LOOKUP(G142,'Emission Factors'!$A$5:$A$10,'Emission Factors'!$F$5:$F$10)))","v":""}]
[null,{"$f":"IF($C$4>8,\"Production Period (Dates):\",\"\")","v":""},null,null,{"$f":"IF($C$4>8,\"Liquid Asphalt Heater\",\"\")","v":""},null,null,{"$f":"IF($C$4>8,IF(C144=\"natural gas\",\"(MMCF/hr)\",\"(gallons/hr)\"),\"\")","v":""},{"$f":"IF($C$4>8,IF(C144=\"natural gas\",\"(MMCF/yr)\",\"(gallons/yr)\"),\"\")","v":""}]
[null,{"$f":"IF($C$4>8,\"Type of Fuel Used:\",\"\")","v":""},null,null,{"$f":"IF(C144=\"\",\"\",\"AP-4 EP-2\")","v":""},{"$f":"IF(C144=\"\",\"\",\"AP-4 EU-2\")","v":""},{"$f":"IF(C144=\"\",\"\",C144& \" Fired Heater\")","v":""}]
[null,{"$f":"IF($C$4>8,\"Is Your Operation Controlled?:\",\"\")","v":""},null,null,{"$f":"IF($C$4>8,\"Silo Filling, Truck Loadout, Aggregate Transfer\",\"\")","v":""},null,null,{"$f":"IF($C$4>8,\"(tons/hr)\",\"\")","v":""},{"$f":"IF($C$4>8,\"(tons/yr)\",\"\")","v":""}]
[null,null,null,null,{"$f":"IF($C$4>8,\"AP-4 EP-3\",\"\")","v":""},{"$f":"IF($C$4>8,\"AP-4 EU-3\",\"\")","v":""},{"$f":"IF($C$4>8,\"Silo Filling\",\"\")","v":""}]
[null,null,null,null,{"$f":"IF($C$4>8,\"AP-4 EP-3\",\"\")","v":""},{"$f":"IF($C$4>8,\"AP-4 EU-4\",\"\")","v":""},{"$f":"IF($C$4>8,\"Truck Loadout\",\"\")","v":""}]
[null,null,null,null,{"$f":"IF($C$4>8,\"AP-4 EP-3\",\"\")","v":""},{"$f":"IF($C$4>8,\"AP-4 EU-5\",\"\")","v":""},{"$f":"IF($C$4>8,\"Cold Aggregate Bins\",\"\")","v":""}]
[]
[null,null,null,null,{"$f":"IF($C$4>8,\"Stock Pile Area\",\"\")","v":""}]
[null,null,null,null,null,{"$f":"IF($C$4>8,\"Emission Unit #\",\"\")","v":""},{"$f":"IF($C$4>8,\"Maximum Storage Area (acres)\",\"\")","v":""},{"$f":"IF($C$4>8,\"Actual Storage Area (acres)\",\"\")","v":""},{"$f":"IF($C$4>8,\"Actual Days in Existence (days)\",\"\")","v":""}]
[]
[]
[null,{"$f":"IF($C$4>9,\"Asphalt Plant\",\"\")","v":""},{"$f":"IF($C$4>9,\"Site 10\",\"\")","v":""},null,{"$f":"IF($C$4>9,\"Emission Point #\",\"\")","v":""},{"$f":"IF($C$4>9,\"Emission    Unit #\",\"\")","v":""},{"$f":"IF($C$4>9,\"Process\",\"\")","v":""},{"$f":"IF($C$4>9,\"Maximum Hourly     Design Rate\",\"\")","v":""},{"$f":"IF($C$4>9,('Facility Information'!G140&\" Annual Throughput\"),\"\")","v":""}]
[]
[null,{"$f":"IF($C$4>9,\"Site Name\",\"\")","v":""},null,null,{"$f":"IF($C$4>9,\"Dryers, Hot Screens, Mixer\",\"\")","v":""},null,null,{"$f":"IF($C$4>9,\"(tons/hr)\",\"\")","v":""},{"$f":"IF($C$4>9,\"(tons/yr)\",\"\")","v":""},"PM2.5","PM10"]
[null,{"$f":"IF($C$4>9,\"County:\",\"\")","v":""},null,null,{"$f":"IF(C159=\"\",\"\",\"AP-4 EP-1\")","v":""},{"$f":"IF(C159=\"\",\"\",\"AP-4 EU-1\")","v":""},{"$f":"IF(C159=\"\",\"\",C5 & \" - \"&C159)","v":""},null,null,{"$f":"IF(C160=\"\",\"\",IF(C160=\"yes\",LOOKUP(G157,'Emission Factors'!$A$12:$A$17,'Emission Factors'!$D$12:$D$17),LOOKUP(G157,'Emission Factors'!$A$5:$A$10,'Emission Factors'!$D$5:$D$10)))","v":""},{"$f":"IF(C160=\"\",\"\",IF(C160=\"yes\",LOOKUP(G157,'Emission Factors'!$A$12:$A$17,'Emission Factors'!$F$12:$F$17),LOOKUP(G157,'Emission Factors'!$A$5:$A$10,'Emission Factors'!$F$5:$F$10)))","v":""}]
[null,{"$f":"IF($C$4>9,\"Production Period (Dates):\",\"\")","v":""},null,null,{"$f":"IF($C$4>9,\"Liquid Asphalt Heater\",\"\")","v":""},null,null,{"$f":"IF($C$4>9,IF(C159=\"natural gas\",\"(MMCF/hr)\",\"(gallons/hr)\"),\"\")","v":""},{"$f":"IF($C$4>9,IF(C159=\"natural gas\",\"(MMCF/yr)\",\"(gallons/yr)\"),\"\")","v":""}]
[null,{"$f":"IF($C$4>9,\"Type of Fuel Used:\",\"\")","v":""},null,null,{"$f":"IF(C159=\"\",\"\",\"AP-4 EP-2\")","v":""},{"$f":"IF(C159=\"\",\"\",\"AP-4 EU-2\")","v":""},{"$f":"IF(C159=\"\",\"\",C159& \" Fired Heater\")","v":""}]
[null,{"$f":"IF($C$4>9,\"Is Your Operation Controlled?:\",\"\")","v":""},null,null,{"$f":"IF($C$4>9,\"Silo Filling, Truck Loadout, Aggregate Transfer\",\"\")","v":""},null,null,{"$f":"IF($C$4>9,\"(tons/hr)\",\"\")","v":""},{"$f":"IF($C$4>9,\"(tons/yr)\",\"\")","v":""}]
[null,null,null,null,{"$f":"IF($C$4>9,\"AP-4 EP-3\",\"\")","v":""},{"$f":"IF($C$4>9,\"AP-4 EU-3\",\"\")","v":""},{"$f":"IF($C$4>9,\"Silo Filling\",\"\")","v":""}]
[null,null,null,null,{"$f":"IF($C$4>9,\"AP-4 EP-3\",\"\")","v":""},{"$f":"IF($C$4>9,\"AP-4 EU-4\",\"\")","v":""},{"$f":"IF($C$4>9,\"Truck Loadout\",\"\")","v":""}]
[null,null,null,null,{"$f":"IF($C$4>9,\"AP-4 EP-3\",\"\")","v":""},{"$f":"IF($C$4>9,\"AP-4 EU-5\",\"\")","v":""},{"$f":"IF($C$4>9,\"Cold Aggregate Bins\",\"\")","v":""}]
[]
[null,null,null,null,{"$f":"IF($C$4>9,\"Stock Pile Area\",\"\")","v":""}]
[null,null,null,null,null,{"$f":"IF($C$4>9,\"Emission Unit #\",\"\")","v":""},{"$f":"IF($C$4>9,\"Maximum Storage Area (acres)\",\"\")","v":""},{"$f":"IF($C$4>9,\"Actual Storage Area (acres)\",\"\")","v":""},{"$f":"IF($C$4>9,\"Actual Days in Existence (days)\",\"\")","v":""}]

{"sheet":"Asphalt Plant (AP-5)","index":5,"n_rows":166,"n_cols":20,"rows_kept":166,"cut":false,"hidden":true,"merged":[]}
[null,"ASPHALT PLANT (AP-5)"]
[null,"Please fill in the yellow boxes as applicable for your facility. ",null,null,null,null,null,null,"Values used for calculating emissions →",null,null,null,"Values Used to Calculate Actual Emissions for the Listed Processes at this Plant"]
[]
[null,{"$f":"\"Number of Sites this Plant operated at in \"&'Facility Information'!G5&\":\"","v":"Number of Sites this Plant operated at in :"},null,null,null,null,null,null,null,null,null,null,"Process","Maximum Design Rate","Units","Actual throughput",null,"** As of 2016 Potential Emissions are no longer required to be reported in the Minor Source Emissions Inventory**",null,"Units"]
[null,"Plant Type:",null,null,null,null,null,null,null,null,null,null,{"$f":"$C$5 & \" - Fuel Oil\"","v":" - Fuel Oil"},{"$f":"MAX((IFERROR(OFFSET($G$21,MATCH(M5,$G$22,0),1),0)),((IFERROR(OFFSET($G$35,MATCH(M5,$G$36,0),1),0))),((IFERROR(OFFSET($G$50,MATCH(M5,$G$51,0),1),0))),((IFERROR(OFFSET($G$65,MATCH(M5,$G$66,0),1),0))),((IFERROR(OFFSET($G$80,MATCH(M5,$G$81,0),1),0))),((IFERROR(OFFSET($G$96,MATCH(M5,$G$97,0),1),0))),((IFERROR(OFFSET($G$111,MATCH(M5,$G$112,0),1),0))),((IFERROR(OFFSET($G$126,MATCH(M5,$G$127,0),1),0))),((IFERROR(OFFSET($G$141,MATCH(M5,$G$142,0),1),0))),((IFERROR(OFFSET($G$156,MATCH(M5,$G$157,0),1),0))))","v":0},"tons/hr",{"$f":"SUM((IFERROR(OFFSET($G$21,MATCH(M5,$G$22,0),2),0)),((IFERROR(OFFSET($G$35,MATCH(M5,$G$36,0),2),0))),((IFERROR(OFFSET($G$50,MATCH(M5,$G$51,0),2),0))),((IFERROR(OFFSET($G$65,MATCH(M5,$G$66,0),2),0))),((IFERROR(OFFSET($G$80,MATCH(M5,$G$81,0),2),0))),((IFERROR(OFFSET($G$96,MATCH(M5,$G$97,0),2),0))),((IFERROR(OFFSET($G$111,MATCH(M5,$G$112,0),2),0))),((IFERROR(OFFSET($G$126,MATCH(M5,$G$127,0),2),0))),((IFERROR(OFFSET($G$141,MATCH(M5,$G$142,0),2),0))),((IFERROR(OFFSET($G$156,MATCH(M5,$G$157,0),2),0))))","v":0},null,null,null,"tons/yr"]
[null,null,null,null,null,null,null,null,null,null,null,null,{"$f":"$C$5 & \" - Waste Oil\"","v":" - Waste Oil"},{"$f":"MAX((IFERROR(OFFSET($G$21,MATCH(M6,$G$22,0),1),0)),((IFERROR(OFFSET($G$35,MATCH(M6,$G$36,0),1),0))),((IFERROR(OFFSET($G$50,MATCH(M6,$G$51,0),1),0))),((IFERROR(OFFSET($G$65,MATCH(M6,$G$66,0),1),0))),((IFERROR(OFFSET($G$80,MATCH(M6,$G$81,0),1),0))),((IFERROR(OFFSET($G$96,MATCH(M6,$G$97,0),1),0))),((IFERROR(OFFSET($G$111,MATCH(M6,$G$112,0),1),0))),((IFERROR(OFFSET($G$126,MATCH(M6,$G$127,0),1),0))),((IFERROR(OFFSET($G$141,MATCH(M6,$G$142,0),1),0))),((IFERROR(OFFSET($G$156,MATCH(M6,$G$157,0),1),0))))","v":0},"tons/hr",{"$f":"SUM((IFERROR(OFFSET($G$21,MATCH(M6,$G$22,0),2),0)),((IFERROR(OFFSET($G$35,MATCH(M6,$G$36,0),2),0))),((IFERROR(OFFSET($G$50,MATCH(M6,$G$51,0),2),0))),((IFERROR(OFFSET($G$65,MATCH(M6,$G$66,0),2),0))),((IFERROR(OFFSET($G$80,MATCH(M6,$G$81,0),2),0))),((IFERROR(OFFSET($G$96,MATCH(M6,$G$97,0),2),0))),((IFERROR(OFFSET($G$111,MATCH(M6,$G$112,0),2),0))),((IFERROR(OFFSET($G$126,MATCH(M6,$G$127,0),2),0))),((IFERROR(OFFSET($G$141,MATCH(M6,$G$142,0),2),0))),((IFERROR(OFFSET($G$156,MATCH(M6,$G$157,0),2),0))))","v":0},null,null,null,"tons/yr"]
[null,"Plant Specific Permit Number: ",null,null,null,null,null,null,null,null,null,null,{"$f":"$C$5 & \" - Natural Gas\"","v":" - Natural Gas"},{"$f":"MAX((IFERROR(OFFSET($G$21,MATCH(M7,$G$22,0),1),0)),((IFERROR(OFFSET($G$35,MATCH(M7,$G$36,0),1),0))),((IFERROR(OFFSET($G$50,MATCH(M7,$G$51,0),1),0))),((IFERROR(OFFSET($G$65,MATCH(M7,$G$66,0),1),0))),((IFERROR(OFFSET($G$80,MATCH(M7,$G$81,0),1),0))),((IFERROR(OFFSET($G$96,MATCH(M7,$G$97,0),1),0))),((IFERROR(OFFSET($G$111,MATCH(M7,$G$112,0),1),0))),((IFERROR(OFFSET($G$126,MATCH(M7,$G$127,0),1),0))),((IFERROR(OFFSET($G$141,MATCH(M7,$G$142,0),1),0))),((IFERROR(OFFSET($G$156,MATCH(M7,$G$157,0),1),0))))","v":0},"tons/hr",{"$f":"SUM((IFERROR(OFFSET($G$21,MATCH(M7,$G$22,0),2),0)),((IFERROR(OFFSET($G$35,MATCH(M7,$G$36,0),2),0))),((IFERROR(OFFSET($G$50,MATCH(M7,$G$51,0),2),0))),((IFERROR(OFFSET($G$65,MATCH(M7,$G$66,0),2),0))),((IFERROR(OFFSET($G$80,MATCH(M7,$G$81,0),2),0))),((IFERROR(OFFSET($G$96,MATCH(M7,$G$97,0),2),0))),((IFERROR(OFFSET($G$111,MATCH(M7,$G$112,0),2),0))),((IFERROR(OFFSET($G$126,MATCH(M7,$G$127,0),2),0))),((IFERROR(OFFSET($G$141,MATCH(M7,$G$142,0),2),0))),((IFERROR(OFFSET($G$156,MATCH(M7,$G$157,0),2),0))))","v":0},null,null,null,"tons/yr"]
[null,null,null,null,null,null,null,null,null,null,null,null,"Fuel Oil Fired Heater",{"$f":"MAX((IFERROR(OFFSET($G$23,MATCH(\"Fuel Oil Fired Heater\",$G$24,0),1),0)),((IFERROR(OFFSET($G$37,MATCH(\"Fuel Oil Fired Heater\",$G$38,0),1),0))),((IFERROR(OFFSET($G$52,MATCH(\"Fuel Oil Fired Heater\",$G$53,0),1),0))),((IFERROR(OFFSET($G$67,MATCH(\"Fuel Oil Fired Heater\",$G$68,0),1),0))),((IFERROR(OFFSET($G$82,MATCH(\"Fuel Oil Fired Heater\",$G$83,0),1),0))),((IFERROR(OFFSET($G$98,MATCH(\"Fuel Oil Fired Heater\",$G$99,0),1),0))),((IFERROR(OFFSET($G$113,MATCH(\"Fuel Oil Fired Heater\",$G$114,0),1),0))),((IFERROR(OFFSET($G$128,MATCH(\"Fuel Oil Fired Heater\",$G$129,0),1),0))),((IFERROR(OFFSET($G$143,MATCH(\"Fuel Oil Fired Heater\",$G$144,0),1),0))),((IFERROR(OFFSET($G$158,MATCH(\"Fuel Oil Fired Heater\",$G$159,0),1),0))))","v":0},"gallons/hr",{"$f":"SUM((IFERROR(OFFSET($G$23,MATCH(\"Fuel Oil Fired Heater\",$G$24,0),2),0)),((IFERROR(OFFSET($G$37,MATCH(\"Fuel Oil Fired Heater\",$G$38,0),2),0))),((IFERROR(OFFSET($G$52,MATCH(\"Fuel Oil Fired Heater\",$G$53,0),2),0))),((IFERROR(OFFSET($G$67,MATCH(\"Fuel Oil Fired Heater\",$G$68,0),2),0))),((IFERROR(OFFSET($G$82,MATCH(\"Fuel Oil Fired Heater\",$G$83,0),2),0))),((IFERROR(OFFSET($G$98,MATCH(\"Fuel Oil Fired Heater\",$G$99,0),2),0))),((IFERROR(OFFSET($G$113,MATCH(\"Fuel Oil Fired Heater\",$G$114,0),2),0))),((IFERROR(OFFSET($G$128,MATCH(\"Fuel Oil Fired Heater\",$G$129,0),2),0))),((IFERROR(OFFSET($G$143,MATCH(\"Fuel Oil Fired Heater\",$G$144,0),2),0))),((IFERROR(OFFSET($G$158,MATCH(\"Fuel Oil Fired Heater\",$G$159,0),2),0))))","v":0},null,null,null,"gallons/yr"]
[null,"Plant Specific Operating Limits:",null,null,"Plant Specific Emission Limits:",null,null,null,null,null,null,null,"Waste Oil Fired Heater",{"$f":"MAX((IFERROR(OFFSET($G$23,MATCH(\"waste oil Fired Heater\",$G$24,0),1),0)),((IFERROR(OFFSET($G$37,MATCH(\"waste oil Fired Heater\",$G$38,0),1),0))),((IFERROR(OFFSET($G$52,MATCH(\"waste oil Fired Heater\",$G$53,0),1),0))),((IFERROR(OFFSET($G$67,MATCH(\"waste oil Fired Heater\",$G$68,0),1),0))),((IFERROR(OFFSET($G$82,MATCH(\"waste oil Fired Heater\",$G$83,0),1),0))),((IFERROR(OFFSET($G$98,MATCH(\"waste oil Fired Heater\",$G$99,0),1),0))),((IFERROR(OFFSET($G$113,MATCH(\"waste oil Fired Heater\",$G$114,0),1),0))),((IFERROR(OFFSET($G$128,MATCH(\"waste oil Fired Heater\",$G$129,0),1),0))),((IFERROR(OFFSET($G$143,MATCH(\"waste oil Fired Heater\",$G$144,0),1),0))),((IFERROR(OFFSET($G$158,MATCH(\"waste oil Fired Heater\",$G$159,0),1),0))))","v":0},"gallons/hr",{"$f":"SUM((IFERROR(OFFSET($G$23,MATCH(\"waste oil Fired Heater\",$G$24,0),2),0)),((IFERROR(OFFSET($G$37,MATCH(\"waste oil Fired Heater\",$G$38,0),2),0))),((IFERROR(OFFSET($G$52,MATCH(\"waste oil Fired Heater\",$G$53,0),2),0))),((IFERROR(OFFSET($G$67,MATCH(\"waste oil Fired Heater\",$G$68,0),2),0))),((IFERROR(OFFSET($G$82,MATCH(\"waste oil Fired Heater\",$G$83,0),2),0))),((IFERROR(OFFSET($G$98,MATCH(\"waste oil Fired Heater\",$G$99,0),2),0))),((IFERROR(OFFSET($G$113,MATCH(\"waste oil Fired Heater\",$G$114,0),2),0))),((IFERROR(OFFSET($G$128,MATCH(\"waste oil Fired Heater\",$G$129,0),2),0))),((IFERROR(OFFSET($G$143,MATCH(\"waste oil Fired Heater\",$G$144,0),2),0))),((IFERROR(OFFSET($G$158,MATCH(\"waste oil Fired Heater\",$G$159,0),2),0))))","v":0},null,null,null,"gallons/yr"]
[null,"Throughput Limit (tons/yr):",null,null,"Pollutant","lb/hr","tons/yr",null,null,null,null,null,"Natural Gas Fired Heater",{"$f":"MAX((IFERROR(OFFSET($G$23,MATCH(\"Natural Gas Fired Heater\",$G$24,0),1),0)),((IFERROR(OFFSET($G$37,MATCH(\"Natural Gas Fired Heater\",$G$38,0),1),0))),((IFERROR(OFFSET($G$52,MATCH(\"Natural Gas Fired Heater\",$G$53,0),1),0))),((IFERROR(OFFSET($G$67,MATCH(\"Natural Gas Fired Heater\",$G$68,0),1),0))),((IFERROR(OFFSET($G$82,MATCH(\"Natural Gas Fired Heater\",$G$83,0),1),0))),((IFERROR(OFFSET($G$98,MATCH(\"Natural Gas Fired Heater\",$G$99,0),1),0))),((IFERROR(OFFSET($G$113,MATCH(\"Natural Gas Fired Heater\",$G$114,0),1),0))),((IFERROR(OFFSET($G$128,MATCH(\"Natural Gas Fired Heater\",$G$129,0),1),0))),((IFERROR(OFFSET($G$143,MATCH(\"Natural Gas Fired Heater\",$G$144,0),1),0))),((IFERROR(OFFSET($G$158,MATCH(\"Natural Gas Fired Heater\",$G$159,0),1),0))))","v":0},"MMCF/hr",{"$f":"SUM((IFERROR(OFFSET($G$23,MATCH(\"Natural Gas Fired Heater\",$G$24,0),2),0)),((IFERROR(OFFSET($G$37,MATCH(\"Natural Gas Fired Heater\",$G$38,0),2),0))),((IFERROR(OFFSET($G$52,MATCH(\"Natural Gas Fired Heater\",$G$53,0),2),0))),((IFERROR(OFFSET($G$67,MATCH(\"Natural Gas Fired Heater\",$G$68,0),2),0))),((IFERROR(OFFSET($G$82,MATCH(\"Natural Gas Fired Heater\",$G$83,0),2),0))),((IFERROR(OFFSET($G$98,MATCH(\"Natural Gas Fired Heater\",$G$99,0),2),0))),((IFERROR(OFFSET($G$113,MATCH(\"Natural Gas Fired Heater\",$G$114,0),2),0))),((IFERROR(OFFSET($G$128,MATCH(\"Natural Gas Fired Heater\",$G$129,0),2),0))),((IFERROR(OFFSET($G$143,MATCH(\"Natural Gas Fired Heater\",$G$144,0),2),0))),((IFERROR(OFFSET($G$158,MATCH(\"Natural Gas Fired Heater\",$G$159,0),2),0))))","v":0},null,null,null,"MMCF/yr"]
[null,"Daily Throughput Limit (tons/day):",null,null,"PM2.5",null,null,null,null,null,null,null,"Silo Filling",{"$f":"MAX((IFERROR(OFFSET($G$25,MATCH(\"Silo Filling\",$G$26,0),1),0)),((IFERROR(OFFSET($G$39,MATCH(\"Silo Filling\",$G$40,0),1),0))),((IFERROR(OFFSET($G$54,MATCH(\"Silo Filling\",$G$55,0),1),0))),((IFERROR(OFFSET($G$69,MATCH(\"Silo Filling\",$G$70,0),1),0))),((IFERROR(OFFSET($G$84,MATCH(\"Silo Filling\",$G$85,0),1),0))),((IFERROR(OFFSET($G$100,MATCH(\"Silo Filling\",$G$101,0),1),0))),((IFERROR(OFFSET($G$115,MATCH(\"Silo Filling\",$G$116,0),1),0))),((IFERROR(OFFSET($G$130,MATCH(\"Silo Filling\",$G$131,0),1),0))),((IFERROR(OFFSET($G$145,MATCH(\"Silo Filling\",$G$146,0),1),0))),((IFERROR(OFFSET($G$160,MATCH(\"Silo Filling\",$G$161,0),1),0))))","v":0},"tons/hr",{"$f":"SUM((IFERROR(OFFSET($G$25,MATCH(\"Silo Filling\",$G$26,0),2),0)),((IFERROR(OFFSET($G$39,MATCH(\"Silo Filling\",$G$40,0),2),0))),((IFERROR(OFFSET($G$54,MATCH(\"Silo Filling\",$G$55,0),2),0))),((IFERROR(OFFSET($G$69,MATCH(\"Silo Filling\",$G$70,0),2),0))),((IFERROR(OFFSET($G$84,MATCH(\"Silo Filling\",$G$85,0),2),0))),((IFERROR(OFFSET($G$100,MATCH(\"Silo Filling\",$G$101,0),2),0))),((IFERROR(OFFSET($G$115,MATCH(\"Silo Filling\",$G$116,0),2),0))),((IFERROR(OFFSET($G$130,MATCH(\"Silo Filling\",$G$131,0),2),0))),((IFERROR(OFFSET($G$145,MATCH(\"Silo Filling\",$G$146,0),2),0))),((IFERROR(OFFSET($G$160,MATCH(\"Silo Filling\",$G$161,0),2),0))))","v":0},null,null,null,"tons/yr"]
[null,"Hours of Operation Limit (hours/day):",null,null,"PM10",null,null,null,null,null,null,null,"Truck Loadout",{"$f":"MAX((IFERROR(OFFSET(G26,MATCH(\"Truck Loadout\",G27,0),1),0)),((IFERROR(OFFSET(G40,MATCH(\"Truck Loadout\",G41,0),1),0))),((IFERROR(OFFSET(G55,MATCH(\"Truck Loadout\",G56,0),1),0))),((IFERROR(OFFSET(G70,MATCH(\"Truck Loadout\",G71,0),1),0))),((IFERROR(OFFSET(G85,MATCH(\"Truck Loadout\",G86,0),1),0))),((IFERROR(OFFSET(G101,MATCH(\"Truck Loadout\",G102,0),1),0))),((IFERROR(OFFSET(G116,MATCH(\"Truck Loadout\",G117,0),1),0))),((IFERROR(OFFSET(G131,MATCH(\"Truck Loadout\",G132,0),1),0))),((IFERROR(OFFSET(G146,MATCH(\"Truck Loadout\",G147,0),1),0))),((IFERROR(OFFSET(G161,MATCH(\"Truck Loadout\",G162,0),1),0))))","v":0},"tons/hr",{"$f":"SUM((IFERROR(OFFSET(G26,MATCH(\"Truck Loadout\",G27,0),2),0)),((IFERROR(OFFSET(G40,MATCH(\"Truck Loadout\",G41,0),2),0))),((IFERROR(OFFSET(G55,MATCH(\"Truck Loadout\",G56,0),2),0))),((IFERROR(OFFSET(G70,MATCH(\"Truck Loadout\",G71,0),2),0))),((IFERROR(OFFSET(G85,MATCH(\"Truck Loadout\",G86,0),2),0))),((IFERROR(OFFSET(G101,MATCH(\"Truck Loadout\",G102,0),2),0))),((IFERROR(OFFSET(G116,MATCH(\"Truck Loadout\",G117,0),2),0))),((IFERROR(OFFSET(G131,MATCH(\"Truck Loadout\",G132,0),2),0))),((IFERROR(OFFSET(G146,MATCH(\"Truck Loadout\",G147,0),2),0))),((IFERROR(OFFSET(G161,MATCH(\"Truck Loadout\",G162,0),2),0))))","v":0},null,null,null,"tons/yr"]
["Fuel Oil","Note: if the plant has an hrs/day and a tons/hr permit limit, those values",null,null,"SO2",null,null,null,null,null,null,null,"Cold Aggregate Bins",{"$f":"MAX((IFERROR(OFFSET(G27,MATCH(\"Cold Aggregate Bins\",G28,0),1),0)),((IFERROR(OFFSET(G41,MATCH(\"Cold Aggregate Bins\",G42,0),1),0))),((IFERROR(OFFSET(G56,MATCH(\"Cold Aggregate Bins\",G57,0),1),0))),((IFERROR(OFFSET(G71,MATCH(\"Cold Aggregate Bins\",G72,0),1),0))),((IFERROR(OFFSET(G86,MATCH(\"Cold Aggregate Bins\",G87,0),1),0))),((IFERROR(OFFSET(G102,MATCH(\"Cold Aggregate Bins\",G103,0),1),0))),((IFERROR(OFFSET(G117,MATCH(\"Cold Aggregate Bins\",G118,0),1),0))),((IFERROR(OFFSET(G132,MATCH(\"Cold Aggregate Bins\",G133,0),1),0))),((IFERROR(OFFSET(G147,MATCH(\"Cold Aggregate Bins\",G148,0),1),0))),((IFERROR(OFFSET(G162,MATCH(\"Cold Aggregate Bins\",G163,0),1),0))))","v":0},"tons/hr",{"$f":"SUM((IFERROR(OFFSET(G27,MATCH(\"Cold Aggregate Bins\",G28,0),2),0)),((IFERROR(OFFSET(G41,MATCH(\"Cold Aggregate Bins\",G42,0),2),0))),((IFERROR(OFFSET(G56,MATCH(\"Cold Aggregate Bins\",G57,0),2),0))),((IFERROR(OFFSET(G71,MATCH(\"Cold Aggregate Bins\",G72,0),2),0))),((IFERROR(OFFSET(G86,MATCH(\"Cold Aggregate Bins\",G87,0),2),0))),((IFERROR(OFFSET(G102,MATCH(\"Cold Aggregate Bins\",G103,0),2),0))),((IFERROR(OFFSET(G117,MATCH(\"Cold Aggregate Bins\",G118,0),2),0))),((IFERROR(OFFSET(G132,MATCH(\"Cold Aggregate Bins\",G133,0),2),0))),((IFERROR(OFFSET(G147,MATCH(\"Cold Aggregate Bins\",G148,0),2),0))),((IFERROR(OFFSET(G162,MATCH(\"Cold Aggregate Bins\",G163,0),2),0))))","v":0},null,null,null,"tons/yr"]
["Natural Gas","should be multiplied together to calculate a tons/day limit and that value ",null,null,"NOx",null,null,null,null,null,null,null,null,"Maximum (acres)","Actual (acres-day/yr)"]
["Waste Oil","should be placed in cell C11.",null,null,"VOC",null,null,null,null,null,null,null,"Storage Pile",{"$f":"SUM(G32,G46,G61,G76,G91,G107,G122,G137,G152,G167,)","v":0},{"$f":"SUM(H32*I32,H46*I46,H61*I61,H76*I76,H91*I91,H107*I107,H122*I122,H137*I137,H152*I152,H167*I167)","v":0}]
[null,null,null,null,"CO"]
["Batch Mix Plant"]
["Drum Mix Plant",null,null,null,null,null,null,null,null,null,null,null,"Actual Emissions for the Listed Processes at this Plant"]
[null,"Asphalt Plant","Site 1",null,"Emission Point #","Emission     Unit #","Processes","Maximum Hourly     Design Rate",{"$f":"('Facility Information'!G5&\" Annual Throughput\")","v":" Annual Throughput"},null,null,null,"PM2.5","Maximum Design Rate (tons/hr)","Emission Factor","Units","Potential Uncontrolled Emissions (lb/hr)","Potential Controlled Emissions (lb/hr)","Potential Annual Emissions (tons/yr)","Actual Annual Emissions (tons/yr)"]
["YES",null,null,null,null,null,null,null,null,null,null,null,{"$f":"$C$5 & \" - Fuel Oil\"","v":" - Fuel Oil"},{"$f":"N5","v":0},{"$f":"IF(N20=0,0,IF(MAX((IFERROR(OFFSET($G$21,MATCH(M20,$G$22,0),3),0)),((IFERROR(OFFSET($G$35,MATCH(M20,$G$36,0),3),0))),((IFERROR(OFFSET($G$50,MATCH(M20,$G$51,0),3),0))),((IFERROR(OFFSET($G$65,MATCH(M20,$G$66,0),3),0))),((IFERROR(OFFSET($G$80,MATCH(M20,$G$81,0),3),0))),((IFERROR(OFFSET($G$96,MATCH(M20,$G$97,0),3),0))),((IFERROR(OFFSET($G$111,MATCH(M20,$G$112,0),3),0))),((IFERROR(OFFSET($G$126,MATCH(M20,$G$127,0),3),0))),((IFERROR(OFFSET($G$141,MATCH(M20,$G$142,0),3),0))),((IFERROR(OFFSET($G$156,MATCH(M20,$G$157,0),3),0))))=0,0,(MAX((IFERROR(OFFSET($G$21,MATCH(M20,$G$22,0),3),0)),((IFERROR(OFFSET($G$35,MATCH(M20,$G$36,0),3),0))),((IFERROR(OFFSET($G$50,MATCH(M20,$G$51,0),3),0))),((IFERROR(OFFSET($G$65,MATCH(M20,$G$66,0),3),0))),((IFERROR(OFFSET($G$80,MATCH(M20,$G$81,0),3),0))),((IFERROR(OFFSET($G$96,MATCH(M20,$G$97,0),3),0))),((IFERROR(OFFSET($G$111,MATCH(M20,$G$112,0),3),0))),((IFERROR(OFFSET($G$126,MATCH(M20,$G$127,0),3),0))),((IFERROR(OFFSET($G$141,MATCH(M20,$G$142,0),3),0))),((IFERROR(OFFSET($G$156,MATCH(M20,$G$157,0),3),0)))))))","v":0},{"$f":"IF(O20=\"\",\"\",\"lb/ton\")","v":"lb/ton"},{"$f":"IF(O20=0.27,N20*O20,IF(O20=1.54,N20*O20,\"\"))","v":""},{"$f":"IF(N20=0,\"\",IF(AND($F$11>0,$O$20>=$O$21,$O$20>=$O$22),$F$11,IF(O20=0.0083,N20*O20,IF(O20=0.007,N20*O20,\"\"))))","v":""},{"$f":"IF(N20=0,0,IF($G$11>0,$G$11,IF(AND(OR($C$10>0,$C$11>0,$C$12>0),$O$20>=$O$21,$O$20>=$O$22),(IF($C$10>0,$C$10*O20/2000,IF($C$11>0,$C$11*365*O20/2000,IF($C$12>0,$C$12*365*O20*N20/2000)))),IF(AND($F$11>0,$O$20>=$O$21,$O$20>=$O$22),$F$11*8760/2000,IF(AND(OR($C$10=\"\",$C$10=0),OR($C$11=\"\",$C$11=0),OR($C$12=\"\",$C$12=0),$F$11=\"\"),IF(R20=\"\",Q20*8760/2000,R20*8760/2000),\"\")))))","v":0},{"$f":"IF(N20=\"\",\"\",SUM((IFERROR(MATCH(M20,$G$22,0)*$I$22*$J$22/2000,0)),(IFERROR(MATCH(M20,$G$36,0)*$I$36*$J$36/2000,0)),(IFERROR(MATCH(M20,$G$51,0)*$I$51*$J$51/2000,0)),(IFERROR(MATCH(M20,$G$66,0)*$I$66*$J$66/2000,0)),(IFERROR(MATCH(M20,$G$81,0)*$I$81*$J$81/2000,0)),(IFERROR(MATCH(M20,$G$97,0)*$I$97*$J$97/2000,0)),(IFERROR(MATCH(M20,$G$112,0)*$I$112*$J$112/2000,0)),(IFERROR(MATCH(M20,$G$127,0)*$I$127*$J$127/2000,0)),(IFERROR(MATCH(M20,$G$142,0)*$I$142*$J$142/2000,0)),(IFERROR(MATCH(M20,$G$157,0)*$I$157*$J$157/2000,0))))","v":0}]
["NO","Site Name:",null,null,"Dryer, Hot Screens, Mixer",null,null,"(tons/hr)","(tons/yr)","PM2.5","PM10",null,{"$f":"$C$5 & \" - Waste Oil\"","v":" - Waste Oil"},{"$f":"N6","v":0},{"$f":"IF(N21=0,0,IF(MAX((IFERROR(OFFSET($G$21,MATCH(M21,$G$22,0),3),0)),((IFERROR(OFFSET($G$35,MATCH(M21,$G$36,0),3),0))),((IFERROR(OFFSET($G$50,MATCH(M21,$G$51,0),3),0))),((IFERROR(OFFSET($G$65,MATCH(M21,$G$66,0),3),0))),((IFERROR(OFFSET($G$80,MATCH(M21,$G$81,0),3),0))),((IFERROR(OFFSET($G$96,MATCH(M21,$G$97,0),3),0))),((IFERROR(OFFSET($G$111,MATCH(M21,$G$112,0),3),0))),((IFERROR(OFFSET($G$126,MATCH(M21,$G$127,0),3),0))),((IFERROR(OFFSET($G$141,MATCH(M21,$G$142,0),3),0))),((IFERROR(OFFSET($G$156,MATCH(M21,$G$157,0),3),0))))=0,0,(MAX((IFERROR(OFFSET($G$21,MATCH(M21,$G$22,0),3),0)),((IFERROR(OFFSET($G$35,MATCH(M21,$G$36,0),3),0))),((IFERROR(OFFSET($G$50,MATCH(M21,$G$51,0),3),0))),((IFERROR(OFFSET($G$65,MATCH(M21,$G$66,0),3),0))),((IFERROR(OFFSET($G$80,MATCH(M21,$G$81,0),3),0))),((IFERROR(OFFSET($G$96,MATCH(M21,$G$97,0),3),0))),((IFERROR(OFFSET($G$111,MATCH(M21,$G$112,0),3),0))),((IFERROR(OFFSET($G$126,MATCH(M21,$G$127,0),3),0))),((IFERROR(OFFSET($G$141,MATCH(M21,$G$142,0),3),0))),((IFERROR(OFFSET($G$156,MATCH(M21,$G$157,0),3),0)))))))","v":0},"lb/ton",{"$f":"IF(O21=0.27,N21*O21,IF(O21=1.54,N21*O21,\"\"))","v":""},{"$f":"IF(N21=0,\"\",IF(AND($F$11>0,$O$21>$O$20,$O$21>=$O$22),$F$11,IF(O21=0.0083,N21*O21,IF(O21=0.007,N21*O21,\"\"))))","v":""},{"$f":"IF(N21=0,0,IF($G$11>0,IF(S20=0,G11,\"\"),IF(AND(OR($C$10>0,$C$11>0,$C$12>0),$O$21>$O$20,$O$21>=$O$22),(IF($C$10>0,$C$10*O21/2000,IF($C$11>0,$C$11*365*O21/2000,IF($C$12>0,$C$12*365*O21*N21/2000)))),IF(AND($F$11>0,$O$21>$O$20,$O$21>=$O$22),$F$11*8760/2000,IF(AND(OR($C$10=\"\",$C$10=0),OR($C$11=\"\",$C$11=0),OR($C$12=\"\",$C$12=0),$F$11=\"\"),IF(R21=\"\",Q21*8760/2000,R21*8760/2000),\"\")))))","v":0},{"$f":"IF(N21=\"\",\"\",SUM((IFERROR(MATCH(M21,$G$22,0)*$I$22*$J$22/2000,0)),(IFERROR(MATCH(M21,$G$36,0)*$I$36*$J$36/2000,0)),(IFERROR(MATCH(M21,$G$51,0)*$I$51*$J$51/2000,0)),(IFERROR(MATCH(M21,$G$66,0)*$I$66*$J$66/2000,0)),(IFERROR(MATCH(M21,$G$81,0)*$I$81*$J$81/2000,0)),(IFERROR(MATCH(M21,$G$97,0)*$I$97*$J$97/2000,0)),(IFERROR(MATCH(M21,$G$112,0)*$I$112*$J$112/2000,0)),(IFERROR(MATCH(M21,$G$127,0)*$I$127*$J$127/2000,0)),(IFERROR(MATCH(M21,$G$142,0)*$I$142*$J$142/2000,0)),(IFERROR(MATCH(M21,$G$157,0)*$I$157*$J$157/2000,0))))","v":0}]
[null,"County:",null,null,{"$f":"IF($C$4>0,\"AP-5 EP-1\",\"\")","v":""},{"$f":"IF($C$4>0,\"AP-5 EU-1\",\"\")","v":""},{"$f":"IF(C24=\"\",\"\",C5 & \" - \"&C24)","v":""},null,null,{"$f":"IF(C25=\"\",\"\",IF(C25=\"yes\",LOOKUP(G22,'Emission Factors'!$A$12:$A$17,'Emission Factors'!$D$12:$D$17),LOOKUP(G22,'Emission Factors'!$A$5:$A$10,'Emission Factors'!$D$5:$D$10)))","v":""},{"$f":"IF(C25=\"\",\"\",IF(C25=\"yes\",LOOKUP(G22,'Emission Factors'!$A$12:$A$17,'Emission Factors'!$F$12:$F$17),LOOKUP(G22,'Emission Factors'!$A$5:$A$10,'Emission Factors'!$F$5:$F$10)))","v":""},null,{"$f":"$C$5 & \" - Natural Gas\"","v":" - Natural Gas"},{"$f":"N7","v":0},{"$f":"IF(N22=0,0,IF(MAX((IFERROR(OFFSET($G$21,MATCH(M22,$G$22,0),3),0)),((IFERROR(OFFSET($G$35,MATCH(M22,$G$36,0),3),0))),((IFERROR(OFFSET($G$50,MATCH(M22,$G$51,0),3),0))),((IFERROR(OFFSET($G$65,MATCH(M22,$G$66,0),3),0))),((IFERROR(OFFSET($G$80,MATCH(M22,$G$81,0),3),0))),((IFERROR(OFFSET($G$96,MATCH(M22,$G$97,0),3),0))),((IFERROR(OFFSET($G$111,MATCH(M22,$G$112,0),3),0))),((IFERROR(OFFSET($G$126,MATCH(M22,$G$127,0),3),0))),((IFERROR(OFFSET($G$141,MATCH(M22,$G$142,0),3),0))),((IFERROR(OFFSET($G$156,MATCH(M22,$G$157,0),3),0))))=0,0,(MAX((IFERROR(OFFSET($G$21,MATCH(M22,$G$22,0),3),0)),((IFERROR(OFFSET($G$35,MATCH(M22,$G$36,0),3),0))),((IFERROR(OFFSET($G$50,MATCH(M22,$G$51,0),3),0))),((IFERROR(OFFSET($G$65,MATCH(M22,$G$66,0),3),0))),((IFERROR(OFFSET($G$80,MATCH(M22,$G$81,0),3),0))),((IFERROR(OFFSET($G$96,MATCH(M22,$G$97,0),3),0))),((IFERROR(OFFSET($G$111,MATCH(M22,$G$112,0),3),0))),((IFERROR(OFFSET($G$126,MATCH(M22,$G$127,0),3),0))),((IFERROR(OFFSET($G$141,MATCH(M22,$G$142,0),3),0))),((IFERROR(OFFSET($G$156,MATCH(M22,$G$157,0),3),0)))))))","v":0},"lb/ton",{"$f":"IF(O22=0.27,N22*O22,IF(O22=1.54,N22*O22,\"\"))","v":""},{"$f":"IF(N22=0,\"\",IF(AND($F$11>0,$O$22>$O$20,$O$22>$O$20),$F$11,IF(O22=0.0083,N22*O22,IF(O22=0.007,N22*O22,\"\"))))","v":""},{"$f":"IF(N22=0,0,IF($G$11>0,IF(AND(S20=0,S21=0),\"\"),IF(AND(OR($C$10>0,$C$11>0,$C$12>0),$O$22>$O$20,$O$22>$O$20),(IF($C$10>0,$C$10*O22/2000,IF($C$11>0,$C$11*365*O22/2000,IF($C$12>0,$C$12*365*O22*N22/2000)))),IF(AND($F$11>0,$O$22>$O$20,$O$22>$O$20),$F$11*8760/2000,IF(AND(OR($C$10=\"\",$C$10=0),OR($C$11=\"\",$C$11=0),OR($C$12=\"\",$C$12=0),$F$11=\"\"),IF(R22=\"\",Q22*8760/2000,R22*8760/2000),\"\")))))","v":0},{"$f":"IF(N22=\"\",\"\",SUM((IFERROR(MATCH(M22,$G$22,0)*$I$22*$J$22/2000,0)),(IFERROR(MATCH(M22,$G$36,0)*$I$36*$J$36/2000,0)),(IFERROR(MATCH(M22,$G$51,0)*$I$51*$J$51/2000,0)),(IFERROR(MATCH(M22,$G$66,0)*$I$66*$J$66/2000,0)),(IFERROR(MATCH(M22,$G$81,0)*$I$81*$J$81/2000,0)),(IFERROR(MATCH(M22,$G$97,0)*$I$97*$J$97/2000,0)),(IFERROR(MATCH(M22,$G$112,0)*$I$112*$J$112/2000,0)),(IFERROR(MATCH(M22,$G$127,0)*$I$127*$J$127/2000,0)),(IFERROR(MATCH(M22,$G$142,0)*$I$142*$J$142/2000,0)),(IFERROR(MATCH(M22,$G$157,0)*$I$157*$J$157/2000,0))))","v":0}]
[null,"Production Period (Dates):",null,null,"Liquid Asphalt Heater",null,null,{"$f":"IF(C24=\"natural gas\", \"(MMCF/hr)\",\"(gallons/hr)\")","v":"(gallons/hr)"},{"$f":"IF(C24=\"natural gas\", \"(MMCF/yr)\",\"(gallons/yr)\")","v":"(gallons/yr)"},null,null,null,"Silo Filling",{"$f":"N11","v":0},{"$f":"IF(N23=0,0,IF(N23=0,0,LOOKUP(M23,'Emission Factors'!$A$23:$A$25,'Emission Factors'!$D$23:$D$25)))","v":0},"lb/ton",{"$f":"N23*O23","v":0},null,{"$f":"IF($G$11>0,\"\",IF($C$10>0,$C$10*O23/2000,IF($C$11>0,$C$11*365*O23/2000,IF($C$12>0,$C$12*365*O23*N23/2000,IF($F$11>0,\"\",IF(R23=\"\",Q23*8760/2000,R23*8760/2000))))))","v":0},{"$f":"(P11*O23/2000)","v":0}]
[null,"Type of Fuel Used:",null,null,{"$f":"IF($C$4>0,\"AP-5 EP-2\",\"\")","v":""},{"$f":"IF($C$4>0,\"AP-5 EU-2\",\"\")","v":""},{"$f":"IF(C24=\"\",\"\",C24& \" Fired Heater\")","v":""},null,null,null,null,null,"Truck Loadout",{"$f":"N12","v":0},{"$f":"IF(N24=0,0,IF(N24=0,0,LOOKUP(M24,'Emission Factors'!$A$23:$A$25,'Emission Factors'!$D$23:$D$25)))","v":0},"lb/ton",{"$f":"N24*O24","v":0},null,{"$f":"IF($G$11>0,\"\",IF($C$10>0,$C$10*O24/2000,IF($C$11>0,$C$11*365*O24/2000,IF($C$12>0,$C$12*365*O24*N24/2000,IF($F$11>0,\"\",IF(R24=\"\",Q24*8760/2000,R24*8760/2000))))))","v":0},{"$f":"(P12*O24/2000)","v":0}]
[null,"Is Your Operation Controlled?:",null,null,"Silo Filling, Truck Loadout, Aggregate Transfer",null,null,"(tons/hr)","(tons/yr)",null,null,null,"Cold Aggregate Bins",{"$f":"N13","v":0},{"$f":"IF(N25=0,0,IF(N25=0,0,LOOKUP(M25,'Emission Factors'!A23:A25,'Emission Factors'!D23:D25)))","v":0},"lb/ton",{"$f":"N25*O25","v":0},null,{"$f":"IF($G$11>0,\"\",IF($C$10>0,$C$10*O25/2000,IF($C$11>0,$C$11*365*O25/2000,IF($C$12>0,$C$12*365*O25*N25/2000,IF($F$11>0,\"\",IF(R25=\"\",Q25*8760/2000,R25*8760/2000))))))","v":0},{"$f":"(P13*O25/2000)","v":0}]
[null,null,null,null,{"$f":"IF($C$4>0,\"AP-5 EP-3\",\"\")","v":""},{"$f":"IF($C$4>0,\"AP-5 EU-3\",\"\")","v":""},{"$f":"IF(C5=\"\",\"\",\"Silo Filling\")","v":""},null,null,null,null,null,"PM10"]
[null,null,null,null,{"$f":"IF($C$4>0,\"AP-5 EP-3\",\"\")","v":""},{"$f":"IF($C$4>0,\"AP-5 EU-4\",\"\")","v":""},{"$f":"IF(C5=\"\",\"\",\"Truck Loadout\")","v":""},null,null,null,null,null,{"$f":"$C$5 & \" - Fuel Oil\"","v":" - Fuel Oil"},{"$f":"N5","v":0},{"$f":"IF(N27=0,0,IF(MAX((IFERROR(OFFSET($G$21,MATCH(M27,$G$22,0),4),0)),((IFERROR(OFFSET($G$35,MATCH(M27,$G$36,0),4),0))),((IFERROR(OFFSET($G$50,MATCH(M27,$G$51,0),4),0))),((IFERROR(OFFSET($G$65,MATCH(M27,$G$66,0),4),0))),((IFERROR(OFFSET($G$80,MATCH(M27,$G$81,0),3),0))),((IFERROR(OFFSET($G$96,MATCH(M27,$G$97,0),4),0))),((IFERROR(OFFSET($G$111,MATCH(M27,$G$112,0),4),0))),((IFERROR(OFFSET($G$126,MATCH(M27,$G$127,0),4),0))),((IFERROR(OFFSET($G$141,MATCH(M27,$G$142,0),4),0))),((IFERROR(OFFSET($G$156,MATCH(M27,$G$157,0),4),0))))=0,0,(MAX((IFERROR(OFFSET($G$21,MATCH(M27,$G$22,0),4),0)),((IFERROR(OFFSET($G$35,MATCH(M27,$G$36,0),4),0))),((IFERROR(OFFSET($G$50,MATCH(M27,$G$51,0),4),0))),((IFERROR(OFFSET($G$65,MATCH(M27,$G$66,0),4),0))),((IFERROR(OFFSET($G$80,MATCH(M27,$G$81,0),4),0))),((IFERROR(OFFSET($G$96,MATCH(M27,$G$97,0),4),0))),((IFERROR(OFFSET($G$111,MATCH(M27,$G$112,0),4),0))),((IFERROR(OFFSET($G$126,MATCH(M27,$G$127,0),4),0))),((IFERROR(OFFSET($G$141,MATCH(M27,$G$142,0),4),0))),((IFERROR(OFFSET($G$156,MATCH(M27,$G$157,0),4),0)))))))","v":0},{"$f":"IF(O27=\"\",\"\",\"lb/ton\")","v":"lb/ton"},{"$f":"IF(O27=4.5,N27*O27,IF(O27=6.5,N27*O27,\"\"))","v":""},{"$f":"IF(N27=0,\"\",IF(AND($F$12>0,$O$27>=$O$28,$O$27>=$O$29),$F$12,IF(O27=0.0098,N27*O27,IF(O27=0.023,N27*O27,\"\"))))","v":""},{"$f":"IF(N27=0,0,IF($G$12>0,$G$12,IF(AND(OR($C$10>0,$C$11>0,$C$12>0),$O$27>=$O$28,$O$27>=$O$29),(IF($C$10>0,$C$10*O27/2000,IF($C$11>0,$C$11*365*O27/2000,IF($C$12>0,$C$12*365*O27*N27/2000)))),IF(AND($F$12>0,$O$27>=$O$28,$O$27>=$O$29),$F$12*8760/2000,IF(AND(OR($C$10=\"\",$C$10=0),OR($C$11=\"\",$C$11=0),OR($C$12=\"\",$C$12=0),$F$12=\"\"),IF(R27=\"\",Q27*8760/2000,R27*8760/2000),\"\")))))","v":0},{"$f":"IF(N27=\"\",\"\",SUM((IFERROR(MATCH(M27,$G$22,0)*$I$22*$K$22/2000,0)),(IFERROR(MATCH(M27,$G$36,0)*$I$36*$K$36/2000,0)),(IFERROR(MATCH(M27,$G$51,0)*$I$51*$K$51/2000,0)),(IFERROR(MATCH(M27,$G$66,0)*$I$66*$K$66/2000,0)),(IFERROR(MATCH(M27,$G$81,0)*$I$81*$K$81/2000,0)),(IFERROR(MATCH(M27,$G$97,0)*$I$97*$K$97/2000,0)),(IFERROR(MATCH(M27,$G$112,0)*$I$112*$K$112/2000,0)),(IFERROR(MATCH(M27,$G$127,0)*$I$127*$K$127/2000,0)),(IFERROR(MATCH(M27,$G$142,0)*$I$142*$K$142/2000,0)),(IFERROR(MATCH(M27,$G$157,0)*$I$157*$K$157/2000,0))))","v":0}]
[null,null,null,null,{"$f":"IF($C$4>0,\"AP-5 EP-3\",\"\")","v":""},{"$f":"IF($C$4>0,\"AP-5 EU-5\",\"\")","v":""},{"$f":"IF(C5=\"\",\"\",\"Cold Aggregate Bins\")","v":""},null,null,null,null,null,{"$f":"$C$5 & \" - Waste Oil\"","v":" - Waste Oil"},{"$f":"N6","v":0},{"$f":"IF(N28=0,0,IF(MAX((IFERROR(OFFSET($G$21,MATCH(M28,$G$22,0),4),0)),((IFERROR(OFFSET($G$35,MATCH(M28,$G$36,0),4),0))),((IFERROR(OFFSET($G$50,MATCH(M28,$G$51,0),4),0))),((IFERROR(OFFSET($G$65,MATCH(M28,$G$66,0),4),0))),((IFERROR(OFFSET($G$80,MATCH(M28,$G$81,0),3),0))),((IFERROR(OFFSET($G$96,MATCH(M28,$G$97,0),4),0))),((IFERROR(OFFSET($G$111,MATCH(M28,$G$112,0),4),0))),((IFERROR(OFFSET($G$126,MATCH(M28,$G$127,0),4),0))),((IFERROR(OFFSET($G$141,MATCH(M28,$G$142,0),4),0))),((IFERROR(OFFSET($G$156,MATCH(M28,$G$157,0),4),0))))=0,0,(MAX((IFERROR(OFFSET($G$21,MATCH(M28,$G$22,0),4),0)),((IFERROR(OFFSET($G$35,MATCH(M28,$G$36,0),4),0))),((IFERROR(OFFSET($G$50,MATCH(M28,$G$51,0),4),0))),((IFERROR(OFFSET($G$65,MATCH(M28,$G$66,0),4),0))),((IFERROR(OFFSET($G$80,MATCH(M28,$G$81,0),4),0))),((IFERROR(OFFSET($G$96,MATCH(M28,$G$97,0),4),0))),((IFERROR(OFFSET($G$111,MATCH(M28,$G$112,0),4),0))),((IFERROR(OFFSET($G$126,MATCH(M28,$G$127,0),4),0))),((IFERROR(OFFSET($G$141,MATCH(M28,$G$142,0),4),0))),((IFERROR(OFFSET($G$156,MATCH(M28,$G$157,0),4),0)))))))","v":0},"lb/ton",{"$f":"IF(O28=4.5,N28*O28,IF(O28=6.5,N28*O28,\"\"))","v":""},{"$f":"IF(N28=0,\"\",IF(AND($F$12>0,$O$28>$O$27,$O$28>=$O$29),$F$12,IF(O28=0.0098,N28*O28,IF(O28=0.023,N28*O28,\"\"))))","v":""},{"$f":"IF(N28=0,0,IF($G$12>0,IF(S27=0,$G$12,\"\"),IF(AND(OR($C$10>0,$C$11>0,$C$12>0),$O$28>$O$27,$O$28>=$O$29),(IF($C$10>0,$C$10*O28/2000,IF($C$11>0,$C$11*365*O28/2000,IF($C$12>0,$C$12*365*O28*N28/2000)))),IF(AND($F$12>0,$O$28>$O$27,$O$28>=$O$29),$F$12*8760/2000,IF(AND(OR($C$10=\"\",$C$10=0),OR($C$11=\"\",$C$11=0),OR($C$12=\"\",$C$12=0),$F$12=\"\"),IF(R28=\"\",Q28*8760/2000,R28*8760/2000),\"\")))))","v":0},{"$f":"IF(N28=\"\",\"\",SUM((IFERROR(MATCH(M28,$G$22,0)*$I$22*$K$22/2000,0)),(IFERROR(MATCH(M28,$G$36,0)*$I$36*$K$36/2000,0)),(IFERROR(MATCH(M28,$G$51,0)*$I$51*$K$51/2000,0)),(IFERROR(MATCH(M28,$G$66,0)*$I$66*$K$66/2000,0)),(IFERROR(MATCH(M28,$G$81,0)*$I$81*$K$81/2000,0)),(IFERROR(MATCH(M28,$G$97,0)*$I$97*$K$97/2000,0)),(IFERROR(MATCH(M28,$G$112,0)*$I$112*$K$112/2000,0)),(IFERROR(MATCH(M28,$G$127,0)*$I$127*$K$127/2000,0)),(IFERROR(MATCH(M28,$G$142,0)*$I$142*$K$142/2000,0)),(IFERROR(MATCH(M28,$G$157,0)*$I$157*$K$157/2000,0))))","v":0}]
[null,null,null,null,null,null,null,null,null,null,null,null,{"$f":"$C$5 & \" - Natural Gas\"","v":" - Natural Gas"},{"$f":"N7","v":0},{"$f":"IF(N29=0,0,IF(MAX((IFERROR(OFFSET($G$21,MATCH(M29,$G$22,0),4),0)),((IFERROR(OFFSET($G$35,MATCH(M29,$G$36,0),4),0))),((IFERROR(OFFSET($G$50,MATCH(M29,$G$51,0),4),0))),((IFERROR(OFFSET($G$65,MATCH(M29,$G$66,0),4),0))),((IFERROR(OFFSET($G$80,MATCH(M29,$G$81,0),3),0))),((IFERROR(OFFSET($G$96,MATCH(M29,$G$97,0),4),0))),((IFERROR(OFFSET($G$111,MATCH(M29,$G$112,0),4),0))),((IFERROR(OFFSET($G$126,MATCH(M29,$G$127,0),4),0))),((IFERROR(OFFSET($G$141,MATCH(M29,$G$142,0),4),0))),((IFERROR(OFFSET($G$156,MATCH(M29,$G$157,0),4),0))))=0,0,(MAX((IFERROR(OFFSET($G$21,MATCH(M29,$G$22,0),4),0)),((IFERROR(OFFSET($G$35,MATCH(M29,$G$36,0),4),0))),((IFERROR(OFFSET($G$50,MATCH(M29,$G$51,0),4),0))),((IFERROR(OFFSET($G$65,MATCH(M29,$G$66,0),4),0))),((IFERROR(OFFSET($G$80,MATCH(M29,$G$81,0),4),0))),((IFERROR(OFFSET($G$96,MATCH(M29,$G$97,0),4),0))),((IFERROR(OFFSET($G$111,MATCH(M29,$G$112,0),4),0))),((IFERROR(OFFSET($G$126,MATCH(M29,$G$127,0),4),0))),((IFERROR(OFFSET($G$141,MATCH(M29,$G$142,0),4),0))),((IFERROR(OFFSET($G$156,MATCH(M29,$G$157,0),4),0)))))))","v":0},"lb/ton",{"$f":"IF(O29=4.5,N29*O29,IF(O29=6.5,N29*O29,\"\"))","v":""},{"$f":"IF(N29=0,\"\",IF(AND($F$12>0,$O$29>$O$27,$O$29>$O$28),$F$12,IF(O29=0.0098,N29*O29,IF(O29=0.023,N29*O29,\"\"))))","v":""},{"$f":"IF(N29=0,0,IF($G$12>0,IF(AND(S27=0,S28=0),$G$12,\"\"),IF(AND(OR($C$10>0,$C$11>0,$C$12>0),$O$29>$O$27,$O$29>$O$28),(IF($C$10>0,$C$10*O29/2000,IF($C$11>0,$C$11*365*O29/2000,IF($C$12>0,$C$12*365*O29*N29/2000)))),IF(AND($F$12>0,$O$29>$O$27,$O$29>$O$28),$F$12*8760/2000,IF(AND(OR($C$10=\"\",$C$10=0),OR($C$11=\"\",$C$11=0),OR($C$12=\"\",$C$12=0),$F$12=\"\"),IF(R29=\"\",Q29*8760/2000,R29*8760/2000),\"\")))))","v":0},{"$f":"IF(N29=\"\",\"\",SUM((IFERROR(MATCH(M29,$G$22,0)*$I$22*$K$22/2000,0)),(IFERROR(MATCH(M29,$G$36,0)*$I$36*$K$36/2000,0)),(IFERROR(MATCH(M29,$G$51,0)*$I$51*$K$51/2000,0)),(IFERROR(MATCH(M29,$G$66,0)*$I$66*$K$66/2000,0)),(IFERROR(MATCH(M29,$G$81,0)*$I$81*$K$81/2000,0)),(IFERROR(MATCH(M29,$G$97,0)*$I$97*$K$97/2000,0)),(IFERROR(MATCH(M29,$G$112,0)*$I$112*$K$112/2000,0)),(IFERROR(MATCH(M29,$G$127,0)*$I$127*$K$127/2000,0)),(IFERROR(MATCH(M29,$G$142,0)*$I$142*$K$142/2000,0)),(IFERROR(MATCH(M29,$G$157,0)*$I$157*$K$157/2000,0))))","v":0}]
[null,null,null,null,"Stock Pile Area",null,null,null,null,null,null,null,"Silo Filling",{"$f":"N11","v":0},{"$f":"IF(N30=0,0,IF(N30=0,0,LOOKUP(M30,'Emission Factors'!$A$23:$A$25,'Emission Factors'!$F$23:$F$25)))","v":0},"lb/ton",{"$f":"N30*O30","v":0},null,{"$f":"IF($G$12>0,\"\",IF($C$10>0,$C$10*O30/2000,IF($C$11>0,$C$11*365*O30/2000,IF($C$12>0,$C$12*365*O30*N30/2000,IF($F$11>0,\"\",IF(R30=\"\",Q30*8760/2000,R30*8760/2000))))))","v":0},{"$f":"(P11*O30/2000)","v":0}]
[null,null,null,null,null,"Emission Unit #","Maximum Storage Area (acres)","Actual Storage Area (acres)","Actual Days in Existence (days)",null,null,null,"Truck Loadout",{"$f":"N12","v":0},{"$f":"IF(N31=0,0,IF(N31=0,0,LOOKUP(M31,'Emission Factors'!$A$23:$A$25,'Emission Factors'!$F$23:$F$25)))","v":0},"lb/ton",{"$f":"N31*O31","v":0},null,{"$f":"IF($G$12>0,\"\",IF($C$10>0,$C$10*O31/2000,IF($C$11>0,$C$11*365*O31/2000,IF($C$12>0,$C$12*365*O31*N31/2000,IF($F$11>0,\"\",IF(R31=\"\",Q31*8760/2000,R31*8760/2000))))))","v":0},{"$f":"(P12*O31/2000)","v":0}]
[null,null,null,null,null,null,null,null,null,null,null,null,"Cold Aggregate Bins",{"$f":"N13","v":0},{"$f":"IF(N32=0,0,IF(N32=0,0,LOOKUP(M32,'Emission Factors'!$A$23:$A$25,'Emission Factors'!$F$23:$F$25)))","v":0},"lb/ton",{"$f":"N32*O32","v":0},null,{"$f":"IF($G$12>0,\"\",IF($C$10>0,$C$10*O32/2000,IF($C$11>0,$C$11*365*O32/2000,IF($C$12>0,$C$12*365*O32*N32/2000,IF($F$11>0,\"\",IF(R32=\"\",Q32*8760/2000,R32*8760/2000))))))","v":0},{"$f":"(P13*O32/2000)","v":0}]
[]
[null,{"$f":"IF($C$4>1,\"Asphalt Plant\",\"\")","v":""},{"$f":"IF($C$4>1,\"Site 2\",\"\")","v":""},null,{"$f":"IF($C$4>1,\"Emission Point #\",\"\")","v":""},{"$f":"IF($C$4>1,\"Emission    Unit #\",\"\")","v":""},{"$f":"IF($C$4>1,\"Process\",\"\")","v":""},{"$f":"IF($C$4>1,\"Maximum Hourly     Design Rate\",\"\")","v":""},{"$f":"IF($C$4>1,('Facility Information'!G20&\" Annual Throughput\"),\"\")","v":""},null,null,null,null,"Storage Pile","Max Design Rate (acres)","Emission Factor   (lb/acre-day)","Potential Uncontrolled Emissions (lb/hr)","Potential Controlled Emissions (lb/hr)","Potential Annual Emissions (tons/yr)","Actual Annual Emissions (tons/yr)"]
[null,{"$f":"IF($C$4>1,\"Site Name\",\"\")","v":""},null,null,{"$f":"IF($C$4>1,\"Dryers, Hot Screens, Mixer\",\"\")","v":""},null,null,{"$f":"IF($C$4>1,\"(tons/hr)\",\"\")","v":""},{"$f":"IF($C$4>1,\"(tons/yr)\",\"\")","v":""},"PM2.5","PM10",null,null,"PM2.5/PM10",{"$f":"N15","v":0},3.64,{"$f":"O35*P35*(1/24)","v":0},null,{"$f":"O35*P35*365/2000","v":0},{"$f":"O15*P35/2000","v":0}]
[null,{"$f":"IF($C$4>1,\"County:\",\"\")","v":""},null,null,{"$f":"IF(C38=\"\",\"\",\"AP-5 EP-1\")","v":""},{"$f":"IF(C38=\"\",\"\",\"AP-5 EU-1\")","v":""},{"$f":"IF(C38=\"\",\"\",C5 & \" - \"&C38)","v":""},null,null,{"$f":"IF(C39=\"\",\"\",IF(C39=\"yes\",LOOKUP(G36,'Emission Factors'!$A$12:$A$17,'Emission Factors'!$D$12:$D$17),LOOKUP(G36,'Emission Factors'!$A$5:$A$10,'Emission Factors'!$D$5:$D$10)))","v":""},{"$f":"IF(C39=\"\",\"\",IF(C39=\"yes\",LOOKUP(G36,'Emission Factors'!$A$12:$A$17,'Emission Factors'!$F$12:$F$17),LOOKUP(G36,'Emission Factors'!$A$5:$A$10,'Emission Factors'!$F$5:$F$10)))","v":""}]
[null,{"$f":"IF($C$4>1,\"Production Period (Dates):\",\"\")","v":""},null,null,{"$f":"IF($C$4>1,\"Liquid Asphalt Heater\",\"\")","v":""},null,null,{"$f":"IF($C$4>1,IF(C38=\"natural gas\",\"MMCF/hr\",\"(gallons/hr)\"),\"\")","v":""},{"$f":"IF($C$4>1,IF(C38=\"natural gas\",\"MMCF/yr\",\"(gallons/yr)\"),\"\")","v":""},null,null,null,"SO2"]
[null,{"$f":"IF($C$4>1,\"Type of Fuel Used:\",\"\")","v":""},null,null,{"$f":"IF(C38=\"\",\"\",\"AP-5 EP-2\")","v":""},{"$f":"IF(C38=\"\",\"\",\"AP-5 EU-2\")","v":""},{"$f":"IF(C38=\"\",\"\",C38& \" Fired Heater\")","v":""},null,null,null,null,null,{"$f":"$C$5 & \" - Fuel Oil\"","v":" - Fuel Oil"},{"$f":"$N$5","v":0},{"$f":"IF(N38=0,0,LOOKUP(M38,'Emission Factors'!$A$5:$A$10,'Emission Factors'!$H$5:$H$10))","v":0},{"$f":"IF(O38=\"\",\"\",\"lb/ton\")","v":"lb/ton"},{"$f":"N38*O38","v":0},{"$f":"IF(N38=0,\"\",IF(AND($F$13>0,N39=0),$F$13,\"\"))","v":""},{"$f":"IF(N38=0,0,IF($G$13>0,$G$13,IF(OR(AND($C$10>0,$N$39>0),AND($C$11>0,$N$39>0),AND($C$12>0,$N$39>0)),\"\",IF($C$10>0,$C$10*O38/2000,IF($C$11>0,$C$11*365*O38/2000,IF($C$12>0,$C$12*365*O38*N38/2000,IF(AND(N39>0,F13>0),\"\",IF(R38=\"\",Q38*8760/2000,R38*8760/2000))))))))","v":0},{"$f":"P5*O38/2000","v":0}]
[null,{"$f":"IF($C$4>1,\"Is Your Operation Controlled?:\",\"\")","v":""},null,null,{"$f":"IF($C$4>1,\"Silo Filling, Truck Loadout, Aggregate Transfer\",\"\")","v":""},null,null,{"$f":"IF($C$4>1,\"(tons/hr)\",\"\")","v":""},{"$f":"IF($C$4>1,\"(tons/yr)\",\"\")","v":""},null,null,null,{"$f":"$C$5 & \" - Waste Oil\"","v":" - Waste Oil"},{"$f":"$N$6","v":0},{"$f":"IF(N39=0,0,LOOKUP(M39,'Emission Factors'!$A$5:$A$10,'Emission Factors'!$H$5:$H$10))","v":0},{"$f":"IF(O39=\"\",\"\",\"lb/ton\")","v":"lb/ton"},{"$f":"N39*O39","v":0},{"$f":"IF(N39=0,\"\",IF($F$13>0,$F$13,\"\"))","v":""},{"$f":"IF(N39=0,0,IF($G$13>0,IF(S38=0,G13,\"\"),IF($C$10>0,$C$10*O39/2000,IF($C$11>0,$C$11*365*O39/2000,IF($C$12>0,$C$12*365*O39*N39/2000,IF(R39=\"\",Q39*8760/2000,R39*8760/2000))))))","v":0},{"$f":"P6*O39/2000","v":0}]
[null,null,null,null,{"$f":"IF($C$4>1,\"AP-5 EP-3\",\"\")","v":""},{"$f":"IF($C$4>1,\"AP-5 EU-3\",\"\")","v":""},{"$f":"IF($C$4>1,\"Silo Filling\",\"\")","v":""},null,null,null,null,null,{"$f":"$C$5 & \" - Natural Gas\"","v":" - Natural Gas"},{"$f":"$N$7","v":0},{"$f":"IF(N40=0,0,LOOKUP(M40,'Emission Factors'!$A$5:$A$10,'Emission Factors'!$H$5:$H$10))","v":0},{"$f":"IF(O40=\"\",\"\",\"lb/ton\")","v":"lb/ton"},{"$f":"N40*O40","v":0},{"$f":"IF(N40=0,\"\",IF(AND($F$13>0,N38=0,N39=0),$F$13,\"\"))","v":""},{"$f":"IF(N40=0,0,IF($G$13>0,IF(AND(S38=0,S39=0),G13,\"\"),IF(OR(AND($C$10>0,$N$39>0),AND($C$11>0,$N$39>0),AND($C$12>0,$N$39>0)),\"\",IF(OR(AND($C$10>0,$N$38>0),AND($C$11>0,$N$38>0),AND($C$12>0,$N$38>0)),\"\",IF($C$10>0,$C$10*O40/2000,IF($C$11>0,$C$11*365*O40/2000,IF($C$12>0,$C$12*365*O40*N40/2000,IF(AND(N39>0,N38>0,F13>0),\"\",IF(R40=\"\",Q40*8760/2000,R40*8760/2000)))))))))","v":0},{"$f":"P7*O40/2000","v":0}]
[null,null,null,null,{"$f":"IF($C$4>1,\"AP-5 EP-3\",\"\")","v":""},{"$f":"IF($C$4>1,\"AP-5 EU-4\",\"\")","v":""},{"$f":"IF($C$4>1,\"Truck Loadout\",\"\")","v":""},null,null,null,null,null,"NOx"]
[null,null,null,null,{"$f":"IF($C$4>1,\"AP-5 EP-3\",\"\")","v":""},{"$f":"IF($C$4>1,\"AP-5 EU-5\",\"\")","v":""},{"$f":"IF($C$4>1,\"Cold Aggregate Bins\",\"\")","v":""},null,null,null,null,null,{"$f":"$C$5 & \" - Fuel Oil\"","v":" - Fuel Oil"},{"$f":"$N$5","v":0},{"$f":"IF(N42=0,0,LOOKUP(M42,'Emission Factors'!$A$5:$A$10,'Emission Factors'!$J$5:$J$10))","v":0},{"$f":"IF(O42=\"\",\"\",\"lb/ton\")","v":"lb/ton"},{"$f":"N42*O42","v":0},{"$f":"IF(N42=0,\"\",IF(AND($F$14>0,N43=0),$F$14,\"\"))","v":""},{"$f":"IF(N42=0,0,IF($G$14>0,$G$14,IF(OR(AND($C$10>0,$N$43>0),AND($C$11>0,$N$43>0),AND($C$12>0,$N$43>0)),\"\",IF($C$10>0,$C$10*O42/2000,IF($C$11>0,$C$11*365*O42/2000,IF($C$12>0,$C$12*365*O42*N42/2000,IF(AND(N43>0,F14>0),\"\",IF(R42=\"\",Q42*8760/2000,R42*8760/2000))))))))","v":0},{"$f":"P5*O42/2000","v":0}]
[null,null,null,null,null,null,null,null,null,null,null,null,{"$f":"$C$5 & \" - Waste Oil\"","v":" - Waste Oil"},{"$f":"$N$6","v":0},{"$f":"IF(N43=0,0,LOOKUP(M43,'Emission Factors'!$A$5:$A$10,'Emission Factors'!$J$5:$J$10))","v":0},{"$f":"IF(O43=\"\",\"\",\"lb/ton\")","v":"lb/ton"},{"$f":"N43*O43","v":0},{"$f":"IF(N43=0,\"\",IF($F$14>0,$F$14,\"\"))","v":""},{"$f":"IF(N43=0,0,IF($G$14>0,IF(S42=0,G14,\"\"),IF($C$10>0,$C$10*O43/2000,IF($C$11>0,$C$11*365*O43/2000,IF($C$12>0,$C$12*365*O43*N43/2000,IF(R43=\"\",Q43*8760/2000,R43*8760/2000))))))","v":0},{"$f":"P6*O43/2000","v":0}]
[null,null,null,null,{"$f":"IF($C$4>1,\"Stock Pile Area\",\"\")","v":""},null,null,null,null,null,null,null,{"$f":"$C$5 & \" - Natural Gas\"","v":" - Natural Gas"},{"$f":"$N$7","v":0},{"$f":"IF(N44=0,0,LOOKUP(M44,'Emission Factors'!$A$5:$A$10,'Emission Factors'!$J$5:$J$10))","v":0},{"$f":"IF(O44=\"\",\"\",\"lb/ton\")","v":"lb/ton"},{"$f":"N44*O44","v":0},{"$f":"IF(N44=0,\"\",IF(AND($F$14>0,N42=0,N43=0),$F$14,\"\"))","v":""},{"$f":"IF(N44=0,0,IF($G$14>0,IF(AND(S42=0,S43=0),G14,\"\"),IF(OR(AND($C$10>0,$N$43>0),AND($C$11>0,$N$43>0),AND($C$12>0,$N$43>0)),\"\",IF(OR(AND($C$10>0,$N$42>0),AND($C$11>0,$N$42>0),AND($C$12>0,$N$42>0)),\"\",IF($C$10>0,$C$10*O44/2000,IF($C$11>0,$C$11*365*O44/2000,IF($C$12>0,$C$12*365*O44*N44/2000,IF(AND(N42>0,N43>0,F14>0),\"\",IF(R44=\"\",Q44*8760/2000,R44*8760/2000)))))))))","v":0},{"$f":"P7*O44/2000","v":0}]
[null,null,null,null,null,{"$f":"IF($C$4>1,\"Emission Unit #\",\"\")","v":""},{"$f":"IF($C$4>1,\"Maximum Storage Area (acres)\",\"\")","v":""},{"$f":"IF($C$4>1,\"Actual Storage Area (acres)\",\"\")","v":""},{"$f":"IF($C$4>1,\"Actual Days in Existence (days)\",\"\")","v":""},null,null,null,"VOC"]
[null,null,null,null,null,null,null,null,null,null,null,null,{"$f":"$C$5 & \" - Fuel Oil\"","v":" - Fuel Oil"},{"$f":"$N$5","v":0},{"$f":"IF(N46=0,0,LOOKUP(M46,'Emission Factors'!$A$5:$A$10,'Emission Factors'!$L$5:$L$10))","v":0},{"$f":"IF(O46=\"\",\"\",\"lb/ton\")","v":"lb/ton"},{"$f":"N46*O46","v":0},{"$f":"IF(N46=0,\"\",IF(AND($F$15>0,N47=0),$F$15,\"\"))","v":""},{"$f":"IF(N46=0,0,IF($G$15>0,$G$15,IF(OR(AND($C$10>0,$N$47>0),AND($C$11>0,$N$47>0),AND($C$12>0,$N$47>0)),\"\",IF($C$10>0,$C$10*O46/2000,IF($C$11>0,$C$11*365*O46/2000,IF($C$12>0,$C$12*365*O46*N46/2000,IF(AND(N47>0,F15>0),\"\",IF(R46=\"\",Q46*8760/2000,R46*8760/2000))))))))","v":0},{"$f":"P5*O46/2000","v":0}]
[null,null,null,null,null,null,null,null,null,null,null,null,{"$f":"$C$5 & \" - Waste Oil\"","v":" - Waste Oil"},{"$f":"$N$6","v":0},{"$f":"IF(N47=0,0,LOOKUP(M47,'Emission Factors'!$A$5:$A$10,'Emission Factors'!$L$5:$L$10))","v":0},{"$f":"IF(O47=\"\",\"\",\"lb/ton\")","v":"lb/ton"},{"$f":"N47*O47","v":0},{"$f":"IF(N47=0,\"\",IF($F$15>0,$F$15,\"\"))","v":""},{"$f":"IF(N47=0,0,IF($G$15>0,IF(S46=0,G15,\"\"),IF($C$10>0,$C$10*O47/2000,IF($C$11>0,$C$11*365*O47/2000,IF($C$12>0,$C$12*365*O47*N47/2000,IF(R47=\"\",Q47*8760/2000,R47*8760/2000))))))","v":0},{"$f":"P6*O47/2000","v":0}]
[null,{"$f":"IF($C$4>2,\"Asphalt Plant\",\"\")","v":""},{"$f":"IF($C$4>2,\"Site 3\",\"\")","v":""},null,{"$f":"IF($C$4>2,\"Emission Point #\",\"\")","v":""},{"$f":"IF($C$4>2,\"Emission    Unit #\",\"\")","v":""},{"$f":"IF($C$4>2,\"Process\",\"\")","v":""},{"$f":"IF($C$4>2,\"Maximum Hourly     Design Rate\",\"\")","v":""},{"$f":"IF($C$4>2,('Facility Information'!G35&\" Annual Throughput\"),\"\")","v":""},null,null,null,{"$f":"$C$5 & \" - Natural Gas\"","v":" - Natural Gas"},{"$f":"$N$7","v":0},{"$f":"IF(N48=0,0,LOOKUP(M48,'Emission Factors'!$A$5:$A$10,'Emission Factors'!$L$5:$L$10))","v":0},{"$f":"IF(O48=\"\",\"\",\"lb/ton\")","v":"lb/ton"},{"$f":"N48*O48","v":0},{"$f":"IF(N48=0,\"\",IF(AND($F$15>0,N46=0,N47=0),$F$15,\"\"))","v":""},{"$f":"IF(N48=0,0,IF($G$15>0,IF(AND(S46=0,S47=0),G15,\"\"),IF(OR(AND($C$10>0,$N$47>0),AND($C$11>0,$N$47>0),AND($C$12>0,$N$47>0)),\"\",IF(OR(AND($C$10>0,$N$46>0),AND($C$11>0,$N$46>0),AND($C$12>0,$N$46>0)),\"\",IF($C$10>0,$C$10*O48/2000,IF($C$11>0,$C$11*365*O48/2000,IF($C$12>0,$C$12*365*O48*N48/2000,IF(AND(N46>0,N47>0,F15>0),\"\",IF(R48=\"\",Q48*8760/2000,R48*8760/2000)))))))))","v":0},{"$f":"P7*O48/2000","v":0}]
[null,null,null,null,null,null,null,null,null,null,null,null,{"$f":"\"Natural Gas Fired Heater\"","v":"Natural Gas Fired Heater"},{"$f":"N10","v":0},{"$f":"IF(N49=0,0,0.026)","v":0},{"$f":"IF(O49=\"\",\"\",\"lb/MMCF\")","v":"lb/MMCF"},{"$f":"N49*O49","v":0},null,{"$f":"IF(N49=0,0,IF(R49=\"\",Q49*8760/2000,R49*8760/2000))","v":0},{"$f":"($P$10*O49/2000)","v":0}]
[null,{"$f":"IF($C$4>2,\"Site Name\",\"\")","v":""},null,null,{"$f":"IF($C$4>2,\"Dryers, Hot Screens, Mixer\",\"\")","v":""},null,null,{"$f":"IF($C$4>2,\"(tons/hr)\",\"\")","v":""},{"$f":"IF($C$4>2,\"(tons/yr)\",\"\")","v":""},"PM2.5","PM10",null,"Silo Filling",{"$f":"N11","v":0},{"$f":"IF(N50=0,0,IF(N50=0,0,LOOKUP(M50,'Emission Factors'!$A$23:$A$25,'Emission Factors'!$L$23:$L$25)))","v":0},{"$f":"IF(O50=\"\",\"\",\"lb/ton\")","v":"lb/ton"},null,null,null,{"$f":"P11*O50/2000","v":0}]
[null,{"$f":"IF($C$4>2,\"County:\",\"\")","v":""},null,null,{"$f":"IF(C53=\"\",\"\",\"AP-5 EP-1\")","v":""},{"$f":"IF(C53=\"\",\"\",\"AP-5 EU-1\")","v":""},{"$f":"IF(C53=\"\",\"\",C5 & \" - \"&C53)","v":""},null,null,{"$f":"IF(C54=\"\",\"\",IF(C54=\"yes\",LOOKUP(G51,'Emission Factors'!$A$12:$A$17,'Emission Factors'!$D$12:$D$17),LOOKUP(G51,'Emission Factors'!$A$5:$A$10,'Emission Factors'!$D$5:$D$10)))","v":""},{"$f":"IF(C54=\"\",\"\",IF(C54=\"yes\",LOOKUP(G51,'Emission Factors'!$A$12:$A$17,'Emission Factors'!$F$12:$F$17),LOOKUP(G51,'Emission Factors'!$A$5:$A$10,'Emission Factors'!$F$5:$F$10)))","v":""},null,"Truck Loadout",{"$f":"N12","v":0},{"$f":"IF(N51=0,0,IF(N51=0,0,LOOKUP(M51,'Emission Factors'!$A$23:$A$25,'Emission Factors'!$L$23:$L$25)))","v":0},{"$f":"IF(O51=\"\",\"\",\"lb/ton\")","v":"lb/ton"},null,null,null,{"$f":"P12*O51/2000","v":0}]
[null,{"$f":"IF($C$4>2,\"Production Period (Dates):\",\"\")","v":""},null,null,{"$f":"IF($C$4>2,\"Liquid Asphalt Heater\",\"\")","v":""},null,null,{"$f":"IF($C$4>2,IF(C53=\"natural gas\",\"(MMCF/hr)\",\"(gallons/hr)\"),\"\")","v":""},{"$f":"IF($C$4>2,IF(C53=\"natural gas\",\"(MMCF/yr)\",\"(gallons/yr)\"),\"\")","v":""},null,null,null,"CO"]
[null,{"$f":"IF($C$4>2,\"Type of Fuel Used:\",\"\")","v":""},null,null,{"$f":"IF(C53=\"\",\"\",\"AP-5 EP-2\")","v":""},{"$f":"IF(C53=\"\",\"\",\"AP-5 EU-2\")","v":""},{"$f":"IF(C53=\"\",\"\",C53& \" Fired Heater\")","v":""},null,null,null,null,null,{"$f":"IF($C$5=\"\",\"\",$C$5)","v":""},{"$f":"SUM($N$5:$N$7)","v":0},{"$f":"IF(N53=0,0,IF(M53=\"Batch Mix Plant\",0.4,IF(M53=\"Drum Mix Plant\",0.13)))","v":0},{"$f":"IF(O53=\"\",\"\",\"lb/ton\")","v":"lb/ton"},{"$f":"N53*O53","v":0},{"$f":"IF(N53=0,\"\",IF($F$16>0,$F$16,\"\"))","v":""},{"$f":"IF($G$16>0,$G$16,IF(N53=0,0,IF($C$10>0,$C$10*O53/2000,IF($C$11>0,$C$11*365*O53/2000,IF($C$12>0,$C$12*365*O53*N53/2000,IF(R53=\"\",Q53*8760/2000,R53*8760/2000))))))","v":0},{"$f":"SUM($P$5:$P$7)*O53/2000","v":0}]
[null,{"$f":"IF($C$4>2,\"Is Your Operation Controlled?:\",\"\")","v":""},null,null,{"$f":"IF($C$4>2,\"Silo Filling, Truck Loadout, Aggregate Transfer\",\"\")","v":""},null,null,{"$f":"IF($C$4>2,\"(tons/hr)\",\"\")","v":""},{"$f":"IF($C$4>2,\"(tons/yr)\",\"\")","v":""},null,null,null,"Fuel Oil Fired Heater",{"$f":"N8","v":0},{"$f":"IF(N54=0,0,LOOKUP(M54,'Emission Factors'!$A$19:$A$21,'Emission Factors'!$N$19:$N$21))","v":0},{"$f":"IF(O54=\"\",\"\",\"lb/gallon\")","v":"lb/gallon"},{"$f":"N54*O54","v":0},null,{"$f":"IF(N54=0,0,IF($G$16>0,\"\",IF($F$16>0,\"\",IF(R54=\"\",Q54*8760/2000,R54*8760/2000))))","v":0},{"$f":"(P8*O54/2000)","v":0}]
[null,null,null,null,{"$f":"IF($C$4>2,\"AP-5 EP-3\",\"\")","v":""},{"$f":"IF($C$4>2,\"AP-5 EU-3\",\"\")","v":""},{"$f":"IF($C$4>2,\"Silo Filling\",\"\")","v":""},null,null,null,null,null,"Waste Oil Fired Heater",{"$f":"N9","v":0},{"$f":"IF(N55=0,0,LOOKUP(M55,'Emission Factors'!$A$19:$A$21,'Emission Factors'!$N$19:$N$21))","v":0},{"$f":"IF(O55=\"\",\"\",\"lb/gallon\")","v":"lb/gallon"},{"$f":"N55*O55","v":0},null,{"$f":"IF(N55=0,0,IF($G$16>0,\"\",IF($F$16>0,\"\",IF(R55=\"\",Q55*8760/2000,R55*8760/2000))))","v":0},{"$f":"(P9*O55/2000)","v":0}]
[null,null,null,null,{"$f":"IF($C$4>2,\"AP-5 EP-3\",\"\")","v":""},{"$f":"IF($C$4>2,\"AP-5 EU-4\",\"\")","v":""},{"$f":"IF($C$4>2,\"Truck Loadout\",\"\")","v":""},null,null,null,null,null,"Natural Gas Fired Heater",{"$f":"N10","v":0},{"$f":"IF(N56=0,0,LOOKUP(M56,'Emission Factors'!$A$19:$A$21,'Emission Factors'!$N$19:$N$21))","v":0},{"$f":"IF(O56=\"\",\"\",\"lb/MMCF\")","v":"lb/MMCF"},{"$f":"N56*O56","v":0},null,{"$f":"IF(N56=0,0,IF($G$16>0,\"\",IF($F$16>0,\"\",IF(R56=\"\",Q56*8760/2000,R56*8760/2000))))","v":0},{"$f":"($P$10*O56/2000)","v":0}]
[null,null,null,null,{"$f":"IF($C$4>2,\"AP-5 EP-3\",\"\")","v":""},{"$f":"IF($C$4>2,\"AP-5 EU-5\",\"\")","v":""},{"$f":"IF($C$4>2,\"Cold Aggregate Bins\",\"\")","v":""},null,null,null,null,null,"Silo Filling",{"$f":"N11","v":0},{"$f":"IF(N57=0,0,IF(N57=0,0,LOOKUP(M57,'Emission Factors'!$A$23:$A$25,'Emission Factors'!$N$23:$N$25)))","v":0},{"$f":"IF(O57=\"\",\"\",\"lb/ton\")","v":"lb/ton"},null,null,null,{"$f":"P11*O57/2000","v":0}]
[null,null,null,null,null,null,null,null,null,null,null,null,"Truck Loadout",{"$f":"N12","v":0},{"$f":"IF(N58=0,0,IF(N58=0,0,LOOKUP(M58,'Emission Factors'!$A$23:$A$25,'Emission Factors'!$N$23:$N$25)))","v":0},{"$f":"IF(O58=\"\",\"\",\"lb/ton\")","v":"lb/ton"},null,null,null,{"$f":"P12*O58/2000","v":0}]
[null,null,null,null,{"$f":"IF($C$4>2,\"Stock Pile Area\",\"\")","v":""},null,null,null,null,null,null,null,"Acetaldehyde"]
[null,null,null,null,null,{"$f":"IF($C$4>2,\"Emission Unit #\",\"\")","v":""},{"$f":"IF($C$4>2,\"Maximum Storage Area (acres)\",\"\")","v":""},{"$f":"IF($C$4>2,\"Actual Storage Area (acres)\",\"\")","v":""},{"$f":"IF($C$4>2,\"Actual Days in Existence (days)\",\"\")","v":""},null,null,null,{"$f":"IF($C$5=\"\",\"\",$C$5)","v":""},{"$f":"IF(C5=\"drum mix plant\",SUM(N5:$N$6),SUM($N$5:$N$7))","v":0},{"$f":"IF(N60=0,0,IF(M60=\"Batch Mix Plant\",0.00032,IF(M60=\"Drum Mix Plant\",0.0013)))","v":0},{"$f":"IF(O60=\"\",\"\",\"lb/ton\")","v":"lb/ton"},{"$f":"N60*O60","v":0},null,{"$f":"IF(N60=0,0,IF($C$10>0,$C$10*O60/2000,IF($C$11>0,$C$11*365*O60/2000,IF($C$12>0,$C$12*365*O60*N60/2000,IF(R60=\"\",Q60*8760/2000,R60*8760/2000)))))","v":0},{"$f":"IF(C5=\"drum mix plant\",$P$6*O60/2000,SUM($P$5:$P$7)*O60/2000)","v":0}]
[null,null,null,null,null,null,null,null,null,null,null,null,"Acrolein"]
[null,null,null,null,null,null,null,null,null,null,null,null,{"$f":"IF($C$5=\"\",\"\",$C$5)","v":""},{"$f":"IF(C5=\"drum mix plant\",SUM(N5:$N$6),0)","v":0},{"$f":"IF(N62=0,0,0.000026)","v":0},{"$f":"IF(O62=\"\",\"\",\"lb/ton\")","v":"lb/ton"},{"$f":"N62*O62","v":0},null,{"$f":"IF(N62=0,0,IF($C$10>0,$C$10*O62/2000,IF($C$11>0,$C$11*365*O62/2000,IF($C$12>0,$C$12*365*O62*N62/2000,IF(R62=\"\",Q62*8760/2000,R62*8760/2000)))))","v":0},{"$f":"IF(C7=\"drum mix plant\",$P$6*O62/2000,SUM($P$5:$P$7)*O62/2000)","v":0}]
[null,{"$f":"IF($C$4>3,\"Asphalt Plant\",\"\")","v":""},{"$f":"IF($C$4>3,\"Site 4\",\"\")","v":""},null,{"$f":"IF($C$4>3,\"Emission Point #\",\"\")","v":""},{"$f":"IF($C$4>3,\"Emission    Unit #\",\"\")","v":""},{"$f":"IF($C$4>3,\"Process\",\"\")","v":""},{"$f":"IF($C$4>3,\"Maximum Hourly     Design Rate\",\"\")","v":""},{"$f":"IF($C$4>3,('Facility Information'!G50&\" Annual Throughput\"),\"\")","v":""},null,null,null,"Benzene"]
[null,null,null,null,null,null,null,null,null,null,null,null,{"$f":"IF($C$5=\"\",\"\",$C$5)","v":""},{"$f":"SUM($N$5:$N$7)","v":0},{"$f":"IF(N64=0,0,IF(M64=\"Batch Mix Plant\",0.00028,IF(M64=\"Drum Mix Plant\",0.00039)))","v":0},{"$f":"IF(O64=\"\",\"\",\"lb/ton\")","v":"lb/ton"},{"$f":"N64*O64","v":0},null,{"$f":"IF(N64=0,0,IF($C$10>0,$C$10*O64/2000,IF($C$11>0,$C$11*365*O64/2000,IF($C$12>0,$C$12*365*O64*N64/2000,IF(R64=\"\",Q64*8760/2000,R64*8760/2000)))))","v":0},{"$f":"SUM($P$5:$P$7)*O64/2000","v":0}]
[null,{"$f":"IF($C$4>3,\"Site Name\",\"\")","v":""},null," ",{"$f":"IF($C$4>3,\"Dryers, Hot Screens, Mixer\",\"\")","v":""},null,null,{"$f":"IF($C$4>3,\"(tons/hr)\",\"\")","v":""},{"$f":"IF($C$4>3,\"(tons/yr)\",\"\")","v":""},"PM2.5","PM10",null,"Ethylbenzene"]
[null,{"$f":"IF($C$4>3,\"County:\",\"\")","v":""},null,null,{"$f":"IF(C68=\"\",\"\",\"AP-5 EP-1\")","v":""},{"$f":"IF(C68=\"\",\"\",\"AP-5 EU-1\")","v":""},{"$f":"IF(C68=\"\",\"\",C5 & \" - \"&C68)","v":""},null,null,{"$f":"IF(C69=\"\",\"\",IF(C69=\"yes\",LOOKUP(G66,'Emission Factors'!$A$12:$A$17,'Emission Factors'!$D$12:$D$17),LOOKUP(G66,'Emission Factors'!$A$5:$A$10,'Emission Factors'!$D$5:$D$10)))","v":""},{"$f":"IF(C69=\"\",\"\",IF(C69=\"yes\",LOOKUP(G66,'Emission Factors'!$A$12:$A$17,'Emission Factors'!$F$12:$F$17),LOOKUP(G66,'Emission Factors'!$A$5:$A$10,'Emission Factors'!$F$5:$F$10)))","v":""},null,{"$f":"IF($C$5=\"\",\"\",$C$5)","v":""},{"$f":"SUM($N$5:$N$7)","v":0},{"$f":"IF(N66=0,0,IF(M66=\"Batch Mix Plant\",0.0022,IF(M66=\"Drum Mix Plant\",0.00024)))","v":0},{"$f":"IF(O66=\"\",\"\",\"lb/ton\")","v":"lb/ton"},{"$f":"N66*O66","v":0},null,{"$f":"IF(N66=0,0,IF($C$10>0,$C$10*O66/2000,IF($C$11>0,$C$11*365*O66/2000,IF($C$12>0,$C$12*365*O66*N66/2000,IF(R66=\"\",Q66*8760/2000,R66*8760/2000)))))","v":0},{"$f":"SUM($P$5:$P$7)*O66/2000","v":0}]
[null,{"$f":"IF($C$4>3,\"Production Period (Dates):\",\"\")","v":""},null,null,{"$f":"IF($C$4>3,\"Liquid Asphalt Heater\",\"\")","v":""},null,null,{"$f":"IF($C$4>3,IF(C68=\"natural gas\",\"(MMCF/hr)\",\"(gallons/hr)\"),\"\")","v":""},{"$f":"IF($C$4>3,IF(C68=\"natural gas\",\"(MMCF/yr)\",\"(gallons/yr)\"),\"\")","v":""},null,null,null,"Formaldehyde"]
[null,{"$f":"IF($C$4>3,\"Type of Fuel Used:\",\"\")","v":""},null,null,{"$f":"IF(C68=\"\",\"\",\"AP-5 EP-2\")","v":""},{"$f":"IF(C68=\"\",\"\",\"AP-5 EU-2\")","v":""},{"$f":"IF(C68=\"\",\"\",C68& \" Fired Heater\")","v":""},null,null,null,null,null,{"$f":"IF($C$5=\"\",\"\",$C$5)","v":""},{"$f":"SUM($N$5:$N$7)","v":0},{"$f":"IF(N68=0,0,IF(M68=\"Batch Mix Plant\",0.00074,IF(M68=\"Drum Mix Plant\",0.0031)))","v":0},{"$f":"IF(O68=\"\",\"\",\"lb/ton\")","v":"lb/ton"},{"$f":"N68*O68","v":0},null,{"$f":"IF(N68=0,0,IF($C$10>0,$C$10*O68/2000,IF($C$11>0,$C$11*365*O68/2000,IF($C$12>0,$C$12*365*O68*N68/2000,IF(R68=\"\",Q68*8760/2000,R68*8760/2000)))))","v":0},{"$f":"SUM($P$5:$P$7)*O68/2000","v":0}]
[null,{"$f":"IF($C$4>3,\"Is Your Operation Controlled?:\",\"\")","v":""},null,null,{"$f":"IF($C$4>3,\"Silo Filling, Truck Loadout, Aggregate Transfer\",\"\")","v":""},null,null,{"$f":"IF($C$4>3,\"(tons/hr)\",\"\")","v":""},{"$f":"IF($C$4>3,\"(tons/yr)\",\"\")","v":""},null,null,null,{"$f":"\"Natural Gas Fired Heater\"","v":"Natural Gas Fired Heater"},{"$f":"N10","v":0},{"$f":"IF(N69=0,0,0.026)","v":0},{"$f":"IF(O69=\"\",\"\",\"lb/MMCF\")","v":"lb/MMCF"},{"$f":"N69*O69","v":0},null,{"$f":"IF(N69=0,0,IF(R69=\"\",Q69*8760/2000,R69*8760/2000))","v":0},{"$f":"($P$10*O69/2000)","v":0}]
[null,null,null,null,{"$f":"IF($C$4>3,\"AP-5 EP-3\",\"\")","v":""},{"$f":"IF($C$4>3,\"AP-5 EU-3\",\"\")","v":""},{"$f":"IF($C$4>3,\"Silo Filling\",\"\")","v":""},null,null,null,null,null,"Hexane"]
[null,null,null,null,{"$f":"IF($C$4>3,\"AP-5 EP-3\",\"\")","v":""},{"$f":"IF($C$4>3,\"AP-5 EU-4\",\"\")","v":""},{"$f":"IF($C$4>3,\"Truck Loadout\",\"\")","v":""},null,null,null,null,null,{"$f":"IF($C$5=\"\",\"\",$C$5)","v":""},{"$f":"IF(C5=\"drum mix plant\",SUM(N5:N7),0)","v":0},{"$f":"IF(N71=0,0,0.00092)","v":0},{"$f":"IF(O71=\"\",\"\",\"lb/ton\")","v":"lb/ton"},{"$f":"N71*O71","v":0},null,{"$f":"IF(N71=0,0,IF($C$10>0,$C$10*O71/2000,IF($C$11>0,$C$11*365*O71/2000,IF($C$12>0,$C$12*365*O71*N71/2000,IF(R71=\"\",Q71*8760/2000,R71*8760/2000)))))","v":0},{"$f":"IF(N71>0,SUM($P$5:$P$7)*O71/2000,0)","v":0}]
[null,null,null,null,{"$f":"IF($C$4>3,\"AP-5 EP-3\",\"\")","v":""},{"$f":"IF($C$4>3,\"AP-5 EU-5\",\"\")","v":""},{"$f":"IF($C$4>3,\"Cold Aggregate Bins\",\"\")","v":""},null,null,null,null,null,"Hydrochloric Acid"]
[null,null,null,null,null,null,null,null,null,null,null,null,{"$f":"IF($C$5=\"\",\"\",$C$5)","v":""},{"$f":"IF(C5=\"drum mix plant\",SUM(N5:$N$6),0)","v":0},{"$f":"IF(N73=0,0,0.00021)","v":0},{"$f":"IF(O73=\"\",\"\",\"lb/ton\")","v":"lb/ton"},{"$f":"N73*O73","v":0},null,{"$f":"IF(N73=0,0,IF($C$10>0,$C$10*O73/2000,IF($C$11>0,$C$11*365*O73/2000,IF($C$12>0,$C$12*365*O73*N73/2000,IF(R73=\"\",Q73*8760/2000,R73*8760/2000)))))","v":0},{"$f":"IF(N73>0,$P$6*O73/2000,0)","v":0}]
[null,null,null,null,{"$f":"IF($C$4>3,\"Stock Pile Area\",\"\")","v":""},null,null,null,null,null,null,null,"Methyl Chloroform"]
[null,null,null,null,null,{"$f":"IF($C$4>3,\"Emission Unit #\",\"\")","v":""},{"$f":"IF($C$4>3,\"Maximum Storage Area (acres)\",\"\")","v":""},{"$f":"IF($C$4>3,\"Actual Storage Area (acres)\",\"\")","v":""},{"$f":"IF($C$4>3,\"Actual Days in Existence (days)\",\"\")","v":""},null,null,null,{"$f":"IF($C$5=\"\",\"\",$C$5)","v":""},{"$f":"IF(C5=\"drum mix plant\",SUM(N5:N7),0)","v":0},{"$f":"IF(N75=0,0,0.000048)","v":0},{"$f":"IF(O75=\"\",\"\",\"lb/ton\")","v":"lb/ton"},{"$f":"N75*O75","v":0},null,{"$f":"IF(N75=0,0,IF($C$10>0,$C$10*O75/2000,IF($C$11>0,$C$11*365*O75/2000,IF($C$12>0,$C$12*365*O75*N75/2000,IF(R75=\"\",Q75*8760/2000,R75*8760/2000)))))","v":0},{"$f":"IF(N75>0,SUM($P$5:$P$7)*O75/2000,0)","v":0}]
[null,null,null,null,null,null,null,null,null,null,null,null,"Propionaldehyde"]
[null,null,null,null,null,null,null,null,null,null,null,null,{"$f":"IF($C$5=\"\",\"\",$C$5)","v":""},{"$f":"IF(C5=\"drum mix plant\",SUM(N5:$N$6),0)","v":0},{"$f":"IF(N77=0,0,0.00013)","v":0},{"$f":"IF(O77=\"\",\"\",\"lb/ton\")","v":"lb/ton"},{"$f":"N77*O77","v":0},null,{"$f":"IF(N77=0,0,IF($C$10>0,$C$10*O77/2000,IF($C$11>0,$C$11*365*O77/2000,IF($C$12>0,$C$12*365*O77*N77/2000,IF(R77=\"\",Q77*8760/2000,R77*8760/2000)))))","v":0},{"$f":"IF(N77>0,$P$6*O77/2000,0)","v":0}]
[null,{"$f":"IF($C$4>4,\"Asphalt Plant\",\"\")","v":""},{"$f":"IF($C$4>4,\"Site 5\",\"\")","v":""},null,{"$f":"IF($C$4>4,\"Emission Point #\",\"\")","v":""},{"$f":"IF($C$4>4,\"Emission    Unit #\",\"\")","v":""},{"$f":"IF($C$4>4,\"Process\",\"\")","v":""},{"$f":"IF($C$4>4,\"Maximum Hourly     Design Rate\",\"\")","v":""},{"$f":"IF($C$4>4,('Facility Information'!G65&\" Annual Throughput\"),\"\")","v":""},null,null,null,"Quinone"]
[null,null,null,null,null,null,null,null,null,null,null,null,{"$f":"IF($C$5=\"\",\"\",$C$5)","v":""},{"$f":"IF(C5=\"drum mix plant\",SUM(N5:$N$6),SUM($N$5:$N$7))","v":0},{"$f":"IF(N79=0,0,IF(M79=\"Batch Mix Plant\",0.00027,IF(M79=\"Drum Mix Plant\",0.00016)))","v":0},{"$f":"IF(O79=\"\",\"\",\"lb/ton\")","v":"lb/ton"},{"$f":"N79*O79","v":0},null,{"$f":"IF(N79=0,0,IF($C$10>0,$C$10*O79/2000,IF($C$11>0,$C$11*365*O79/2000,IF($C$12>0,$C$12*365*O79*N79/2000,IF(R79=\"\",Q79*8760/2000,R79*8760/2000)))))","v":0},{"$f":"IF(C23=\"drum mix plant\",$P$6*O79/2000,SUM($P$5:$P$7)*O79/2000)","v":0}]
[null,{"$f":"IF($C$4>4,\"Site Name\",\"\")","v":""},null,null,{"$f":"IF($C$4>4,\"Dryers, Hot Screens, Mixer\",\"\")","v":""},null,null,{"$f":"IF($C$4>4,\"(tons/hr)\",\"\")","v":""},{"$f":"IF($C$4>4,\"(tons/yr)\",\"\")","v":""},"PM2.5","PM10",null,"Toluene"]
[null,{"$f":"IF($C$4>4,\"County:\",\"\")","v":""},null,null,{"$f":"IF(C83=\"\",\"\",\"AP-5 EP-1\")","v":""},{"$f":"IF(C83=\"\",\"\",\"AP-5 EU-1\")","v":""},{"$f":"IF(C83=\"\",\"\",C5 & \" - \"&C83)","v":""},null,null,{"$f":"IF(C84=\"\",\"\",IF(C84=\"yes\",LOOKUP(G81,'Emission Factors'!$A$12:$A$17,'Emission Factors'!$D$12:$D$17),LOOKUP(G81,'Emission Factors'!$A$5:$A$10,'Emission Factors'!$D$5:$D$10)))","v":""},{"$f":"IF(C84=\"\",\"\",IF(C84=\"yes\",LOOKUP(G81,'Emission Factors'!$A$12:$A$17,'Emission Factors'!$F$12:$F$17),LOOKUP(G81,'Emission Factors'!$A$5:$A$10,'Emission Factors'!$F$5:$F$10)))","v":""},null,{"$f":"$C$5 & \" - Fuel Oil\"","v":" - Fuel Oil"},{"$f":"$N$5","v":0},{"$f":"IF(N81=0,0,LOOKUP(M81,'Emission Factors'!$A$5:$A$10,'Emission Factors'!$AJ$5:$AJ$10))","v":0},{"$f":"IF(O81=\"\",\"\",\"lb/ton\")","v":"lb/ton"},{"$f":"N81*O81","v":0},null,{"$f":"IF(N81=0,0,IF($C$10>0,$C$10*O81/2000,IF($C$11>0,$C$11*365*O81/2000,IF($C$12>0,$C$12*365*O81*N81/2000,IF(R81=\"\",Q81*8760/2000,R81*8760/2000)))))","v":0},{"$f":"P5*O81/2000","v":0}]
[null,{"$f":"IF($C$4>4,\"Production Period (Dates):\",\"\")","v":""},null,null,{"$f":"IF($C$4>4,\"Liquid Asphalt Heater\",\"\")","v":""},null,null,{"$f":"IF($C$4>4,IF(C83=\"natural gas\",\"(MMCF/hr)\",\"(gallons/hr)\"),\"\")","v":""},{"$f":"IF($C$4>4,IF(C83=\"natural gas\",\"(MMCF/yr)\",\"(gallons/yr)\"),\"\")","v":""},null,null,null,{"$f":"$C$5 & \" - Waste Oil\"","v":" - Waste Oil"},{"$f":"$N$6","v":0},{"$f":"IF(N82=0,0,LOOKUP(M82,'Emission Factors'!$A$5:$A$10,'Emission Factors'!$AJ$5:$AJ$10))","v":0},{"$f":"IF(O82=\"\",\"\",\"lb/ton\")","v":"lb/ton"},{"$f":"N82*O82","v":0},null,{"$f":"IF(N82=0,0,IF(OR(AND($C$10>0,$N$81>0),AND($C$11>0,$N$81>0),AND($C$12>0,$N$81>0)),\"\",IF($C$10>0,$C$10*O82/2000,IF($C$11>0,$C$11*365*O82/2000,IF($C$12>0,$C$12*365*O82*N82/2000,IF(R82=\"\",Q82*8760/2000,R82*8760/2000))))))","v":0},{"$f":"P6*O82/2000","v":0}]
[null,{"$f":"IF($C$4>4,\"Type of Fuel Used:\",\"\")","v":""},null,null,{"$f":"IF(C83=\"\",\"\",\"AP-5 EP-2\")","v":""},{"$f":"IF(C83=\"\",\"\",\"AP-5 EU-2\")","v":""},{"$f":"IF(C83=\"\",\"\",C83& \" Fired Heater\")","v":""},null,null,null,"Controlled?",null,{"$f":"$C$5 & \" - Natural Gas\"","v":" - Natural Gas"},{"$f":"$N$7","v":0},{"$f":"IF(N83=0,0,LOOKUP(M83,'Emission Factors'!$A$5:$A$10,'Emission Factors'!$AJ$5:$AJ$10))","v":0},{"$f":"IF(O83=\"\",\"\",\"lb/ton\")","v":"lb/ton"},{"$f":"N83*O83","v":0},null,{"$f":"IF(N83=0,0,IF(OR(AND($C$10>0,$N$81>0),AND($C$11>0,$N$81>0),AND($C$12>0,$N$81>0)),\"\",IF(OR(AND($C$10>0,$N$82>0),AND($C$11>0,$N$82>0),AND($C$12>0,$N$82>0)),\"\",IF($C$10>0,$C$10*O83/2000,IF($C$11>0,$C$11*365*O83/2000,IF($C$12>0,$C$12*365*O83*N83/2000,IF(R83=\"\",Q83*8760/2000,R83*8760/2000)))))))","v":0},{"$f":"P7*O83/2000","v":0}]
[null,{"$f":"IF($C$4>4,\"Is Your Operation Controlled?:\",\"\")","v":""},null,null,{"$f":"IF($C$4>4,\"Silo Filling, Truck Loadout, Aggregate Transfer\",\"\")","v":""},null,null,{"$f":"IF($C$4>4,\"(tons/hr)\",\"\")","v":""},{"$f":"IF($C$4>4,\"(tons/yr)\",\"\")","v":""},null,{"$f":"IF(OR(C25=\"yes\",C39=\"yes\",C69=\"yes\",C84=\"yes\",C100=\"yes\",C115=\"yes\",C130=\"yes\",C145=\"yes\",C160=\"yes\"),1,0)","v":0},null,"Xylene"]
[null,null,null,null,{"$f":"IF($C$4>4,\"AP-5 EP-3\",\"\")","v":""},{"$f":"IF($C$4>4,\"AP-5 EU-3\",\"\")","v":""},{"$f":"IF($C$4>4,\"Silo Filling\",\"\")","v":""},null,null,null,null,null,{"$f":"IF($C$5=\"\",\"\",$C$5)","v":""},{"$f":"SUM($N$5:$N$7)","v":0},{"$f":"IF(N85=0,0,IF(M85=\"Batch Mix Plant\",0.0027,IF(M85=\"Drum Mix Plant\",0.0002)))","v":0},{"$f":"IF(O85=\"\",\"\",\"lb/ton\")","v":"lb/ton"},{"$f":"N85*O85","v":0},null,{"$f":"IF(N85=0,0,IF($C$10>0,$C$10*O85/2000,IF($C$11>0,$C$11*365*O85/2000,IF($C$12>0,$C$12*365*O85*N85/2000,IF(R85=\"\",Q85*8760/2000,R85*8760/2000)))))","v":0},{"$f":"SUM($P$5:$P$7)*O85/2000","v":0}]
[null,null,null,null,{"$f":"IF($C$4>4,\"AP-5 EP-3\",\"\")","v":""},{"$f":"IF($C$4>4,\"AP-5 EU-4\",\"\")","v":""},{"$f":"IF($C$4>4,\"Truck Loadout\",\"\")","v":""},null,null,null,null,null,"2,2,4-Trimethylpentane"]
[null,null,null,null,{"$f":"IF($C$4>4,\"AP-5 EP-3\",\"\")","v":""},{"$f":"IF($C$4>4,\"AP-5 EU-5\",\"\")","v":""},{"$f":"IF($C$4>4,\"Cold Aggregate Bins\",\"\")","v":""},null,null,null,null,null,{"$f":"IF($C$5=\"\",\"\",$C$5)","v":""},{"$f":"IF(C5=\"drum mix plant\",SUM(N5:N7),0)","v":0},{"$f":"IF(N87=0,0,0.00004)","v":0},{"$f":"IF(O87=\"\",\"\",\"lb/ton\")","v":"lb/ton"},{"$f":"N87*O87","v":0},null,{"$f":"IF(N87=0,0,IF($C$10>0,$C$10*O87/2000,IF($C$11>0,$C$11*365*O87/2000,IF($C$12>0,$C$12*365*O87*N87/2000,IF(R87=\"\",Q87*8760/2000,R87*8760/2000)))))","v":0},{"$f":"IF(N87>0,SUM($P$5:$P$7)*O87/2000,0)","v":0}]
[null,null,null,null,null,null,null,null,null,null,null,null,"Chromium Compounds"]
[null,null,null,null,{"$f":"IF($C$4>4,\"Stock Pile Area\",\"\")","v":""},null,null,null,null,null,null,null,{"$f":"IF($C$5=\"\",\"\",$C$5)","v":""},{"$f":"IF(C5=\"drum mix plant\",SUM(N5:N6),0)","v":0},{"$f":"IF(N89=0,0,IF($K$84=1,0.0000055,0.000024))","v":0},{"$f":"IF(O89=\"\",\"\",\"lb/ton\")","v":"lb/ton"},{"$f":"IF($K$84=1,\"\",N89*O89)","v":0},{"$f":"IF($K$84=1,N89*O89,\"\")","v":""},{"$f":"IF(N89=0,0,IF($C$10>0,$C$10*O89/2000,IF($C$11>0,$C$11*365*O89/2000,IF($C$12>0,$C$12*365*O89*N89/2000,IF(R89=\"\",Q89*8760/2000,R89*8760/2000)))))","v":0},{"$f":"IF(N89>0,$P$5*O89/2000,0)","v":0}]
[null,null,null,null,null,{"$f":"IF($C$4>4,\"Emission Unit #\",\"\")","v":""},{"$f":"IF($C$4>4,\"Maximum Storage Area (acres)\",\"\")","v":""},{"$f":"IF($C$4>4,\"Actual Storage Area (acres)\",\"\")","v":""},{"$f":"IF($C$4>4,\"Actual Days in Existence (days)\",\"\")","v":""},null,null,null,"Lead Compounds"]
[null,null,null,null,null,null,null,null,null,null,null,null,{"$f":"IF($C$5=\"\",\"\",$C$5)","v":""},{"$f":"IF(C5=\"drum mix plant\",SUM(N5:N6),0)","v":0},{"$f":"IF(N91=0,0,IF($K$84=1,0.000015,0.00054))","v":0},{"$f":"IF(O91=\"\",\"\",\"lb/ton\")","v":"lb/ton"},{"$f":"IF($K$84=1,\"\",N91*O91)","v":0},{"$f":"IF($K$84=1,N91*O91,\"\")","v":""},{"$f":"IF(N91=0,0,IF($C$10>0,$C$10*O91/2000,IF($C$11>0,$C$11*365*O91/2000,IF($C$12>0,$C$12*365*O91*N91/2000,IF(R91=\"\",Q91*8760/2000,R91*8760/2000)))))","v":0},{"$f":"IF(N91>0,$P$5*O91/2000,0)","v":0}]
[null,null,null,null,null,null,null,null,null,null,null,null,"Manganese Compounds",null,null,null,0]
[null,null,null,null,null,null,null,null,null,null,null,null,{"$f":"IF($C$5=\"\",\"\",$C$5)","v":""},{"$f":"IF(C5=\"drum mix plant\",SUM(N5:N6),0)","v":0},{"$f":"IF(N93=0,0,IF($K$84=1,0.0000077,0.00065))","v":0},{"$f":"IF(O93=\"\",\"\",\"lb/ton\")","v":"lb/ton"},0,{"$f":"IF($K$84=1,N93*O93,\"\")","v":""},{"$f":"IF(N93=0,0,IF($C$10>0,$C$10*O93/2000,IF($C$11>0,$C$11*365*O93/2000,IF($C$12>0,$C$12*365*O93*N93/2000,IF(R93=\"\",Q93*8760/2000,R93*8760/2000)))))","v":0},{"$f":"IF(N93>0,$P$5*O93/2000,0)","v":0}]
[null,{"$f":"IF($C$4>5,\"Asphalt Plant\",\"\")","v":""},{"$f":"IF($C$4>5,\"Site 6\",\"\")","v":""},null,{"$f":"IF($C$4>5,\"Emission Point #\",\"\")","v":""},{"$f":"IF($C$4>5,\"Emission    Unit #\",\"\")","v":""},{"$f":"IF($C$4>5,\"Process\",\"\")","v":""},{"$f":"IF($C$4>5,\"Maximum Hourly     Design Rate\",\"\")","v":""},{"$f":"IF($C$4>5,('Facility Information'!G80&\" Annual Throughput\"),\"\")","v":""},null,null,null,"Nickel Compounds",null,null,null,0]
[null,null,null,null,null,null,null,null,null,null,null,null,{"$f":"$C$5 & \" - Fuel Oil\"","v":" - Fuel Oil"},{"$f":"IF(C5=\"drum mix plant\",N5,0)","v":0},{"$f":"IF(N95=0,0,IF($K$84=1,0.000015,0.0013))","v":0},{"$f":"IF(O95=\"\",\"\",\"lb/ton\")","v":"lb/ton"},0,{"$f":"IF($K$84=1,N95*O95,\"\")","v":""},{"$f":"IF(N95=0,0,IF($C$10>0,$C$10*O95/2000,IF($C$11>0,$C$11*365*O95/2000,IF($C$12>0,$C$12*365*O95*N95/2000,IF(R95=\"\",Q95*8760/2000,R95*8760/2000)))))","v":0},{"$f":"IF(N95>0,$P$5*O95/2000,0)","v":0}]
[null,{"$f":"IF($C$4>5,\"Site Name\",\"\")","v":""},null,null,{"$f":"IF($C$4>5,\"Dryers, Hot Screens, Mixer\",\"\")","v":""},null,null,{"$f":"IF($C$4>5,\"(tons/hr)\",\"\")","v":""},{"$f":"IF($C$4>5,\"(tons/yr)\",\"\")","v":""},"PM2.5","PM10",null,{"$f":"$C$5 & \" - Waste Oil\"","v":" - Waste Oil"},{"$f":"IF(C5=\"drum mix plant\",N6,0)","v":0},{"$f":"IF(N96=0,0,IF($K$84=1,0.000015,0.0013))","v":0},{"$f":"IF(O96=\"\",\"\",\"lb/ton\")","v":"lb/ton"},0,{"$f":"IF($K$84=1,N96*O96,\"\")","v":""},{"$f":"IF(N96=0,0,IF($C$10>0,$C$10*O96/2000,IF($C$11>0,$C$11*365*O96/2000,IF($C$12>0,$C$12*365*O96*N96/2000,IF(R96=\"\",Q96*8760/2000,R96*8760/2000)))))","v":0},{"$f":"IF(N96>0,$P$6*O96/2000,0)","v":0}]
[null,{"$f":"IF($C$4>5,\"County:\",\"\")","v":""},null,null,{"$f":"IF(C99=\"\",\"\",\"AP-5 EP-1\")","v":""},{"$f":"IF(C99=\"\",\"\",\"AP-5 EU-1\")","v":""},{"$f":"IF(C99=\"\",\"\",C5 & \" - \"&C99)","v":""},null,null,{"$f":"IF(C100=\"\",\"\",IF(C100=\"yes\",LOOKUP(G97,'Emission Factors'!$A$12:$A$17,'Emission Factors'!$D$12:$D$17),LOOKUP(G97,'Emission Factors'!$A$5:$A$10,'Emission Factors'!$D$5:$D$10)))","v":""},{"$f":"IF(C100=\"\",\"\",IF(C100=\"yes\",LOOKUP(G97,'Emission Factors'!$A$12:$A$17,'Emission Factors'!$F$12:$F$17),LOOKUP(G97,'Emission Factors'!$A$5:$A$10,'Emission Factors'!$F$5:$F$10)))","v":""},null,{"$f":"$C$5 & \" - Natural Gas\"","v":" - Natural Gas"},{"$f":"IF(C5=\"drum mix plant\",N7,0)","v":0},{"$f":"IF(N97=0,0,IF($K$84=1,0.000063,0.00063))","v":0},{"$f":"IF(O97=\"\",\"\",\"lb/ton\")","v":"lb/ton"},{"$f":"IF($K$84=1,\"\",N97*O97)","v":0},{"$f":"IF($K$84=1,N97*O97,\"\")","v":""},{"$f":"IF(N97=0,0,IF($C$10>0,$C$10*O97/2000,IF($C$11>0,$C$11*365*O97/2000,IF($C$12>0,$C$12*365*O97*N97/2000,IF(R97=\"\",Q97*8760/2000,R97*8760/2000)))))","v":0},{"$f":"IF(N97>0,$P$7*O97/2000,0)","v":0}]
[null,{"$f":"IF($C$4>5,\"Production Period (Dates):\",\"\")","v":""},null,null,{"$f":"IF($C$4>5,\"Liquid Asphalt Heater\",\"\")","v":""},null,null,{"$f":"IF($C$4>5,IF(C99=\"natural gas\",\"(MMCF/hr)\",\"(gallons/hr)\"),\"\")","v":""},{"$f":"IF($C$4>5,IF(C99=\"natural gas\",\"(MMCF/yr)\",\"(gallons/yr)\"),\"\")","v":""}]
[null,{"$f":"IF($C$4>5,\"Type of Fuel Used:\",\"\")","v":""},null,null,{"$f":"IF(C99=\"\",\"\",\"AP-5 EP-2\")","v":""},{"$f":"IF(C99=\"\",\"\",\"AP-5 EU-2\")","v":""},{"$f":"IF(C99=\"\",\"\",C99& \" Fired Heater\")","v":""}]
[null,{"$f":"IF($C$4>5,\"Is Your Operation Controlled?:\",\"\")","v":""},null,null,{"$f":"IF($C$4>5,\"Silo Filling, Truck Loadout, Aggregate Transfer\",\"\")","v":""},null,null,{"$f":"IF($C$4>5,\"(tons/hr)\",\"\")","v":""},{"$f":"IF($C$4>5,\"(tons/yr)\",\"\")","v":""}]
[null,null,null,null,{"$f":"IF($C$4>5,\"AP-5 EP-3\",\"\")","v":""},{"$f":"IF($C$4>5,\"AP-5 EU-3\",\"\")","v":""},{"$f":"IF($C$4>5,\"Silo Filling\",\"\")","v":""}]
[null,null,null,null,{"$f":"IF($C$4>5,\"AP-5 EP-3\",\"\")","v":""},{"$f":"IF($C$4>5,\"AP-5 EU-4\",\"\")","v":""},{"$f":"IF($C$4>5,\"Truck Loadout\",\"\")","v":""}]
[null,null,null,null,{"$f":"IF($C$4>5,\"AP-5 EP-3\",\"\")","v":""},{"$f":"IF($C$4>5,\"AP-5 EU-5\",\"\")","v":""},{"$f":"IF($C$4>5,\"Cold Aggregate Bins\",\"\")","v":""}]
[]
[null,null,null,null,{"$f":"IF($C$4>5,\"Stock Pile Area\",\"\")","v":""}]
[null,null,null,null,null,{"$f":"IF($C$4>5,\"Emission Unit #\",\"\")","v":""},{"$f":"IF($C$4>5,\"Maximum Storage Area (acres)\",\"\")","v":""},{"$f":"IF($C$4>5,\"Actual Storage Area (acres)\",\"\")","v":""},{"$f":"IF($C$4>5,\"Actual Days in Existence (days)\",\"\")","v":""}]
[]
[]
[null,{"$f":"IF($C$4>6,\"Asphalt Plant\",\"\")","v":""},{"$f":"IF($C$4>6,\"Site 7\",\"\")","v":""},null,{"$f":"IF($C$4>6,\"Emission Point #\",\"\")","v":""},{"$f":"IF($C$4>6,\"Emission    Unit #\",\"\")","v":""},{"$f":"IF($C$4>6,\"Process\",\"\")","v":""},{"$f":"IF($C$4>6,\"Maximum Hourly     Design Rate\",\"\")","v":""},{"$f":"IF($C$4>6,('Facility Information'!G95&\" Annual Throughput\"),\"\")","v":""}]
[]
[null,{"$f":"IF($C$4>6,\"Site Name\",\"\")","v":""},null,null,{"$f":"IF($C$4>6,\"Dryers, Hot Screens, Mixer\",\"\")","v":""},null,null,{"$f":"IF($C$4>6,\"(tons/hr)\",\"\")","v":""},{"$f":"IF($C$4>6,\"(tons/yr)\",\"\")","v":""},"PM2.5","PM10"]
[null,{"$f":"IF($C$4>6,\"County:\",\"\")","v":""},null,null,{"$f":"IF(C114=\"\",\"\",\"AP-5 EP-1\")","v":""},{"$f":"IF(C114=\"\",\"\",\"AP-5 EU-1\")","v":""},{"$f":"IF(C114=\"\",\"\",C5 & \" - \"&C114)","v":""},null,null,{"$f":"IF(C115=\"\",\"\",IF(C115=\"yes\",LOOKUP(G112,'Emission Factors'!$A$12:$A$17,'Emission Factors'!$D$12:$D$17),LOOKUP(G112,'Emission Factors'!$A$5:$A$10,'Emission Factors'!$D$5:$D$10)))","v":""},{"$f":"IF(C115=\"\",\"\",IF(C115=\"yes\",LOOKUP(G112,'Emission Factors'!$A$12:$A$17,'Emission Factors'!$F$12:$F$17),LOOKUP(G112,'Emission Factors'!$A$5:$A$10,'Emission Factors'!$F$5:$F$10)))","v":""}]
[null,{"$f":"IF($C$4>6,\"Production Period (Dates):\",\"\")","v":""},null,null,{"$f":"IF($C$4>6,\"Liquid Asphalt Heater\",\"\")","v":""},null,null,{"$f":"IF($C$4>6,IF(C114=\"natural gas\",\"(MMCF/hr)\",\"(gallons/hr)\"),\"\")","v":""},{"$f":"IF($C$4>6,IF(C114=\"natural gas\",\"(MMCF/yr)\",\"(gallons/yr)\"),\"\")","v":""}]
[null,{"$f":"IF($C$4>6,\"Type of Fuel Used:\",\"\")","v":""},null,null,{"$f":"IF(C114=\"\",\"\",\"AP-5 EP-2\")","v":""},{"$f":"IF(C114=\"\",\"\",\"AP-5 EU-2\")","v":""},{"$f":"IF(C114=\"\",\"\",C114& \" Fired Heater\")","v":""}]
[null,{"$f":"IF($C$4>6,\"Is Your Operation Controlled?:\",\"\")","v":""},null,null,{"$f":"IF($C$4>6,\"Silo Filling, Truck Loadout, Aggregate Transfer\",\"\")","v":""},null,null,{"$f":"IF($C$4>6,\"(tons/hr)\",\"\")","v":""},{"$f":"IF($C$4>6,\"(tons/yr)\",\"\")","v":""}]
[null,null,null,null,{"$f":"IF($C$4>6,\"AP-5 EP-3\",\"\")","v":""},{"$f":"IF($C$4>6,\"AP-5 EU-3\",\"\")","v":""},{"$f":"IF($C$4>6,\"Silo Filling\",\"\")","v":""}]
[null,null,null,null,{"$f":"IF($C$4>6,\"AP-5 EP-3\",\"\")","v":""},{"$f":"IF($C$4>6,\"AP-5 EU-4\",\"\")","v":""},{"$f":"IF($C$4>6,\"Truck Loadout\",\"\")","v":""}]
[null,null,null,null,{"$f":"IF($C$4>6,\"AP-5 EP-3\",\"\")","v":""},{"$f":"IF($C$4>6,\"AP-5 EU-5\",\"\")","v":""},{"$f":"IF($C$4>6,\"Cold Aggregate Bins\",\"\")","v":""}]
[]
[null,null,null,null,{"$f":"IF($C$4>6,\"Stock Pile Area\",\"\")","v":""}]
[null,null,null,null,null,{"$f":"IF($C$4>6,\"Emission Unit #\",\"\")","v":""},{"$f":"IF($C$4>6,\"Maximum Storage Area (acres)\",\"\")","v":""},{"$f":"IF($C$4>6,\"Actual Storage Area (acres)\",\"\")","v":""},{"$f":"IF($C$4>6,\"Actual Days in Existence (days)\",\"\")","v":""}]
[]
[]
[null,{"$f":"IF($C$4>7,\"Asphalt Plant\",\"\")","v":""},{"$f":"IF($C$4>7,\"Site 8\",\"\")","v":""},null,{"$f":"IF($C$4>7,\"Emission Point #\",\"\")","v":""},{"$f":"IF($C$4>7,\"Emission    Unit #\",\"\")","v":""},{"$f":"IF($C$4>7,\"Process\",\"\")","v":""},{"$f":"IF($C$4>7,\"Maximum Hourly     Design Rate\",\"\")","v":""},{"$f":"IF($C$4>7,('Facility Information'!G110&\" Annual Throughput\"),\"\")","v":""}]
[]
[null,{"$f":"IF($C$4>7,\"Site Name\",\"\")","v":""},null,null,{"$f":"IF($C$4>7,\"Dryers, Hot Screens, Mixer\",\"\")","v":""},null,null,{"$f":"IF($C$4>7,\"(tons/hr)\",\"\")","v":""},{"$f":"IF($C$4>7,\"(tons/yr)\",\"\")","v":""},"PM2.5","PM10"]
[null,{"$f":"IF($C$4>7,\"County:\",\"\")","v":""},null,null,{"$f":"IF(C129=\"\",\"\",\"AP-5 EP-1\")","v":""},{"$f":"IF(C129=\"\",\"\",\"AP-5 EU-1\")","v":""},{"$f":"IF(C129=\"\",\"\",C5 & \" - \"&C129)","v":""},null,null,{"$f":"IF(C130=\"\",\"\",IF(C130=\"yes\",LOOKUP(G127,'Emission Factors'!$A$12:$A$17,'Emission Factors'!$D$12:$D$17),LOOKUP(G127,'Emission Factors'!$A$5:$A$10,'Emission Factors'!$D$5:$D$10)))","v":""},{"$f":"IF(C130=\"\",\"\",IF(C130=\"yes\",LOOKUP(G127,'Emission Factors'!$A$12:$A$17,'Emission Factors'!$F$12:$F$17),LOOKUP(G127,'Emission Factors'!$A$5:$A$10,'Emission Factors'!$F$5:$F$10)))","v":""}]
[null,{"$f":"IF($C$4>7,\"Production Period (Dates):\",\"\")","v":""},null,null,{"$f":"IF($C$4>7,\"Liquid Asphalt Heater\",\"\")","v":""},null,null,{"$f":"IF($C$4>7,IF(C129=\"natural gas\",\"(MMCF/hr)\",\"(gallons/hr)\"),\"\")","v":""},{"$f":"IF($C$4>7,IF(C129=\"natural gas\",\"(MMCF/yr)\",\"(gallons/yr)\"),\"\")","v":""}]
[null,{"$f":"IF($C$4>7,\"Type of Fuel Used:\",\"\")","v":""},null,null,{"$f":"IF(C129=\"\",\"\",\"AP-5 EP-2\")","v":""},{"$f":"IF(C129=\"\",\"\",\"AP-5 EU-2\")","v":""},{"$f":"IF(C129=\"\",\"\",C129& \" Fired Heater\")","v":""}]
[null,{"$f":"IF($C$4>7,\"Is Your Operation Controlled?:\",\"\")","v":""},null,null,{"$f":"IF($C$4>7,\"Silo Filling, Truck Loadout, Aggregate Transfer\",\"\")","v":""},null,null,{"$f":"IF($C$4>7,\"(tons/hr)\",\"\")","v":""},{"$f":"IF($C$4>7,\"(tons/yr)\",\"\")","v":""}]
[null,null,null,null,{"$f":"IF($C$4>7,\"AP-5 EP-3\",\"\")","v":""},{"$f":"IF($C$4>7,\"AP-5 EU-3\",\"\")","v":""},{"$f":"IF($C$4>7,\"Silo Filling\",\"\")","v":""}]
[null,null,null,null,{"$f":"IF($C$4>7,\"AP-5 EP-3\",\"\")","v":""},{"$f":"IF($C$4>7,\"AP-5 EU-4\",\"\")","v":""},{"$f":"IF($C$4>7,\"Truck Loadout\",\"\")","v":""}]
[null,null,null,null,{"$f":"IF($C$4>7,\"AP-5 EP-3\",\"\")","v":""},{"$f":"IF($C$4>7,\"AP-5 EU-5\",\"\")","v":""},{"$f":"IF($C$4>7,\"Cold Aggregate Bins\",\"\")","v":""}]
[]
[null,null,null,null,{"$f":"IF($C$4>7,\"Stock Pile Area\",\"\")","v":""}]
[null,null,null,null,null,{"$f":"IF($C$4>7,\"Emission Unit #\",\"\")","v":""},{"$f":"IF($C$4>7,\"Maximum Storage Area (acres)\",\"\")","v":""},{"$f":"IF($C$4>7,\"Actual Storage Area (acres)\",\"\")","v":""},{"$f":"IF($C$4>7,\"Actual Days in Existence (days)\",\"\")","v":""}]
[]
[]
[null,{"$f":"IF($C$4>8,\"Asphalt Plant\",\"\")","v":""},{"$f":"IF($C$4>8,\"Site 9\",\"\")","v":""},null,{"$f":"IF($C$4>8,\"Emission Point #\",\"\")","v":""},{"$f":"IF($C$4>8,\"Emission    Unit #\",\"\")","v":""},{"$f":"IF($C$4>8,\"Process\",\"\")","v":""},{"$f":"IF($C$4>8,\"Maximum Hourly     Design Rate\",\"\")","v":""},{"$f":"IF($C$4>8,('Facility Information'!G125&\" Annual Throughput\"),\"\")","v":""}]
[]
[null,{"$f":"IF($C$4>8,\"Site Name\",\"\")","v":""},null,null,{"$f":"IF($C$4>8,\"Dryers, Hot Screens, Mixer\",\"\")","v":""},null,null,{"$f":"IF($C$4>8,\"(tons/hr)\",\"\")","v":""},{"$f":"IF($C$4>8,\"(tons/yr)\",\"\")","v":""},"PM2.5","PM10"]
[null,{"$f":"IF($C$4>8,\"County:\",\"\")","v":""},null,null,{"$f":"IF(C144=\"\",\"\",\"AP-5 EP-1\")","v":""},{"$f":"IF(C144=\"\",\"\",\"AP-5 EU-1\")","v":""},{"$f":"IF(C144=\"\",\"\",C5 & \" - \"&C144)","v":""},null,null,{"$f":"IF(C145=\"\",\"\",IF(C145=\"yes\",LOOKUP(G142,'Emission Factors'!$A$12:$A$17,'Emission Factors'!$D$12:$D$17),LOOKUP(G142,'Emission Factors'!$A$5:$A$10,'Emission Factors'!$D$5:$D$10)))","v":""},{"$f":"IF(C145=\"\",\"\",IF(C145=\"yes\",LOOKUP(G142,'Emission Factors'!$A$12:$A$17,'Emission Factors'!$F$12:$F$17),LOOKUP(G142,'Emission Factors'!$A$5:$A$10,'Emission Factors'!$F$5:$F$10)))","v":""}]
[null,{"$f":"IF($C$4>8,\"Production Period (Dates):\",\"\")","v":""},null,null,{"$f":"IF($C$4>8,\"Liquid Asphalt Heater\",\"\")","v":""},null,null,{"$f":"IF($C$4>8,IF(C144=\"natural gas\",\"(MMCF/hr)\",\"(gallons/hr)\"),\"\")","v":""},{"$f":"IF($C$4>8,IF(C144=\"natural gas\",\"(MMCF/yr)\",\"(gallons/yr)\"),\"\")","v":""}]
[null,{"$f":"IF($C$4>8,\"Type of Fuel Used:\",\"\")","v":""},null,null,{"$f":"IF(C144=\"\",\"\",\"AP-5 EP-2\")","v":""},{"$f":"IF(C144=\"\",\"\",\"AP-5 EU-2\")","v":""},{"$f":"IF(C144=\"\",\"\",C144& \" Fired Heater\")","v":""}]
[null,{"$f":"IF($C$4>8,\"Is Your Operation Controlled?:\",\"\")","v":""},null,null,{"$f":"IF($C$4>8,\"Silo Filling, Truck Loadout, Aggregate Transfer\",\"\")","v":""},null,null,{"$f":"IF($C$4>8,\"(tons/hr)\",\"\")","v":""},{"$f":"IF($C$4>8,\"(tons/yr)\",\"\")","v":""}]
[null,null,null,null,{"$f":"IF($C$4>8,\"AP-5 EP-3\",\"\")","v":""},{"$f":"IF($C$4>8,\"AP-5 EU-3\",\"\")","v":""},{"$f":"IF($C$4>8,\"Silo Filling\",\"\")","v":""}]
[null,null,null,null,{"$f":"IF($C$4>8,\"AP-5 EP-3\",\"\")","v":""},{"$f":"IF($C$4>8,\"AP-5 EU-4\",\"\")","v":""},{"$f":"IF($C$4>8,\"Truck Loadout\",\"\")","v":""}]
[null,null,null,null,{"$f":"IF($C$4>8,\"AP-5 EP-3\",\"\")","v":""},{"$f":"IF($C$4>8,\"AP-5 EU-5\",\"\")","v":""},{"$f":"IF($C$4>8,\"Cold Aggregate Bins\",\"\")","v":""}]
[]
[null,null,null,null,{"$f":"IF($C$4>8,\"Stock Pile Area\",\"\")","v":""}]
[null,null,null,null,null,{"$f":"IF($C$4>8,\"Emission Unit #\",\"\")","v":""},{"$f":"IF($C$4>8,\"Maximum Storage Area (acres)\",\"\")","v":""},{"$f":"IF($C$4>8,\"Actual Storage Area (acres)\",\"\")","v":""},{"$f":"IF($C$4>8,\"Actual Days in Existence (days)\",\"\")","v":""}]
[]
[]
[null,{"$f":"IF($C$4>9,\"Asphalt Plant\",\"\")","v":""},{"$f":"IF($C$4>9,\"Site 10\",\"\")","v":""},null,{"$f":"IF($C$4>9,\"Emission Point #\",\"\")","v":""},{"$f":"IF($C$4>9,\"Emission    Unit #\",\"\")","v":""},{"$f":"IF($C$4>9,\"Process\",\"\")","v":""},{"$f":"IF($C$4>9,\"Maximum Hourly     Design Rate\",\"\")","v":""},{"$f":"IF($C$4>9,('Facility Information'!G140&\" Annual Throughput\"),\"\")","v":""}]
[]
[null,{"$f":"IF($C$4>9,\"Site Name\",\"\")","v":""},null,null,{"$f":"IF($C$4>9,\"Dryers, Hot Screens, Mixer\",\"\")","v":""},null,null,{"$f":"IF($C$4>9,\"(tons/hr)\",\"\")","v":""},{"$f":"IF($C$4>9,\"(tons/yr)\",\"\")","v":""},"PM2.5","PM10"]
[null,{"$f":"IF($C$4>9,\"County:\",\"\")","v":""},null,null,{"$f":"IF(C159=\"\",\"\",\"AP-5 EP-1\")","v":""},{"$f":"IF(C159=\"\",\"\",\"AP-5 EU-1\")","v":""},{"$f":"IF(C159=\"\",\"\",C5 & \" - \"&C159)","v":""},null,null,{"$f":"IF(C160=\"\",\"\",IF(C160=\"yes\",LOOKUP(G157,'Emission Factors'!$A$12:$A$17,'Emission Factors'!$D$12:$D$17),LOOKUP(G157,'Emission Factors'!$A$5:$A$10,'Emission Factors'!$D$5:$D$10)))","v":""},{"$f":"IF(C160=\"\",\"\",IF(C160=\"yes\",LOOKUP(G157,'Emission Factors'!$A$12:$A$17,'Emission Factors'!$F$12:$F$17),LOOKUP(G157,'Emission Factors'!$A$5:$A$10,'Emission Factors'!$F$5:$F$10)))","v":""}]
[null,{"$f":"IF($C$4>9,\"Production Period (Dates):\",\"\")","v":""},null,null,{"$f":"IF($C$4>9,\"Liquid Asphalt Heater\",\"\")","v":""},null,null,{"$f":"IF($C$4>9,IF(C159=\"natural gas\",\"(MMCF/hr)\",\"(gallons/hr)\"),\"\")","v":""},{"$f":"IF($C$4>9,IF(C159=\"natural gas\",\"(MMCF/yr)\",\"(gallons/yr)\"),\"\")","v":""}]
[null,{"$f":"IF($C$4>9,\"Type of Fuel Used:\",\"\")","v":""},null,null,{"$f":"IF(C159=\"\",\"\",\"AP-5 EP-2\")","v":""},{"$f":"IF(C159=\"\",\"\",\"AP-5 EU-2\")","v":""},{"$f":"IF(C159=\"\",\"\",C159& \" Fired Heater\")","v":""}]
[null,{"$f":"IF($C$4>9,\"Is Your Operation Controlled?:\",\"\")","v":""},null,null,{"$f":"IF($C$4>9,\"Silo Filling, Truck Loadout, Aggregate Transfer\",\"\")","v":""},null,null,{"$f":"IF($C$4>9,\"(tons/hr)\",\"\")","v":""},{"$f":"IF($C$4>9,\"(tons/yr)\",\"\")","v":""}]
[null,null,null,null,{"$f":"IF($C$4>9,\"AP-5 EP-3\",\"\")","v":""},{"$f":"IF($C$4>9,\"AP-5 EU-3\",\"\")","v":""},{"$f":"IF($C$4>9,\"Silo Filling\",\"\")","v":""}]
[null,null,null,null,{"$f":"IF($C$4>9,\"AP-5 EP-3\",\"\")","v":""},{"$f":"IF($C$4>9,\"AP-5 EU-4\",\"\")","v":""},{"$f":"IF($C$4>9,\"Truck Loadout\",\"\")","v":""}]
[null,null,null,null,{"$f":"IF($C$4>9,\"AP-5 EP-3\",\"\")","v":""},{"$f":"IF($C$4>9,\"AP-5 EU-5\",\"\")","v":""},{"$f":"IF($C$4>9,\"Cold Aggregate Bins\",\"\")","v":""}]
[]
[null,null,null,null,{"$f":"IF($C$4>9,\"Stock Pile Area\",\"\")","v":""}]
[null,null,null,null,null,{"$f":"IF($C$4>9,\"Emission Unit #\",\"\")","v":""},{"$f":"IF($C$4>9,\"Maximum Storage Area (acres)\",\"\")","v":""},{"$f":"IF($C$4>9,\"Actual Storage Area (acres)\",\"\")","v":""},{"$f":"IF($C$4>9,\"Actual Days in Existence (days)\",\"\")","v":""}]

{"sheet":"Asphalt Plant (AP-6)","index":6,"n_rows":166,"n_cols":20,"rows_kept":166,"cut":false,"hidden":true,"merged":[]}
[null,"ASPHALT PLANT (AP-6)"]
[null,"Please fill in the yellow boxes as applicable for your facility. ",null,null,null,null,null,null,"Values used for calculating emissions →",null,null,null,"Values Used to Calculate Actual Emissions for the Listed Processes at this Plant"]
[]
[null,{"$f":"\"Number of Sites this Plant operated at in \"&'Facility Information'!G5&\":\"","v":"Number of Sites this Plant operated at in :"},null,null,null,null,null,null,null,null,null,null,"Process","Maximum Design Rate","Units","Actual throughput",null,"** As of 2016 Potential Emissions are no longer required to be reported in the Minor Source Emissions Inventory**",null,"Units"]
[null,"Plant Type:",null,null,null,null,null,null,null,null,null,null,{"$f":"$C$5 & \" - Fuel Oil\"","v":" - Fuel Oil"},{"$f":"MAX((IFERROR(OFFSET($G$21,MATCH(M5,$G$22,0),1),0)),((IFERROR(OFFSET($G$35,MATCH(M5,$G$36,0),1),0))),((IFERROR(OFFSET($G$50,MATCH(M5,$G$51,0),1),0))),((IFERROR(OFFSET($G$65,MATCH(M5,$G$66,0),1),0))),((IFERROR(OFFSET($G$80,MATCH(M5,$G$81,0),1),0))),((IFERROR(OFFSET($G$96,MATCH(M5,$G$97,0),1),0))),((IFERROR(OFFSET($G$111,MATCH(M5,$G$112,0),1),0))),((IFERROR(OFFSET($G$126,MATCH(M5,$G$127,0),1),0))),((IFERROR(OFFSET($G$141,MATCH(M5,$G$142,0),1),0))),((IFERROR(OFFSET($G$156,MATCH(M5,$G$157,0),1),0))))","v":0},"tons/hr",{"$f":"SUM((IFERROR(OFFSET($G$21,MATCH(M5,$G$22,0),2),0)),((IFERROR(OFFSET($G$35,MATCH(M5,$G$36,0),2),0))),((IFERROR(OFFSET($G$50,MATCH(M5,$G$51,0),2),0))),((IFERROR(OFFSET($G$65,MATCH(M5,$G$66,0),2),0))),((IFERROR(OFFSET($G$80,MATCH(M5,$G$81,0),2),0))),((IFERROR(OFFSET($G$96,MATCH(M5,$G$97,0),2),0))),((IFERROR(OFFSET($G$111,MATCH(M5,$G$112,0),2),0))),((IFERROR(OFFSET($G$126,MATCH(M5,$G$127,0),2),0))),((IFERROR(OFFSET($G$141,MATCH(M5,$G$142,0),2),0))),((IFERROR(OFFSET($G$156,MATCH(M5,$G$157,0),2),0))))","v":0},null,null,null,"tons/yr"]
[null,null,null,null,null,null,null,null,null,null,null,null,{"$f":"$C$5 & \" - Waste Oil\"","v":" - Waste Oil"},{"$f":"MAX((IFERROR(OFFSET($G$21,MATCH(M6,$G$22,0),1),0)),((IFERROR(OFFSET($G$35,MATCH(M6,$G$36,0),1),0))),((IFERROR(OFFSET($G$50,MATCH(M6,$G$51,0),1),0))),((IFERROR(OFFSET($G$65,MATCH(M6,$G$66,0),1),0))),((IFERROR(OFFSET($G$80,MATCH(M6,$G$81,0),1),0))),((IFERROR(OFFSET($G$96,MATCH(M6,$G$97,0),1),0))),((IFERROR(OFFSET($G$111,MATCH(M6,$G$112,0),1),0))),((IFERROR(OFFSET($G$126,MATCH(M6,$G$127,0),1),0))),((IFERROR(OFFSET($G$141,MATCH(M6,$G$142,0),1),0))),((IFERROR(OFFSET($G$156,MATCH(M6,$G$157,0),1),0))))","v":0},"tons/hr",{"$f":"SUM((IFERROR(OFFSET($G$21,MATCH(M6,$G$22,0),2),0)),((IFERROR(OFFSET($G$35,MATCH(M6,$G$36,0),2),0))),((IFERROR(OFFSET($G$50,MATCH(M6,$G$51,0),2),0))),((IFERROR(OFFSET($G$65,MATCH(M6,$G$66,0),2),0))),((IFERROR(OFFSET($G$80,MATCH(M6,$G$81,0),2),0))),((IFERROR(OFFSET($G$96,MATCH(M6,$G$97,0),2),0))),((IFERROR(OFFSET($G$111,MATCH(M6,$G$112,0),2),0))),((IFERROR(OFFSET($G$126,MATCH(M6,$G$127,0),2),0))),((IFERROR(OFFSET($G$141,MATCH(M6,$G$142,0),2),0))),((IFERROR(OFFSET($G$156,MATCH(M6,$G$157,0),2),0))))","v":0},null,null,null,"tons/yr"]
[null,"Plant Specific Permit Number: ",null,null,null,null,null,null,null,null,null,null,{"$f":"$C$5 & \" - Natural Gas\"","v":" - Natural Gas"},{"$f":"MAX((IFERROR(OFFSET($G$21,MATCH(M7,$G$22,0),1),0)),((IFERROR(OFFSET($G$35,MATCH(M7,$G$36,0),1),0))),((IFERROR(OFFSET($G$50,MATCH(M7,$G$51,0),1),0))),((IFERROR(OFFSET($G$65,MATCH(M7,$G$66,0),1),0))),((IFERROR(OFFSET($G$80,MATCH(M7,$G$81,0),1),0))),((IFERROR(OFFSET($G$96,MATCH(M7,$G$97,0),1),0))),((IFERROR(OFFSET($G$111,MATCH(M7,$G$112,0),1),0))),((IFERROR(OFFSET($G$126,MATCH(M7,$G$127,0),1),0))),((IFERROR(OFFSET($G$141,MATCH(M7,$G$142,0),1),0))),((IFERROR(OFFSET($G$156,MATCH(M7,$G$157,0),1),0))))","v":0},"tons/hr",{"$f":"SUM((IFERROR(OFFSET($G$21,MATCH(M7,$G$22,0),2),0)),((IFERROR(OFFSET($G$35,MATCH(M7,$G$36,0),2),0))),((IFERROR(OFFSET($G$50,MATCH(M7,$G$51,0),2),0))),((IFERROR(OFFSET($G$65,MATCH(M7,$G$66,0),2),0))),((IFERROR(OFFSET($G$80,MATCH(M7,$G$81,0),2),0))),((IFERROR(OFFSET($G$96,MATCH(M7,$G$97,0),2),0))),((IFERROR(OFFSET($G$111,MATCH(M7,$G$112,0),2),0))),((IFERROR(OFFSET($G$126,MATCH(M7,$G$127,0),2),0))),((IFERROR(OFFSET($G$141,MATCH(M7,$G$142,0),2),0))),((IFERROR(OFFSET($G$156,MATCH(M7,$G$157,0),2),0))))","v":0},null,null,null,"tons/yr"]
[null,null,null,null,null,null,null,null,null,null,null,null,"Fuel Oil Fired Heater",{"$f":"MAX((IFERROR(OFFSET($G$23,MATCH(\"Fuel Oil Fired Heater\",$G$24,0),1),0)),((IFERROR(OFFSET($G$37,MATCH(\"Fuel Oil Fired Heater\",$G$38,0),1),0))),((IFERROR(OFFSET($G$52,MATCH(\"Fuel Oil Fired Heater\",$G$53,0),1),0))),((IFERROR(OFFSET($G$67,MATCH(\"Fuel Oil Fired Heater\",$G$68,0),1),0))),((IFERROR(OFFSET($G$82,MATCH(\"Fuel Oil Fired Heater\",$G$83,0),1),0))),((IFERROR(OFFSET($G$98,MATCH(\"Fuel Oil Fired Heater\",$G$99,0),1),0))),((IFERROR(OFFSET($G$113,MATCH(\"Fuel Oil Fired Heater\",$G$114,0),1),0))),((IFERROR(OFFSET($G$128,MATCH(\"Fuel Oil Fired Heater\",$G$129,0),1),0))),((IFERROR(OFFSET($G$143,MATCH(\"Fuel Oil Fired Heater\",$G$144,0),1),0))),((IFERROR(OFFSET($G$158,MATCH(\"Fuel Oil Fired Heater\",$G$159,0),1),0))))","v":0},"gallons/hr",{"$f":"SUM((IFERROR(OFFSET($G$23,MATCH(\"Fuel Oil Fired Heater\",$G$24,0),2),0)),((IFERROR(OFFSET($G$37,MATCH(\"Fuel Oil Fired Heater\",$G$38,0),2),0))),((IFERROR(OFFSET($G$52,MATCH(\"Fuel Oil Fired Heater\",$G$53,0),2),0))),((IFERROR(OFFSET($G$67,MATCH(\"Fuel Oil Fired Heater\",$G$68,0),2),0))),((IFERROR(OFFSET($G$82,MATCH(\"Fuel Oil Fired Heater\",$G$83,0),2),0))),((IFERROR(OFFSET($G$98,MATCH(\"Fuel Oil Fired Heater\",$G$99,0),2),0))),((IFERROR(OFFSET($G$113,MATCH(\"Fuel Oil Fired Heater\",$G$114,0),2),0))),((IFERROR(OFFSET($G$128,MATCH(\"Fuel Oil Fired Heater\",$G$129,0),2),0))),((IFERROR(OFFSET($G$143,MATCH(\"Fuel Oil Fired Heater\",$G$144,0),2),0))),((IFERROR(OFFSET($G$158,MATCH(\"Fuel Oil Fired Heater\",$G$159,0),2),0))))","v":0},null,null,null,"gallons/yr"]
[null,"Plant Specific Operating Limits:",null,null,"Plant Specific Emission Limits:",null,null,null,null,null,null,null,"Waste Oil Fired Heater",{"$f":"MAX((IFERROR(OFFSET($G$23,MATCH(\"waste oil Fired Heater\",$G$24,0),1),0)),((IFERROR(OFFSET($G$37,MATCH(\"waste oil Fired Heater\",$G$38,0),1),0))),((IFERROR(OFFSET($G$52,MATCH(\"waste oil Fired Heater\",$G$53,0),1),0))),((IFERROR(OFFSET($G$67,MATCH(\"waste oil Fired Heater\",$G$68,0),1),0))),((IFERROR(OFFSET($G$82,MATCH(\"waste oil Fired Heater\",$G$83,0),1),0))),((IFERROR(OFFSET($G$98,MATCH(\"waste oil Fired Heater\",$G$99,0),1),0))),((IFERROR(OFFSET($G$113,MATCH(\"waste oil Fired Heater\",$G$114,0),1),0))),((IFERROR(OFFSET($G$128,MATCH(\"waste oil Fired Heater\",$G$129,0),1),0))),((IFERROR(OFFSET($G$143,MATCH(\"waste oil Fired Heater\",$G$144,0),1),0))),((IFERROR(OFFSET($G$158,MATCH(\"waste oil Fired Heater\",$G$159,0),1),0))))","v":0},"gallons/hr",{"$f":"SUM((IFERROR(OFFSET($G$23,MATCH(\"waste oil Fired Heater\",$G$24,0),2),0)),((IFERROR(OFFSET($G$37,MATCH(\"waste oil Fired Heater\",$G$38,0),2),0))),((IFERROR(OFFSET($G$52,MATCH(\"waste oil Fired Heater\",$G$53,0),2),0))),((IFERROR(OFFSET($G$67,MATCH(\"waste oil Fired Heater\",$G$68,0),2),0))),((IFERROR(OFFSET($G$82,MATCH(\"waste oil Fired Heater\",$G$83,0),2),0))),((IFERROR(OFFSET($G$98,MATCH(\"waste oil Fired Heater\",$G$99,0),2),0))),((IFERROR(OFFSET($G$113,MATCH(\"waste oil Fired Heater\",$G$114,0),2),0))),((IFERROR(OFFSET($G$128,MATCH(\"waste oil Fired Heater\",$G$129,0),2),0))),((IFERROR(OFFSET($G$143,MATCH(\"waste oil Fired Heater\",$G$144,0),2),0))),((IFERROR(OFFSET($G$158,MATCH(\"waste oil Fired Heater\",$G$159,0),2),0))))","v":0},null,null,null,"gallons/yr"]
[null,"Throughput Limit (tons/yr):",null,null,"Pollutant","lb/hr","tons/yr",null,null,null,null,null,"Natural Gas Fired Heater",{"$f":"MAX((IFERROR(OFFSET($G$23,MATCH(\"Natural Gas Fired Heater\",$G$24,0),1),0)),((IFERROR(OFFSET($G$37,MATCH(\"Natural Gas Fired Heater\",$G$38,0),1),0))),((IFERROR(OFFSET($G$52,MATCH(\"Natural Gas Fired Heater\",$G$53,0),1),0))),((IFERROR(OFFSET($G$67,MATCH(\"Natural Gas Fired Heater\",$G$68,0),1),0))),((IFERROR(OFFSET($G$82,MATCH(\"Natural Gas Fired Heater\",$G$83,0),1),0))),((IFERROR(OFFSET($G$98,MATCH(\"Natural Gas Fired Heater\",$G$99,0),1),0))),((IFERROR(OFFSET($G$113,MATCH(\"Natural Gas Fired Heater\",$G$114,0),1),0))),((IFERROR(OFFSET($G$128,MATCH(\"Natural Gas Fired Heater\",$G$129,0),1),0))),((IFERROR(OFFSET($G$143,MATCH(\"Natural Gas Fired Heater\",$G$144,0),1),0))),((IFERROR(OFFSET($G$158,MATCH(\"Natural Gas Fired Heater\",$G$159,0),1),0))))","v":0},"MMCF/hr",{"$f":"SUM((IFERROR(OFFSET($G$23,MATCH(\"Natural Gas Fired Heater\",$G$24,0),2),0)),((IFERROR(OFFSET($G$37,MATCH(\"Natural Gas Fired Heater\",$G$38,0),2),0))),((IFERROR(OFFSET($G$52,MATCH(\"Natural Gas Fired Heater\",$G$53,0),2),0))),((IFERROR(OFFSET($G$67,MATCH(\"Natural Gas Fired Heater\",$G$68,0),2),0))),((IFERROR(OFFSET($G$82,MATCH(\"Natural Gas Fired Heater\",$G$83,0),2),0))),((IFERROR(OFFSET($G$98,MATCH(\"Natural Gas Fired Heater\",$G$99,0),2),0))),((IFERROR(OFFSET($G$113,MATCH(\"Natural Gas Fired Heater\",$G$114,0),2),0))),((IFERROR(OFFSET($G$128,MATCH(\"Natural Gas Fired Heater\",$G$129,0),2),0))),((IFERROR(OFFSET($G$143,MATCH(\"Natural Gas Fired Heater\",$G$144,0),2),0))),((IFERROR(OFFSET($G$158,MATCH(\"Natural Gas Fired Heater\",$G$159,0),2),0))))","v":0},null,null,null,"MMCF/yr"]
[null,"Daily Throughput Limit (tons/day):",null,null,"PM2.5",null,null,null,null,null,null,null,"Silo Filling",{"$f":"MAX((IFERROR(OFFSET($G$25,MATCH(\"Silo Filling\",$G$26,0),1),0)),((IFERROR(OFFSET($G$39,MATCH(\"Silo Filling\",$G$40,0),1),0))),((IFERROR(OFFSET($G$54,MATCH(\"Silo Filling\",$G$55,0),1),0))),((IFERROR(OFFSET($G$69,MATCH(\"Silo Filling\",$G$70,0),1),0))),((IFERROR(OFFSET($G$84,MATCH(\"Silo Filling\",$G$85,0),1),0))),((IFERROR(OFFSET($G$100,MATCH(\"Silo Filling\",$G$101,0),1),0))),((IFERROR(OFFSET($G$115,MATCH(\"Silo Filling\",$G$116,0),1),0))),((IFERROR(OFFSET($G$130,MATCH(\"Silo Filling\",$G$131,0),1),0))),((IFERROR(OFFSET($G$145,MATCH(\"Silo Filling\",$G$146,0),1),0))),((IFERROR(OFFSET($G$160,MATCH(\"Silo Filling\",$G$161,0),1),0))))","v":0},"tons/hr",{"$f":"SUM((IFERROR(OFFSET($G$25,MATCH(\"Silo Filling\",$G$26,0),2),0)),((IFERROR(OFFSET($G$39,MATCH(\"Silo Filling\",$G$40,0),2),0))),((IFERROR(OFFSET($G$54,MATCH(\"Silo Filling\",$G$55,0),2),0))),((IFERROR(OFFSET($G$69,MATCH(\"Silo Filling\",$G$70,0),2),0))),((IFERROR(OFFSET($G$84,MATCH(\"Silo Filling\",$G$85,0),2),0))),((IFERROR(OFFSET($G$100,MATCH(\"Silo Filling\",$G$101,0),2),0))),((IFERROR(OFFSET($G$115,MATCH(\"Silo Filling\",$G$116,0),2),0))),((IFERROR(OFFSET($G$130,MATCH(\"Silo Filling\",$G$131,0),2),0))),((IFERROR(OFFSET($G$145,MATCH(\"Silo Filling\",$G$146,0),2),0))),((IFERROR(OFFSET($G$160,MATCH(\"Silo Filling\",$G$161,0),2),0))))","v":0},null,null,null,"tons/yr"]
[null,"Hours of Operation Limit (hours/day):",null,null,"PM10",null,null,null,null,null,null,null,"Truck Loadout",{"$f":"MAX((IFERROR(OFFSET(G26,MATCH(\"Truck Loadout\",G27,0),1),0)),((IFERROR(OFFSET(G40,MATCH(\"Truck Loadout\",G41,0),1),0))),((IFERROR(OFFSET(G55,MATCH(\"Truck Loadout\",G56,0),1),0))),((IFERROR(OFFSET(G70,MATCH(\"Truck Loadout\",G71,0),1),0))),((IFERROR(OFFSET(G85,MATCH(\"Truck Loadout\",G86,0),1),0))),((IFERROR(OFFSET(G101,MATCH(\"Truck Loadout\",G102,0),1),0))),((IFERROR(OFFSET(G116,MATCH(\"Truck Loadout\",G117,0),1),0))),((IFERROR(OFFSET(G131,MATCH(\"Truck Loadout\",G132,0),1),0))),((IFERROR(OFFSET(G146,MATCH(\"Truck Loadout\",G147,0),1),0))),((IFERROR(OFFSET(G161,MATCH(\"Truck Loadout\",G162,0),1),0))))","v":0},"tons/hr",{"$f":"SUM((IFERROR(OFFSET(G26,MATCH(\"Truck Loadout\",G27,0),2),0)),((IFERROR(OFFSET(G40,MATCH(\"Truck Loadout\",G41,0),2),0))),((IFERROR(OFFSET(G55,MATCH(\"Truck Loadout\",G56,0),2),0))),((IFERROR(OFFSET(G70,MATCH(\"Truck Loadout\",G71,0),2),0))),((IFERROR(OFFSET(G85,MATCH(\"Truck Loadout\",G86,0),2),0))),((IFERROR(OFFSET(G101,MATCH(\"Truck Loadout\",G102,0),2),0))),((IFERROR(OFFSET(G116,MATCH(\"Truck Loadout\",G117,0),2),0))),((IFERROR(OFFSET(G131,MATCH(\"Truck Loadout\",G132,0),2),0))),((IFERROR(OFFSET(G146,MATCH(\"Truck Loadout\",G147,0),2),0))),((IFERROR(OFFSET(G161,MATCH(\"Truck Loadout\",G162,0),2),0))))","v":0},null,null,null,"tons/yr"]
["Fuel Oil","Note: if the plant has an hrs/day and a tons/hr permit limit, those values",null,null,"SO2",null,null,null,null,null,null,null,"Cold Aggregate Bins",{"$f":"MAX((IFERROR(OFFSET(G27,MATCH(\"Cold Aggregate Bins\",G28,0),1),0)),((IFERROR(OFFSET(G41,MATCH(\"Cold Aggregate Bins\",G42,0),1),0))),((IFERROR(OFFSET(G56,MATCH(\"Cold Aggregate Bins\",G57,0),1),0))),((IFERROR(OFFSET(G71,MATCH(\"Cold Aggregate Bins\",G72,0),1),0))),((IFERROR(OFFSET(G86,MATCH(\"Cold Aggregate Bins\",G87,0),1),0))),((IFERROR(OFFSET(G102,MATCH(\"Cold Aggregate Bins\",G103,0),1),0))),((IFERROR(OFFSET(G117,MATCH(\"Cold Aggregate Bins\",G118,0),1),0))),((IFERROR(OFFSET(G132,MATCH(\"Cold Aggregate Bins\",G133,0),1),0))),((IFERROR(OFFSET(G147,MATCH(\"Cold Aggregate Bins\",G148,0),1),0))),((IFERROR(OFFSET(G162,MATCH(\"Cold Aggregate Bins\",G163,0),1),0))))","v":0},"tons/hr",{"$f":"SUM((IFERROR(OFFSET(G27,MATCH(\"Cold Aggregate Bins\",G28,0),2),0)),((IFERROR(OFFSET(G41,MATCH(\"Cold Aggregate Bins\",G42,0),2),0))),((IFERROR(OFFSET(G56,MATCH(\"Cold Aggregate Bins\",G57,0),2),0))),((IFERROR(OFFSET(G71,MATCH(\"Cold Aggregate Bins\",G72,0),2),0))),((IFERROR(OFFSET(G86,MATCH(\"Cold Aggregate Bins\",G87,0),2),0))),((IFERROR(OFFSET(G102,MATCH(\"Cold Aggregate Bins\",G103,0),2),0))),((IFERROR(OFFSET(G117,MATCH(\"Cold Aggregate Bins\",G118,0),2),0))),((IFERROR(OFFSET(G132,MATCH(\"Cold Aggregate Bins\",G133,0),2),0))),((IFERROR(OFFSET(G147,MATCH(\"Cold Aggregate Bins\",G148,0),2),0))),((IFERROR(OFFSET(G162,MATCH(\"Cold Aggregate Bins\",G163,0),2),0))))","v":0},null,null,null,"tons/yr"]
["Natural Gas","should be multiplied together to calculate a tons/day limit and that value ",null,null,"NOx",null,null,null,null,null,null,null,null,"Maximum (acres)","Actual (acres-day/yr)"]
["Waste Oil","should be placed in cell C11.",null,null,"VOC",null,null,null,null,null,null,null,"Storage Pile",{"$f":"SUM(G32,G46,G61,G76,G91,G107,G122,G137,G152,G167,)","v":0},{"$f":"SUM(H32*I32,H46*I46,H61*I61,H76*I76,H91*I91,H107*I107,H122*I122,H137*I137,H152*I152,H167*I167)","v":0}]
[null,null,null,null,"CO"]
["Batch Mix Plant"]
["Drum Mix Plant",null,null,null,null,null,null,null,null,null,null,null,"Actual Emissions for the Listed Processes at this Plant"]
[null,"Asphalt Plant","Site 1",null,"Emission Point #","Emission     Unit #","Processes","Maximum Hourly     Design Rate",{"$f":"('Facility Information'!G5&\" Annual Throughput\")","v":" Annual Throughput"},null,null,null,"PM2.5","Maximum Design Rate (tons/hr)","Emission Factor","Units","Potential Uncontrolled Emissions (lb/hr)","Potential Controlled Emissions (lb/hr)","Potential Annual Emissions (tons/yr)","Actual Annual Emissions (tons/yr)"]
["YES",null,null,null,null,null,null,null,null,null,null,null,{"$f":"$C$5 & \" - Fuel Oil\"","v":" - Fuel Oil"},{"$f":"N5","v":0},{"$f":"IF(N20=0,0,IF(MAX((IFERROR(OFFSET($G$21,MATCH(M20,$G$22,0),3),0)),((IFERROR(OFFSET($G$35,MATCH(M20,$G$36,0),3),0))),((IFERROR(OFFSET($G$50,MATCH(M20,$G$51,0),3),0))),((IFERROR(OFFSET($G$65,MATCH(M20,$G$66,0),3),0))),((IFERROR(OFFSET($G$80,MATCH(M20,$G$81,0),3),0))),((IFERROR(OFFSET($G$96,MATCH(M20,$G$97,0),3),0))),((IFERROR(OFFSET($G$111,MATCH(M20,$G$112,0),3),0))),((IFERROR(OFFSET($G$126,MATCH(M20,$G$127,0),3),0))),((IFERROR(OFFSET($G$141,MATCH(M20,$G$142,0),3),0))),((IFERROR(OFFSET($G$156,MATCH(M20,$G$157,0),3),0))))=0,0,(MAX((IFERROR(OFFSET($G$21,MATCH(M20,$G$22,0),3),0)),((IFERROR(OFFSET($G$35,MATCH(M20,$G$36,0),3),0))),((IFERROR(OFFSET($G$50,MATCH(M20,$G$51,0),3),0))),((IFERROR(OFFSET($G$65,MATCH(M20,$G$66,0),3),0))),((IFERROR(OFFSET($G$80,MATCH(M20,$G$81,0),3),0))),((IFERROR(OFFSET($G$96,MATCH(M20,$G$97,0),3),0))),((IFERROR(OFFSET($G$111,MATCH(M20,$G$112,0),3),0))),((IFERROR(OFFSET($G$126,MATCH(M20,$G$127,0),3),0))),((IFERROR(OFFSET($G$141,MATCH(M20,$G$142,0),3),0))),((IFERROR(OFFSET($G$156,MATCH(M20,$G$157,0),3),0)))))))","v":0},{"$f":"IF(O20=\"\",\"\",\"lb/ton\")","v":"lb/ton"},{"$f":"IF(O20=0.27,N20*O20,IF(O20=1.54,N20*O20,\"\"))","v":""},{"$f":"IF(N20=0,\"\",IF(AND($F$11>0,$O$20>=$O$21,$O$20>=$O$22),$F$11,IF(O20=0.0083,N20*O20,IF(O20=0.007,N20*O20,\"\"))))","v":""},{"$f":"IF(N20=0,0,IF($G$11>0,$G$11,IF(AND(OR($C$10>0,$C$11>0,$C$12>0),$O$20>=$O$21,$O$20>=$O$22),(IF($C$10>0,$C$10*O20/2000,IF($C$11>0,$C$11*365*O20/2000,IF($C$12>0,$C$12*365*O20*N20/2000)))),IF(AND($F$11>0,$O$20>=$O$21,$O$20>=$O$22),$F$11*8760/2000,IF(AND(OR($C$10=\"\",$C$10=0),OR($C$11=\"\",$C$11=0),OR($C$12=\"\",$C$12=0),$F$11=\"\"),IF(R20=\"\",Q20*8760/2000,R20*8760/2000),\"\")))))","v":0},{"$f":"IF(N20=\"\",\"\",SUM((IFERROR(MATCH(M20,$G$22,0)*$I$22*$J$22/2000,0)),(IFERROR(MATCH(M20,$G$36,0)*$I$36*$J$36/2000,0)),(IFERROR(MATCH(M20,$G$51,0)*$I$51*$J$51/2000,0)),(IFERROR(MATCH(M20,$G$66,0)*$I$66*$J$66/2000,0)),(IFERROR(MATCH(M20,$G$81,0)*$I$81*$J$81/2000,0)),(IFERROR(MATCH(M20,$G$97,0)*$I$97*$J$97/2000,0)),(IFERROR(MATCH(M20,$G$112,0)*$I$112*$J$112/2000,0)),(IFERROR(MATCH(M20,$G$127,0)*$I$127*$J$127/2000,0)),(IFERROR(MATCH(M20,$G$142,0)*$I$142*$J$142/2000,0)),(IFERROR(MATCH(M20,$G$157,0)*$I$157*$J$157/2000,0))))","v":0}]
["NO","Site Name:",null,null,"Dryer, Hot Screens, Mixer",null,null,"(tons/hr)","(tons/yr)","PM2.5","PM10",null,{"$f":"$C$5 & \" - Waste Oil\"","v":" - Waste Oil"},{"$f":"N6","v":0},{"$f":"IF(N21=0,0,IF(MAX((IFERROR(OFFSET($G$21,MATCH(M21,$G$22,0),3),0)),((IFERROR(OFFSET($G$35,MATCH(M21,$G$36,0),3),0))),((IFERROR(OFFSET($G$50,MATCH(M21,$G$51,0),3),0))),((IFERROR(OFFSET($G$65,MATCH(M21,$G$66,0),3),0))),((IFERROR(OFFSET($G$80,MATCH(M21,$G$81,0),3),0))),((IFERROR(OFFSET($G$96,MATCH(M21,$G$97,0),3),0))),((IFERROR(OFFSET($G$111,MATCH(M21,$G$112,0),3),0))),((IFERROR(OFFSET($G$126,MATCH(M21,$G$127,0),3),0))),((IFERROR(OFFSET($G$141,MATCH(M21,$G$142,0),3),0))),((IFERROR(OFFSET($G$156,MATCH(M21,$G$157,0),3),0))))=0,0,(MAX((IFERROR(OFFSET($G$21,MATCH(M21,$G$22,0),3),0)),((IFERROR(OFFSET($G$35,MATCH(M21,$G$36,0),3),0))),((IFERROR(OFFSET($G$50,MATCH(M21,$G$51,0),3),0))),((IFERROR(OFFSET($G$65,MATCH(M21,$G$66,0),3),0))),((IFERROR(OFFSET($G$80,MATCH(M21,$G$81,0),3),0))),((IFERROR(OFFSET($G$96,MATCH(M21,$G$97,0),3),0))),((IFERROR(OFFSET($G$111,MATCH(M21,$G$112,0),3),0))),((IFERROR(OFFSET($G$126,MATCH(M21,$G$127,0),3),0))),((IFERROR(OFFSET($G$141,MATCH(M21,$G$142,0),3),0))),((IFERROR(OFFSET($G$156,MATCH(M21,$G$157,0),3),0)))))))","v":0},"lb/ton",{"$f":"IF(O21=0.27,N21*O21,IF(O21=1.54,N21*O21,\"\"))","v":""},{"$f":"IF(N21=0,\"\",IF(AND($F$11>0,$O$21>$O$20,$O$21>=$O$22),$F$11,IF(O21=0.0083,N21*O21,IF(O21=0.007,N21*O21,\"\"))))","v":""},{"$f":"IF(N21=0,0,IF($G$11>0,IF(S20=0,G11,\"\"),IF(AND(OR($C$10>0,$C$11>0,$C$12>0),$O$21>$O$20,$O$21>=$O$22),(IF($C$10>0,$C$10*O21/2000,IF($C$11>0,$C$11*365*O21/2000,IF($C$12>0,$C$12*365*O21*N21/2000)))),IF(AND($F$11>0,$O$21>$O$20,$O$21>=$O$22),$F$11*8760/2000,IF(AND(OR($C$10=\"\",$C$10=0),OR($C$11=\"\",$C$11=0),OR($C$12=\"\",$C$12=0),$F$11=\"\"),IF(R21=\"\",Q21*8760/2000,R21*8760/2000),\"\")))))","v":0},{"$f":"IF(N21=\"\",\"\",SUM((IFERROR(MATCH(M21,$G$22,0)*$I$22*$J$22/2000,0)),(IFERROR(MATCH(M21,$G$36,0)*$I$36*$J$36/2000,0)),(IFERROR(MATCH(M21,$G$51,0)*$I$51*$J$51/2000,0)),(IFERROR(MATCH(M21,$G$66,0)*$I$66*$J$66/2000,0)),(IFERROR(MATCH(M21,$G$81,0)*$I$81*$J$81/2000,0)),(IFERROR(MATCH(M21,$G$97,0)*$I$97*$J$97/2000,0)),(IFERROR(MATCH(M21,$G$112,0)*$I$112*$J$112/2000,0)),(IFERROR(MATCH(M21,$G$127,0)*$I$127*$J$127/2000,0)),(IFERROR(MATCH(M21,$G$142,0)*$I$142*$J$142/2000,0)),(IFERROR(MATCH(M21,$G$157,0)*$I$157*$J$157/2000,0))))","v":0}]
[null,"County:",null,null,{"$f":"IF($C$4>0,\"AP-6 EP-1\",\"\")","v":""},{"$f":"IF($C$4>0,\"AP-6 EU-1\",\"\")","v":""},{"$f":"IF(C24=\"\",\"\",C5 & \" - \"&C24)","v":""},null,null,{"$f":"IF(C25=\"\",\"\",IF(C25=\"yes\",LOOKUP(G22,'Emission Factors'!$A$12:$A$17,'Emission Factors'!$D$12:$D$17),LOOKUP(G22,'Emission Factors'!$A$5:$A$10,'Emission Factors'!$D$5:$D$10)))","v":""},{"$f":"IF(C25=\"\",\"\",IF(C25=\"yes\",LOOKUP(G22,'Emission Factors'!$A$12:$A$17,'Emission Factors'!$F$12:$F$17),LOOKUP(G22,'Emission Factors'!$A$5:$A$10,'Emission Factors'!$F$5:$F$10)))","v":""},null,{"$f":"$C$5 & \" - Natural Gas\"","v":" - Natural Gas"},{"$f":"N7","v":0},{"$f":"IF(N22=0,0,IF(MAX((IFERROR(OFFSET($G$21,MATCH(M22,$G$22,0),3),0)),((IFERROR(OFFSET($G$35,MATCH(M22,$G$36,0),3),0))),((IFERROR(OFFSET($G$50,MATCH(M22,$G$51,0),3),0))),((IFERROR(OFFSET($G$65,MATCH(M22,$G$66,0),3),0))),((IFERROR(OFFSET($G$80,MATCH(M22,$G$81,0),3),0))),((IFERROR(OFFSET($G$96,MATCH(M22,$G$97,0),3),0))),((IFERROR(OFFSET($G$111,MATCH(M22,$G$112,0),3),0))),((IFERROR(OFFSET($G$126,MATCH(M22,$G$127,0),3),0))),((IFERROR(OFFSET($G$141,MATCH(M22,$G$142,0),3),0))),((IFERROR(OFFSET($G$156,MATCH(M22,$G$157,0),3),0))))=0,0,(MAX((IFERROR(OFFSET($G$21,MATCH(M22,$G$22,0),3),0)),((IFERROR(OFFSET($G$35,MATCH(M22,$G$36,0),3),0))),((IFERROR(OFFSET($G$50,MATCH(M22,$G$51,0),3),0))),((IFERROR(OFFSET($G$65,MATCH(M22,$G$66,0),3),0))),((IFERROR(OFFSET($G$80,MATCH(M22,$G$81,0),3),0))),((IFERROR(OFFSET($G$96,MATCH(M22,$G$97,0),3),0))),((IFERROR(OFFSET($G$111,MATCH(M22,$G$112,0),3),0))),((IFERROR(OFFSET($G$126,MATCH(M22,$G$127,0),3),0))),((IFERROR(OFFSET($G$141,MATCH(M22,$G$142,0),3),0))),((IFERROR(OFFSET($G$156,MATCH(M22,$G$157,0),3),0)))))))","v":0},"lb/ton",{"$f":"IF(O22=0.27,N22*O22,IF(O22=1.54,N22*O22,\"\"))","v":""},{"$f":"IF(N22=0,\"\",IF(AND($F$11>0,$O$22>$O$20,$O$22>$O$20),$F$11,IF(O22=0.0083,N22*O22,IF(O22=0.007,N22*O22,\"\"))))","v":""},{"$f":"IF(N22=0,0,IF($G$11>0,IF(AND(S20=0,S21=0),\"\"),IF(AND(OR($C$10>0,$C$11>0,$C$12>0),$O$22>$O$20,$O$22>$O$20),(IF($C$10>0,$C$10*O22/2000,IF($C$11>0,$C$11*365*O22/2000,IF($C$12>0,$C$12*365*O22*N22/2000)))),IF(AND($F$11>0,$O$22>$O$20,$O$22>$O$20),$F$11*8760/2000,IF(AND(OR($C$10=\"\",$C$10=0),OR($C$11=\"\",$C$11=0),OR($C$12=\"\",$C$12=0),$F$11=\"\"),IF(R22=\"\",Q22*8760/2000,R22*8760/2000),\"\")))))","v":0},{"$f":"IF(N22=\"\",\"\",SUM((IFERROR(MATCH(M22,$G$22,0)*$I$22*$J$22/2000,0)),(IFERROR(MATCH(M22,$G$36,0)*$I$36*$J$36/2000,0)),(IFERROR(MATCH(M22,$G$51,0)*$I$51*$J$51/2000,0)),(IFERROR(MATCH(M22,$G$66,0)*$I$66*$J$66/2000,0)),(IFERROR(MATCH(M22,$G$81,0)*$I$81*$J$81/2000,0)),(IFERROR(MATCH(M22,$G$97,0)*$I$97*$J$97/2000,0)),(IFERROR(MATCH(M22,$G$112,0)*$I$112*$J$112/2000,0)),(IFERROR(MATCH(M22,$G$127,0)*$I$127*$J$127/2000,0)),(IFERROR(MATCH(M22,$G$142,0)*$I$142*$J$142/2000,0)),(IFERROR(MATCH(M22,$G$157,0)*$I$157*$J$157/2000,0))))","v":0}]
[null,"Production Period (Dates):",null,null,"Liquid Asphalt Heater",null,null,{"$f":"IF(C24=\"natural gas\", \"(MMCF/hr)\",\"(gallons/hr)\")","v":"(gallons/hr)"},{"$f":"IF(C24=\"natural gas\", \"(MMCF/yr)\",\"(gallons/yr)\")","v":"(gallons/yr)"},null,null,null,"Silo Filling",{"$f":"N11","v":0},{"$f":"IF(N23=0,0,IF(N23=0,0,LOOKUP(M23,'Emission Factors'!$A$23:$A$25,'Emission Factors'!$D$23:$D$25)))","v":0},"lb/ton",{"$f":"N23*O23","v":0},null,{"$f":"IF($G$11>0,\"\",IF($C$10>0,$C$10*O23/2000,IF($C$11>0,$C$11*365*O23/2000,IF($C$12>0,$C$12*365*O23*N23/2000,IF($F$11>0,\"\",IF(R23=\"\",Q23*8760/2000,R23*8760/2000))))))","v":0},{"$f":"(P11*O23/2000)","v":0}]
[null,"Type of Fuel Used:",null,null,{"$f":"IF($C$4>0,\"AP-6 EP-2\",\"\")","v":""},{"$f":"IF($C$4>0,\"AP-6 EU-2\",\"\")","v":""},{"$f":"IF(C24=\"\",\"\",C24& \" Fired Heater\")","v":""},null,null,null,null,null,"Truck Loadout",{"$f":"N12","v":0},{"$f":"IF(N24=0,0,IF(N24=0,0,LOOKUP(M24,'Emission Factors'!$A$23:$A$25,'Emission Factors'!$D$23:$D$25)))","v":0},"lb/ton",{"$f":"N24*O24","v":0},null,{"$f":"IF($G$11>0,\"\",IF($C$10>0,$C$10*O24/2000,IF($C$11>0,$C$11*365*O24/2000,IF($C$12>0,$C$12*365*O24*N24/2000,IF($F$11>0,\"\",IF(R24=\"\",Q24*8760/2000,R24*8760/2000))))))","v":0},{"$f":"(P12*O24/2000)","v":0}]
[null,"Is Your Operation Controlled?:",null,null,"Silo Filling, Truck Loadout, Aggregate Transfer",null,null,"(tons/hr)","(tons/yr)",null,null,null,"Cold Aggregate Bins",{"$f":"N13","v":0},{"$f":"IF(N25=0,0,IF(N25=0,0,LOOKUP(M25,'Emission Factors'!A23:A25,'Emission Factors'!D23:D25)))","v":0},"lb/ton",{"$f":"N25*O25","v":0},null,{"$f":"IF($G$11>0,\"\",IF($C$10>0,$C$10*O25/2000,IF($C$11>0,$C$11*365*O25/2000,IF($C$12>0,$C$12*365*O25*N25/2000,IF($F$11>0,\"\",IF(R25=\"\",Q25*8760/2000,R25*8760/2000))))))","v":0},{"$f":"(P13*O25/2000)","v":0}]
[null,null,null,null,{"$f":"IF($C$4>0,\"AP-6 EP-3\",\"\")","v":""},{"$f":"IF($C$4>0,\"AP-6 EU-3\",\"\")","v":""},{"$f":"IF(C5=\"\",\"\",\"Silo Filling\")","v":""},null,null,null,null,null,"PM10"]
[null,null,null,null,{"$f":"IF($C$4>0,\"AP-6 EP-3\",\"\")","v":""},{"$f":"IF($C$4>0,\"AP-6 EU-4\",\"\")","v":""},{"$f":"IF(C5=\"\",\"\",\"Truck Loadout\")","v":""},null,null,null,null,null,{"$f":"$C$5 & \" - Fuel Oil\"","v":" - Fuel Oil"},{"$f":"N5","v":0},{"$f":"IF(N27=0,0,IF(MAX((IFERROR(OFFSET($G$21,MATCH(M27,$G$22,0),4),0)),((IFERROR(OFFSET($G$35,MATCH(M27,$G$36,0),4),0))),((IFERROR(OFFSET($G$50,MATCH(M27,$G$51,0),4),0))),((IFERROR(OFFSET($G$65,MATCH(M27,$G$66,0),4),0))),((IFERROR(OFFSET($G$80,MATCH(M27,$G$81,0),3),0))),((IFERROR(OFFSET($G$96,MATCH(M27,$G$97,0),4),0))),((IFERROR(OFFSET($G$111,MATCH(M27,$G$112,0),4),0))),((IFERROR(OFFSET($G$126,MATCH(M27,$G$127,0),4),0))),((IFERROR(OFFSET($G$141,MATCH(M27,$G$142,0),4),0))),((IFERROR(OFFSET($G$156,MATCH(M27,$G$157,0),4),0))))=0,0,(MAX((IFERROR(OFFSET($G$21,MATCH(M27,$G$22,0),4),0)),((IFERROR(OFFSET($G$35,MATCH(M27,$G$36,0),4),0))),((IFERROR(OFFSET($G$50,MATCH(M27,$G$51,0),4),0))),((IFERROR(OFFSET($G$65,MATCH(M27,$G$66,0),4),0))),((IFERROR(OFFSET($G$80,MATCH(M27,$G$81,0),4),0))),((IFERROR(OFFSET($G$96,MATCH(M27,$G$97,0),4),0))),((IFERROR(OFFSET($G$111,MATCH(M27,$G$112,0),4),0))),((IFERROR(OFFSET($G$126,MATCH(M27,$G$127,0),4),0))),((IFERROR(OFFSET($G$141,MATCH(M27,$G$142,0),4),0))),((IFERROR(OFFSET($G$156,MATCH(M27,$G$157,0),4),0)))))))","v":0},{"$f":"IF(O27=\"\",\"\",\"lb/ton\")","v":"lb/ton"},{"$f":"IF(O27=4.5,N27*O27,IF(O27=6.5,N27*O27,\"\"))","v":""},{"$f":"IF(N27=0,\"\",IF(AND($F$12>0,$O$27>=$O$28,$O$27>=$O$29),$F$12,IF(O27=0.0098,N27*O27,IF(O27=0.023,N27*O27,\"\"))))","v":""},{"$f":"IF(N27=0,0,IF($G$12>0,$G$12,IF(AND(OR($C$10>0,$C$11>0,$C$12>0),$O$27>=$O$28,$O$27>=$O$29),(IF($C$10>0,$C$10*O27/2000,IF($C$11>0,$C$11*365*O27/2000,IF($C$12>0,$C$12*365*O27*N27/2000)))),IF(AND($F$12>0,$O$27>=$O$28,$O$27>=$O$29),$F$12*8760/2000,IF(AND(OR($C$10=\"\",$C$10=0),OR($C$11=\"\",$C$11=0),OR($C$12=\"\",$C$12=0),$F$12=\"\"),IF(R27=\"\",Q27*8760/2000,R27*8760/2000),\"\")))))","v":0},{"$f":"IF(N27=\"\",\"\",SUM((IFERROR(MATCH(M27,$G$22,0)*$I$22*$K$22/2000,0)),(IFERROR(MATCH(M27,$G$36,0)*$I$36*$K$36/2000,0)),(IFERROR(MATCH(M27,$G$51,0)*$I$51*$K$51/2000,0)),(IFERROR(MATCH(M27,$G$66,0)*$I$66*$K$66/2000,0)),(IFERROR(MATCH(M27,$G$81,0)*$I$81*$K$81/2000,0)),(IFERROR(MATCH(M27,$G$97,0)*$I$97*$K$97/2000,0)),(IFERROR(MATCH(M27,$G$112,0)*$I$112*$K$112/2000,0)),(IFERROR(MATCH(M27,$G$127,0)*$I$127*$K$127/2000,0)),(IFERROR(MATCH(M27,$G$142,0)*$I$142*$K$142/2000,0)),(IFERROR(MATCH(M27,$G$157,0)*$I$157*$K$157/2000,0))))","v":0}]
[null,null,null,null,{"$f":"IF($C$4>0,\"AP-6 EP-3\",\"\")","v":""},{"$f":"IF($C$4>0,\"AP-6 EU-5\",\"\")","v":""},{"$f":"IF(C5=\"\",\"\",\"Cold Aggregate Bins\")","v":""},null,null,null,null,null,{"$f":"$C$5 & \" - Waste Oil\"","v":" - Waste Oil"},{"$f":"N6","v":0},{"$f":"IF(N28=0,0,IF(MAX((IFERROR(OFFSET($G$21,MATCH(M28,$G$22,0),4),0)),((IFERROR(OFFSET($G$35,MATCH(M28,$G$36,0),4),0))),((IFERROR(OFFSET($G$50,MATCH(M28,$G$51,0),4),0))),((IFERROR(OFFSET($G$65,MATCH(M28,$G$66,0),4),0))),((IFERROR(OFFSET($G$80,MATCH(M28,$G$81,0),3),0))),((IFERROR(OFFSET($G$96,MATCH(M28,$G$97,0),4),0))),((IFERROR(OFFSET($G$111,MATCH(M28,$G$112,0),4),0))),((IFERROR(OFFSET($G$126,MATCH(M28,$G$127,0),4),0))),((IFERROR(OFFSET($G$141,MATCH(M28,$G$142,0),4),0))),((IFERROR(OFFSET($G$156,MATCH(M28,$G$157,0),4),0))))=0,0,(MAX((IFERROR(OFFSET($G$21,MATCH(M28,$G$22,0),4),0)),((IFERROR(OFFSET($G$35,MATCH(M28,$G$36,0),4),0))),((IFERROR(OFFSET($G$50,MATCH(M28,$G$51,0),4),0))),((IFERROR(OFFSET($G$65,MATCH(M28,$G$66,0),4),0))),((IFERROR(OFFSET($G$80,MATCH(M28,$G$81,0),4),0))),((IFERROR(OFFSET($G$96,MATCH(M28,$G$97,0),4),0))),((IFERROR(OFFSET($G$111,MATCH(M28,$G$112,0),4),0))),((IFERROR(OFFSET($G$126,MATCH(M28,$G$127,0),4),0))),((IFERROR(OFFSET($G$141,MATCH(M28,$G$142,0),4),0))),((IFERROR(OFFSET($G$156,MATCH(M28,$G$157,0),4),0)))))))","v":0},"lb/ton",{"$f":"IF(O28=4.5,N28*O28,IF(O28=6.5,N28*O28,\"\"))","v":""},{"$f":"IF(N28=0,\"\",IF(AND($F$12>0,$O$28>$O$27,$O$28>=$O$29),$F$12,IF(O28=0.0098,N28*O28,IF(O28=0.023,N28*O28,\"\"))))","v":""},{"$f":"IF(N28=0,0,IF($G$12>0,IF(S27=0,$G$12,\"\"),IF(AND(OR($C$10>0,$C$11>0,$C$12>0),$O$28>$O$27,$O$28>=$O$29),(IF($C$10>0,$C$10*O28/2000,IF($C$11>0,$C$11*365*O28/2000,IF($C$12>0,$C$12*365*O28*N28/2000)))),IF(AND($F$12>0,$O$28>$O$27,$O$28>=$O$29),$F$12*8760/2000,IF(AND(OR($C$10=\"\",$C$10=0),OR($C$11=\"\",$C$11=0),OR($C$12=\"\",$C$12=0),$F$12=\"\"),IF(R28=\"\",Q28*8760/2000,R28*8760/2000),\"\")))))","v":0},{"$f":"IF(N28=\"\",\"\",SUM((IFERROR(MATCH(M28,$G$22,0)*$I$22*$K$22/2000,0)),(IFERROR(MATCH(M28,$G$36,0)*$I$36*$K$36/2000,0)),(IFERROR(MATCH(M28,$G$51,0)*$I$51*$K$51/2000,0)),(IFERROR(MATCH(M28,$G$66,0)*$I$66*$K$66/2000,0)),(IFERROR(MATCH(M28,$G$81,0)*$I$81*$K$81/2000,0)),(IFERROR(MATCH(M28,$G$97,0)*$I$97*$K$97/2000,0)),(IFERROR(MATCH(M28,$G$112,0)*$I$112*$K$112/2000,0)),(IFERROR(MATCH(M28,$G$127,0)*$I$127*$K$127/2000,0)),(IFERROR(MATCH(M28,$G$142,0)*$I$142*$K$142/2000,0)),(IFERROR(MATCH(M28,$G$157,0)*$I$157*$K$157/2000,0))))","v":0}]
[null,null,null,null,null,null,null,null,null,null,null,null,{"$f":"$C$5 & \" - Natural Gas\"","v":" - Natural Gas"},{"$f":"N7","v":0},{"$f":"IF(N29=0,0,IF(MAX((IFERROR(OFFSET($G$21,MATCH(M29,$G$22,0),4),0)),((IFERROR(OFFSET($G$35,MATCH(M29,$G$36,0),4),0))),((IFERROR(OFFSET($G$50,MATCH(M29,$G$51,0),4),0))),((IFERROR(OFFSET($G$65,MATCH(M29,$G$66,0),4),0))),((IFERROR(OFFSET($G$80,MATCH(M29,$G$81,0),3),0))),((IFERROR(OFFSET($G$96,MATCH(M29,$G$97,0),4),0))),((IFERROR(OFFSET($G$111,MATCH(M29,$G$112,0),4),0))),((IFERROR(OFFSET($G$126,MATCH(M29,$G$127,0),4),0))),((IFERROR(OFFSET($G$141,MATCH(M29,$G$142,0),4),0))),((IFERROR(OFFSET($G$156,MATCH(M29,$G$157,0),4),0))))=0,0,(MAX((IFERROR(OFFSET($G$21,MATCH(M29,$G$22,0),4),0)),((IFERROR(OFFSET($G$35,MATCH(M29,$G$36,0),4),0))),((IFERROR(OFFSET($G$50,MATCH(M29,$G$51,0),4),0))),((IFERROR(OFFSET($G$65,MATCH(M29,$G$66,0),4),0))),((IFERROR(OFFSET($G$80,MATCH(M29,$G$81,0),4),0))),((IFERROR(OFFSET($G$96,MATCH(M29,$G$97,0),4),0))),((IFERROR(OFFSET($G$111,MATCH(M29,$G$112,0),4),0))),((IFERROR(OFFSET($G$126,MATCH(M29,$G$127,0),4),0))),((IFERROR(OFFSET($G$141,MATCH(M29,$G$142,0),4),0))),((IFERROR(OFFSET($G$156,MATCH(M29,$G$157,0),4),0)))))))","v":0},"lb/ton",{"$f":"IF(O29=4.5,N29*O29,IF(O29=6.5,N29*O29,\"\"))","v":""},{"$f":"IF(N29=0,\"\",IF(AND($F$12>0,$O$29>$O$27,$O$29>$O$28),$F$12,IF(O29=0.0098,N29*O29,IF(O29=0.023,N29*O29,\"\"))))","v":""},{"$f":"IF(N29=0,0,IF($G$12>0,IF(AND(S27=0,S28=0),$G$12,\"\"),IF(AND(OR($C$10>0,$C$11>0,$C$12>0),$O$29>$O$27,$O$29>$O$28),(IF($C$10>0,$C$10*O29/2000,IF($C$11>0,$C$11*365*O29/2000,IF($C$12>0,$C$12*365*O29*N29/2000)))),IF(AND($F$12>0,$O$29>$O$27,$O$29>$O$28),$F$12*8760/2000,IF(AND(OR($C$10=\"\",$C$10=0),OR($C$11=\"\",$C$11=0),OR($C$12=\"\",$C$12=0),$F$12=\"\"),IF(R29=\"\",Q29*8760/2000,R29*8760/2000),\"\")))))","v":0},{"$f":"IF(N29=\"\",\"\",SUM((IFERROR(MATCH(M29,$G$22,0)*$I$22*$K$22/2000,0)),(IFERROR(MATCH(M29,$G$36,0)*$I$36*$K$36/2000,0)),(IFERROR(MATCH(M29,$G$51,0)*$I$51*$K$51/2000,0)),(IFERROR(MATCH(M29,$G$66,0)*$I$66*$K$66/2000,0)),(IFERROR(MATCH(M29,$G$81,0)*$I$81*$K$81/2000,0)),(IFERROR(MATCH(M29,$G$97,0)*$I$97*$K$97/2000,0)),(IFERROR(MATCH(M29,$G$112,0)*$I$112*$K$112/2000,0)),(IFERROR(MATCH(M29,$G$127,0)*$I$127*$K$127/2000,0)),(IFERROR(MATCH(M29,$G$142,0)*$I$142*$K$142/2000,0)),(IFERROR(MATCH(M29,$G$157,0)*$I$157*$K$157/2000,0))))","v":0}]
[null,null,null,null,"Stock Pile Area",null,null,null,null,null,null,null,"Silo Filling",{"$f":"N11","v":0},{"$f":"IF(N30=0,0,IF(N30=0,0,LOOKUP(M30,'Emission Factors'!$A$23:$A$25,'Emission Factors'!$F$23:$F$25)))","v":0},"lb/ton",{"$f":"N30*O30","v":0},null,{"$f":"IF($G$12>0,\"\",IF($C$10>0,$C$10*O30/2000,IF($C$11>0,$C$11*365*O30/2000,IF($C$12>0,$C$12*365*O30*N30/2000,IF($F$11>0,\"\",IF(R30=\"\",Q30*8760/2000,R30*8760/2000))))))","v":0},{"$f":"(P11*O30/2000)","v":0}]
[null,null,null,null,null,"Emission Unit #","Maximum Storage Area (acres)","Actual Storage Area (acres)","Actual Days in Existence (days)",null,null,null,"Truck Loadout",{"$f":"N12","v":0},{"$f":"IF(N31=0,0,IF(N31=0,0,LOOKUP(M31,'Emission Factors'!$A$23:$A$25,'Emission Factors'!$F$23:$F$25)))","v":0},"lb/ton",{"$f":"N31*O31","v":0},null,{"$f":"IF($G$12>0,\"\",IF($C$10>0,$C$10*O31/2000,IF($C$11>0,$C$11*365*O31/2000,IF($C$12>0,$C$12*365*O31*N31/2000,IF($F$11>0,\"\",IF(R31=\"\",Q31*8760/2000,R31*8760/2000))))))","v":0},{"$f":"(P12*O31/2000)","v":0}]
[null,null,null,null,null,null,null,null,null,null,null,null,"Cold Aggregate Bins",{"$f":"N13","v":0},{"$f":"IF(N32=0,0,IF(N32=0,0,LOOKUP(M32,'Emission Factors'!$A$23:$A$25,'Emission Factors'!$F$23:$F$25)))","v":0},"lb/ton",{"$f":"N32*O32","v":0},null,{"$f":"IF($G$12>0,\"\",IF($C$10>0,$C$10*O32/2000,IF($C$11>0,$C$11*365*O32/2000,IF($C$12>0,$C$12*365*O32*N32/2000,IF($F$11>0,\"\",IF(R32=\"\",Q32*8760/2000,R32*8760/2000))))))","v":0},{"$f":"(P13*O32/2000)","v":0}]
[]
[null,{"$f":"IF($C$4>1,\"Asphalt Plant\",\"\")","v":""},{"$f":"IF($C$4>1,\"Site 2\",\"\")","v":""},null,{"$f":"IF($C$4>1,\"Emission Point #\",\"\")","v":""},{"$f":"IF($C$4>1,\"Emission    Unit #\",\"\")","v":""},{"$f":"IF($C$4>1,\"Process\",\"\")","v":""},{"$f":"IF($C$4>1,\"Maximum Hourly     Design Rate\",\"\")","v":""},{"$f":"IF($C$4>1,('Facility Information'!G20&\" Annual Throughput\"),\"\")","v":""},null,null,null,null,"Storage Pile","Max Design Rate (acres)","Emission Factor   (lb/acre-day)","Potential Uncontrolled Emissions (lb/hr)","Potential Controlled Emissions (lb/hr)","Potential Annual Emissions (tons/yr)","Actual Annual Emissions (tons/yr)"]
[null,{"$f":"IF($C$4>1,\"Site Name\",\"\")","v":""},null,null,{"$f":"IF($C$4>1,\"Dryers, Hot Screens, Mixer\",\"\")","v":""},null,null,{"$f":"IF($C$4>1,\"(tons/hr)\",\"\")","v":""},{"$f":"IF($C$4>1,\"(tons/yr)\",\"\")","v":""},"PM2.5","PM10",null,null,"PM2.5/PM10",{"$f":"N15","v":0},3.64,{"$f":"O35*P35*(1/24)","v":0},null,{"$f":"O35*P35*365/2000","v":0},{"$f":"O15*P35/2000","v":0}]
[null,{"$f":"IF($C$4>1,\"County:\",\"\")","v":""},null,null,{"$f":"IF(C38=\"\",\"\",\"AP-6 EP-1\")","v":""},{"$f":"IF(C38=\"\",\"\",\"AP-6 EU-1\")","v":""},{"$f":"IF(C38=\"\",\"\",C5 & \" - \"&C38)","v":""},null,null,{"$f":"IF(C39=\"\",\"\",IF(C39=\"yes\",LOOKUP(G36,'Emission Factors'!$A$12:$A$17,'Emission Factors'!$D$12:$D$17),LOOKUP(G36,'Emission Factors'!$A$5:$A$10,'Emission Factors'!$D$5:$D$10)))","v":""},{"$f":"IF(C39=\"\",\"\",IF(C39=\"yes\",LOOKUP(G36,'Emission Factors'!$A$12:$A$17,'Emission Factors'!$F$12:$F$17),LOOKUP(G36,'Emission Factors'!$A$5:$A$10,'Emission Factors'!$F$5:$F$10)))","v":""}]
[null,{"$f":"IF($C$4>1,\"Production Period (Dates):\",\"\")","v":""},null,null,{"$f":"IF($C$4>1,\"Liquid Asphalt Heater\",\"\")","v":""},null,null,{"$f":"IF($C$4>1,IF(C38=\"natural gas\",\"MMCF/hr\",\"(gallons/hr)\"),\"\")","v":""},{"$f":"IF($C$4>1,IF(C38=\"natural gas\",\"MMCF/yr\",\"(gallons/yr)\"),\"\")","v":""},null,null,null,"SO2"]
[null,{"$f":"IF($C$4>1,\"Type of Fuel Used:\",\"\")","v":""},null,null,{"$f":"IF(C38=\"\",\"\",\"AP-6 EP-2\")","v":""},{"$f":"IF(C38=\"\",\"\",\"AP-6 EU-2\")","v":""},{"$f":"IF(C38=\"\",\"\",C38& \" Fired Heater\")","v":""},null,null,null,null,null,{"$f":"$C$5 & \" - Fuel Oil\"","v":" - Fuel Oil"},{"$f":"$N$5","v":0},{"$f":"IF(N38=0,0,LOOKUP(M38,'Emission Factors'!$A$5:$A$10,'Emission Factors'!$H$5:$H$10))","v":0},{"$f":"IF(O38=\"\",\"\",\"lb/ton\")","v":"lb/ton"},{"$f":"N38*O38","v":0},{"$f":"IF(N38=0,\"\",IF(AND($F$13>0,N39=0),$F$13,\"\"))","v":""},{"$f":"IF(N38=0,0,IF($G$13>0,$G$13,IF(OR(AND($C$10>0,$N$39>0),AND($C$11>0,$N$39>0),AND($C$12>0,$N$39>0)),\"\",IF($C$10>0,$C$10*O38/2000,IF($C$11>0,$C$11*365*O38/2000,IF($C$12>0,$C$12*365*O38*N38/2000,IF(AND(N39>0,F13>0),\"\",IF(R38=\"\",Q38*8760/2000,R38*8760/2000))))))))","v":0},{"$f":"P5*O38/2000","v":0}]
[null,{"$f":"IF($C$4>1,\"Is Your Operation Controlled?:\",\"\")","v":""},null,null,{"$f":"IF($C$4>1,\"Silo Filling, Truck Loadout, Aggregate Transfer\",\"\")","v":""},null,null,{"$f":"IF($C$4>1,\"(tons/hr)\",\"\")","v":""},{"$f":"IF($C$4>1,\"(tons/yr)\",\"\")","v":""},null,null,null,{"$f":"$C$5 & \" - Waste Oil\"","v":" - Waste Oil"},{"$f":"$N$6","v":0},{"$f":"IF(N39=0,0,LOOKUP(M39,'Emission Factors'!$A$5:$A$10,'Emission Factors'!$H$5:$H$10))","v":0},{"$f":"IF(O39=\"\",\"\",\"lb/ton\")","v":"lb/ton"},{"$f":"N39*O39","v":0},{"$f":"IF(N39=0,\"\",IF($F$13>0,$F$13,\"\"))","v":""},{"$f":"IF(N39=0,0,IF($G$13>0,IF(S38=0,G13,\"\"),IF($C$10>0,$C$10*O39/2000,IF($C$11>0,$C$11*365*O39/2000,IF($C$12>0,$C$12*365*O39*N39/2000,IF(R39=\"\",Q39*8760/2000,R39*8760/2000))))))","v":0},{"$f":"P6*O39/2000","v":0}]
[null,null,null,null,{"$f":"IF($C$4>1,\"AP-6 EP-3\",\"\")","v":""},{"$f":"IF($C$4>1,\"AP-6 EU-3\",\"\")","v":""},{"$f":"IF($C$4>1,\"Silo Filling\",\"\")","v":""},null,null,null,null,null,{"$f":"$C$5 & \" - Natural Gas\"","v":" - Natural Gas"},{"$f":"$N$7","v":0},{"$f":"IF(N40=0,0,LOOKUP(M40,'Emission Factors'!$A$5:$A$10,'Emission Factors'!$H$5:$H$10))","v":0},{"$f":"IF(O40=\"\",\"\",\"lb/ton\")","v":"lb/ton"},{"$f":"N40*O40","v":0},{"$f":"IF(N40=0,\"\",IF(AND($F$13>0,N38=0,N39=0),$F$13,\"\"))","v":""},{"$f":"IF(N40=0,0,IF($G$13>0,IF(AND(S38=0,S39=0),G13,\"\"),IF(OR(AND($C$10>0,$N$39>0),AND($C$11>0,$N$39>0),AND($C$12>0,$N$39>0)),\"\",IF(OR(AND($C$10>0,$N$38>0),AND($C$11>0,$N$38>0),AND($C$12>0,$N$38>0)),\"\",IF($C$10>0,$C$10*O40/2000,IF($C$11>0,$C$11*365*O40/2000,IF($C$12>0,$C$12*365*O40*N40/2000,IF(AND(N39>0,N38>0,F13>0),\"\",IF(R40=\"\",Q40*8760/2000,R40*8760/2000)))))))))","v":0},{"$f":"P7*O40/2000","v":0}]
[null,null,null,null,{"$f":"IF($C$4>1,\"AP-6 EP-3\",\"\")","v":""},{"$f":"IF($C$4>1,\"AP-6 EU-4\",\"\")","v":""},{"$f":"IF($C$4>1,\"Truck Loadout\",\"\")","v":""},null,null,null,null,null,"NOx"]
[null,null,null,null,{"$f":"IF($C$4>1,\"AP-6 EP-3\",\"\")","v":""},{"$f":"IF($C$4>1,\"AP-6 EU-5\",\"\")","v":""},{"$f":"IF($C$4>1,\"Cold Aggregate Bins\",\"\")","v":""},null,null,null,null,null,{"$f":"$C$5 & \" - Fuel Oil\"","v":" - Fuel Oil"},{"$f":"$N$5","v":0},{"$f":"IF(N42=0,0,LOOKUP(M42,'Emission Factors'!$A$5:$A$10,'Emission Factors'!$J$5:$J$10))","v":0},{"$f":"IF(O42=\"\",\"\",\"lb/ton\")","v":"lb/ton"},{"$f":"N42*O42","v":0},{"$f":"IF(N42=0,\"\",IF(AND($F$14>0,N43=0),$F$14,\"\"))","v":""},{"$f":"IF(N42=0,0,IF($G$14>0,$G$14,IF(OR(AND($C$10>0,$N$43>0),AND($C$11>0,$N$43>0),AND($C$12>0,$N$43>0)),\"\",IF($C$10>0,$C$10*O42/2000,IF($C$11>0,$C$11*365*O42/2000,IF($C$12>0,$C$12*365*O42*N42/2000,IF(AND(N43>0,F14>0),\"\",IF(R42=\"\",Q42*8760/2000,R42*8760/2000))))))))","v":0},{"$f":"P5*O42/2000","v":0}]
[null,null,null,null,null,null,null,null,null,null,null,null,{"$f":"$C$5 & \" - Waste Oil\"","v":" - Waste Oil"},{"$f":"$N$6","v":0},{"$f":"IF(N43=0,0,LOOKUP(M43,'Emission Factors'!$A$5:$A$10,'Emission Factors'!$J$5:$J$10))","v":0},{"$f":"IF(O43=\"\",\"\",\"lb/ton\")","v":"lb/ton"},{"$f":"N43*O43","v":0},{"$f":"IF(N43=0,\"\",IF($F$14>0,$F$14,\"\"))","v":""},{"$f":"IF(N43=0,0,IF($G$14>0,IF(S42=0,G14,\"\"),IF($C$10>0,$C$10*O43/2000,IF($C$11>0,$C$11*365*O43/2000,IF($C$12>0,$C$12*365*O43*N43/2000,IF(R43=\"\",Q43*8760/2000,R43*8760/2000))))))","v":0},{"$f":"P6*O43/2000","v":0}]
[null,null,null,null,{"$f":"IF($C$4>1,\"Stock Pile Area\",\"\")","v":""},null,null,null,null,null,null,null,{"$f":"$C$5 & \" - Natural Gas\"","v":" - Natural Gas"},{"$f":"$N$7","v":0},{"$f":"IF(N44=0,0,LOOKUP(M44,'Emission Factors'!$A$5:$A$10,'Emission Factors'!$J$5:$J$10))","v":0},{"$f":"IF(O44=\"\",\"\",\"lb/ton\")","v":"lb/ton"},{"$f":"N44*O44","v":0},{"$f":"IF(N44=0,\"\",IF(AND($F$14>0,N42=0,N43=0),$F$14,\"\"))","v":""},{"$f":"IF(N44=0,0,IF($G$14>0,IF(AND(S42=0,S43=0),G14,\"\"),IF(OR(AND($C$10>0,$N$43>0),AND($C$11>0,$N$43>0),AND($C$12>0,$N$43>0)),\"\",IF(OR(AND($C$10>0,$N$42>0),AND($C$11>0,$N$42>0),AND($C$12>0,$N$42>0)),\"\",IF($C$10>0,$C$10*O44/2000,IF($C$11>0,$C$11*365*O44/2000,IF($C$12>0,$C$12*365*O44*N44/2000,IF(AND(N42>0,N43>0,F14>0),\"\",IF(R44=\"\",Q44*8760/2000,R44*8760/2000)))))))))","v":0},{"$f":"P7*O44/2000","v":0}]
[null,null,null,null,null,{"$f":"IF($C$4>1,\"Emission Unit #\",\"\")","v":""},{"$f":"IF($C$4>1,\"Maximum Storage Area (acres)\",\"\")","v":""},{"$f":"IF($C$4>1,\"Actual Storage Area (acres)\",\"\")","v":""},{"$f":"IF($C$4>1,\"Actual Days in Existence (days)\",\"\")","v":""},null,null,null,"VOC"]
[null,null,null,null,null,null,null,null,null,null,null,null,{"$f":"$C$5 & \" - Fuel Oil\"","v":" - Fuel Oil"},{"$f":"$N$5","v":0},{"$f":"IF(N46=0,0,LOOKUP(M46,'Emission Factors'!$A$5:$A$10,'Emission Factors'!$L$5:$L$10))","v":0},{"$f":"IF(O46=\"\",\"\",\"lb/ton\")","v":"lb/ton"},{"$f":"N46*O46","v":0},{"$f":"IF(N46=0,\"\",IF(AND($F$15>0,N47=0),$F$15,\"\"))","v":""},{"$f":"IF(N46=0,0,IF($G$15>0,$G$15,IF(OR(AND($C$10>0,$N$47>0),AND($C$11>0,$N$47>0),AND($C$12>0,$N$47>0)),\"\",IF($C$10>0,$C$10*O46/2000,IF($C$11>0,$C$11*365*O46/2000,IF($C$12>0,$C$12*365*O46*N46/2000,IF(AND(N47>0,F15>0),\"\",IF(R46=\"\",Q46*8760/2000,R46*8760/2000))))))))","v":0},{"$f":"P5*O46/2000","v":0}]
[null,null,null,null,null,null,null,null,null,null,null,null,{"$f":"$C$5 & \" - Waste Oil\"","v":" - Waste Oil"},{"$f":"$N$6","v":0},{"$f":"IF(N47=0,0,LOOKUP(M47,'Emission Factors'!$A$5:$A$10,'Emission Factors'!$L$5:$L$10))","v":0},{"$f":"IF(O47=\"\",\"\",\"lb/ton\")","v":"lb/ton"},{"$f":"N47*O47","v":0},{"$f":"IF(N47=0,\"\",IF($F$15>0,$F$15,\"\"))","v":""},{"$f":"IF(N47=0,0,IF($G$15>0,IF(S46=0,G15,\"\"),IF($C$10>0,$C$10*O47/2000,IF($C$11>0,$C$11*365*O47/2000,IF($C$12>0,$C$12*365*O47*N47/2000,IF(R47=\"\",Q47*8760/2000,R47*8760/2000))))))","v":0},{"$f":"P6*O47/2000","v":0}]
[null,{"$f":"IF($C$4>2,\"Asphalt Plant\",\"\")","v":""},{"$f":"IF($C$4>2,\"Site 3\",\"\")","v":""},null,{"$f":"IF($C$4>2,\"Emission Point #\",\"\")","v":""},{"$f":"IF($C$4>2,\"Emission    Unit #\",\"\")","v":""},{"$f":"IF($C$4>2,\"Process\",\"\")","v":""},{"$f":"IF($C$4>2,\"Maximum Hourly     Design Rate\",\"\")","v":""},{"$f":"IF($C$4>2,('Facility Information'!G35&\" Annual Throughput\"),\"\")","v":""},null,null,null,{"$f":"$C$5 & \" - Natural Gas\"","v":" - Natural Gas"},{"$f":"$N$7","v":0},{"$f":"IF(N48=0,0,LOOKUP(M48,'Emission Factors'!$A$5:$A$10,'Emission Factors'!$L$5:$L$10))","v":0},{"$f":"IF(O48=\"\",\"\",\"lb/ton\")","v":"lb/ton"},{"$f":"N48*O48","v":0},{"$f":"IF(N48=0,\"\",IF(AND($F$15>0,N46=0,N47=0),$F$15,\"\"))","v":""},{"$f":"IF(N48=0,0,IF($G$15>0,IF(AND(S46=0,S47=0),G15,\"\"),IF(OR(AND($C$10>0,$N$47>0),AND($C$11>0,$N$47>0),AND($C$12>0,$N$47>0)),\"\",IF(OR(AND($C$10>0,$N$46>0),AND($C$11>0,$N$46>0),AND($C$12>0,$N$46>0)),\"\",IF($C$10>0,$C$10*O48/2000,IF($C$11>0,$C$11*365*O48/2000,IF($C$12>0,$C$12*365*O48*N48/2000,IF(AND(N46>0,N47>0,F15>0),\"\",IF(R48=\"\",Q48*8760/2000,R48*8760/2000)))))))))","v":0},{"$f":"P7*O48/2000","v":0}]
[null,null,null,null,null,null,null,null,null,null,null,null,{"$f":"\"Natural Gas Fired Heater\"","v":"Natural Gas Fired Heater"},{"$f":"N10","v":0},{"$f":"IF(N49=0,0,0.026)","v":0},{"$f":"IF(O49=\"\",\"\",\"lb/MMCF\")","v":"lb/MMCF"},{"$f":"N49*O49","v":0},null,{"$f":"IF(N49=0,0,IF(R49=\"\",Q49*8760/2000,R49*8760/2000))","v":0},{"$f":"($P$10*O49/2000)","v":0}]
[null,{"$f":"IF($C$4>2,\"Site Name\",\"\")","v":""},null,null,{"$f":"IF($C$4>2,\"Dryers, Hot Screens, Mixer\",\"\")","v":""},null,null,{"$f":"IF($C$4>2,\"(tons/hr)\",\"\")","v":""},{"$f":"IF($C$4>2,\"(tons/yr)\",\"\")","v":""},"PM2.5","PM10",null,"Silo Filling",{"$f":"N11","v":0},{"$f":"IF(N50=0,0,IF(N50=0,0,LOOKUP(M50,'Emission Factors'!$A$23:$A$25,'Emission Factors'!$L$23:$L$25)))","v":0},{"$f":"IF(O50=\"\",\"\",\"lb/ton\")","v":"lb/ton"},null,null,null,{"$f":"P11*O50/2000","v":0}]
[null,{"$f":"IF($C$4>2,\"County:\",\"\")","v":""},null,null,{"$f":"IF(C53=\"\",\"\",\"AP-6 EP-1\")","v":""},{"$f":"IF(C53=\"\",\"\",\"AP-6 EU-1\")","v":""},{"$f":"IF(C53=\"\",\"\",C5 & \" - \"&C53)","v":""},null,null,{"$f":"IF(C54=\"\",\"\",IF(C54=\"yes\",LOOKUP(G51,'Emission Factors'!$A$12:$A$17,'Emission Factors'!$D$12:$D$17),LOOKUP(G51,'Emission Factors'!$A$5:$A$10,'Emission Factors'!$D$5:$D$10)))","v":""},{"$f":"IF(C54=\"\",\"\",IF(C54=\"yes\",LOOKUP(G51,'Emission Factors'!$A$12:$A$17,'Emission Factors'!$F$12:$F$17),LOOKUP(G51,'Emission Factors'!$A$5:$A$10,'Emission Factors'!$F$5:$F$10)))","v":""},null,"Truck Loadout",{"$f":"N12","v":0},{"$f":"IF(N51=0,0,IF(N51=0,0,LOOKUP(M51,'Emission Factors'!$A$23:$A$25,'Emission Factors'!$L$23:$L$25)))","v":0},{"$f":"IF(O51=\"\",\"\",\"lb/ton\")","v":"lb/ton"},null,null,null,{"$f":"P12*O51/2000","v":0}]
[null,{"$f":"IF($C$4>2,\"Production Period (Dates):\",\"\")","v":""},null,null,{"$f":"IF($C$4>2,\"Liquid Asphalt Heater\",\"\")","v":""},null,null,{"$f":"IF($C$4>2,IF(C53=\"natural gas\",\"(MMCF/hr)\",\"(gallons/hr)\"),\"\")","v":""},{"$f":"IF($C$4>2,IF(C53=\"natural gas\",\"(MMCF/yr)\",\"(gallons/yr)\"),\"\")","v":""},null,null,null,"CO"]
[null,{"$f":"IF($C$4>2,\"Type of Fuel Used:\",\"\")","v":""},null,null,{"$f":"IF(C53=\"\",\"\",\"AP-6 EP-2\")","v":""},{"$f":"IF(C53=\"\",\"\",\"AP-6 EU-2\")","v":""},{"$f":"IF(C53=\"\",\"\",C53& \" Fired Heater\")","v":""},null,null,null,null,null,{"$f":"IF($C$5=\"\",\"\",$C$5)","v":""},{"$f":"SUM($N$5:$N$7)","v":0},{"$f":"IF(N53=0,0,IF(M53=\"Batch Mix Plant\",0.4,IF(M53=\"Drum Mix Plant\",0.13)))","v":0},{"$f":"IF(O53=\"\",\"\",\"lb/ton\")","v":"lb/ton"},{"$f":"N53*O53","v":0},{"$f":"IF(N53=0,\"\",IF($F$16>0,$F$16,\"\"))","v":""},{"$f":"IF($G$16>0,$G$16,IF(N53=0,0,IF($C$10>0,$C$10*O53/2000,IF($C$11>0,$C$11*365*O53/2000,IF($C$12>0,$C$12*365*O53*N53/2000,IF(R53=\"\",Q53*8760/2000,R53*8760/2000))))))","v":0},{"$f":"SUM($P$5:$P$7)*O53/2000","v":0}]
[null,{"$f":"IF($C$4>2,\"Is Your Operation Controlled?:\",\"\")","v":""},null,null,{"$f":"IF($C$4>2,\"Silo Filling, Truck Loadout, Aggregate Transfer\",\"\")","v":""},null,null,{"$f":"IF($C$4>2,\"(tons/hr)\",\"\")","v":""},{"$f":"IF($C$4>2,\"(tons/yr)\",\"\")","v":""},null,null,null,"Fuel Oil Fired Heater",{"$f":"N8","v":0},{"$f":"IF(N54=0,0,LOOKUP(M54,'Emission Factors'!$A$19:$A$21,'Emission Factors'!$N$19:$N$21))","v":0},{"$f":"IF(O54=\"\",\"\",\"lb/gallon\")","v":"lb/gallon"},{"$f":"N54*O54","v":0},null,{"$f":"IF(N54=0,0,IF($G$16>0,\"\",IF($F$16>0,\"\",IF(R54=\"\",Q54*8760/2000,R54*8760/2000))))","v":0},{"$f":"(P8*O54/2000)","v":0}]
[null,null,null,null,{"$f":"IF($C$4>2,\"AP-6 EP-3\",\"\")","v":""},{"$f":"IF($C$4>2,\"AP-6 EU-3\",\"\")","v":""},{"$f":"IF($C$4>2,\"Silo Filling\",\"\")","v":""},null,null,null,null,null,"Waste Oil Fired Heater",{"$f":"N9","v":0},{"$f":"IF(N55=0,0,LOOKUP(M55,'Emission Factors'!$A$19:$A$21,'Emission Factors'!$N$19:$N$21))","v":0},{"$f":"IF(O55=\"\",\"\",\"lb/gallon\")","v":"lb/gallon"},{"$f":"N55*O55","v":0},null,{"$f":"IF(N55=0,0,IF($G$16>0,\"\",IF($F$16>0,\"\",IF(R55=\"\",Q55*8760/2000,R55*8760/2000))))","v":0},{"$f":"(P9*O55/2000)","v":0}]
[null,null,null,null,{"$f":"IF($C$4>2,\"AP-6 EP-3\",\"\")","v":""},{"$f":"IF($C$4>2,\"AP-6 EU-4\",\"\")","v":""},{"$f":"IF($C$4>2,\"Truck Loadout\",\"\")","v":""},null,null,null,null,null,"Natural Gas Fired Heater",{"$f":"N10","v":0},{"$f":"IF(N56=0,0,LOOKUP(M56,'Emission Factors'!$A$19:$A$21,'Emission Factors'!$N$19:$N$21))","v":0},{"$f":"IF(O56=\"\",\"\",\"lb/MMCF\")","v":"lb/MMCF"},{"$f":"N56*O56","v":0},null,{"$f":"IF(N56=0,0,IF($G$16>0,\"\",IF($F$16>0,\"\",IF(R56=\"\",Q56*8760/2000,R56*8760/2000))))","v":0},{"$f":"($P$10*O56/2000)","v":0}]
[null,null,null,null,{"$f":"IF($C$4>2,\"AP-6 EP-3\",\"\")","v":""},{"$f":"IF($C$4>2,\"AP-6 EU-5\",\"\")","v":""},{"$f":"IF($C$4>2,\"Cold Aggregate Bins\",\"\")","v":""},null,null,null,null,null,"Silo Filling",{"$f":"N11","v":0},{"$f":"IF(N57=0,0,IF(N57=0,0,LOOKUP(M57,'Emission Factors'!$A$23:$A$25,'Emission Factors'!$N$23:$N$25)))","v":0},{"$f":"IF(O57=\"\",\"\",\"lb/ton\")","v":"lb/ton"},null,null,null,{"$f":"P11*O57/2000","v":0}]
[null,null,null,null,null,null,null,null,null,null,null,null,"Truck Loadout",{"$f":"N12","v":0},{"$f":"IF(N58=0,0,IF(N58=0,0,LOOKUP(M58,'Emission Factors'!$A$23:$A$25,'Emission Factors'!$N$23:$N$25)))","v":0},{"$f":"IF(O58=\"\",\"\",\"lb/ton\")","v":"lb/ton"},null,null,null,{"$f":"P12*O58/2000","v":0}]
[null,null,null,null,{"$f":"IF($C$4>2,\"Stock Pile Area\",\"\")","v":""},null,null,null,null,null,null,null,"Acetaldehyde"]
[null,null,null,null,null,{"$f":"IF($C$4>2,\"Emission Unit #\",\"\")","v":""},{"$f":"IF($C$4>2,\"Maximum Storage Area (acres)\",\"\")","v":""},{"$f":"IF($C$4>2,\"Actual Storage Area (acres)\",\"\")","v":""},{"$f":"IF($C$4>2,\"Actual Days in Existence (days)\",\"\")","v":""},null,null,null,{"$f":"IF($C$5=\"\",\"\",$C$5)","v":""},{"$f":"IF(C5=\"drum mix plant\",SUM(N5:$N$6),SUM($N$5:$N$7))","v":0},{"$f":"IF(N60=0,0,IF(M60=\"Batch Mix Plant\",0.00032,IF(M60=\"Drum Mix Plant\",0.0013)))","v":0},{"$f":"IF(O60=\"\",\"\",\"lb/ton\")","v":"lb/ton"},{"$f":"N60*O60","v":0},null,{"$f":"IF(N60=0,0,IF($C$10>0,$C$10*O60/2000,IF($C$11>0,$C$11*365*O60/2000,IF($C$12>0,$C$12*365*O60*N60/2000,IF(R60=\"\",Q60*8760/2000,R60*8760/2000)))))","v":0},{"$f":"IF(C5=\"drum mix plant\",$P$6*O60/2000,SUM($P$5:$P$7)*O60/2000)","v":0}]
[null,null,null,null,null,null,null,null,null,null,null,null,"Acrolein"]
[null,null,null,null,null,null,null,null,null,null,null,null,{"$f":"IF($C$5=\"\",\"\",$C$5)","v":""},{"$f":"IF(C5=\"drum mix plant\",SUM(N5:$N$6),0)","v":0},{"$f":"IF(N62=0,0,0.000026)","v":0},{"$f":"IF(O62=\"\",\"\",\"lb/ton\")","v":"lb/ton"},{"$f":"N62*O62","v":0},null,{"$f":"IF(N62=0,0,IF($C$10>0,$C$10*O62/2000,IF($C$11>0,$C$11*365*O62/2000,IF($C$12>0,$C$12*365*O62*N62/2000,IF(R62=\"\",Q62*8760/2000,R62*8760/2000)))))","v":0},{"$f":"IF(C7=\"drum mix plant\",$P$6*O62/2000,SUM($P$5:$P$7)*O62/2000)","v":0}]
[null,{"$f":"IF($C$4>3,\"Asphalt Plant\",\"\")","v":""},{"$f":"IF($C$4>3,\"Site 4\",\"\")","v":""},null,{"$f":"IF($C$4>3,\"Emission Point #\",\"\")","v":""},{"$f":"IF($C$4>3,\"Emission    Unit #\",\"\")","v":""},{"$f":"IF($C$4>3,\"Process\",\"\")","v":""},{"$f":"IF($C$4>3,\"Maximum Hourly     Design Rate\",\"\")","v":""},{"$f":"IF($C$4>3,('Facility Information'!G50&\" Annual Throughput\"),\"\")","v":""},null,null,null,"Benzene"]
[null,null,null,null,null,null,null,null,null,null,null,null,{"$f":"IF($C$5=\"\",\"\",$C$5)","v":""},{"$f":"SUM($N$5:$N$7)","v":0},{"$f":"IF(N64=0,0,IF(M64=\"Batch Mix Plant\",0.00028,IF(M64=\"Drum Mix Plant\",0.00039)))","v":0},{"$f":"IF(O64=\"\",\"\",\"lb/ton\")","v":"lb/ton"},{"$f":"N64*O64","v":0},null,{"$f":"IF(N64=0,0,IF($C$10>0,$C$10*O64/2000,IF($C$11>0,$C$11*365*O64/2000,IF($C$12>0,$C$12*365*O64*N64/2000,IF(R64=\"\",Q64*8760/2000,R64*8760/2000)))))","v":0},{"$f":"SUM($P$5:$P$7)*O64/2000","v":0}]
[null,{"$f":"IF($C$4>3,\"Site Name\",\"\")","v":""},null," ",{"$f":"IF($C$4>3,\"Dryers, Hot Screens, Mixer\",\"\")","v":""},null,null,{"$f":"IF($C$4>3,\"(tons/hr)\",\"\")","v":""},{"$f":"IF($C$4>3,\"(tons/yr)\",\"\")","v":""},"PM2.5","PM10",null,"Ethylbenzene"]
[null,{"$f":"IF($C$4>3,\"County:\",\"\")","v":""},null,null,{"$f":"IF(C68=\"\",\"\",\"AP-6 EP-1\")","v":""},{"$f":"IF(C68=\"\",\"\",\"AP-6 EU-1\")","v":""},{"$f":"IF(C68=\"\",\"\",C5 & \" - \"&C68)","v":""},null,null,{"$f":"IF(C69=\"\",\"\",IF(C69=\"yes\",LOOKUP(G66,'Emission Factors'!$A$12:$A$17,'Emission Factors'!$D$12:$D$17),LOOKUP(G66,'Emission Factors'!$A$5:$A$10,'Emission Factors'!$D$5:$D$10)))","v":""},{"$f":"IF(C69=\"\",\"\",IF(C69=\"yes\",LOOKUP(G66,'Emission Factors'!$A$12:$A$17,'Emission Factors'!$F$12:$F$17),LOOKUP(G66,'Emission Factors'!$A$5:$A$10,'Emission Factors'!$F$5:$F$10)))","v":""},null,{"$f":"IF($C$5=\"\",\"\",$C$5)","v":""},{"$f":"SUM($N$5:$N$7)","v":0},{"$f":"IF(N66=0,0,IF(M66=\"Batch Mix Plant\",0.0022,IF(M66=\"Drum Mix Plant\",0.00024)))","v":0},{"$f":"IF(O66=\"\",\"\",\"lb/ton\")","v":"lb/ton"},{"$f":"N66*O66","v":0},null,{"$f":"IF(N66=0,0,IF($C$10>0,$C$10*O66/2000,IF($C$11>0,$C$11*365*O66/2000,IF($C$12>0,$C$12*365*O66*N66/2000,IF(R66=\"\",Q66*8760/2000,R66*8760/2000)))))","v":0},{"$f":"SUM($P$5:$P$7)*O66/2000","v":0}]
[null,{"$f":"IF($C$4>3,\"Production Period (Dates):\",\"\")","v":""},null,null,{"$f":"IF($C$4>3,\"Liquid Asphalt Heater\",\"\")","v":""},null,null,{"$f":"IF($C$4>3,IF(C68=\"natural gas\",\"(MMCF/hr)\",\"(gallons/hr)\"),\"\")","v":""},{"$f":"IF($C$4>3,IF(C68=\"natural gas\",\"(MMCF/yr)\",\"(gallons/yr)\"),\"\")","v":""},null,null,null,"Formaldehyde"]
[null,{"$f":"IF($C$4>3,\"Type of Fuel Used:\",\"\")","v":""},null,null,{"$f":"IF(C68=\"\",\"\",\"AP-6 EP-2\")","v":""},{"$f":"IF(C68=\"\",\"\",\"AP-6 EU-2\")","v":""},{"$f":"IF(C68=\"\",\"\",C68& \" Fired Heater\")","v":""},null,null,null,null,null,{"$f":"IF($C$5=\"\",\"\",$C$5)","v":""},{"$f":"SUM($N$5:$N$7)","v":0},{"$f":"IF(N68=0,0,IF(M68=\"Batch Mix Plant\",0.00074,IF(M68=\"Drum Mix Plant\",0.0031)))","v":0},{"$f":"IF(O68=\"\",\"\",\"lb/ton\")","v":"lb/ton"},{"$f":"N68*O68","v":0},null,{"$f":"IF(N68=0,0,IF($C$10>0,$C$10*O68/2000,IF($C$11>0,$C$11*365*O68/2000,IF($C$12>0,$C$12*365*O68*N68/2000,IF(R68=\"\",Q68*8760/2000,R68*8760/2000)))))","v":0},{"$f":"SUM($P$5:$P$7)*O68/2000","v":0}]
[null,{"$f":"IF($C$4>3,\"Is Your Operation Controlled?:\",\"\")","v":""},null,null,{"$f":"IF($C$4>3,\"Silo Filling, Truck Loadout, Aggregate Transfer\",\"\")","v":""},null,null,{"$f":"IF($C$4>3,\"(tons/hr)\",\"\")","v":""},{"$f":"IF($C$4>3,\"(tons/yr)\",\"\")","v":""},null,null,null,{"$f":"\"Natural Gas Fired Heater\"","v":"Natural Gas Fired Heater"},{"$f":"N10","v":0},{"$f":"IF(N69=0,0,0.026)","v":0},{"$f":"IF(O69=\"\",\"\",\"lb/MMCF\")","v":"lb/MMCF"},{"$f":"N69*O69","v":0},null,{"$f":"IF(N69=0,0,IF(R69=\"\",Q69*8760/2000,R69*8760/2000))","v":0},{"$f":"($P$10*O69/2000)","v":0}]
[null,null,null,null,{"$f":"IF($C$4>3,\"AP-6 EP-3\",\"\")","v":""},{"$f":"IF($C$4>3,\"AP-6 EU-3\",\"\")","v":""},{"$f":"IF($C$4>3,\"Silo Filling\",\"\")","v":""},null,null,null,null,null,"Hexane"]
[null,null,null,null,{"$f":"IF($C$4>3,\"AP-6 EP-3\",\"\")","v":""},{"$f":"IF($C$4>3,\"AP-6 EU-4\",\"\")","v":""},{"$f":"IF($C$4>3,\"Truck Loadout\",\"\")","v":""},null,null,null,null,null,{"$f":"IF($C$5=\"\",\"\",$C$5)","v":""},{"$f":"IF(C5=\"drum mix plant\",SUM(N5:N7),0)","v":0},{"$f":"IF(N71=0,0,0.00092)","v":0},{"$f":"IF(O71=\"\",\"\",\"lb/ton\")","v":"lb/ton"},{"$f":"N71*O71","v":0},null,{"$f":"IF(N71=0,0,IF($C$10>0,$C$10*O71/2000,IF($C$11>0,$C$11*365*O71/2000,IF($C$12>0,$C$12*365*O71*N71/2000,IF(R71=\"\",Q71*8760/2000,R71*8760/2000)))))","v":0},{"$f":"IF(N71>0,SUM($P$5:$P$7)*O71/2000,0)","v":0}]
[null,null,null,null,{"$f":"IF($C$4>3,\"AP-6 EP-3\",\"\")","v":""},{"$f":"IF($C$4>3,\"AP-6 EU-5\",\"\")","v":""},{"$f":"IF($C$4>3,\"Cold Aggregate Bins\",\"\")","v":""},null,null,null,null,null,"Hydrochloric Acid"]
[null,null,null,null,null,null,null,null,null,null,null,null,{"$f":"IF($C$5=\"\",\"\",$C$5)","v":""},{"$f":"IF(C5=\"drum mix plant\",SUM(N5:$N$6),0)","v":0},{"$f":"IF(N73=0,0,0.00021)","v":0},{"$f":"IF(O73=\"\",\"\",\"lb/ton\")","v":"lb/ton"},{"$f":"N73*O73","v":0},null,{"$f":"IF(N73=0,0,IF($C$10>0,$C$10*O73/2000,IF($C$11>0,$C$11*365*O73/2000,IF($C$12>0,$C$12*365*O73*N73/2000,IF(R73=\"\",Q73*8760/2000,R73*8760/2000)))))","v":0},{"$f":"IF(N73>0,$P$6*O73/2000,0)","v":0}]
[null,null,null,null,{"$f":"IF($C$4>3,\"Stock Pile Area\",\"\")","v":""},null,null,null,null,null,null,null,"Methyl Chloroform"]
[null,null,null,null,null,{"$f":"IF($C$4>3,\"Emission Unit #\",\"\")","v":""},{"$f":"IF($C$4>3,\"Maximum Storage Area (acres)\",\"\")","v":""},{"$f":"IF($C$4>3,\"Actual Storage Area (acres)\",\"\")","v":""},{"$f":"IF($C$4>3,\"Actual Days in Existence (days)\",\"\")","v":""},null,null,null,{"$f":"IF($C$5=\"\",\"\",$C$5)","v":""},{"$f":"IF(C5=\"drum mix plant\",SUM(N5:N7),0)","v":0},{"$f":"IF(N75=0,0,0.000048)","v":0},{"$f":"IF(O75=\"\",\"\",\"lb/ton\")","v":"lb/ton"},{"$f":"N75*O75","v":0},null,{"$f":"IF(N75=0,0,IF($C$10>0,$C$10*O75/2000,IF($C$11>0,$C$11*365*O75/2000,IF($C$12>0,$C$12*365*O75*N75/2000,IF(R75=\"\",Q75*8760/2000,R75*8760/2000)))))","v":0},{"$f":"IF(N75>0,SUM($P$5:$P$7)*O75/2000,0)","v":0}]
[null,null,null,null,null,null,null,null,null,null,null,null,"Propionaldehyde"]
[null,null,null,null,null,null,null,null,null,null,null,null,{"$f":"IF($C$5=\"\",\"\",$C$5)","v":""},{"$f":"IF(C5=\"drum mix plant\",SUM(N5:$N$6),0)","v":0},{"$f":"IF(N77=0,0,0.00013)","v":0},{"$f":"IF(O77=\"\",\"\",\"lb/ton\")","v":"lb/ton"},{"$f":"N77*O77","v":0},null,{"$f":"IF(N77=0,0,IF($C$10>0,$C$10*O77/2000,IF($C$11>0,$C$11*365*O77/2000,IF($C$12>0,$C$12*365*O77*N77/2000,IF(R77=\"\",Q77*8760/2000,R77*8760/2000)))))","v":0},{"$f":"IF(N77>0,$P$6*O77/2000,0)","v":0}]
[null,{"$f":"IF($C$4>4,\"Asphalt Plant\",\"\")","v":""},{"$f":"IF($C$4>4,\"Site 5\",\"\")","v":""},null,{"$f":"IF($C$4>4,\"Emission Point #\",\"\")","v":""},{"$f":"IF($C$4>4,\"Emission    Unit #\",\"\")","v":""},{"$f":"IF($C$4>4,\"Process\",\"\")","v":""},{"$f":"IF($C$4>4,\"Maximum Hourly     Design Rate\",\"\")","v":""},{"$f":"IF($C$4>4,('Facility Information'!G65&\" Annual Throughput\"),\"\")","v":""},null,null,null,"Quinone"]
[null,null,null,null,null,null,null,null,null,null,null,null,{"$f":"IF($C$5=\"\",\"\",$C$5)","v":""},{"$f":"IF(C5=\"drum mix plant\",SUM(N5:$N$6),SUM($N$5:$N$7))","v":0},{"$f":"IF(N79=0,0,IF(M79=\"Batch Mix Plant\",0.00027,IF(M79=\"Drum Mix Plant\",0.00016)))","v":0},{"$f":"IF(O79=\"\",\"\",\"lb/ton\")","v":"lb/ton"},{"$f":"N79*O79","v":0},null,{"$f":"IF(N79=0,0,IF($C$10>0,$C$10*O79/2000,IF($C$11>0,$C$11*365*O79/2000,IF($C$12>0,$C$12*365*O79*N79/2000,IF(R79=\"\",Q79*8760/2000,R79*8760/2000)))))","v":0},{"$f":"IF(C23=\"drum mix plant\",$P$6*O79/2000,SUM($P$5:$P$7)*O79/2000)","v":0}]
[null,{"$f":"IF($C$4>4,\"Site Name\",\"\")","v":""},null,null,{"$f":"IF($C$4>4,\"Dryers, Hot Screens, Mixer\",\"\")","v":""},null,null,{"$f":"IF($C$4>4,\"(tons/hr)\",\"\")","v":""},{"$f":"IF($C$4>4,\"(tons/yr)\",\"\")","v":""},"PM2.5","PM10",null,"Toluene"]
[null,{"$f":"IF($C$4>4,\"County:\",\"\")","v":""},null,null,{"$f":"IF(C83=\"\",\"\",\"AP-6 EP-1\")","v":""},{"$f":"IF(C83=\"\",\"\",\"AP-6 EU-1\")","v":""},{"$f":"IF(C83=\"\",\"\",C5 & \" - \"&C83)","v":""},null,null,{"$f":"IF(C84=\"\",\"\",IF(C84=\"yes\",LOOKUP(G81,'Emission Factors'!$A$12:$A$17,'Emission Factors'!$D$12:$D$17),LOOKUP(G81,'Emission Factors'!$A$5:$A$10,'Emission Factors'!$D$5:$D$10)))","v":""},{"$f":"IF(C84=\"\",\"\",IF(C84=\"yes\",LOOKUP(G81,'Emission Factors'!$A$12:$A$17,'Emission Factors'!$F$12:$F$17),LOOKUP(G81,'Emission Factors'!$A$5:$A$10,'Emission Factors'!$F$5:$F$10)))","v":""},null,{"$f":"$C$5 & \" - Fuel Oil\"","v":" - Fuel Oil"},{"$f":"$N$5","v":0},{"$f":"IF(N81=0,0,LOOKUP(M81,'Emission Factors'!$A$5:$A$10,'Emission Factors'!$AJ$5:$AJ$10))","v":0},{"$f":"IF(O81=\"\",\"\",\"lb/ton\")","v":"lb/ton"},{"$f":"N81*O81","v":0},null,{"$f":"IF(N81=0,0,IF($C$10>0,$C$10*O81/2000,IF($C$11>0,$C$11*365*O81/2000,IF($C$12>0,$C$12*365*O81*N81/2000,IF(R81=\"\",Q81*8760/2000,R81*8760/2000)))))","v":0},{"$f":"P5*O81/2000","v":0}]
[null,{"$f":"IF($C$4>4,\"Production Period (Dates):\",\"\")","v":""},null,null,{"$f":"IF($C$4>4,\"Liquid Asphalt Heater\",\"\")","v":""},null,null,{"$f":"IF($C$4>4,IF(C83=\"natural gas\",\"(MMCF/hr)\",\"(gallons/hr)\"),\"\")","v":""},{"$f":"IF($C$4>4,IF(C83=\"natural gas\",\"(MMCF/yr)\",\"(gallons/yr)\"),\"\")","v":""},null,null,null,{"$f":"$C$5 & \" - Waste Oil\"","v":" - Waste Oil"},{"$f":"$N$6","v":0},{"$f":"IF(N82=0,0,LOOKUP(M82,'Emission Factors'!$A$5:$A$10,'Emission Factors'!$AJ$5:$AJ$10))","v":0},{"$f":"IF(O82=\"\",\"\",\"lb/ton\")","v":"lb/ton"},{"$f":"N82*O82","v":0},null,{"$f":"IF(N82=0,0,IF(OR(AND($C$10>0,$N$81>0),AND($C$11>0,$N$81>0),AND($C$12>0,$N$81>0)),\"\",IF($C$10>0,$C$10*O82/2000,IF($C$11>0,$C$11*365*O82/2000,IF($C$12>0,$C$12*365*O82*N82/2000,IF(R82=\"\",Q82*8760/2000,R82*8760/2000))))))","v":0},{"$f":"P6*O82/2000","v":0}]
[null,{"$f":"IF($C$4>4,\"Type of Fuel Used:\",\"\")","v":""},null,null,{"$f":"IF(C83=\"\",\"\",\"AP-6 EP-2\")","v":""},{"$f":"IF(C83=\"\",\"\",\"AP-6 EU-2\")","v":""},{"$f":"IF(C83=\"\",\"\",C83& \" Fired Heater\")","v":""},null,null,null,"Controlled?",null,{"$f":"$C$5 & \" - Natural Gas\"","v":" - Natural Gas"},{"$f":"$N$7","v":0},{"$f":"IF(N83=0,0,LOOKUP(M83,'Emission Factors'!$A$5:$A$10,'Emission Factors'!$AJ$5:$AJ$10))","v":0},{"$f":"IF(O83=\"\",\"\",\"lb/ton\")","v":"lb/ton"},{"$f":"N83*O83","v":0},null,{"$f":"IF(N83=0,0,IF(OR(AND($C$10>0,$N$81>0),AND($C$11>0,$N$81>0),AND($C$12>0,$N$81>0)),\"\",IF(OR(AND($C$10>0,$N$82>0),AND($C$11>0,$N$82>0),AND($C$12>0,$N$82>0)),\"\",IF($C$10>0,$C$10*O83/2000,IF($C$11>0,$C$11*365*O83/2000,IF($C$12>0,$C$12*365*O83*N83/2000,IF(R83=\"\",Q83*8760/2000,R83*8760/2000)))))))","v":0},{"$f":"P7*O83/2000","v":0}]
[null,{"$f":"IF($C$4>4,\"Is Your Operation Controlled?:\",\"\")","v":""},null,null,{"$f":"IF($C$4>4,\"Silo Filling, Truck Loadout, Aggregate Transfer\",\"\")","v":""},null,null,{"$f":"IF($C$4>4,\"(tons/hr)\",\"\")","v":""},{"$f":"IF($C$4>4,\"(tons/yr)\",\"\")","v":""},null,{"$f":"IF(OR(C25=\"yes\",C39=\"yes\",C69=\"yes\",C84=\"yes\",C100=\"yes\",C115=\"yes\",C130=\"yes\",C145=\"yes\",C160=\"yes\"),1,0)","v":0},null,"Xylene"]
[null,null,null,null,{"$f":"IF($C$4>4,\"AP-6 EP-3\",\"\")","v":""},{"$f":"IF($C$4>4,\"AP-6 EU-3\",\"\")","v":""},{"$f":"IF($C$4>4,\"Silo Filling\",\"\")","v":""},null,null,null,null,null,{"$f":"IF($C$5=\"\",\"\",$C$5)","v":""},{"$f":"SUM($N$5:$N$7)","v":0},{"$f":"IF(N85=0,0,IF(M85=\"Batch Mix Plant\",0.0027,IF(M85=\"Drum Mix Plant\",0.0002)))","v":0},{"$f":"IF(O85=\"\",\"\",\"lb/ton\")","v":"lb/ton"},{"$f":"N85*O85","v":0},null,{"$f":"IF(N85=0,0,IF($C$10>0,$C$10*O85/2000,IF($C$11>0,$C$11*365*O85/2000,IF($C$12>0,$C$12*365*O85*N85/2000,IF(R85=\"\",Q85*8760/2000,R85*8760/2000)))))","v":0},{"$f":"SUM($P$5:$P$7)*O85/2000","v":0}]
[null,null,null,null,{"$f":"IF($C$4>4,\"AP-6 EP-3\",\"\")","v":""},{"$f":"IF($C$4>4,\"AP-6 EU-4\",\"\")","v":""},{"$f":"IF($C$4>4,\"Truck Loadout\",\"\")","v":""},null,null,null,null,null,"2,2,4-Trimethylpentane"]
[null,null,null,null,{"$f":"IF($C$4>4,\"AP-6 EP-3\",\"\")","v":""},{"$f":"IF($C$4>4,\"AP-6 EU-5\",\"\")","v":""},{"$f":"IF($C$4>4,\"Cold Aggregate Bins\",\"\")","v":""},null,null,null,null,null,{"$f":"IF($C$5=\"\",\"\",$C$5)","v":""},{"$f":"IF(C5=\"drum mix plant\",SUM(N5:N7),0)","v":0},{"$f":"IF(N87=0,0,0.00004)","v":0},{"$f":"IF(O87=\"\",\"\",\"lb/ton\")","v":"lb/ton"},{"$f":"N87*O87","v":0},null,{"$f":"IF(N87=0,0,IF($C$10>0,$C$10*O87/2000,IF($C$11>0,$C$11*365*O87/2000,IF($C$12>0,$C$12*365*O87*N87/2000,IF(R87=\"\",Q87*8760/2000,R87*8760/2000)))))","v":0},{"$f":"IF(N87>0,SUM($P$5:$P$7)*O87/2000,0)","v":0}]
[null,null,null,null,null,null,null,null,null,null,null,null,"Chromium Compounds"]
[null,null,null,null,{"$f":"IF($C$4>4,\"Stock Pile Area\",\"\")","v":""},null,null,null,null,null,null,null,{"$f":"IF($C$5=\"\",\"\",$C$5)","v":""},{"$f":"IF(C5=\"drum mix plant\",SUM(N5:N6),0)","v":0},{"$f":"IF(N89=0,0,IF($K$84=1,0.0000055,0.000024))","v":0},{"$f":"IF(O89=\"\",\"\",\"lb/ton\")","v":"lb/ton"},{"$f":"IF($K$84=1,\"\",N89*O89)","v":0},{"$f":"IF($K$84=1,N89*O89,\"\")","v":""},{"$f":"IF(N89=0,0,IF($C$10>0,$C$10*O89/2000,IF($C$11>0,$C$11*365*O89/2000,IF($C$12>0,$C$12*365*O89*N89/2000,IF(R89=\"\",Q89*8760/2000,R89*8760/2000)))))","v":0},{"$f":"IF(N89>0,$P$5*O89/2000,0)","v":0}]
[null,null,null,null,null,{"$f":"IF($C$4>4,\"Emission Unit #\",\"\")","v":""},{"$f":"IF($C$4>4,\"Maximum Storage Area (acres)\",\"\")","v":""},{"$f":"IF($C$4>4,\"Actual Storage Area (acres)\",\"\")","v":""},{"$f":"IF($C$4>4,\"Actual Days in Existence (days)\",\"\")","v":""},null,null,null,"Lead Compounds"]
[null,null,null,null,null,null,null,null,null,null,null,null,{"$f":"IF($C$5=\"\",\"\",$C$5)","v":""},{"$f":"IF(C5=\"drum mix plant\",SUM(N5:N6),0)","v":0},{"$f":"IF(N91=0,0,IF($K$84=1,0.000015,0.00054))","v":0},{"$f":"IF(O91=\"\",\"\",\"lb/ton\")","v":"lb/ton"},{"$f":"IF($K$84=1,\"\",N91*O91)","v":0},{"$f":"IF($K$84=1,N91*O91,\"\")","v":""},{"$f":"IF(N91=0,0,IF($C$10>0,$C$10*O91/2000,IF($C$11>0,$C$11*365*O91/2000,IF($C$12>0,$C$12*365*O91*N91/2000,IF(R91=\"\",Q91*8760/2000,R91*8760/2000)))))","v":0},{"$f":"IF(N91>0,$P$5*O91/2000,0)","v":0}]
[null,null,null,null,null,null,null,null,null,null,null,null,"Manganese Compounds",null,null,null,0]
[null,null,null,null,null,null,null,null,null,null,null,null,{"$f":"IF($C$5=\"\",\"\",$C$5)","v":""},{"$f":"IF(C5=\"drum mix plant\",SUM(N5:N6),0)","v":0},{"$f":"IF(N93=0,0,IF($K$84=1,0.0000077,0.00065))","v":0},{"$f":"IF(O93=\"\",\"\",\"lb/ton\")","v":"lb/ton"},0,{"$f":"IF($K$84=1,N93*O93,\"\")","v":""},{"$f":"IF(N93=0,0,IF($C$10>0,$C$10*O93/2000,IF($C$11>0,$C$11*365*O93/2000,IF($C$12>0,$C$12*365*O93*N93/2000,IF(R93=\"\",Q93*8760/2000,R93*8760/2000)))))","v":0},{"$f":"IF(N93>0,$P$5*O93/2000,0)","v":0}]
[null,{"$f":"IF($C$4>5,\"Asphalt Plant\",\"\")","v":""},{"$f":"IF($C$4>5,\"Site 6\",\"\")","v":""},null,{"$f":"IF($C$4>5,\"Emission Point #\",\"\")","v":""},{"$f":"IF($C$4>5,\"Emission    Unit #\",\"\")","v":""},{"$f":"IF($C$4>5,\"Process\",\"\")","v":""},{"$f":"IF($C$4>5,\"Maximum Hourly     Design Rate\",\"\")","v":""},{"$f":"IF($C$4>5,('Facility Information'!G80&\" Annual Throughput\"),\"\")","v":""},null,null,null,"Nickel Compounds",null,null,null,0]
[null,null,null,null,null,null,null,null,null,null,null,null,{"$f":"$C$5 & \" - Fuel Oil\"","v":" - Fuel Oil"},{"$f":"IF(C5=\"drum mix plant\",N5,0)","v":0},{"$f":"IF(N95=0,0,IF($K$84=1,0.000015,0.0013))","v":0},{"$f":"IF(O95=\"\",\"\",\"lb/ton\")","v":"lb/ton"},0,{"$f":"IF($K$84=1,N95*O95,\"\")","v":""},{"$f":"IF(N95=0,0,IF($C$10>0,$C$10*O95/2000,IF($C$11>0,$C$11*365*O95/2000,IF($C$12>0,$C$12*365*O95*N95/2000,IF(R95=\"\",Q95*8760/2000,R95*8760/2000)))))","v":0},{"$f":"IF(N95>0,$P$5*O95/2000,0)","v":0}]
[null,{"$f":"IF($C$4>5,\"Site Name\",\"\")","v":""},null,null,{"$f":"IF($C$4>5,\"Dryers, Hot Screens, Mixer\",\"\")","v":""},null,null,{"$f":"IF($C$4>5,\"(tons/hr)\",\"\")","v":""},{"$f":"IF($C$4>5,\"(tons/yr)\",\"\")","v":""},"PM2.5","PM10",null,{"$f":"$C$5 & \" - Waste Oil\"","v":" - Waste Oil"},{"$f":"IF(C5=\"drum mix plant\",N6,0)","v":0},{"$f":"IF(N96=0,0,IF($K$84=1,0.000015,0.0013))","v":0},{"$f":"IF(O96=\"\",\"\",\"lb/ton\")","v":"lb/ton"},0,{"$f":"IF($K$84=1,N96*O96,\"\")","v":""},{"$f":"IF(N96=0,0,IF($C$10>0,$C$10*O96/2000,IF($C$11>0,$C$11*365*O96/2000,IF($C$12>0,$C$12*365*O96*N96/2000,IF(R96=\"\",Q96*8760/2000,R96*8760/2000)))))","v":0},{"$f":"IF(N96>0,$P$6*O96/2000,0)","v":0}]
[null,{"$f":"IF($C$4>5,\"County:\",\"\")","v":""},null,null,{"$f":"IF(C99=\"\",\"\",\"AP-6 EP-1\")","v":""},{"$f":"IF(C99=\"\",\"\",\"AP-6 EU-1\")","v":""},{"$f":"IF(C99=\"\",\"\",C5 & \" - \"&C99)","v":""},null,null,{"$f":"IF(C100=\"\",\"\",IF(C100=\"yes\",LOOKUP(G97,'Emission Factors'!$A$12:$A$17,'Emission Factors'!$D$12:$D$17),LOOKUP(G97,'Emission Factors'!$A$5:$A$10,'Emission Factors'!$D$5:$D$10)))","v":""},{"$f":"IF(C100=\"\",\"\",IF(C100=\"yes\",LOOKUP(G97,'Emission Factors'!$A$12:$A$17,'Emission Factors'!$F$12:$F$17),LOOKUP(G97,'Emission Factors'!$A$5:$A$10,'Emission Factors'!$F$5:$F$10)))","v":""},null,{"$f":"$C$5 & \" - Natural Gas\"","v":" - Natural Gas"},{"$f":"IF(C5=\"drum mix plant\",N7,0)","v":0},{"$f":"IF(N97=0,0,IF($K$84=1,0.000063,0.00063))","v":0},{"$f":"IF(O97=\"\",\"\",\"lb/ton\")","v":"lb/ton"},{"$f":"IF($K$84=1,\"\",N97*O97)","v":0},{"$f":"IF($K$84=1,N97*O97,\"\")","v":""},{"$f":"IF(N97=0,0,IF($C$10>0,$C$10*O97/2000,IF($C$11>0,$C$11*365*O97/2000,IF($C$12>0,$C$12*365*O97*N97/2000,IF(R97=\"\",Q97*8760/2000,R97*8760/2000)))))","v":0},{"$f":"IF(N97>0,$P$7*O97/2000,0)","v":0}]
[null,{"$f":"IF($C$4>5,\"Production Period (Dates):\",\"\")","v":""},null,null,{"$f":"IF($C$4>5,\"Liquid Asphalt Heater\",\"\")","v":""},null,null,{"$f":"IF($C$4>5,IF(C99=\"natural gas\",\"(MMCF/hr)\",\"(gallons/hr)\"),\"\")","v":""},{"$f":"IF($C$4>5,IF(C99=\"natural gas\",\"(MMCF/yr)\",\"(gallons/yr)\"),\"\")","v":""}]
[null,{"$f":"IF($C$4>5,\"Type of Fuel Used:\",\"\")","v":""},null,null,{"$f":"IF(C99=\"\",\"\",\"AP-6 EP-2\")","v":""},{"$f":"IF(C99=\"\",\"\",\"AP-6 EU-2\")","v":""},{"$f":"IF(C99=\"\",\"\",C99& \" Fired Heater\")","v":""}]
[null,{"$f":"IF($C$4>5,\"Is Your Operation Controlled?:\",\"\")","v":""},null,null,{"$f":"IF($C$4>5,\"Silo Filling, Truck Loadout, Aggregate Transfer\",\"\")","v":""},null,null,{"$f":"IF($C$4>5,\"(tons/hr)\",\"\")","v":""},{"$f":"IF($C$4>5,\"(tons/yr)\",\"\")","v":""}]
[null,null,null,null,{"$f":"IF($C$4>5,\"AP-6 EP-3\",\"\")","v":""},{"$f":"IF($C$4>5,\"AP-6 EU-3\",\"\")","v":""},{"$f":"IF($C$4>5,\"Silo Filling\",\"\")","v":""}]
[null,null,null,null,{"$f":"IF($C$4>5,\"AP-6 EP-3\",\"\")","v":""},{"$f":"IF($C$4>5,\"AP-6 EU-4\",\"\")","v":""},{"$f":"IF($C$4>5,\"Truck Loadout\",\"\")","v":""}]
[null,null,null,null,{"$f":"IF($C$4>5,\"AP-6 EP-3\",\"\")","v":""},{"$f":"IF($C$4>5,\"AP-6 EU-5\",\"\")","v":""},{"$f":"IF($C$4>5,\"Cold Aggregate Bins\",\"\")","v":""}]
[]
[null,null,null,null,{"$f":"IF($C$4>5,\"Stock Pile Area\",\"\")","v":""}]
[null,null,null,null,null,{"$f":"IF($C$4>5,\"Emission Unit #\",\"\")","v":""},{"$f":"IF($C$4>5,\"Maximum Storage Area (acres)\",\"\")","v":""},{"$f":"IF($C$4>5,\"Actual Storage Area (acres)\",\"\")","v":""},{"$f":"IF($C$4>5,\"Actual Days in Existence (days)\",\"\")","v":""}]
[]
[]
[null,{"$f":"IF($C$4>6,\"Asphalt Plant\",\"\")","v":""},{"$f":"IF($C$4>6,\"Site 7\",\"\")","v":""},null,{"$f":"IF($C$4>6,\"Emission Point #\",\"\")","v":""},{"$f":"IF($C$4>6,\"Emission    Unit #\",\"\")","v":""},{"$f":"IF($C$4>6,\"Process\",\"\")","v":""},{"$f":"IF($C$4>6,\"Maximum Hourly     Design Rate\",\"\")","v":""},{"$f":"IF($C$4>6,('Facility Information'!G95&\" Annual Throughput\"),\"\")","v":""}]
[]
[null,{"$f":"IF($C$4>6,\"Site Name\",\"\")","v":""},null,null,{"$f":"IF($C$4>6,\"Dryers, Hot Screens, Mixer\",\"\")","v":""},null,null,{"$f":"IF($C$4>6,\"(tons/hr)\",\"\")","v":""},{"$f":"IF($C$4>6,\"(tons/yr)\",\"\")","v":""},"PM2.5","PM10"]
[null,{"$f":"IF($C$4>6,\"County:\",\"\")","v":""},null,null,{"$f":"IF(C114=\"\",\"\",\"AP-6 EP-1\")","v":""},{"$f":"IF(C114=\"\",\"\",\"AP-6 EU-1\")","v":""},{"$f":"IF(C114=\"\",\"\",C5 & \" - \"&C114)","v":""},null,null,{"$f":"IF(C115=\"\",\"\",IF(C115=\"yes\",LOOKUP(G112,'Emission Factors'!$A$12:$A$17,'Emission Factors'!$D$12:$D$17),LOOKUP(G112,'Emission Factors'!$A$5:$A$10,'Emission Factors'!$D$5:$D$10)))","v":""},{"$f":"IF(C115=\"\",\"\",IF(C115=\"yes\",LOOKUP(G112,'Emission Factors'!$A$12:$A$17,'Emission Factors'!$F$12:$F$17),LOOKUP(G112,'Emission Factors'!$A$5:$A$10,'Emission Factors'!$F$5:$F$10)))","v":""}]
[null,{"$f":"IF($C$4>6,\"Production Period (Dates):\",\"\")","v":""},null,null,{"$f":"IF($C$4>6,\"Liquid Asphalt Heater\",\"\")","v":""},null,null,{"$f":"IF($C$4>6,IF(C114=\"natural gas\",\"(MMCF/hr)\",\"(gallons/hr)\"),\"\")","v":""},{"$f":"IF($C$4>6,IF(C114=\"natural gas\",\"(MMCF/yr)\",\"(gallons/yr)\"),\"\")","v":""}]
[null,{"$f":"IF($C$4>6,\"Type of Fuel Used:\",\"\")","v":""},null,null,{"$f":"IF(C114=\"\",\"\",\"AP-6 EP-2\")","v":""},{"$f":"IF(C114=\"\",\"\",\"AP-6 EU-2\")","v":""},{"$f":"IF(C114=\"\",\"\",C114& \" Fired Heater\")","v":""}]
[null,{"$f":"IF($C$4>6,\"Is Your Operation Controlled?:\",\"\")","v":""},null,null,{"$f":"IF($C$4>6,\"Silo Filling, Truck Loadout, Aggregate Transfer\",\"\")","v":""},null,null,{"$f":"IF($C$4>6,\"(tons/hr)\",\"\")","v":""},{"$f":"IF($C$4>6,\"(tons/yr)\",\"\")","v":""}]
[null,null,null,null,{"$f":"IF($C$4>6,\"AP-6 EP-3\",\"\")","v":""},{"$f":"IF($C$4>6,\"AP-6 EU-3\",\"\")","v":""},{"$f":"IF($C$4>6,\"Silo Filling\",\"\")","v":""}]
[null,null,null,null,{"$f":"IF($C$4>6,\"AP-6 EP-3\",\"\")","v":""},{"$f":"IF($C$4>6,\"AP-6 EU-4\",\"\")","v":""},{"$f":"IF($C$4>6,\"Truck Loadout\",\"\")","v":""}]
[null,null,null,null,{"$f":"IF($C$4>6,\"AP-6 EP-3\",\"\")","v":""},{"$f":"IF($C$4>6,\"AP-6 EU-5\",\"\")","v":""},{"$f":"IF($C$4>6,\"Cold Aggregate Bins\",\"\")","v":""}]
[]
[null,null,null,null,{"$f":"IF($C$4>6,\"Stock Pile Area\",\"\")","v":""}]
[null,null,null,null,null,{"$f":"IF($C$4>6,\"Emission Unit #\",\"\")","v":""},{"$f":"IF($C$4>6,\"Maximum Storage Area (acres)\",\"\")","v":""},{"$f":"IF($C$4>6,\"Actual Storage Area (acres)\",\"\")","v":""},{"$f":"IF($C$4>6,\"Actual Days in Existence (days)\",\"\")","v":""}]
[]
[]
[null,{"$f":"IF($C$4>7,\"Asphalt Plant\",\"\")","v":""},{"$f":"IF($C$4>7,\"Site 8\",\"\")","v":""},null,{"$f":"IF($C$4>7,\"Emission Point #\",\"\")","v":""},{"$f":"IF($C$4>7,\"Emission    Unit #\",\"\")","v":""},{"$f":"IF($C$4>7,\"Process\",\"\")","v":""},{"$f":"IF($C$4>7,\"Maximum Hourly     Design Rate\",\"\")","v":""},{"$f":"IF($C$4>7,('Facility Information'!G110&\" Annual Throughput\"),\"\")","v":""}]
[]
[null,{"$f":"IF($C$4>7,\"Site Name\",\"\")","v":""},null,null,{"$f":"IF($C$4>7,\"Dryers, Hot Screens, Mixer\",\"\")","v":""},null,null,{"$f":"IF($C$4>7,\"(tons/hr)\",\"\")","v":""},{"$f":"IF($C$4>7,\"(tons/yr)\",\"\")","v":""},"PM2.5","PM10"]
[null,{"$f":"IF($C$4>7,\"County:\",\"\")","v":""},null,null,{"$f":"IF(C129=\"\",\"\",\"AP-6 EP-1\")","v":""},{"$f":"IF(C129=\"\",\"\",\"AP-6 EU-1\")","v":""},{"$f":"IF(C129=\"\",\"\",C5 & \" - \"&C129)","v":""},null,null,{"$f":"IF(C130=\"\",\"\",IF(C130=\"yes\",LOOKUP(G127,'Emission Factors'!$A$12:$A$17,'Emission Factors'!$D$12:$D$17),LOOKUP(G127,'Emission Factors'!$A$5:$A$10,'Emission Factors'!$D$5:$D$10)))","v":""},{"$f":"IF(C130=\"\",\"\",IF(C130=\"yes\",LOOKUP(G127,'Emission Factors'!$A$12:$A$17,'Emission Factors'!$F$12:$F$17),LOOKUP(G127,'Emission Factors'!$A$5:$A$10,'Emission Factors'!$F$5:$F$10)))","v":""}]
[null,{"$f":"IF($C$4>7,\"Production Period (Dates):\",\"\")","v":""},null,null,{"$f":"IF($C$4>7,\"Liquid Asphalt Heater\",\"\")","v":""},null,null,{"$f":"IF($C$4>7,IF(C129=\"natural gas\",\"(MMCF/hr)\",\"(gallons/hr)\"),\"\")","v":""},{"$f":"IF($C$4>7,IF(C129=\"natural gas\",\"(MMCF/yr)\",\"(gallons/yr)\"),\"\")","v":""}]
[null,{"$f":"IF($C$4>7,\"Type of Fuel Used:\",\"\")","v":""},null,null,{"$f":"IF(C129=\"\",\"\",\"AP-6 EP-2\")","v":""},{"$f":"IF(C129=\"\",\"\",\"AP-6 EU-2\")","v":""},{"$f":"IF(C129=\"\",\"\",C129& \" Fired Heater\")","v":""}]
[null,{"$f":"IF($C$4>7,\"Is Your Operation Controlled?:\",\"\")","v":""},null,null,{"$f":"IF($C$4>7,\"Silo Filling, Truck Loadout, Aggregate Transfer\",\"\")","v":""},null,null,{"$f":"IF($C$4>7,\"(tons/hr)\",\"\")","v":""},{"$f":"IF($C$4>7,\"(tons/yr)\",\"\")","v":""}]
[null,null,null,null,{"$f":"IF($C$4>7,\"AP-6 EP-3\",\"\")","v":""},{"$f":"IF($C$4>7,\"AP-6 EU-3\",\"\")","v":""},{"$f":"IF($C$4>7,\"Silo Filling\",\"\")","v":""}]
[null,null,null,null,{"$f":"IF($C$4>7,\"AP-6 EP-3\",\"\")","v":""},{"$f":"IF($C$4>7,\"AP-6 EU-4\",\"\")","v":""},{"$f":"IF($C$4>7,\"Truck Loadout\",\"\")","v":""}]
[null,null,null,null,{"$f":"IF($C$4>7,\"AP-6 EP-3\",\"\")","v":""},{"$f":"IF($C$4>7,\"AP-6 EU-5\",\"\")","v":""},{"$f":"IF($C$4>7,\"Cold Aggregate Bins\",\"\")","v":""}]
[]
[null,null,null,null,{"$f":"IF($C$4>7,\"Stock Pile Area\",\"\")","v":""}]
[null,null,null,null,null,{"$f":"IF($C$4>7,\"Emission Unit #\",\"\")","v":""},{"$f":"IF($C$4>7,\"Maximum Storage Area (acres)\",\"\")","v":""},{"$f":"IF($C$4>7,\"Actual Storage Area (acres)\",\"\")","v":""},{"$f":"IF($C$4>7,\"Actual Days in Existence (days)\",\"\")","v":""}]
[]
[]
[null,{"$f":"IF($C$4>8,\"Asphalt Plant\",\"\")","v":""},{"$f":"IF($C$4>8,\"Site 9\",\"\")","v":""},null,{"$f":"IF($C$4>8,\"Emission Point #\",\"\")","v":""},{"$f":"IF($C$4>8,\"Emission    Unit #\",\"\")","v":""},{"$f":"IF($C$4>8,\"Process\",\"\")","v":""},{"$f":"IF($C$4>8,\"Maximum Hourly     Design Rate\",\"\")","v":""},{"$f":"IF($C$4>8,('Facility Information'!G125&\" Annual Throughput\"),\"\")","v":""}]
[]
[null,{"$f":"IF($C$4>8,\"Site Name\",\"\")","v":""},null,null,{"$f":"IF($C$4>8,\"Dryers, Hot Screens, Mixer\",\"\")","v":""},null,null,{"$f":"IF($C$4>8,\"(tons/hr)\",\"\")","v":""},{"$f":"IF($C$4>8,\"(tons/yr)\",\"\")","v":""},"PM2.5","PM10"]
[null,{"$f":"IF($C$4>8,\"County:\",\"\")","v":""},null,null,{"$f":"IF(C144=\"\",\"\",\"AP-6 EP-1\")","v":""},{"$f":"IF(C144=\"\",\"\",\"AP-6 EU-1\")","v":""},{"$f":"IF(C144=\"\",\"\",C5 & \" - \"&C144)","v":""},null,null,{"$f":"IF(C145=\"\",\"\",IF(C145=\"yes\",LOOKUP(G142,'Emission Factors'!$A$12:$A$17,'Emission Factors'!$D$12:$D$17),LOOKUP(G142,'Emission Factors'!$A$5:$A$10,'Emission Factors'!$D$5:$D$10)))","v":""},{"$f":"IF(C145=\"\",\"\",IF(C145=\"yes\",LOOKUP(G142,'Emission Factors'!$A$12:$A$17,'Emission Factors'!$F$12:$F$17),LOOKUP(G142,'Emission Factors'!$A$5:$A$10,'Emission Factors'!$F$5:$F$10)))","v":""}]
[null,{"$f":"IF($C$4>8,\"Production Period (Dates):\",\"\")","v":""},null,null,{"$f":"IF($C$4>8,\"Liquid Asphalt Heater\",\"\")","v":""},null,null,{"$f":"IF($C$4>8,IF(C144=\"natural gas\",\"(MMCF/hr)\",\"(gallons/hr)\"),\"\")","v":""},{"$f":"IF($C$4>8,IF(C144=\"natural gas\",\"(MMCF/yr)\",\"(gallons/yr)\"),\"\")","v":""}]
[null,{"$f":"IF($C$4>8,\"Type of Fuel Used:\",\"\")","v":""},null,null,{"$f":"IF(C144=\"\",\"\",\"AP-6 EP-2\")","v":""},{"$f":"IF(C144=\"\",\"\",\"AP-6 EU-2\")","v":""},{"$f":"IF(C144=\"\",\"\",C144& \" Fired Heater\")","v":""}]
[null,{"$f":"IF($C$4>8,\"Is Your Operation Controlled?:\",\"\")","v":""},null,null,{"$f":"IF($C$4>8,\"Silo Filling, Truck Loadout, Aggregate Transfer\",\"\")","v":""},null,null,{"$f":"IF($C$4>8,\"(tons/hr)\",\"\")","v":""},{"$f":"IF($C$4>8,\"(tons/yr)\",\"\")","v":""}]
[null,null,null,null,{"$f":"IF($C$4>8,\"AP-6 EP-3\",\"\")","v":""},{"$f":"IF($C$4>8,\"AP-6 EU-3\",\"\")","v":""},{"$f":"IF($C$4>8,\"Silo Filling\",\"\")","v":""}]
[null,null,null,null,{"$f":"IF($C$4>8,\"AP-6 EP-3\",\"\")","v":""},{"$f":"IF($C$4>8,\"AP-6 EU-4\",\"\")","v":""},{"$f":"IF($C$4>8,\"Truck Loadout\",\"\")","v":""}]
[null,null,null,null,{"$f":"IF($C$4>8,\"AP-6 EP-3\",\"\")","v":""},{"$f":"IF($C$4>8,\"AP-6 EU-5\",\"\")","v":""},{"$f":"IF($C$4>8,\"Cold Aggregate Bins\",\"\")","v":""}]
[]
[null,null,null,null,{"$f":"IF($C$4>8,\"Stock Pile Area\",\"\")","v":""}]
[null,null,null,null,null,{"$f":"IF($C$4>8,\"Emission Unit #\",\"\")","v":""},{"$f":"IF($C$4>8,\"Maximum Storage Area (acres)\",\"\")","v":""},{"$f":"IF($C$4>8,\"Actual Storage Area (acres)\",\"\")","v":""},{"$f":"IF($C$4>8,\"Actual Days in Existence (days)\",\"\")","v":""}]
[]
[]
[null,{"$f":"IF($C$4>9,\"Asphalt Plant\",\"\")","v":""},{"$f":"IF($C$4>9,\"Site 10\",\"\")","v":""},null,{"$f":"IF($C$4>9,\"Emission Point #\",\"\")","v":""},{"$f":"IF($C$4>9,\"Emission    Unit #\",\"\")","v":""},{"$f":"IF($C$4>9,\"Process\",\"\")","v":""},{"$f":"IF($C$4>9,\"Maximum Hourly     Design Rate\",\"\")","v":""},{"$f":"IF($C$4>9,('Facility Information'!G140&\" Annual Throughput\"),\"\")","v":""}]
[]
[null,{"$f":"IF($C$4>9,\"Site Name\",\"\")","v":""},null,null,{"$f":"IF($C$4>9,\"Dryers, Hot Screens, Mixer\",\"\")","v":""},null,null,{"$f":"IF($C$4>9,\"(tons/hr)\",\"\")","v":""},{"$f":"IF($C$4>9,\"(tons/yr)\",\"\")","v":""},"PM2.5","PM10"]
[null,{"$f":"IF($C$4>9,\"County:\",\"\")","v":""},null,null,{"$f":"IF(C159=\"\",\"\",\"AP-6 EP-1\")","v":""},{"$f":"IF(C159=\"\",\"\",\"AP-6 EU-1\")","v":""},{"$f":"IF(C159=\"\",\"\",C5 & \" - \"&C159)","v":""},null,null,{"$f":"IF(C160=\"\",\"\",IF(C160=\"yes\",LOOKUP(G157,'Emission Factors'!$A$12:$A$17,'Emission Factors'!$D$12:$D$17),LOOKUP(G157,'Emission Factors'!$A$5:$A$10,'Emission Factors'!$D$5:$D$10)))","v":""},{"$f":"IF(C160=\"\",\"\",IF(C160=\"yes\",LOOKUP(G157,'Emission Factors'!$A$12:$A$17,'Emission Factors'!$F$12:$F$17),LOOKUP(G157,'Emission Factors'!$A$5:$A$10,'Emission Factors'!$F$5:$F$10)))","v":""}]
[null,{"$f":"IF($C$4>9,\"Production Period (Dates):\",\"\")","v":""},null,null,{"$f":"IF($C$4>9,\"Liquid Asphalt Heater\",\"\")","v":""},null,null,{"$f":"IF($C$4>9,IF(C159=\"natural gas\",\"(MMCF/hr)\",\"(gallons/hr)\"),\"\")","v":""},{"$f":"IF($C$4>9,IF(C159=\"natural gas\",\"(MMCF/yr)\",\"(gallons/yr)\"),\"\")","v":""}]
[null,{"$f":"IF($C$4>9,\"Type of Fuel Used:\",\"\")","v":""},null,null,{"$f":"IF(C159=\"\",\"\",\"AP-6 EP-2\")","v":""},{"$f":"IF(C159=\"\",\"\",\"AP-6 EU-2\")","v":""},{"$f":"IF(C159=\"\",\"\",C159& \" Fired Heater\")","v":""}]
[null,{"$f":"IF($C$4>9,\"Is Your Operation Controlled?:\",\"\")","v":""},null,null,{"$f":"IF($C$4>9,\"Silo Filling, Truck Loadout, Aggregate Transfer\",\"\")","v":""},null,null,{"$f":"IF($C$4>9,\"(tons/hr)\",\"\")","v":""},{"$f":"IF($C$4>9,\"(tons/yr)\",\"\")","v":""}]
[null,null,null,null,{"$f":"IF($C$4>9,\"AP-6 EP-3\",\"\")","v":""},{"$f":"IF($C$4>9,\"AP-6 EU-3\",\"\")","v":""},{"$f":"IF($C$4>9,\"Silo Filling\",\"\")","v":""}]
[null,null,null,null,{"$f":"IF($C$4>9,\"AP-6 EP-3\",\"\")","v":""},{"$f":"IF($C$4>9,\"AP-6 EU-4\",\"\")","v":""},{"$f":"IF($C$4>9,\"Truck Loadout\",\"\")","v":""}]
[null,null,null,null,{"$f":"IF($C$4>9,\"AP-6 EP-3\",\"\")","v":""},{"$f":"IF($C$4>9,\"AP-6 EU-5\",\"\")","v":""},{"$f":"IF($C$4>9,\"Cold Aggregate Bins\",\"\")","v":""}]
[]
[null,null,null,null,{"$f":"IF($C$4>9,\"Stock Pile Area\",\"\")","v":""}]
[null,null,null,null,null,{"$f":"IF($C$4>9,\"Emission Unit #\",\"\")","v":""},{"$f":"IF($C$4>9,\"Maximum Storage Area (acres)\",\"\")","v":""},{"$f":"IF($C$4>9,\"Actual Storage Area (acres)\",\"\")","v":""},{"$f":"IF($C$4>9,\"Actual Days in Existence (days)\",\"\")","v":""}]

{"sheet":"Asphalt Plant (AP-7)","index":7,"n_rows":166,"n_cols":20,"rows_kept":166,"cut":false,"hidden":true,"merged":[]}
[null,"ASPHALT PLANT (AP-7)"]
[null,"Please fill in the yellow boxes as applicable for your facility. ",null,null,null,null,null,null,"Values used for calculating emissions →",null,null,null,"Values Used to Calculate Actual Emissions for the Listed Processes at this Plant"]
[]
[null,{"$f":"\"Number of Sites this Plant operated at in \"&'Facility Information'!G5&\":\"","v":"Number of Sites this Plant operated at in :"},null,null,null,null,null,null,null,null,null,null,"Process","Maximum Design Rate","Units","Actual throughput",null,"** As of 2016 Potential Emissions are no longer required to be reported in the Minor Source Emissions Inventory**",null,"Units"]
[null,"Plant Type:",null,null,null,null,null,null,null,null,null,null,{"$f":"$C$5 & \" - Fuel Oil\"","v":" - Fuel Oil"},{"$f":"MAX((IFERROR(OFFSET($G$21,MATCH(M5,$G$22,0),1),0)),((IFERROR(OFFSET($G$35,MATCH(M5,$G$36,0),1),0))),((IFERROR(OFFSET($G$50,MATCH(M5,$G$51,0),1),0))),((IFERROR(OFFSET($G$65,MATCH(M5,$G$66,0),1),0))),((IFERROR(OFFSET($G$80,MATCH(M5,$G$81,0),1),0))),((IFERROR(OFFSET($G$96,MATCH(M5,$G$97,0),1),0))),((IFERROR(OFFSET($G$111,MATCH(M5,$G$112,0),1),0))),((IFERROR(OFFSET($G$126,MATCH(M5,$G$127,0),1),0))),((IFERROR(OFFSET($G$141,MATCH(M5,$G$142,0),1),0))),((IFERROR(OFFSET($G$156,MATCH(M5,$G$157,0),1),0))))","v":0},"tons/hr",{"$f":"SUM((IFERROR(OFFSET($G$21,MATCH(M5,$G$22,0),2),0)),((IFERROR(OFFSET($G$35,MATCH(M5,$G$36,0),2),0))),((IFERROR(OFFSET($G$50,MATCH(M5,$G$51,0),2),0))),((IFERROR(OFFSET($G$65,MATCH(M5,$G$66,0),2),0))),((IFERROR(OFFSET($G$80,MATCH(M5,$G$81,0),2),0))),((IFERROR(OFFSET($G$96,MATCH(M5,$G$97,0),2),0))),((IFERROR(OFFSET($G$111,MATCH(M5,$G$112,0),2),0))),((IFERROR(OFFSET($G$126,MATCH(M5,$G$127,0),2),0))),((IFERROR(OFFSET($G$141,MATCH(M5,$G$142,0),2),0))),((IFERROR(OFFSET($G$156,MATCH(M5,$G$157,0),2),0))))","v":0},null,null,null,"tons/yr"]
[null,null,null,null,null,null,null,null,null,null,null,null,{"$f":"$C$5 & \" - Waste Oil\"","v":" - Waste Oil"},{"$f":"MAX((IFERROR(OFFSET($G$21,MATCH(M6,$G$22,0),1),0)),((IFERROR(OFFSET($G$35,MATCH(M6,$G$36,0),1),0))),((IFERROR(OFFSET($G$50,MATCH(M6,$G$51,0),1),0))),((IFERROR(OFFSET($G$65,MATCH(M6,$G$66,0),1),0))),((IFERROR(OFFSET($G$80,MATCH(M6,$G$81,0),1),0))),((IFERROR(OFFSET($G$96,MATCH(M6,$G$97,0),1),0))),((IFERROR(OFFSET($G$111,MATCH(M6,$G$112,0),1),0))),((IFERROR(OFFSET($G$126,MATCH(M6,$G$127,0),1),0))),((IFERROR(OFFSET($G$141,MATCH(M6,$G$142,0),1),0))),((IFERROR(OFFSET($G$156,MATCH(M6,$G$157,0),1),0))))","v":0},"tons/hr",{"$f":"SUM((IFERROR(OFFSET($G$21,MATCH(M6,$G$22,0),2),0)),((IFERROR(OFFSET($G$35,MATCH(M6,$G$36,0),2),0))),((IFERROR(OFFSET($G$50,MATCH(M6,$G$51,0),2),0))),((IFERROR(OFFSET($G$65,MATCH(M6,$G$66,0),2),0))),((IFERROR(OFFSET($G$80,MATCH(M6,$G$81,0),2),0))),((IFERROR(OFFSET($G$96,MATCH(M6,$G$97,0),2),0))),((IFERROR(OFFSET($G$111,MATCH(M6,$G$112,0),2),0))),((IFERROR(OFFSET($G$126,MATCH(M6,$G$127,0),2),0))),((IFERROR(OFFSET($G$141,MATCH(M6,$G$142,0),2),0))),((IFERROR(OFFSET($G$156,MATCH(M6,$G$157,0),2),0))))","v":0},null,null,null,"tons/yr"]
[null,"Plant Specific Permit Number: ",null,null,null,null,null,null,null,null,null,null,{"$f":"$C$5 & \" - Natural Gas\"","v":" - Natural Gas"},{"$f":"MAX((IFERROR(OFFSET($G$21,MATCH(M7,$G$22,0),1),0)),((IFERROR(OFFSET($G$35,MATCH(M7,$G$36,0),1),0))),((IFERROR(OFFSET($G$50,MATCH(M7,$G$51,0),1),0))),((IFERROR(OFFSET($G$65,MATCH(M7,$G$66,0),1),0))),((IFERROR(OFFSET($G$80,MATCH(M7,$G$81,0),1),0))),((IFERROR(OFFSET($G$96,MATCH(M7,$G$97,0),1),0))),((IFERROR(OFFSET($G$111,MATCH(M7,$G$112,0),1),0))),((IFERROR(OFFSET($G$126,MATCH(M7,$G$127,0),1),0))),((IFERROR(OFFSET($G$141,MATCH(M7,$G$142,0),1),0))),((IFERROR(OFFSET($G$156,MATCH(M7,$G$157,0),1),0))))","v":0},"tons/hr",{"$f":"SUM((IFERROR(OFFSET($G$21,MATCH(M7,$G$22,0),2),0)),((IFERROR(OFFSET($G$35,MATCH(M7,$G$36,0),2),0))),((IFERROR(OFFSET($G$50,MATCH(M7,$G$51,0),2),0))),((IFERROR(OFFSET($G$65,MATCH(M7,$G$66,0),2),0))),((IFERROR(OFFSET($G$80,MATCH(M7,$G$81,0),2),0))),((IFERROR(OFFSET($G$96,MATCH(M7,$G$97,0),2),0))),((IFERROR(OFFSET($G$111,MATCH(M7,$G$112,0),2),0))),((IFERROR(OFFSET($G$126,MATCH(M7,$G$127,0),2),0))),((IFERROR(OFFSET($G$141,MATCH(M7,$G$142,0),2),0))),((IFERROR(OFFSET($G$156,MATCH(M7,$G$157,0),2),0))))","v":0},null,null,null,"tons/yr"]
[null,null,null,null,null,null,null,null,null,null,null,null,"Fuel Oil Fired Heater",{"$f":"MAX((IFERROR(OFFSET($G$23,MATCH(\"Fuel Oil Fired Heater\",$G$24,0),1),0)),((IFERROR(OFFSET($G$37,MATCH(\"Fuel Oil Fired Heater\",$G$38,0),1),0))),((IFERROR(OFFSET($G$52,MATCH(\"Fuel Oil Fired Heater\",$G$53,0),1),0))),((IFERROR(OFFSET($G$67,MATCH(\"Fuel Oil Fired Heater\",$G$68,0),1),0))),((IFERROR(OFFSET($G$82,MATCH(\"Fuel Oil Fired Heater\",$G$83,0),1),0))),((IFERROR(OFFSET($G$98,MATCH(\"Fuel Oil Fired Heater\",$G$99,0),1),0))),((IFERROR(OFFSET($G$113,MATCH(\"Fuel Oil Fired Heater\",$G$114,0),1),0))),((IFERROR(OFFSET($G$128,MATCH(\"Fuel Oil Fired Heater\",$G$129,0),1),0))),((IFERROR(OFFSET($G$143,MATCH(\"Fuel Oil Fired Heater\",$G$144,0),1),0))),((IFERROR(OFFSET($G$158,MATCH(\"Fuel Oil Fired Heater\",$G$159,0),1),0))))","v":0},"gallons/hr",{"$f":"SUM((IFERROR(OFFSET($G$23,MATCH(\"Fuel Oil Fired Heater\",$G$24,0),2),0)),((IFERROR(OFFSET($G$37,MATCH(\"Fuel Oil Fired Heater\",$G$38,0),2),0))),((IFERROR(OFFSET($G$52,MATCH(\"Fuel Oil Fired Heater\",$G$53,0),2),0))),((IFERROR(OFFSET($G$67,MATCH(\"Fuel Oil Fired Heater\",$G$68,0),2),0))),((IFERROR(OFFSET($G$82,MATCH(\"Fuel Oil Fired Heater\",$G$83,0),2),0))),((IFERROR(OFFSET($G$98,MATCH(\"Fuel Oil Fired Heater\",$G$99,0),2),0))),((IFERROR(OFFSET($G$113,MATCH(\"Fuel Oil Fired Heater\",$G$114,0),2),0))),((IFERROR(OFFSET($G$128,MATCH(\"Fuel Oil Fired Heater\",$G$129,0),2),0))),((IFERROR(OFFSET($G$143,MATCH(\"Fuel Oil Fired Heater\",$G$144,0),2),0))),((IFERROR(OFFSET($G$158,MATCH(\"Fuel Oil Fired Heater\",$G$159,0),2),0))))","v":0},null,null,null,"gallons/yr"]
[null,"Plant Specific Operating Limits:",null,null,"Plant Specific Emission Limits:",null,null,null,null,null,null,null,"Waste Oil Fired Heater",{"$f":"MAX((IFERROR(OFFSET($G$23,MATCH(\"waste oil Fired Heater\",$G$24,0),1),0)),((IFERROR(OFFSET($G$37,MATCH(\"waste oil Fired Heater\",$G$38,0),1),0))),((IFERROR(OFFSET($G$52,MATCH(\"waste oil Fired Heater\",$G$53,0),1),0))),((IFERROR(OFFSET($G$67,MATCH(\"waste oil Fired Heater\",$G$68,0),1),0))),((IFERROR(OFFSET($G$82,MATCH(\"waste oil Fired Heater\",$G$83,0),1),0))),((IFERROR(OFFSET($G$98,MATCH(\"waste oil Fired Heater\",$G$99,0),1),0))),((IFERROR(OFFSET($G$113,MATCH(\"waste oil Fired Heater\",$G$114,0),1),0))),((IFERROR(OFFSET($G$128,MATCH(\"waste oil Fired Heater\",$G$129,0),1),0))),((IFERROR(OFFSET($G$143,MATCH(\"waste oil Fired Heater\",$G$144,0),1),0))),((IFERROR(OFFSET($G$158,MATCH(\"waste oil Fired Heater\",$G$159,0),1),0))))","v":0},"gallons/hr",{"$f":"SUM((IFERROR(OFFSET($G$23,MATCH(\"waste oil Fired Heater\",$G$24,0),2),0)),((IFERROR(OFFSET($G$37,MATCH(\"waste oil Fired Heater\",$G$38,0),2),0))),((IFERROR(OFFSET($G$52,MATCH(\"waste oil Fired Heater\",$G$53,0),2),0))),((IFERROR(OFFSET($G$67,MATCH(\"waste oil Fired Heater\",$G$68,0),2),0))),((IFERROR(OFFSET($G$82,MATCH(\"waste oil Fired Heater\",$G$83,0),2),0))),((IFERROR(OFFSET($G$98,MATCH(\"waste oil Fired Heater\",$G$99,0),2),0))),((IFERROR(OFFSET($G$113,MATCH(\"waste oil Fired Heater\",$G$114,0),2),0))),((IFERROR(OFFSET($G$128,MATCH(\"waste oil Fired Heater\",$G$129,0),2),0))),((IFERROR(OFFSET($G$143,MATCH(\"waste oil Fired Heater\",$G$144,0),2),0))),((IFERROR(OFFSET($G$158,MATCH(\"waste oil Fired Heater\",$G$159,0),2),0))))","v":0},null,null,null,"gallons/yr"]
[null,"Throughput Limit (tons/yr):",null,null,"Pollutant","lb/hr","tons/yr",null,null,null,null,null,"Natural Gas Fired Heater",{"$f":"MAX((IFERROR(OFFSET($G$23,MATCH(\"Natural Gas Fired Heater\",$G$24,0),1),0)),((IFERROR(OFFSET($G$37,MATCH(\"Natural Gas Fired Heater\",$G$38,0),1),0))),((IFERROR(OFFSET($G$52,MATCH(\"Natural Gas Fired Heater\",$G$53,0),1),0))),((IFERROR(OFFSET($G$67,MATCH(\"Natural Gas Fired Heater\",$G$68,0),1),0))),((IFERROR(OFFSET($G$82,MATCH(\"Natural Gas Fired Heater\",$G$83,0),1),0))),((IFERROR(OFFSET($G$98,MATCH(\"Natural Gas Fired Heater\",$G$99,0),1),0))),((IFERROR(OFFSET($G$113,MATCH(\"Natural Gas Fired Heater\",$G$114,0),1),0))),((IFERROR(OFFSET($G$128,MATCH(\"Natural Gas Fired Heater\",$G$129,0),1),0))),((IFERROR(OFFSET($G$143,MATCH(\"Natural Gas Fired Heater\",$G$144,0),1),0))),((IFERROR(OFFSET($G$158,MATCH(\"Natural Gas Fired Heater\",$G$159,0),1),0))))","v":0},"MMCF/hr",{"$f":"SUM((IFERROR(OFFSET($G$23,MATCH(\"Natural Gas Fired Heater\",$G$24,0),2),0)),((IFERROR(OFFSET($G$37,MATCH(\"Natural Gas Fired Heater\",$G$38,0),2),0))),((IFERROR(OFFSET($G$52,MATCH(\"Natural Gas Fired Heater\",$G$53,0),2),0))),((IFERROR(OFFSET($G$67,MATCH(\"Natural Gas Fired Heater\",$G$68,0),2),0))),((IFERROR(OFFSET($G$82,MATCH(\"Natural Gas Fired Heater\",$G$83,0),2),0))),((IFERROR(OFFSET($G$98,MATCH(\"Natural Gas Fired Heater\",$G$99,0),2),0))),((IFERROR(OFFSET($G$113,MATCH(\"Natural Gas Fired Heater\",$G$114,0),2),0))),((IFERROR(OFFSET($G$128,MATCH(\"Natural Gas Fired Heater\",$G$129,0),2),0))),((IFERROR(OFFSET($G$143,MATCH(\"Natural Gas Fired Heater\",$G$144,0),2),0))),((IFERROR(OFFSET($G$158,MATCH(\"Natural Gas Fired Heater\",$G$159,0),2),0))))","v":0},null,null,null,"MMCF/yr"]
[null,"Daily Throughput Limit (tons/day):",null,null,"PM2.5",null,null,null,null,null,null,null,"Silo Filling",{"$f":"MAX((IFERROR(OFFSET($G$25,MATCH(\"Silo Filling\",$G$26,0),1),0)),((IFERROR(OFFSET($G$39,MATCH(\"Silo Filling\",$G$40,0),1),0))),((IFERROR(OFFSET($G$54,MATCH(\"Silo Filling\",$G$55,0),1),0))),((IFERROR(OFFSET($G$69,MATCH(\"Silo Filling\",$G$70,0),1),0))),((IFERROR(OFFSET($G$84,MATCH(\"Silo Filling\",$G$85,0),1),0))),((IFERROR(OFFSET($G$100,MATCH(\"Silo Filling\",$G$101,0),1),0))),((IFERROR(OFFSET($G$115,MATCH(\"Silo Filling\",$G$116,0),1),0))),((IFERROR(OFFSET($G$130,MATCH(\"Silo Filling\",$G$131,0),1),0))),((IFERROR(OFFSET($G$145,MATCH(\"Silo Filling\",$G$146,0),1),0))),((IFERROR(OFFSET($G$160,MATCH(\"Silo Filling\",$G$161,0),1),0))))","v":0},"tons/hr",{"$f":"SUM((IFERROR(OFFSET($G$25,MATCH(\"Silo Filling\",$G$26,0),2),0)),((IFERROR(OFFSET($G$39,MATCH(\"Silo Filling\",$G$40,0),2),0))),((IFERROR(OFFSET($G$54,MATCH(\"Silo Filling\",$G$55,0),2),0))),((IFERROR(OFFSET($G$69,MATCH(\"Silo Filling\",$G$70,0),2),0))),((IFERROR(OFFSET($G$84,MATCH(\"Silo Filling\",$G$85,0),2),0))),((IFERROR(OFFSET($G$100,MATCH(\"Silo Filling\",$G$101,0),2),0))),((IFERROR(OFFSET($G$115,MATCH(\"Silo Filling\",$G$116,0),2),0))),((IFERROR(OFFSET($G$130,MATCH(\"Silo Filling\",$G$131,0),2),0))),((IFERROR(OFFSET($G$145,MATCH(\"Silo Filling\",$G$146,0),2),0))),((IFERROR(OFFSET($G$160,MATCH(\"Silo Filling\",$G$161,0),2),0))))","v":0},null,null,null,"tons/yr"]
[null,"Hours of Operation Limit (hours/day):",null,null,"PM10",null,null,null,null,null,null,null,"Truck Loadout",{"$f":"MAX((IFERROR(OFFSET(G26,MATCH(\"Truck Loadout\",G27,0),1),0)),((IFERROR(OFFSET(G40,MATCH(\"Truck Loadout\",G41,0),1),0))),((IFERROR(OFFSET(G55,MATCH(\"Truck Loadout\",G56,0),1),0))),((IFERROR(OFFSET(G70,MATCH(\"Truck Loadout\",G71,0),1),0))),((IFERROR(OFFSET(G85,MATCH(\"Truck Loadout\",G86,0),1),0))),((IFERROR(OFFSET(G101,MATCH(\"Truck Loadout\",G102,0),1),0))),((IFERROR(OFFSET(G116,MATCH(\"Truck Loadout\",G117,0),1),0))),((IFERROR(OFFSET(G131,MATCH(\"Truck Loadout\",G132,0),1),0))),((IFERROR(OFFSET(G146,MATCH(\"Truck Loadout\",G147,0),1),0))),((IFERROR(OFFSET(G161,MATCH(\"Truck Loadout\",G162,0),1),0))))","v":0},"tons/hr",{"$f":"SUM((IFERROR(OFFSET(G26,MATCH(\"Truck Loadout\",G27,0),2),0)),((IFERROR(OFFSET(G40,MATCH(\"Truck Loadout\",G41,0),2),0))),((IFERROR(OFFSET(G55,MATCH(\"Truck Loadout\",G56,0),2),0))),((IFERROR(OFFSET(G70,MATCH(\"Truck Loadout\",G71,0),2),0))),((IFERROR(OFFSET(G85,MATCH(\"Truck Loadout\",G86,0),2),0))),((IFERROR(OFFSET(G101,MATCH(\"Truck Loadout\",G102,0),2),0))),((IFERROR(OFFSET(G116,MATCH(\"Truck Loadout\",G117,0),2),0))),((IFERROR(OFFSET(G131,MATCH(\"Truck Loadout\",G132,0),2),0))),((IFERROR(OFFSET(G146,MATCH(\"Truck Loadout\",G147,0),2),0))),((IFERROR(OFFSET(G161,MATCH(\"Truck Loadout\",G162,0),2),0))))","v":0},null,null,null,"tons/yr"]
["Fuel Oil","Note: if the plant has an hrs/day and a tons/hr permit limit, those values",null,null,"SO2",null,null,null,null,null,null,null,"Cold Aggregate Bins",{"$f":"MAX((IFERROR(OFFSET(G27,MATCH(\"Cold Aggregate Bins\",G28,0),1),0)),((IFERROR(OFFSET(G41,MATCH(\"Cold Aggregate Bins\",G42,0),1),0))),((IFERROR(OFFSET(G56,MATCH(\"Cold Aggregate Bins\",G57,0),1),0))),((IFERROR(OFFSET(G71,MATCH(\"Cold Aggregate Bins\",G72,0),1),0))),((IFERROR(OFFSET(G86,MATCH(\"Cold Aggregate Bins\",G87,0),1),0))),((IFERROR(OFFSET(G102,MATCH(\"Cold Aggregate Bins\",G103,0),1),0))),((IFERROR(OFFSET(G117,MATCH(\"Cold Aggregate Bins\",G118,0),1),0))),((IFERROR(OFFSET(G132,MATCH(\"Cold Aggregate Bins\",G133,0),1),0))),((IFERROR(OFFSET(G147,MATCH(\"Cold Aggregate Bins\",G148,0),1),0))),((IFERROR(OFFSET(G162,MATCH(\"Cold Aggregate Bins\",G163,0),1),0))))","v":0},"tons/hr",{"$f":"SUM((IFERROR(OFFSET(G27,MATCH(\"Cold Aggregate Bins\",G28,0),2),0)),((IFERROR(OFFSET(G41,MATCH(\"Cold Aggregate Bins\",G42,0),2),0))),((IFERROR(OFFSET(G56,MATCH(\"Cold Aggregate Bins\",G57,0),2),0))),((IFERROR(OFFSET(G71,MATCH(\"Cold Aggregate Bins\",G72,0),2),0))),((IFERROR(OFFSET(G86,MATCH(\"Cold Aggregate Bins\",G87,0),2),0))),((IFERROR(OFFSET(G102,MATCH(\"Cold Aggregate Bins\",G103,0),2),0))),((IFERROR(OFFSET(G117,MATCH(\"Cold Aggregate Bins\",G118,0),2),0))),((IFERROR(OFFSET(G132,MATCH(\"Cold Aggregate Bins\",G133,0),2),0))),((IFERROR(OFFSET(G147,MATCH(\"Cold Aggregate Bins\",G148,0),2),0))),((IFERROR(OFFSET(G162,MATCH(\"Cold Aggregate Bins\",G163,0),2),0))))","v":0},null,null,null,"tons/yr"]
["Natural Gas","should be multiplied together to calculate a tons/day limit and that value ",null,null,"NOx",null,null,null,null,null,null,null,null,"Maximum (acres)","Actual (acres-day/yr)"]
["Waste Oil","should be placed in cell C11.",null,null,"VOC",null,null,null,null,null,null,null,"Storage Pile",{"$f":"SUM(G32,G46,G61,G76,G91,G107,G122,G137,G152,G167,)","v":0},{"$f":"SUM(H32*I32,H46*I46,H61*I61,H76*I76,H91*I91,H107*I107,H122*I122,H137*I137,H152*I152,H167*I167)","v":0}]
[null,null,null,null,"CO"]
["Batch Mix Plant"]
["Drum Mix Plant",null,null,null,null,null,null,null,null,null,null,null,"Actual Emissions for the Listed Processes at this Plant"]
[null,"Asphalt Plant","Site 1",null,"Emission Point #","Emission     Unit #","Processes","Maximum Hourly     Design Rate",{"$f":"('Facility Information'!G5&\" Annual Throughput\")","v":" Annual Throughput"},null,null,null,"PM2.5","Maximum Design Rate (tons/hr)","Emission Factor","Units","Potential Uncontrolled Emissions (lb/hr)","Potential Controlled Emissions (lb/hr)","Potential Annual Emissions (tons/yr)","Actual Annual Emissions (tons/yr)"]
["YES",null,null,null,null,null,null,null,null,null,null,null,{"$f":"$C$5 & \" - Fuel Oil\"","v":" - Fuel Oil"},{"$f":"N5","v":0},{"$f":"IF(N20=0,0,IF(MAX((IFERROR(OFFSET($G$21,MATCH(M20,$G$22,0),3),0)),((IFERROR(OFFSET($G$35,MATCH(M20,$G$36,0),3),0))),((IFERROR(OFFSET($G$50,MATCH(M20,$G$51,0),3),0))),((IFERROR(OFFSET($G$65,MATCH(M20,$G$66,0),3),0))),((IFERROR(OFFSET($G$80,MATCH(M20,$G$81,0),3),0))),((IFERROR(OFFSET($G$96,MATCH(M20,$G$97,0),3),0))),((IFERROR(OFFSET($G$111,MATCH(M20,$G$112,0),3),0))),((IFERROR(OFFSET($G$126,MATCH(M20,$G$127,0),3),0))),((IFERROR(OFFSET($G$141,MATCH(M20,$G$142,0),3),0))),((IFERROR(OFFSET($G$156,MATCH(M20,$G$157,0),3),0))))=0,0,(MAX((IFERROR(OFFSET($G$21,MATCH(M20,$G$22,0),3),0)),((IFERROR(OFFSET($G$35,MATCH(M20,$G$36,0),3),0))),((IFERROR(OFFSET($G$50,MATCH(M20,$G$51,0),3),0))),((IFERROR(OFFSET($G$65,MATCH(M20,$G$66,0),3),0))),((IFERROR(OFFSET($G$80,MATCH(M20,$G$81,0),3),0))),((IFERROR(OFFSET($G$96,MATCH(M20,$G$97,0),3),0))),((IFERROR(OFFSET($G$111,MATCH(M20,$G$112,0),3),0))),((IFERROR(OFFSET($G$126,MATCH(M20,$G$127,0),3),0))),((IFERROR(OFFSET($G$141,MATCH(M20,$G$142,0),3),0))),((IFERROR(OFFSET($G$156,MATCH(M20,$G$157,0),3),0)))))))","v":0},{"$f":"IF(O20=\"\",\"\",\"lb/ton\")","v":"lb/ton"},{"$f":"IF(O20=0.27,N20*O20,IF(O20=1.54,N20*O20,\"\"))","v":""},{"$f":"IF(N20=0,\"\",IF(AND($F$11>0,$O$20>=$O$21,$O$20>=$O$22),$F$11,IF(O20=0.0083,N20*O20,IF(O20=0.007,N20*O20,\"\"))))","v":""},{"$f":"IF(N20=0,0,IF($G$11>0,$G$11,IF(AND(OR($C$10>0,$C$11>0,$C$12>0),$O$20>=$O$21,$O$20>=$O$22),(IF($C$10>0,$C$10*O20/2000,IF($C$11>0,$C$11*365*O20/2000,IF($C$12>0,$C$12*365*O20*N20/2000)))),IF(AND($F$11>0,$O$20>=$O$21,$O$20>=$O$22),$F$11*8760/2000,IF(AND(OR($C$10=\"\",$C$10=0),OR($C$11=\"\",$C$11=0),OR($C$12=\"\",$C$12=0),$F$11=\"\"),IF(R20=\"\",Q20*8760/2000,R20*8760/2000),\"\")))))","v":0},{"$f":"IF(N20=\"\",\"\",SUM((IFERROR(MATCH(M20,$G$22,0)*$I$22*$J$22/2000,0)),(IFERROR(MATCH(M20,$G$36,0)*$I$36*$J$36/2000,0)),(IFERROR(MATCH(M20,$G$51,0)*$I$51*$J$51/2000,0)),(IFERROR(MATCH(M20,$G$66,0)*$I$66*$J$66/2000,0)),(IFERROR(MATCH(M20,$G$81,0)*$I$81*$J$81/2000,0)),(IFERROR(MATCH(M20,$G$97,0)*$I$97*$J$97/2000,0)),(IFERROR(MATCH(M20,$G$112,0)*$I$112*$J$112/2000,0)),(IFERROR(MATCH(M20,$G$127,0)*$I$127*$J$127/2000,0)),(IFERROR(MATCH(M20,$G$142,0)*$I$142*$J$142/2000,0)),(IFERROR(MATCH(M20,$G$157,0)*$I$157*$J$157/2000,0))))","v":0}]
["NO","Site Name:",null,null,"Dryer, Hot Screens, Mixer",null,null,"(tons/hr)","(tons/yr)","PM2.5","PM10",null,{"$f":"$C$5 & \" - Waste Oil\"","v":" - Waste Oil"},{"$f":"N6","v":0},{"$f":"IF(N21=0,0,IF(MAX((IFERROR(OFFSET($G$21,MATCH(M21,$G$22,0),3),0)),((IFERROR(OFFSET($G$35,MATCH(M21,$G$36,0),3),0))),((IFERROR(OFFSET($G$50,MATCH(M21,$G$51,0),3),0))),((IFERROR(OFFSET($G$65,MATCH(M21,$G$66,0),3),0))),((IFERROR(OFFSET($G$80,MATCH(M21,$G$81,0),3),0))),((IFERROR(OFFSET($G$96,MATCH(M21,$G$97,0),3),0))),((IFERROR(OFFSET($G$111,MATCH(M21,$G$112,0),3),0))),((IFERROR(OFFSET($G$126,MATCH(M21,$G$127,0),3),0))),((IFERROR(OFFSET($G$141,MATCH(M21,$G$142,0),3),0))),((IFERROR(OFFSET($G$156,MATCH(M21,$G$157,0),3),0))))=0,0,(MAX((IFERROR(OFFSET($G$21,MATCH(M21,$G$22,0),3),0)),((IFERROR(OFFSET($G$35,MATCH(M21,$G$36,0),3),0))),((IFERROR(OFFSET($G$50,MATCH(M21,$G$51,0),3),0))),((IFERROR(OFFSET($G$65,MATCH(M21,$G$66,0),3),0))),((IFERROR(OFFSET($G$80,MATCH(M21,$G$81,0),3),0))),((IFERROR(OFFSET($G$96,MATCH(M21,$G$97,0),3),0))),((IFERROR(OFFSET($G$111,MATCH(M21,$G$112,0),3),0))),((IFERROR(OFFSET($G$126,MATCH(M21,$G$127,0),3),0))),((IFERROR(OFFSET($G$141,MATCH(M21,$G$142,0),3),0))),((IFERROR(OFFSET($G$156,MATCH(M21,$G$157,0),3),0)))))))","v":0},"lb/ton",{"$f":"IF(O21=0.27,N21*O21,IF(O21=1.54,N21*O21,\"\"))","v":""},{"$f":"IF(N21=0,\"\",IF(AND($F$11>0,$O$21>$O$20,$O$21>=$O$22),$F$11,IF(O21=0.0083,N21*O21,IF(O21=0.007,N21*O21,\"\"))))","v":""},{"$f":"IF(N21=0,0,IF($G$11>0,IF(S20=0,G11,\"\"),IF(AND(OR($C$10>0,$C$11>0,$C$12>0),$O$21>$O$20,$O$21>=$O$22),(IF($C$10>0,$C$10*O21/2000,IF($C$11>0,$C$11*365*O21/2000,IF($C$12>0,$C$12*365*O21*N21/2000)))),IF(AND($F$11>0,$O$21>$O$20,$O$21>=$O$22),$F$11*8760/2000,IF(AND(OR($C$10=\"\",$C$10=0),OR($C$11=\"\",$C$11=0),OR($C$12=\"\",$C$12=0),$F$11=\"\"),IF(R21=\"\",Q21*8760/2000,R21*8760/2000),\"\")))))","v":0},{"$f":"IF(N21=\"\",\"\",SUM((IFERROR(MATCH(M21,$G$22,0)*$I$22*$J$22/2000,0)),(IFERROR(MATCH(M21,$G$36,0)*$I$36*$J$36/2000,0)),(IFERROR(MATCH(M21,$G$51,0)*$I$51*$J$51/2000,0)),(IFERROR(MATCH(M21,$G$66,0)*$I$66*$J$66/2000,0)),(IFERROR(MATCH(M21,$G$81,0)*$I$81*$J$81/2000,0)),(IFERROR(MATCH(M21,$G$97,0)*$I$97*$J$97/2000,0)),(IFERROR(MATCH(M21,$G$112,0)*$I$112*$J$112/2000,0)),(IFERROR(MATCH(M21,$G$127,0)*$I$127*$J$127/2000,0)),(IFERROR(MATCH(M21,$G$142,0)*$I$142*$J$142/2000,0)),(IFERROR(MATCH(M21,$G$157,0)*$I$157*$J$157/2000,0))))","v":0}]
[null,"County:",null,null,{"$f":"IF($C$4>0,\"AP-7 EP-1\",\"\")","v":""},{"$f":"IF($C$4>0,\"AP-7 EU-1\",\"\")","v":""},{"$f":"IF(C24=\"\",\"\",C5 & \" - \"&C24)","v":""},null,null,{"$f":"IF(C25=\"\",\"\",IF(C25=\"yes\",LOOKUP(G22,'Emission Factors'!$A$12:$A$17,'Emission Factors'!$D$12:$D$17),LOOKUP(G22,'Emission Factors'!$A$5:$A$10,'Emission Factors'!$D$5:$D$10)))","v":""},{"$f":"IF(C25=\"\",\"\",IF(C25=\"yes\",LOOKUP(G22,'Emission Factors'!$A$12:$A$17,'Emission Factors'!$F$12:$F$17),LOOKUP(G22,'Emission Factors'!$A$5:$A$10,'Emission Factors'!$F$5:$F$10)))","v":""},null,{"$f":"$C$5 & \" - Natural Gas\"","v":" - Natural Gas"},{"$f":"N7","v":0},{"$f":"IF(N22=0,0,IF(MAX((IFERROR(OFFSET($G$21,MATCH(M22,$G$22,0),3),0)),((IFERROR(OFFSET($G$35,MATCH(M22,$G$36,0),3),0))),((IFERROR(OFFSET($G$50,MATCH(M22,$G$51,0),3),0))),((IFERROR(OFFSET($G$65,MATCH(M22,$G$66,0),3),0))),((IFERROR(OFFSET($G$80,MATCH(M22,$G$81,0),3),0))),((IFERROR(OFFSET($G$96,MATCH(M22,$G$97,0),3),0))),((IFERROR(OFFSET($G$111,MATCH(M22,$G$112,0),3),0))),((IFERROR(OFFSET($G$126,MATCH(M22,$G$127,0),3),0))),((IFERROR(OFFSET($G$141,MATCH(M22,$G$142,0),3),0))),((IFERROR(OFFSET($G$156,MATCH(M22,$G$157,0),3),0))))=0,0,(MAX((IFERROR(OFFSET($G$21,MATCH(M22,$G$22,0),3),0)),((IFERROR(OFFSET($G$35,MATCH(M22,$G$36,0),3),0))),((IFERROR(OFFSET($G$50,MATCH(M22,$G$51,0),3),0))),((IFERROR(OFFSET($G$65,MATCH(M22,$G$66,0),3),0))),((IFERROR(OFFSET($G$80,MATCH(M22,$G$81,0),3),0))),((IFERROR(OFFSET($G$96,MATCH(M22,$G$97,0),3),0))),((IFERROR(OFFSET($G$111,MATCH(M22,$G$112,0),3),0))),((IFERROR(OFFSET($G$126,MATCH(M22,$G$127,0),3),0))),((IFERROR(OFFSET($G$141,MATCH(M22,$G$142,0),3),0))),((IFERROR(OFFSET($G$156,MATCH(M22,$G$157,0),3),0)))))))","v":0},"lb/ton",{"$f":"IF(O22=0.27,N22*O22,IF(O22=1.54,N22*O22,\"\"))","v":""},{"$f":"IF(N22=0,\"\",IF(AND($F$11>0,$O$22>$O$20,$O$22>$O$20),$F$11,IF(O22=0.0083,N22*O22,IF(O22=0.007,N22*O22,\"\"))))","v":""},{"$f":"IF(N22=0,0,IF($G$11>0,IF(AND(S20=0,S21=0),\"\"),IF(AND(OR($C$10>0,$C$11>0,$C$12>0),$O$22>$O$20,$O$22>$O$20),(IF($C$10>0,$C$10*O22/2000,IF($C$11>0,$C$11*365*O22/2000,IF($C$12>0,$C$12*365*O22*N22/2000)))),IF(AND($F$11>0,$O$22>$O$20,$O$22>$O$20),$F$11*8760/2000,IF(AND(OR($C$10=\"\",$C$10=0),OR($C$11=\"\",$C$11=0),OR($C$12=\"\",$C$12=0),$F$11=\"\"),IF(R22=\"\",Q22*8760/2000,R22*8760/2000),\"\")))))","v":0},{"$f":"IF(N22=\"\",\"\",SUM((IFERROR(MATCH(M22,$G$22,0)*$I$22*$J$22/2000,0)),(IFERROR(MATCH(M22,$G$36,0)*$I$36*$J$36/2000,0)),(IFERROR(MATCH(M22,$G$51,0)*$I$51*$J$51/2000,0)),(IFERROR(MATCH(M22,$G$66,0)*$I$66*$J$66/2000,0)),(IFERROR(MATCH(M22,$G$81,0)*$I$81*$J$81/2000,0)),(IFERROR(MATCH(M22,$G$97,0)*$I$97*$J$97/2000,0)),(IFERROR(MATCH(M22,$G$112,0)*$I$112*$J$112/2000,0)),(IFERROR(MATCH(M22,$G$127,0)*$I$127*$J$127/2000,0)),(IFERROR(MATCH(M22,$G$142,0)*$I$142*$J$142/2000,0)),(IFERROR(MATCH(M22,$G$157,0)*$I$157*$J$157/2000,0))))","v":0}]
[null,"Production Period (Dates):",null,null,"Liquid Asphalt Heater",null,null,{"$f":"IF(C24=\"natural gas\", \"(MMCF/hr)\",\"(gallons/hr)\")","v":"(gallons/hr)"},{"$f":"IF(C24=\"natural gas\", \"(MMCF/yr)\",\"(gallons/yr)\")","v":"(gallons/yr)"},null,null,null,"Silo Filling",{"$f":"N11","v":0},{"$f":"IF(N23=0,0,IF(N23=0,0,LOOKUP(M23,'Emission Factors'!$A$23:$A$25,'Emission Factors'!$D$23:$D$25)))","v":0},"lb/ton",{"$f":"N23*O23","v":0},null,{"$f":"IF($G$11>0,\"\",IF($C$10>0,$C$10*O23/2000,IF($C$11>0,$C$11*365*O23/2000,IF($C$12>0,$C$12*365*O23*N23/2000,IF($F$11>0,\"\",IF(R23=\"\",Q23*8760/2000,R23*8760/2000))))))","v":0},{"$f":"(P11*O23/2000)","v":0}]
[null,"Type of Fuel Used:",null,null,{"$f":"IF($C$4>0,\"AP-7 EP-2\",\"\")","v":""},{"$f":"IF($C$4>0,\"AP-7 EU-2\",\"\")","v":""},{"$f":"IF(C24=\"\",\"\",C24& \" Fired Heater\")","v":""},null,null,null,null,null,"Truck Loadout",{"$f":"N12","v":0},{"$f":"IF(N24=0,0,IF(N24=0,0,LOOKUP(M24,'Emission Factors'!$A$23:$A$25,'Emission Factors'!$D$23:$D$25)))","v":0},"lb/ton",{"$f":"N24*O24","v":0},null,{"$f":"IF($G$11>0,\"\",IF($C$10>0,$C$10*O24/2000,IF($C$11>0,$C$11*365*O24/2000,IF($C$12>0,$C$12*365*O24*N24/2000,IF($F$11>0,\"\",IF(R24=\"\",Q24*8760/2000,R24*8760/2000))))))","v":0},{"$f":"(P12*O24/2000)","v":0}]
[null,"Is Your Operation Controlled?:",null,null,"Silo Filling, Truck Loadout, Aggregate Transfer",null,null,"(tons/hr)","(tons/yr)",null,null,null,"Cold Aggregate Bins",{"$f":"N13","v":0},{"$f":"IF(N25=0,0,IF(N25=0,0,LOOKUP(M25,'Emission Factors'!A23:A25,'Emission Factors'!D23:D25)))","v":0},"lb/ton",{"$f":"N25*O25","v":0},null,{"$f":"IF($G$11>0,\"\",IF($C$10>0,$C$10*O25/2000,IF($C$11>0,$C$11*365*O25/2000,IF($C$12>0,$C$12*365*O25*N25/2000,IF($F$11>0,\"\",IF(R25=\"\",Q25*8760/2000,R25*8760/2000))))))","v":0},{"$f":"(P13*O25/2000)","v":0}]
[null,null,null,null,{"$f":"IF($C$4>0,\"AP-7 EP-3\",\"\")","v":""},{"$f":"IF($C$4>0,\"AP-7 EU-3\",\"\")","v":""},{"$f":"IF(C5=\"\",\"\",\"Silo Filling\")","v":""},null,null,null,null,null,"PM10"]
[null,null,null,null,{"$f":"IF($C$4>0,\"AP-7 EP-3\",\"\")","v":""},{"$f":"IF($C$4>0,\"AP-7 EU-4\",\"\")","v":""},{"$f":"IF(C5=\"\",\"\",\"Truck Loadout\")","v":""},null,null,null,null,null,{"$f":"$C$5 & \" - Fuel Oil\"","v":" - Fuel Oil"},{"$f":"N5","v":0},{"$f":"IF(N27=0,0,IF(MAX((IFERROR(OFFSET($G$21,MATCH(M27,$G$22,0),4),0)),((IFERROR(OFFSET($G$35,MATCH(M27,$G$36,0),4),0))),((IFERROR(OFFSET($G$50,MATCH(M27,$G$51,0),4),0))),((IFERROR(OFFSET($G$65,MATCH(M27,$G$66,0),4),0))),((IFERROR(OFFSET($G$80,MATCH(M27,$G$81,0),3),0))),((IFERROR(OFFSET($G$96,MATCH(M27,$G$97,0),4),0))),((IFERROR(OFFSET($G$111,MATCH(M27,$G$112,0),4),0))),((IFERROR(OFFSET($G$126,MATCH(M27,$G$127,0),4),0))),((IFERROR(OFFSET($G$141,MATCH(M27,$G$142,0),4),0))),((IFERROR(OFFSET($G$156,MATCH(M27,$G$157,0),4),0))))=0,0,(MAX((IFERROR(OFFSET($G$21,MATCH(M27,$G$22,0),4),0)),((IFERROR(OFFSET($G$35,MATCH(M27,$G$36,0),4),0))),((IFERROR(OFFSET($G$50,MATCH(M27,$G$51,0),4),0))),((IFERROR(OFFSET($G$65,MATCH(M27,$G$66,0),4),0))),((IFERROR(OFFSET($G$80,MATCH(M27,$G$81,0),4),0))),((IFERROR(OFFSET($G$96,MATCH(M27,$G$97,0),4),0))),((IFERROR(OFFSET($G$111,MATCH(M27,$G$112,0),4),0))),((IFERROR(OFFSET($G$126,MATCH(M27,$G$127,0),4),0))),((IFERROR(OFFSET($G$141,MATCH(M27,$G$142,0),4),0))),((IFERROR(OFFSET($G$156,MATCH(M27,$G$157,0),4),0)))))))","v":0},{"$f":"IF(O27=\"\",\"\",\"lb/ton\")","v":"lb/ton"},{"$f":"IF(O27=4.5,N27*O27,IF(O27=6.5,N27*O27,\"\"))","v":""},{"$f":"IF(N27=0,\"\",IF(AND($F$12>0,$O$27>=$O$28,$O$27>=$O$29),$F$12,IF(O27=0.0098,N27*O27,IF(O27=0.023,N27*O27,\"\"))))","v":""},{"$f":"IF(N27=0,0,IF($G$12>0,$G$12,IF(AND(OR($C$10>0,$C$11>0,$C$12>0),$O$27>=$O$28,$O$27>=$O$29),(IF($C$10>0,$C$10*O27/2000,IF($C$11>0,$C$11*365*O27/2000,IF($C$12>0,$C$12*365*O27*N27/2000)))),IF(AND($F$12>0,$O$27>=$O$28,$O$27>=$O$29),$F$12*8760/2000,IF(AND(OR($C$10=\"\",$C$10=0),OR($C$11=\"\",$C$11=0),OR($C$12=\"\",$C$12=0),$F$12=\"\"),IF(R27=\"\",Q27*8760/2000,R27*8760/2000),\"\")))))","v":0},{"$f":"IF(N27=\"\",\"\",SUM((IFERROR(MATCH(M27,$G$22,0)*$I$22*$K$22/2000,0)),(IFERROR(MATCH(M27,$G$36,0)*$I$36*$K$36/2000,0)),(IFERROR(MATCH(M27,$G$51,0)*$I$51*$K$51/2000,0)),(IFERROR(MATCH(M27,$G$66,0)*$I$66*$K$66/2000,0)),(IFERROR(MATCH(M27,$G$81,0)*$I$81*$K$81/2000,0)),(IFERROR(MATCH(M27,$G$97,0)*$I$97*$K$97/2000,0)),(IFERROR(MATCH(M27,$G$112,0)*$I$112*$K$112/2000,0)),(IFERROR(MATCH(M27,$G$127,0)*$I$127*$K$127/2000,0)),(IFERROR(MATCH(M27,$G$142,0)*$I$142*$K$142/2000,0)),(IFERROR(MATCH(M27,$G$157,0)*$I$157*$K$157/2000,0))))","v":0}]
[null,null,null,null,{"$f":"IF($C$4>0,\"AP-7 EP-3\",\"\")","v":""},{"$f":"IF($C$4>0,\"AP-7 EU-5\",\"\")","v":""},{"$f":"IF(C5=\"\",\"\",\"Cold Aggregate Bins\")","v":""},null,null,null,null,null,{"$f":"$C$5 & \" - Waste Oil\"","v":" - Waste Oil"},{"$f":"N6","v":0},{"$f":"IF(N28=0,0,IF(MAX((IFERROR(OFFSET($G$21,MATCH(M28,$G$22,0),4),0)),((IFERROR(OFFSET($G$35,MATCH(M28,$G$36,0),4),0))),((IFERROR(OFFSET($G$50,MATCH(M28,$G$51,0),4),0))),((IFERROR(OFFSET($G$65,MATCH(M28,$G$66,0),4),0))),((IFERROR(OFFSET($G$80,MATCH(M28,$G$81,0),3),0))),((IFERROR(OFFSET($G$96,MATCH(M28,$G$97,0),4),0))),((IFERROR(OFFSET($G$111,MATCH(M28,$G$112,0),4),0))),((IFERROR(OFFSET($G$126,MATCH(M28,$G$127,0),4),0))),((IFERROR(OFFSET($G$141,MATCH(M28,$G$142,0),4),0))),((IFERROR(OFFSET($G$156,MATCH(M28,$G$157,0),4),0))))=0,0,(MAX((IFERROR(OFFSET($G$21,MATCH(M28,$G$22,0),4),0)),((IFERROR(OFFSET($G$35,MATCH(M28,$G$36,0),4),0))),((IFERROR(OFFSET($G$50,MATCH(M28,$G$51,0),4),0))),((IFERROR(OFFSET($G$65,MATCH(M28,$G$66,0),4),0))),((IFERROR(OFFSET($G$80,MATCH(M28,$G$81,0),4),0))),((IFERROR(OFFSET($G$96,MATCH(M28,$G$97,0),4),0))),((IFERROR(OFFSET($G$111,MATCH(M28,$G$112,0),4),0))),((IFERROR(OFFSET($G$126,MATCH(M28,$G$127,0),4),0))),((IFERROR(OFFSET($G$141,MATCH(M28,$G$142,0),4),0))),((IFERROR(OFFSET($G$156,MATCH(M28,$G$157,0),4),0)))))))","v":0},"lb/ton",{"$f":"IF(O28=4.5,N28*O28,IF(O28=6.5,N28*O28,\"\"))","v":""},{"$f":"IF(N28=0,\"\",IF(AND($F$12>0,$O$28>$O$27,$O$28>=$O$29),$F$12,IF(O28=0.0098,N28*O28,IF(O28=0.023,N28*O28,\"\"))))","v":""},{"$f":"IF(N28=0,0,IF($G$12>0,IF(S27=0,$G$12,\"\"),IF(AND(OR($C$10>0,$C$11>0,$C$12>0),$O$28>$O$27,$O$28>=$O$29),(IF($C$10>0,$C$10*O28/2000,IF($C$11>0,$C$11*365*O28/2000,IF($C$12>0,$C$12*365*O28*N28/2000)))),IF(AND($F$12>0,$O$28>$O$27,$O$28>=$O$29),$F$12*8760/2000,IF(AND(OR($C$10=\"\",$C$10=0),OR($C$11=\"\",$C$11=0),OR($C$12=\"\",$C$12=0),$F$12=\"\"),IF(R28=\"\",Q28*8760/2000,R28*8760/2000),\"\")))))","v":0},{"$f":"IF(N28=\"\",\"\",SUM((IFERROR(MATCH(M28,$G$22,0)*$I$22*$K$22/2000,0)),(IFERROR(MATCH(M28,$G$36,0)*$I$36*$K$36/2000,0)),(IFERROR(MATCH(M28,$G$51,0)*$I$51*$K$51/2000,0)),(IFERROR(MATCH(M28,$G$66,0)*$I$66*$K$66/2000,0)),(IFERROR(MATCH(M28,$G$81,0)*$I$81*$K$81/2000,0)),(IFERROR(MATCH(M28,$G$97,0)*$I$97*$K$97/2000,0)),(IFERROR(MATCH(M28,$G$112,0)*$I$112*$K$112/2000,0)),(IFERROR(MATCH(M28,$G$127,0)*$I$127*$K$127/2000,0)),(IFERROR(MATCH(M28,$G$142,0)*$I$142*$K$142/2000,0)),(IFERROR(MATCH(M28,$G$157,0)*$I$157*$K$157/2000,0))))","v":0}]
[null,null,null,null,null,null,null,null,null,null,null,null,{"$f":"$C$5 & \" - Natural Gas\"","v":" - Natural Gas"},{"$f":"N7","v":0},{"$f":"IF(N29=0,0,IF(MAX((IFERROR(OFFSET($G$21,MATCH(M29,$G$22,0),4),0)),((IFERROR(OFFSET($G$35,MATCH(M29,$G$36,0),4),0))),((IFERROR(OFFSET($G$50,MATCH(M29,$G$51,0),4),0))),((IFERROR(OFFSET($G$65,MATCH(M29,$G$66,0),4),0))),((IFERROR(OFFSET($G$80,MATCH(M29,$G$81,0),3),0))),((IFERROR(OFFSET($G$96,MATCH(M29,$G$97,0),4),0))),((IFERROR(OFFSET($G$111,MATCH(M29,$G$112,0),4),0))),((IFERROR(OFFSET($G$126,MATCH(M29,$G$127,0),4),0))),((IFERROR(OFFSET($G$141,MATCH(M29,$G$142,0),4),0))),((IFERROR(OFFSET($G$156,MATCH(M29,$G$157,0),4),0))))=0,0,(MAX((IFERROR(OFFSET($G$21,MATCH(M29,$G$22,0),4),0)),((IFERROR(OFFSET($G$35,MATCH(M29,$G$36,0),4),0))),((IFERROR(OFFSET($G$50,MATCH(M29,$G$51,0),4),0))),((IFERROR(OFFSET($G$65,MATCH(M29,$G$66,0),4),0))),((IFERROR(OFFSET($G$80,MATCH(M29,$G$81,0),4),0))),((IFERROR(OFFSET($G$96,MATCH(M29,$G$97,0),4),0))),((IFERROR(OFFSET($G$111,MATCH(M29,$G$112,0),4),0))),((IFERROR(OFFSET($G$126,MATCH(M29,$G$127,0),4),0))),((IFERROR(OFFSET($G$141,MATCH(M29,$G$142,0),4),0))),((IFERROR(OFFSET($G$156,MATCH(M29,$G$157,0),4),0)))))))","v":0},"lb/ton",{"$f":"IF(O29=4.5,N29*O29,IF(O29=6.5,N29*O29,\"\"))","v":""},{"$f":"IF(N29=0,\"\",IF(AND($F$12>0,$O$29>$O$27,$O$29>$O$28),$F$12,IF(O29=0.0098,N29*O29,IF(O29=0.023,N29*O29,\"\"))))","v":""},{"$f":"IF(N29=0,0,IF($G$12>0,IF(AND(S27=0,S28=0),$G$12,\"\"),IF(AND(OR($C$10>0,$C$11>0,$C$12>0),$O$29>$O$27,$O$29>$O$28),(IF($C$10>0,$C$10*O29/2000,IF($C$11>0,$C$11*365*O29/2000,IF($C$12>0,$C$12*365*O29*N29/2000)))),IF(AND($F$12>0,$O$29>$O$27,$O$29>$O$28),$F$12*8760/2000,IF(AND(OR($C$10=\"\",$C$10=0),OR($C$11=\"\",$C$11=0),OR($C$12=\"\",$C$12=0),$F$12=\"\"),IF(R29=\"\",Q29*8760/2000,R29*8760/2000),\"\")))))","v":0},{"$f":"IF(N29=\"\",\"\",SUM((IFERROR(MATCH(M29,$G$22,0)*$I$22*$K$22/2000,0)),(IFERROR(MATCH(M29,$G$36,0)*$I$36*$K$36/2000,0)),(IFERROR(MATCH(M29,$G$51,0)*$I$51*$K$51/2000,0)),(IFERROR(MATCH(M29,$G$66,0)*$I$66*$K$66/2000,0)),(IFERROR(MATCH(M29,$G$81,0)*$I$81*$K$81/2000,0)),(IFERROR(MATCH(M29,$G$97,0)*$I$97*$K$97/2000,0)),(IFERROR(MATCH(M29,$G$112,0)*$I$112*$K$112/2000,0)),(IFERROR(MATCH(M29,$G$127,0)*$I$127*$K$127/2000,0)),(IFERROR(MATCH(M29,$G$142,0)*$I$142*$K$142/2000,0)),(IFERROR(MATCH(M29,$G$157,0)*$I$157*$K$157/2000,0))))","v":0}]
[null,null,null,null,"Stock Pile Area",null,null,null,null,null,null,null,"Silo Filling",{"$f":"N11","v":0},{"$f":"IF(N30=0,0,IF(N30=0,0,LOOKUP(M30,'Emission Factors'!$A$23:$A$25,'Emission Factors'!$F$23:$F$25)))","v":0},"lb/ton",{"$f":"N30*O30","v":0},null,{"$f":"IF($G$12>0,\"\",IF($C$10>0,$C$10*O30/2000,IF($C$11>0,$C$11*365*O30/2000,IF($C$12>0,$C$12*365*O30*N30/2000,IF($F$11>0,\"\",IF(R30=\"\",Q30*8760/2000,R30*8760/2000))))))","v":0},{"$f":"(P11*O30/2000)","v":0}]
[null,null,null,null,null,"Emission Unit #","Maximum Storage Area (acres)","Actual Storage Area (acres)","Actual Days in Existence (days)",null,null,null,"Truck Loadout",{"$f":"N12","v":0},{"$f":"IF(N31=0,0,IF(N31=0,0,LOOKUP(M31,'Emission Factors'!$A$23:$A$25,'Emission Factors'!$F$23:$F$25)))","v":0},"lb/ton",{"$f":"N31*O31","v":0},null,{"$f":"IF($G$12>0,\"\",IF($C$10>0,$C$10*O31/2000,IF($C$11>0,$C$11*365*O31/2000,IF($C$12>0,$C$12*365*O31*N31/2000,IF($F$11>0,\"\",IF(R31=\"\",Q31*8760/2000,R31*8760/2000))))))","v":0},{"$f":"(P12*O31/2000)","v":0}]
[null,null,null,null,null,null,null,null,null,null,null,null,"Cold Aggregate Bins",{"$f":"N13","v":0},{"$f":"IF(N32=0,0,IF(N32=0,0,LOOKUP(M32,'Emission Factors'!$A$23:$A$25,'Emission Factors'!$F$23:$F$25)))","v":0},"lb/ton",{"$f":"N32*O32","v":0},null,{"$f":"IF($G$12>0,\"\",IF($C$10>0,$C$10*O32/2000,IF($C$11>0,$C$11*365*O32/2000,IF($C$12>0,$C$12*365*O32*N32/2000,IF($F$11>0,\"\",IF(R32=\"\",Q32*8760/2000,R32*8760/2000))))))","v":0},{"$f":"(P13*O32/2000)","v":0}]
[]
[null,{"$f":"IF($C$4>1,\"Asphalt Plant\",\"\")","v":""},{"$f":"IF($C$4>1,\"Site 2\",\"\")","v":""},null,{"$f":"IF($C$4>1,\"Emission Point #\",\"\")","v":""},{"$f":"IF($C$4>1,\"Emission    Unit #\",\"\")","v":""},{"$f":"IF($C$4>1,\"Process\",\"\")","v":""},{"$f":"IF($C$4>1,\"Maximum Hourly     Design Rate\",\"\")","v":""},{"$f":"IF($C$4>1,('Facility Information'!G20&\" Annual Throughput\"),\"\")","v":""},null,null,null,null,"Storage Pile","Max Design Rate (acres)","Emission Factor   (lb/acre-day)","Potential Uncontrolled Emissions (lb/hr)","Potential Controlled Emissions (lb/hr)","Potential Annual Emissions (tons/yr)","Actual Annual Emissions (tons/yr)"]
[null,{"$f":"IF($C$4>1,\"Site Name\",\"\")","v":""},null,null,{"$f":"IF($C$4>1,\"Dryers, Hot Screens, Mixer\",\"\")","v":""},null,null,{"$f":"IF($C$4>1,\"(tons/hr)\",\"\")","v":""},{"$f":"IF($C$4>1,\"(tons/yr)\",\"\")","v":""},"PM2.5","PM10",null,null,"PM2.5/PM10",{"$f":"N15","v":0},3.64,{"$f":"O35*P35*(1/24)","v":0},null,{"$f":"O35*P35*365/2000","v":0},{"$f":"O15*P35/2000","v":0}]
[null,{"$f":"IF($C$4>1,\"County:\",\"\")","v":""},null,null,{"$f":"IF(C38=\"\",\"\",\"AP-7 EP-1\")","v":""},{"$f":"IF(C38=\"\",\"\",\"AP-7 EU-1\")","v":""},{"$f":"IF(C38=\"\",\"\",C5 & \" - \"&C38)","v":""},null,null,{"$f":"IF(C39=\"\",\"\",IF(C39=\"yes\",LOOKUP(G36,'Emission Factors'!$A$12:$A$17,'Emission Factors'!$D$12:$D$17),LOOKUP(G36,'Emission Factors'!$A$5:$A$10,'Emission Factors'!$D$5:$D$10)))","v":""},{"$f":"IF(C39=\"\",\"\",IF(C39=\"yes\",LOOKUP(G36,'Emission Factors'!$A$12:$A$17,'Emission Factors'!$F$12:$F$17),LOOKUP(G36,'Emission Factors'!$A$5:$A$10,'Emission Factors'!$F$5:$F$10)))","v":""}]
[null,{"$f":"IF($C$4>1,\"Production Period (Dates):\",\"\")","v":""},null,null,{"$f":"IF($C$4>1,\"Liquid Asphalt Heater\",\"\")","v":""},null,null,{"$f":"IF($C$4>1,IF(C38=\"natural gas\",\"MMCF/hr\",\"(gallons/hr)\"),\"\")","v":""},{"$f":"IF($C$4>1,IF(C38=\"natural gas\",\"MMCF/yr\",\"(gallons/yr)\"),\"\")","v":""},null,null,null,"SO2"]
[null,{"$f":"IF($C$4>1,\"Type of Fuel Used:\",\"\")","v":""},null,null,{"$f":"IF(C38=\"\",\"\",\"AP-7 EP-2\")","v":""},{"$f":"IF(C38=\"\",\"\",\"AP-7 EU-2\")","v":""},{"$f":"IF(C38=\"\",\"\",C38& \" Fired Heater\")","v":""},null,null,null,null,null,{"$f":"$C$5 & \" - Fuel Oil\"","v":" - Fuel Oil"},{"$f":"$N$5","v":0},{"$f":"IF(N38=0,0,LOOKUP(M38,'Emission Factors'!$A$5:$A$10,'Emission Factors'!$H$5:$H$10))","v":0},{"$f":"IF(O38=\"\",\"\",\"lb/ton\")","v":"lb/ton"},{"$f":"N38*O38","v":0},{"$f":"IF(N38=0,\"\",IF(AND($F$13>0,N39=0),$F$13,\"\"))","v":""},{"$f":"IF(N38=0,0,IF($G$13>0,$G$13,IF(OR(AND($C$10>0,$N$39>0),AND($C$11>0,$N$39>0),AND($C$12>0,$N$39>0)),\"\",IF($C$10>0,$C$10*O38/2000,IF($C$11>0,$C$11*365*O38/2000,IF($C$12>0,$C$12*365*O38*N38/2000,IF(AND(N39>0,F13>0),\"\",IF(R38=\"\",Q38*8760/2000,R38*8760/2000))))))))","v":0},{"$f":"P5*O38/2000","v":0}]
[null,{"$f":"IF($C$4>1,\"Is Your Operation Controlled?:\",\"\")","v":""},null,null,{"$f":"IF($C$4>1,\"Silo Filling, Truck Loadout, Aggregate Transfer\",\"\")","v":""},null,null,{"$f":"IF($C$4>1,\"(tons/hr)\",\"\")","v":""},{"$f":"IF($C$4>1,\"(tons/yr)\",\"\")","v":""},null,null,null,{"$f":"$C$5 & \" - Waste Oil\"","v":" - Waste Oil"},{"$f":"$N$6","v":0},{"$f":"IF(N39=0,0,LOOKUP(M39,'Emission Factors'!$A$5:$A$10,'Emission Factors'!$H$5:$H$10))","v":0},{"$f":"IF(O39=\"\",\"\",\"lb/ton\")","v":"lb/ton"},{"$f":"N39*O39","v":0},{"$f":"IF(N39=0,\"\",IF($F$13>0,$F$13,\"\"))","v":""},{"$f":"IF(N39=0,0,IF($G$13>0,IF(S38=0,G13,\"\"),IF($C$10>0,$C$10*O39/2000,IF($C$11>0,$C$11*365*O39/2000,IF($C$12>0,$C$12*365*O39*N39/2000,IF(R39=\"\",Q39*8760/2000,R39*8760/2000))))))","v":0},{"$f":"P6*O39/2000","v":0}]
[null,null,null,null,{"$f":"IF($C$4>1,\"AP-7 EP-3\",\"\")","v":""},{"$f":"IF($C$4>1,\"AP-7 EU-3\",\"\")","v":""},{"$f":"IF($C$4>1,\"Silo Filling\",\"\")","v":""},null,null,null,null,null,{"$f":"$C$5 & \" - Natural Gas\"","v":" - Natural Gas"},{"$f":"$N$7","v":0},{"$f":"IF(N40=0,0,LOOKUP(M40,'Emission Factors'!$A$5:$A$10,'Emission Factors'!$H$5:$H$10))","v":0},{"$f":"IF(O40=\"\",\"\",\"lb/ton\")","v":"lb/ton"},{"$f":"N40*O40","v":0},{"$f":"IF(N40=0,\"\",IF(AND($F$13>0,N38=0,N39=0),$F$13,\"\"))","v":""},{"$f":"IF(N40=0,0,IF($G$13>0,IF(AND(S38=0,S39=0),G13,\"\"),IF(OR(AND($C$10>0,$N$39>0),AND($C$11>0,$N$39>0),AND($C$12>0,$N$39>0)),\"\",IF(OR(AND($C$10>0,$N$38>0),AND($C$11>0,$N$38>0),AND($C$12>0,$N$38>0)),\"\",IF($C$10>0,$C$10*O40/2000,IF($C$11>0,$C$11*365*O40/2000,IF($C$12>0,$C$12*365*O40*N40/2000,IF(AND(N39>0,N38>0,F13>0),\"\",IF(R40=\"\",Q40*8760/2000,R40*8760/2000)))))))))","v":0},{"$f":"P7*O40/2000","v":0}]
[null,null,null,null,{"$f":"IF($C$4>1,\"AP-7 EP-3\",\"\")","v":""},{"$f":"IF($C$4>1,\"AP-7 EU-4\",\"\")","v":""},{"$f":"IF($C$4>1,\"Truck Loadout\",\"\")","v":""},null,null,null,null,null,"NOx"]
[null,null,null,null,{"$f":"IF($C$4>1,\"AP-7 EP-3\",\"\")","v":""},{"$f":"IF($C$4>1,\"AP-7 EU-5\",\"\")","v":""},{"$f":"IF($C$4>1,\"Cold Aggregate Bins\",\"\")","v":""},null,null,null,null,null,{"$f":"$C$5 & \" - Fuel Oil\"","v":" - Fuel Oil"},{"$f":"$N$5","v":0},{"$f":"IF(N42=0,0,LOOKUP(M42,'Emission Factors'!$A$5:$A$10,'Emission Factors'!$J$5:$J$10))","v":0},{"$f":"IF(O42=\"\",\"\",\"lb/ton\")","v":"lb/ton"},{"$f":"N42*O42","v":0},{"$f":"IF(N42=0,\"\",IF(AND($F$14>0,N43=0),$F$14,\"\"))","v":""},{"$f":"IF(N42=0,0,IF($G$14>0,$G$14,IF(OR(AND($C$10>0,$N$43>0),AND($C$11>0,$N$43>0),AND($C$12>0,$N$43>0)),\"\",IF($C$10>0,$C$10*O42/2000,IF($C$11>0,$C$11*365*O42/2000,IF($C$12>0,$C$12*365*O42*N42/2000,IF(AND(N43>0,F14>0),\"\",IF(R42=\"\",Q42*8760/2000,R42*8760/2000))))))))","v":0},{"$f":"P5*O42/2000","v":0}]
[null,null,null,null,null,null,null,null,null,null,null,null,{"$f":"$C$5 & \" - Waste Oil\"","v":" - Waste Oil"},{"$f":"$N$6","v":0},{"$f":"IF(N43=0,0,LOOKUP(M43,'Emission Factors'!$A$5:$A$10,'Emission Factors'!$J$5:$J$10))","v":0},{"$f":"IF(O43=\"\",\"\",\"lb/ton\")","v":"lb/ton"},{"$f":"N43*O43","v":0},{"$f":"IF(N43=0,\"\",IF($F$14>0,$F$14,\"\"))","v":""},{"$f":"IF(N43=0,0,IF($G$14>0,IF(S42=0,G14,\"\"),IF($C$10>0,$C$10*O43/2000,IF($C$11>0,$C$11*365*O43/2000,IF($C$12>0,$C$12*365*O43*N43/2000,IF(R43=\"\",Q43*8760/2000,R43*8760/2000))))))","v":0},{"$f":"P6*O43/2000","v":0}]
[null,null,null,null,{"$f":"IF($C$4>1,\"Stock Pile Area\",\"\")","v":""},null,null,null,null,null,null,null,{"$f":"$C$5 & \" - Natural Gas\"","v":" - Natural Gas"},{"$f":"$N$7","v":0},{"$f":"IF(N44=0,0,LOOKUP(M44,'Emission Factors'!$A$5:$A$10,'Emission Factors'!$J$5:$J$10))","v":0},{"$f":"IF(O44=\"\",\"\",\"lb/ton\")","v":"lb/ton"},{"$f":"N44*O44","v":0},{"$f":"IF(N44=0,\"\",IF(AND($F$14>0,N42=0,N43=0),$F$14,\"\"))","v":""},{"$f":"IF(N44=0,0,IF($G$14>0,IF(AND(S42=0,S43=0),G14,\"\"),IF(OR(AND($C$10>0,$N$43>0),AND($C$11>0,$N$43>0),AND($C$12>0,$N$43>0)),\"\",IF(OR(AND($C$10>0,$N$42>0),AND($C$11>0,$N$42>0),AND($C$12>0,$N$42>0)),\"\",IF($C$10>0,$C$10*O44/2000,IF($C$11>0,$C$11*365*O44/2000,IF($C$12>0,$C$12*365*O44*N44/2000,IF(AND(N42>0,N43>0,F14>0),\"\",IF(R44=\"\",Q44*8760/2000,R44*8760/2000)))))))))","v":0},{"$f":"P7*O44/2000","v":0}]
[null,null,null,null,null,{"$f":"IF($C$4>1,\"Emission Unit #\",\"\")","v":""},{"$f":"IF($C$4>1,\"Maximum Storage Area (acres)\",\"\")","v":""},{"$f":"IF($C$4>1,\"Actual Storage Area (acres)\",\"\")","v":""},{"$f":"IF($C$4>1,\"Actual Days in Existence (days)\",\"\")","v":""},null,null,null,"VOC"]
[null,null,null,null,null,null,null,null,null,null,null,null,{"$f":"$C$5 & \" - Fuel Oil\"","v":" - Fuel Oil"},{"$f":"$N$5","v":0},{"$f":"IF(N46=0,0,LOOKUP(M46,'Emission Factors'!$A$5:$A$10,'Emission Factors'!$L$5:$L$10))","v":0},{"$f":"IF(O46=\"\",\"\",\"lb/ton\")","v":"lb/ton"},{"$f":"N46*O46","v":0},{"$f":"IF(N46=0,\"\",IF(AND($F$15>0,N47=0),$F$15,\"\"))","v":""},{"$f":"IF(N46=0,0,IF($G$15>0,$G$15,IF(OR(AND($C$10>0,$N$47>0),AND($C$11>0,$N$47>0),AND($C$12>0,$N$47>0)),\"\",IF($C$10>0,$C$10*O46/2000,IF($C$11>0,$C$11*365*O46/2000,IF($C$12>0,$C$12*365*O46*N46/2000,IF(AND(N47>0,F15>0),\"\",IF(R46=\"\",Q46*8760/2000,R46*8760/2000))))))))","v":0},{"$f":"P5*O46/2000","v":0}]
[null,null,null,null,null,null,null,null,null,null,null,null,{"$f":"$C$5 & \" - Waste Oil\"","v":" - Waste Oil"},{"$f":"$N$6","v":0},{"$f":"IF(N47=0,0,LOOKUP(M47,'Emission Factors'!$A$5:$A$10,'Emission Factors'!$L$5:$L$10))","v":0},{"$f":"IF(O47=\"\",\"\",\"lb/ton\")","v":"lb/ton"},{"$f":"N47*O47","v":0},{"$f":"IF(N47=0,\"\",IF($F$15>0,$F$15,\"\"))","v":""},{"$f":"IF(N47=0,0,IF($G$15>0,IF(S46=0,G15,\"\"),IF($C$10>0,$C$10*O47/2000,IF($C$11>0,$C$11*365*O47/2000,IF($C$12>0,$C$12*365*O47*N47/2000,IF(R47=\"\",Q47*8760/2000,R47*8760/2000))))))","v":0},{"$f":"P6*O47/2000","v":0}]
[null,{"$f":"IF($C$4>2,\"Asphalt Plant\",\"\")","v":""},{"$f":"IF($C$4>2,\"Site 3\",\"\")","v":""},null,{"$f":"IF($C$4>2,\"Emission Point #\",\"\")","v":""},{"$f":"IF($C$4>2,\"Emission    Unit #\",\"\")","v":""},{"$f":"IF($C$4>2,\"Process\",\"\")","v":""},{"$f":"IF($C$4>2,\"Maximum Hourly     Design Rate\",\"\")","v":""},{"$f":"IF($C$4>2,('Facility Information'!G35&\" Annual Throughput\"),\"\")","v":""},null,null,null,{"$f":"$C$5 & \" - Natural Gas\"","v":" - Natural Gas"},{"$f":"$N$7","v":0},{"$f":"IF(N48=0,0,LOOKUP(M48,'Emission Factors'!$A$5:$A$10,'Emission Factors'!$L$5:$L$10))","v":0},{"$f":"IF(O48=\"\",\"\",\"lb/ton\")","v":"lb/ton"},{"$f":"N48*O48","v":0},{"$f":"IF(N48=0,\"\",IF(AND($F$15>0,N46=0,N47=0),$F$15,\"\"))","v":""},{"$f":"IF(N48=0,0,IF($G$15>0,IF(AND(S46=0,S47=0),G15,\"\"),IF(OR(AND($C$10>0,$N$47>0),AND($C$11>0,$N$47>0),AND($C$12>0,$N$47>0)),\"\",IF(OR(AND($C$10>0,$N$46>0),AND($C$11>0,$N$46>0),AND($C$12>0,$N$46>0)),\"\",IF($C$10>0,$C$10*O48/2000,IF($C$11>0,$C$11*365*O48/2000,IF($C$12>0,$C$12*365*O48*N48/2000,IF(AND(N46>0,N47>0,F15>0),\"\",IF(R48=\"\",Q48*8760/2000,R48*8760/2000)))))))))","v":0},{"$f":"P7*O48/2000","v":0}]
[null,null,null,null,null,null,null,null,null,null,null,null,{"$f":"\"Natural Gas Fired Heater\"","v":"Natural Gas Fired Heater"},{"$f":"N10","v":0},{"$f":"IF(N49=0,0,0.026)","v":0},{"$f":"IF(O49=\"\",\"\",\"lb/MMCF\")","v":"lb/MMCF"},{"$f":"N49*O49","v":0},null,{"$f":"IF(N49=0,0,IF(R49=\"\",Q49*8760/2000,R49*8760/2000))","v":0},{"$f":"($P$10*O49/2000)","v":0}]
[null,{"$f":"IF($C$4>2,\"Site Name\",\"\")","v":""},null,null,{"$f":"IF($C$4>2,\"Dryers, Hot Screens, Mixer\",\"\")","v":""},null,null,{"$f":"IF($C$4>2,\"(tons/hr)\",\"\")","v":""},{"$f":"IF($C$4>2,\"(tons/yr)\",\"\")","v":""},"PM2.5","PM10",null,"Silo Filling",{"$f":"N11","v":0},{"$f":"IF(N50=0,0,IF(N50=0,0,LOOKUP(M50,'Emission Factors'!$A$23:$A$25,'Emission Factors'!$L$23:$L$25)))","v":0},{"$f":"IF(O50=\"\",\"\",\"lb/ton\")","v":"lb/ton"},null,null,null,{"$f":"P11*O50/2000","v":0}]
[null,{"$f":"IF($C$4>2,\"County:\",\"\")","v":""},null,null,{"$f":"IF(C53=\"\",\"\",\"AP-7 EP-1\")","v":""},{"$f":"IF(C53=\"\",\"\",\"AP-7 EU-1\")","v":""},{"$f":"IF(C53=\"\",\"\",C5 & \" - \"&C53)","v":""},null,null,{"$f":"IF(C54=\"\",\"\",IF(C54=\"yes\",LOOKUP(G51,'Emission Factors'!$A$12:$A$17,'Emission Factors'!$D$12:$D$17),LOOKUP(G51,'Emission Factors'!$A$5:$A$10,'Emission Factors'!$D$5:$D$10)))","v":""},{"$f":"IF(C54=\"\",\"\",IF(C54=\"yes\",LOOKUP(G51,'Emission Factors'!$A$12:$A$17,'Emission Factors'!$F$12:$F$17),LOOKUP(G51,'Emission Factors'!$A$5:$A$10,'Emission Factors'!$F$5:$F$10)))","v":""},null,"Truck Loadout",{"$f":"N12","v":0},{"$f":"IF(N51=0,0,IF(N51=0,0,LOOKUP(M51,'Emission Factors'!$A$23:$A$25,'Emission Factors'!$L$23:$L$25)))","v":0},{"$f":"IF(O51=\"\",\"\",\"lb/ton\")","v":"lb/ton"},null,null,null,{"$f":"P12*O51/2000","v":0}]
[null,{"$f":"IF($C$4>2,\"Production Period (Dates):\",\"\")","v":""},null,null,{"$f":"IF($C$4>2,\"Liquid Asphalt Heater\",\"\")","v":""},null,null,{"$f":"IF($C$4>2,IF(C53=\"natural gas\",\"(MMCF/hr)\",\"(gallons/hr)\"),\"\")","v":""},{"$f":"IF($C$4>2,IF(C53=\"natural gas\",\"(MMCF/yr)\",\"(gallons/yr)\"),\"\")","v":""},null,null,null,"CO"]
[null,{"$f":"IF($C$4>2,\"Type of Fuel Used:\",\"\")","v":""},null,null,{"$f":"IF(C53=\"\",\"\",\"AP-7 EP-2\")","v":""},{"$f":"IF(C53=\"\",\"\",\"AP-7 EU-2\")","v":""},{"$f":"IF(C53=\"\",\"\",C53& \" Fired Heater\")","v":""},null,null,null,null,null,{"$f":"IF($C$5=\"\",\"\",$C$5)","v":""},{"$f":"SUM($N$5:$N$7)","v":0},{"$f":"IF(N53=0,0,IF(M53=\"Batch Mix Plant\",0.4,IF(M53=\"Drum Mix Plant\",0.13)))","v":0},{"$f":"IF(O53=\"\",\"\",\"lb/ton\")","v":"lb/ton"},{"$f":"N53*O53","v":0},{"$f":"IF(N53=0,\"\",IF($F$16>0,$F$16,\"\"))","v":""},{"$f":"IF($G$16>0,$G$16,IF(N53=0,0,IF($C$10>0,$C$10*O53/2000,IF($C$11>0,$C$11*365*O53/2000,IF($C$12>0,$C$12*365*O53*N53/2000,IF(R53=\"\",Q53*8760/2000,R53*8760/2000))))))","v":0},{"$f":"SUM($P$5:$P$7)*O53/2000","v":0}]
[null,{"$f":"IF($C$4>2,\"Is Your Operation Controlled?:\",\"\")","v":""},null,null,{"$f":"IF($C$4>2,\"Silo Filling, Truck Loadout, Aggregate Transfer\",\"\")","v":""},null,null,{"$f":"IF($C$4>2,\"(tons/hr)\",\"\")","v":""},{"$f":"IF($C$4>2,\"(tons/yr)\",\"\")","v":""},null,null,null,"Fuel Oil Fired Heater",{"$f":"N8","v":0},{"$f":"IF(N54=0,0,LOOKUP(M54,'Emission Factors'!$A$19:$A$21,'Emission Factors'!$N$19:$N$21))","v":0},{"$f":"IF(O54=\"\",\"\",\"lb/gallon\")","v":"lb/gallon"},{"$f":"N54*O54","v":0},null,{"$f":"IF(N54=0,0,IF($G$16>0,\"\",IF($F$16>0,\"\",IF(R54=\"\",Q54*8760/2000,R54*8760/2000))))","v":0},{"$f":"(P8*O54/2000)","v":0}]
[null,null,null,null,{"$f":"IF($C$4>2,\"AP-7 EP-3\",\"\")","v":""},{"$f":"IF($C$4>2,\"AP-7 EU-3\",\"\")","v":""},{"$f":"IF($C$4>2,\"Silo Filling\",\"\")","v":""},null,null,null,null,null,"Waste Oil Fired Heater",{"$f":"N9","v":0},{"$f":"IF(N55=0,0,LOOKUP(M55,'Emission Factors'!$A$19:$A$21,'Emission Factors'!$N$19:$N$21))","v":0},{"$f":"IF(O55=\"\",\"\",\"lb/gallon\")","v":"lb/gallon"},{"$f":"N55*O55","v":0},null,{"$f":"IF(N55=0,0,IF($G$16>0,\"\",IF($F$16>0,\"\",IF(R55=\"\",Q55*8760/2000,R55*8760/2000))))","v":0},{"$f":"(P9*O55/2000)","v":0}]
[null,null,null,null,{"$f":"IF($C$4>2,\"AP-7 EP-3\",\"\")","v":""},{"$f":"IF($C$4>2,\"AP-7 EU-4\",\"\")","v":""},{"$f":"IF($C$4>2,\"Truck Loadout\",\"\")","v":""},null,null,null,null,null,"Natural Gas Fired Heater",{"$f":"N10","v":0},{"$f":"IF(N56=0,0,LOOKUP(M56,'Emission Factors'!$A$19:$A$21,'Emission Factors'!$N$19:$N$21))","v":0},{"$f":"IF(O56=\"\",\"\",\"lb/MMCF\")","v":"lb/MMCF"},{"$f":"N56*O56","v":0},null,{"$f":"IF(N56=0,0,IF($G$16>0,\"\",IF($F$16>0,\"\",IF(R56=\"\",Q56*8760/2000,R56*8760/2000))))","v":0},{"$f":"($P$10*O56/2000)","v":0}]
[null,null,null,null,{"$f":"IF($C$4>2,\"AP-7 EP-3\",\"\")","v":""},{"$f":"IF($C$4>2,\"AP-7 EU-5\",\"\")","v":""},{"$f":"IF($C$4>2,\"Cold Aggregate Bins\",\"\")","v":""},null,null,null,null,null,"Silo Filling",{"$f":"N11","v":0},{"$f":"IF(N57=0,0,IF(N57=0,0,LOOKUP(M57,'Emission Factors'!$A$23:$A$25,'Emission Factors'!$N$23:$N$25)))","v":0},{"$f":"IF(O57=\"\",\"\",\"lb/ton\")","v":"lb/ton"},null,null,null,{"$f":"P11*O57/2000","v":0}]
[null,null,null,null,null,null,null,null,null,null,null,null,"Truck Loadout",{"$f":"N12","v":0},{"$f":"IF(N58=0,0,IF(N58=0,0,LOOKUP(M58,'Emission Factors'!$A$23:$A$25,'Emission Factors'!$N$23:$N$25)))","v":0},{"$f":"IF(O58=\"\",\"\",\"lb/ton\")","v":"lb/ton"},null,null,null,{"$f":"P12*O58/2000","v":0}]
[null,null,null,null,{"$f":"IF($C$4>2,\"Stock Pile Area\",\"\")","v":""},null,null,null,null,null,null,null,"Acetaldehyde"]
[null,null,null,null,null,{"$f":"IF($C$4>2,\"Emission Unit #\",\"\")","v":""},{"$f":"IF($C$4>2,\"Maximum Storage Area (acres)\",\"\")","v":""},{"$f":"IF($C$4>2,\"Actual Storage Area (acres)\",\"\")","v":""},{"$f":"IF($C$4>2,\"Actual Days in Existence (days)\",\"\")","v":""},null,null,null,{"$f":"IF($C$5=\"\",\"\",$C$5)","v":""},{"$f":"IF(C5=\"drum mix plant\",SUM(N5:$N$6),SUM($N$5:$N$7))","v":0},{"$f":"IF(N60=0,0,IF(M60=\"Batch Mix Plant\",0.00032,IF(M60=\"Drum Mix Plant\",0.0013)))","v":0},{"$f":"IF(O60=\"\",\"\",\"lb/ton\")","v":"lb/ton"},{"$f":"N60*O60","v":0},null,{"$f":"IF(N60=0,0,IF($C$10>0,$C$10*O60/2000,IF($C$11>0,$C$11*365*O60/2000,IF($C$12>0,$C$12*365*O60*N60/2000,IF(R60=\"\",Q60*8760/2000,R60*8760/2000)))))","v":0},{"$f":"IF(C5=\"drum mix plant\",$P$6*O60/2000,SUM($P$5:$P$7)*O60/2000)","v":0}]
[null,null,null,null,null,null,null,null,null,null,null,null,"Acrolein"]
[null,null,null,null,null,null,null,null,null,null,null,null,{"$f":"IF($C$5=\"\",\"\",$C$5)","v":""},{"$f":"IF(C5=\"drum mix plant\",SUM(N5:$N$6),0)","v":0},{"$f":"IF(N62=0,0,0.000026)","v":0},{"$f":"IF(O62=\"\",\"\",\"lb/ton\")","v":"lb/ton"},{"$f":"N62*O62","v":0},null,{"$f":"IF(N62=0,0,IF($C$10>0,$C$10*O62/2000,IF($C$11>0,$C$11*365*O62/2000,IF($C$12>0,$C$12*365*O62*N62/2000,IF(R62=\"\",Q62*8760/2000,R62*8760/2000)))))","v":0},{"$f":"IF(C7=\"drum mix plant\",$P$6*O62/2000,SUM($P$5:$P$7)*O62/2000)","v":0}]
[null,{"$f":"IF($C$4>3,\"Asphalt Plant\",\"\")","v":""},{"$f":"IF($C$4>3,\"Site 4\",\"\")","v":""},null,{"$f":"IF($C$4>3,\"Emission Point #\",\"\")","v":""},{"$f":"IF($C$4>3,\"Emission    Unit #\",\"\")","v":""},{"$f":"IF($C$4>3,\"Process\",\"\")","v":""},{"$f":"IF($C$4>3,\"Maximum Hourly     Design Rate\",\"\")","v":""},{"$f":"IF($C$4>3,('Facility Information'!G50&\" Annual Throughput\"),\"\")","v":""},null,null,null,"Benzene"]
[null,null,null,null,null,null,null,null,null,null,null,null,{"$f":"IF($C$5=\"\",\"\",$C$5)","v":""},{"$f":"SUM($N$5:$N$7)","v":0},{"$f":"IF(N64=0,0,IF(M64=\"Batch Mix Plant\",0.00028,IF(M64=\"Drum Mix Plant\",0.00039)))","v":0},{"$f":"IF(O64=\"\",\"\",\"lb/ton\")","v":"lb/ton"},{"$f":"N64*O64","v":0},null,{"$f":"IF(N64=0,0,IF($C$10>0,$C$10*O64/2000,IF($C$11>0,$C$11*365*O64/2000,IF($C$12>0,$C$12*365*O64*N64/2000,IF(R64=\"\",Q64*8760/2000,R64*8760/2000)))))","v":0},{"$f":"SUM($P$5:$P$7)*O64/2000","v":0}]
[null,{"$f":"IF($C$4>3,\"Site Name\",\"\")","v":""},null," ",{"$f":"IF($C$4>3,\"Dryers, Hot Screens, Mixer\",\"\")","v":""},null,null,{"$f":"IF($C$4>3,\"(tons/hr)\",\"\")","v":""},{"$f":"IF($C$4>3,\"(tons/yr)\",\"\")","v":""},"PM2.5","PM10",null,"Ethylbenzene"]
[null,{"$f":"IF($C$4>3,\"County:\",\"\")","v":""},null,null,{"$f":"IF(C68=\"\",\"\",\"AP-7 EP-1\")","v":""},{"$f":"IF(C68=\"\",\"\",\"AP-7 EU-1\")","v":""},{"$f":"IF(C68=\"\",\"\",C5 & \" - \"&C68)","v":""},null,null,{"$f":"IF(C69=\"\",\"\",IF(C69=\"yes\",LOOKUP(G66,'Emission Factors'!$A$12:$A$17,'Emission Factors'!$D$12:$D$17),LOOKUP(G66,'Emission Factors'!$A$5:$A$10,'Emission Factors'!$D$5:$D$10)))","v":""},{"$f":"IF(C69=\"\",\"\",IF(C69=\"yes\",LOOKUP(G66,'Emission Factors'!$A$12:$A$17,'Emission Factors'!$F$12:$F$17),LOOKUP(G66,'Emission Factors'!$A$5:$A$10,'Emission Factors'!$F$5:$F$10)))","v":""},null,{"$f":"IF($C$5=\"\",\"\",$C$5)","v":""},{"$f":"SUM($N$5:$N$7)","v":0},{"$f":"IF(N66=0,0,IF(M66=\"Batch Mix Plant\",0.0022,IF(M66=\"Drum Mix Plant\",0.00024)))","v":0},{"$f":"IF(O66=\"\",\"\",\"lb/ton\")","v":"lb/ton"},{"$f":"N66*O66","v":0},null,{"$f":"IF(N66=0,0,IF($C$10>0,$C$10*O66/2000,IF($C$11>0,$C$11*365*O66/2000,IF($C$12>0,$C$12*365*O66*N66/2000,IF(R66=\"\",Q66*8760/2000,R66*8760/2000)))))","v":0},{"$f":"SUM($P$5:$P$7)*O66/2000","v":0}]
[null,{"$f":"IF($C$4>3,\"Production Period (Dates):\",\"\")","v":""},null,null,{"$f":"IF($C$4>3,\"Liquid Asphalt Heater\",\"\")","v":""},null,null,{"$f":"IF($C$4>3,IF(C68=\"natural gas\",\"(MMCF/hr)\",\"(gallons/hr)\"),\"\")","v":""},{"$f":"IF($C$4>3,IF(C68=\"natural gas\",\"(MMCF/yr)\",\"(gallons/yr)\"),\"\")","v":""},null,null,null,"Formaldehyde"]
[null,{"$f":"IF($C$4>3,\"Type of Fuel Used:\",\"\")","v":""},null,null,{"$f":"IF(C68=\"\",\"\",\"AP-7 EP-2\")","v":""},{"$f":"IF(C68=\"\",\"\",\"AP-7 EU-2\")","v":""},{"$f":"IF(C68=\"\",\"\",C68& \" Fired Heater\")","v":""},null,null,null,null,null,{"$f":"IF($C$5=\"\",\"\",$C$5)","v":""},{"$f":"SUM($N$5:$N$7)","v":0},{"$f":"IF(N68=0,0,IF(M68=\"Batch Mix Plant\",0.00074,IF(M68=\"Drum Mix Plant\",0.0031)))","v":0},{"$f":"IF(O68=\"\",\"\",\"lb/ton\")","v":"lb/ton"},{"$f":"N68*O68","v":0},null,{"$f":"IF(N68=0,0,IF($C$10>0,$C$10*O68/2000,IF($C$11>0,$C$11*365*O68/2000,IF($C$12>0,$C$12*365*O68*N68/2000,IF(R68=\"\",Q68*8760/2000,R68*8760/2000)))))","v":0},{"$f":"SUM($P$5:$P$7)*O68/2000","v":0}]
[null,{"$f":"IF($C$4>3,\"Is Your Operation Controlled?:\",\"\")","v":""},null,null,{"$f":"IF($C$4>3,\"Silo Filling, Truck Loadout, Aggregate Transfer\",\"\")","v":""},null,null,{"$f":"IF($C$4>3,\"(tons/hr)\",\"\")","v":""},{"$f":"IF($C$4>3,\"(tons/yr)\",\"\")","v":""},null,null,null,{"$f":"\"Natural Gas Fired Heater\"","v":"Natural Gas Fired Heater"},{"$f":"N10","v":0},{"$f":"IF(N69=0,0,0.026)","v":0},{"$f":"IF(O69=\"\",\"\",\"lb/MMCF\")","v":"lb/MMCF"},{"$f":"N69*O69","v":0},null,{"$f":"IF(N69=0,0,IF(R69=\"\",Q69*8760/2000,R69*8760/2000))","v":0},{"$f":"($P$10*O69/2000)","v":0}]
[null,null,null,null,{"$f":"IF($C$4>3,\"AP-7 EP-3\",\"\")","v":""},{"$f":"IF($C$4>3,\"AP-7 EU-3\",\"\")","v":""},{"$f":"IF($C$4>3,\"Silo Filling\",\"\")","v":""},null,null,null,null,null,"Hexane"]
[null,null,null,null,{"$f":"IF($C$4>3,\"AP-7 EP-3\",\"\")","v":""},{"$f":"IF($C$4>3,\"AP-7 EU-4\",\"\")","v":""},{"$f":"IF($C$4>3,\"Truck Loadout\",\"\")","v":""},null,null,null,null,null,{"$f":"IF($C$5=\"\",\"\",$C$5)","v":""},{"$f":"IF(C5=\"drum mix plant\",SUM(N5:N7),0)","v":0},{"$f":"IF(N71=0,0,0.00092)","v":0},{"$f":"IF(O71=\"\",\"\",\"lb/ton\")","v":"lb/ton"},{"$f":"N71*O71","v":0},null,{"$f":"IF(N71=0,0,IF($C$10>0,$C$10*O71/2000,IF($C$11>0,$C$11*365*O71/2000,IF($C$12>0,$C$12*365*O71*N71/2000,IF(R71=\"\",Q71*8760/2000,R71*8760/2000)))))","v":0},{"$f":"IF(N71>0,SUM($P$5:$P$7)*O71/2000,0)","v":0}]
[null,null,null,null,{"$f":"IF($C$4>3,\"AP-7 EP-3\",\"\")","v":""},{"$f":"IF($C$4>3,\"AP-7 EU-5\",\"\")","v":""},{"$f":"IF($C$4>3,\"Cold Aggregate Bins\",\"\")","v":""},null,null,null,null,null,"Hydrochloric Acid"]
[null,null,null,null,null,null,null,null,null,null,null,null,{"$f":"IF($C$5=\"\",\"\",$C$5)","v":""},{"$f":"IF(C5=\"drum mix plant\",SUM(N5:$N$6),0)","v":0},{"$f":"IF(N73=0,0,0.00021)","v":0},{"$f":"IF(O73=\"\",\"\",\"lb/ton\")","v":"lb/ton"},{"$f":"N73*O73","v":0},null,{"$f":"IF(N73=0,0,IF($C$10>0,$C$10*O73/2000,IF($C$11>0,$C$11*365*O73/2000,IF($C$12>0,$C$12*365*O73*N73/2000,IF(R73=\"\",Q73*8760/2000,R73*8760/2000)))))","v":0},{"$f":"IF(N73>0,$P$6*O73/2000,0)","v":0}]
[null,null,null,null,{"$f":"IF($C$4>3,\"Stock Pile Area\",\"\")","v":""},null,null,null,null,null,null,null,"Methyl Chloroform"]
[null,null,null,null,null,{"$f":"IF($C$4>3,\"Emission Unit #\",\"\")","v":""},{"$f":"IF($C$4>3,\"Maximum Storage Area (acres)\",\"\")","v":""},{"$f":"IF($C$4>3,\"Actual Storage Area (acres)\",\"\")","v":""},{"$f":"IF($C$4>3,\"Actual Days in Existence (days)\",\"\")","v":""},null,null,null,{"$f":"IF($C$5=\"\",\"\",$C$5)","v":""},{"$f":"IF(C5=\"drum mix plant\",SUM(N5:N7),0)","v":0},{"$f":"IF(N75=0,0,0.000048)","v":0},{"$f":"IF(O75=\"\",\"\",\"lb/ton\")","v":"lb/ton"},{"$f":"N75*O75","v":0},null,{"$f":"IF(N75=0,0,IF($C$10>0,$C$10*O75/2000,IF($C$11>0,$C$11*365*O75/2000,IF($C$12>0,$C$12*365*O75*N75/2000,IF(R75=\"\",Q75*8760/2000,R75*8760/2000)))))","v":0},{"$f":"IF(N75>0,SUM($P$5:$P$7)*O75/2000,0)","v":0}]
[null,null,null,null,null,null,null,null,null,null,null,null,"Propionaldehyde"]
[null,null,null,null,null,null,null,null,null,null,null,null,{"$f":"IF($C$5=\"\",\"\",$C$5)","v":""},{"$f":"IF(C5=\"drum mix plant\",SUM(N5:$N$6),0)","v":0},{"$f":"IF(N77=0,0,0.00013)","v":0},{"$f":"IF(O77=\"\",\"\",\"lb/ton\")","v":"lb/ton"},{"$f":"N77*O77","v":0},null,{"$f":"IF(N77=0,0,IF($C$10>0,$C$10*O77/2000,IF($C$11>0,$C$11*365*O77/2000,IF($C$12>0,$C$12*365*O77*N77/2000,IF(R77=\"\",Q77*8760/2000,R77*8760/2000)))))","v":0},{"$f":"IF(N77>0,$P$6*O77/2000,0)","v":0}]
[null,{"$f":"IF($C$4>4,\"Asphalt Plant\",\"\")","v":""},{"$f":"IF($C$4>4,\"Site 5\",\"\")","v":""},null,{"$f":"IF($C$4>4,\"Emission Point #\",\"\")","v":""},{"$f":"IF($C$4>4,\"Emission    Unit #\",\"\")","v":""},{"$f":"IF($C$4>4,\"Process\",\"\")","v":""},{"$f":"IF($C$4>4,\"Maximum Hourly     Design Rate\",\"\")","v":""},{"$f":"IF($C$4>4,('Facility Information'!G65&\" Annual Throughput\"),\"\")","v":""},null,null,null,"Quinone"]
[null,null,null,null,null,null,null,null,null,null,null,null,{"$f":"IF($C$5=\"\",\"\",$C$5)","v":""},{"$f":"IF(C5=\"drum mix plant\",SUM(N5:$N$6),SUM($N$5:$N$7))","v":0},{"$f":"IF(N79=0,0,IF(M79=\"Batch Mix Plant\",0.00027,IF(M79=\"Drum Mix Plant\",0.00016)))","v":0},{"$f":"IF(O79=\"\",\"\",\"lb/ton\")","v":"lb/ton"},{"$f":"N79*O79","v":0},null,{"$f":"IF(N79=0,0,IF($C$10>0,$C$10*O79/2000,IF($C$11>0,$C$11*365*O79/2000,IF($C$12>0,$C$12*365*O79*N79/2000,IF(R79=\"\",Q79*8760/2000,R79*8760/2000)))))","v":0},{"$f":"IF(C23=\"drum mix plant\",$P$6*O79/2000,SUM($P$5:$P$7)*O79/2000)","v":0}]
[null,{"$f":"IF($C$4>4,\"Site Name\",\"\")","v":""},null,null,{"$f":"IF($C$4>4,\"Dryers, Hot Screens, Mixer\",\"\")","v":""},null,null,{"$f":"IF($C$4>4,\"(tons/hr)\",\"\")","v":""},{"$f":"IF($C$4>4,\"(tons/yr)\",\"\")","v":""},"PM2.5","PM10",null,"Toluene"]
[null,{"$f":"IF($C$4>4,\"County:\",\"\")","v":""},null,null,{"$f":"IF(C83=\"\",\"\",\"AP-7 EP-1\")","v":""},{"$f":"IF(C83=\"\",\"\",\"AP-7 EU-1\")","v":""},{"$f":"IF(C83=\"\",\"\",C5 & \" - \"&C83)","v":""},null,null,{"$f":"IF(C84=\"\",\"\",IF(C84=\"yes\",LOOKUP(G81,'Emission Factors'!$A$12:$A$17,'Emission Factors'!$D$12:$D$17),LOOKUP(G81,'Emission Factors'!$A$5:$A$10,'Emission Factors'!$D$5:$D$10)))","v":""},{"$f":"IF(C84=\"\",\"\",IF(C84=\"yes\",LOOKUP(G81,'Emission Factors'!$A$12:$A$17,'Emission Factors'!$F$12:$F$17),LOOKUP(G81,'Emission Factors'!$A$5:$A$10,'Emission Factors'!$F$5:$F$10)))","v":""},null,{"$f":"$C$5 & \" - Fuel Oil\"","v":" - Fuel Oil"},{"$f":"$N$5","v":0},{"$f":"IF(N81=0,0,LOOKUP(M81,'Emission Factors'!$A$5:$A$10,'Emission Factors'!$AJ$5:$AJ$10))","v":0},{"$f":"IF(O81=\"\",\"\",\"lb/ton\")","v":"lb/ton"},{"$f":"N81*O81","v":0},null,{"$f":"IF(N81=0,0,IF($C$10>0,$C$10*O81/2000,IF($C$11>0,$C$11*365*O81/2000,IF($C$12>0,$C$12*365*O81*N81/2000,IF(R81=\"\",Q81*8760/2000,R81*8760/2000)))))","v":0},{"$f":"P5*O81/2000","v":0}]
[null,{"$f":"IF($C$4>4,\"Production Period (Dates):\",\"\")","v":""},null,null,{"$f":"IF($C$4>4,\"Liquid Asphalt Heater\",\"\")","v":""},null,null,{"$f":"IF($C$4>4,IF(C83=\"natural gas\",\"(MMCF/hr)\",\"(gallons/hr)\"),\"\")","v":""},{"$f":"IF($C$4>4,IF(C83=\"natural gas\",\"(MMCF/yr)\",\"(gallons/yr)\"),\"\")","v":""},null,null,null,{"$f":"$C$5 & \" - Waste Oil\"","v":" - Waste Oil"},{"$f":"$N$6","v":0},{"$f":"IF(N82=0,0,LOOKUP(M82,'Emission Factors'!$A$5:$A$10,'Emission Factors'!$AJ$5:$AJ$10))","v":0},{"$f":"IF(O82=\"\",\"\",\"lb/ton\")","v":"lb/ton"},{"$f":"N82*O82","v":0},null,{"$f":"IF(N82=0,0,IF(OR(AND($C$10>0,$N$81>0),AND($C$11>0,$N$81>0),AND($C$12>0,$N$81>0)),\"\",IF($C$10>0,$C$10*O82/2000,IF($C$11>0,$C$11*365*O82/2000,IF($C$12>0,$C$12*365*O82*N82/2000,IF(R82=\"\",Q82*8760/2000,R82*8760/2000))))))","v":0},{"$f":"P6*O82/2000","v":0}]
[null,{"$f":"IF($C$4>4,\"Type of Fuel Used:\",\"\")","v":""},null,null,{"$f":"IF(C83=\"\",\"\",\"AP-7 EP-2\")","v":""},{"$f":"IF(C83=\"\",\"\",\"AP-7 EU-2\")","v":""},{"$f":"IF(C83=\"\",\"\",C83& \" Fired Heater\")","v":""},null,null,null,"Controlled?",null,{"$f":"$C$5 & \" - Natural Gas\"","v":" - Natural Gas"},{"$f":"$N$7","v":0},{"$f":"IF(N83=0,0,LOOKUP(M83,'Emission Factors'!$A$5:$A$10,'Emission Factors'!$AJ$5:$AJ$10))","v":0},{"$f":"IF(O83=\"\",\"\",\"lb/ton\")","v":"lb/ton"},{"$f":"N83*O83","v":0},null,{"$f":"IF(N83=0,0,IF(OR(AND($C$10>0,$N$81>0),AND($C$11>0,$N$81>0),AND($C$12>0,$N$81>0)),\"\",IF(OR(AND($C$10>0,$N$82>0),AND($C$11>0,$N$82>0),AND($C$12>0,$N$82>0)),\"\",IF($C$10>0,$C$10*O83/2000,IF($C$11>0,$C$11*365*O83/2000,IF($C$12>0,$C$12*365*O83*N83/2000,IF(R83=\"\",Q83*8760/2000,R83*8760/2000)))))))","v":0},{"$f":"P7*O83/2000","v":0}]
[null,{"$f":"IF($C$4>4,\"Is Your Operation Controlled?:\",\"\")","v":""},null,null,{"$f":"IF($C$4>4,\"Silo Filling, Truck Loadout, Aggregate Transfer\",\"\")","v":""},null,null,{"$f":"IF($C$4>4,\"(tons/hr)\",\"\")","v":""},{"$f":"IF($C$4>4,\"(tons/yr)\",\"\")","v":""},null,{"$f":"IF(OR(C25=\"yes\",C39=\"yes\",C69=\"yes\",C84=\"yes\",C100=\"yes\",C115=\"yes\",C130=\"yes\",C145=\"yes\",C160=\"yes\"),1,0)","v":0},null,"Xylene"]
[null,null,null,null,{"$f":"IF($C$4>4,\"AP-7 EP-3\",\"\")","v":""},{"$f":"IF($C$4>4,\"AP-7 EU-3\",\"\")","v":""},{"$f":"IF($C$4>4,\"Silo Filling\",\"\")","v":""},null,null,null,null,null,{"$f":"IF($C$5=\"\",\"\",$C$5)","v":""},{"$f":"SUM($N$5:$N$7)","v":0},{"$f":"IF(N85=0,0,IF(M85=\"Batch Mix Plant\",0.0027,IF(M85=\"Drum Mix Plant\",0.0002)))","v":0},{"$f":"IF(O85=\"\",\"\",\"lb/ton\")","v":"lb/ton"},{"$f":"N85*O85","v":0},null,{"$f":"IF(N85=0,0,IF($C$10>0,$C$10*O85/2000,IF($C$11>0,$C$11*365*O85/2000,IF($C$12>0,$C$12*365*O85*N85/2000,IF(R85=\"\",Q85*8760/2000,R85*8760/2000)))))","v":0},{"$f":"SUM($P$5:$P$7)*O85/2000","v":0}]
[null,null,null,null,{"$f":"IF($C$4>4,\"AP-7 EP-3\",\"\")","v":""},{"$f":"IF($C$4>4,\"AP-7 EU-4\",\"\")","v":""},{"$f":"IF($C$4>4,\"Truck Loadout\",\"\")","v":""},null,null,null,null,null,"2,2,4-Trimethylpentane"]
[null,null,null,null,{"$f":"IF($C$4>4,\"AP-7 EP-3\",\"\")","v":""},{"$f":"IF($C$4>4,\"AP-7 EU-5\",\"\")","v":""},{"$f":"IF($C$4>4,\"Cold Aggregate Bins\",\"\")","v":""},null,null,null,null,null,{"$f":"IF($C$5=\"\",\"\",$C$5)","v":""},{"$f":"IF(C5=\"drum mix plant\",SUM(N5:N7),0)","v":0},{"$f":"IF(N87=0,0,0.00004)","v":0},{"$f":"IF(O87=\"\",\"\",\"lb/ton\")","v":"lb/ton"},{"$f":"N87*O87","v":0},null,{"$f":"IF(N87=0,0,IF($C$10>0,$C$10*O87/2000,IF($C$11>0,$C$11*365*O87/2000,IF($C$12>0,$C$12*365*O87*N87/2000,IF(R87=\"\",Q87*8760/2000,R87*8760/2000)))))","v":0},{"$f":"IF(N87>0,SUM($P$5:$P$7)*O87/2000,0)","v":0}]
[null,null,null,null,null,null,null,null,null,null,null,null,"Chromium Compounds"]
[null,null,null,null,{"$f":"IF($C$4>4,\"Stock Pile Area\",\"\")","v":""},null,null,null,null,null,null,null,{"$f":"IF($C$5=\"\",\"\",$C$5)","v":""},{"$f":"IF(C5=\"drum mix plant\",SUM(N5:N6),0)","v":0},{"$f":"IF(N89=0,0,IF($K$84=1,0.0000055,0.000024))","v":0},{"$f":"IF(O89=\"\",\"\",\"lb/ton\")","v":"lb/ton"},{"$f":"IF($K$84=1,\"\",N89*O89)","v":0},{"$f":"IF($K$84=1,N89*O89,\"\")","v":""},{"$f":"IF(N89=0,0,IF($C$10>0,$C$10*O89/2000,IF($C$11>0,$C$11*365*O89/2000,IF($C$12>0,$C$12*365*O89*N89/2000,IF(R89=\"\",Q89*8760/2000,R89*8760/2000)))))","v":0},{"$f":"IF(N89>0,$P$5*O89/2000,0)","v":0}]
[null,null,null,null,null,{"$f":"IF($C$4>4,\"Emission Unit #\",\"\")","v":""},{"$f":"IF($C$4>4,\"Maximum Storage Area (acres)\",\"\")","v":""},{"$f":"IF($C$4>4,\"Actual Storage Area (acres)\",\"\")","v":""},{"$f":"IF($C$4>4,\"Actual Days in Existence (days)\",\"\")","v":""},null,null,null,"Lead Compounds"]
[null,null,null,null,null,null,null,null,null,null,null,null,{"$f":"IF($C$5=\"\",\"\",$C$5)","v":""},{"$f":"IF(C5=\"drum mix plant\",SUM(N5:N6),0)","v":0},{"$f":"IF(N91=0,0,IF($K$84=1,0.000015,0.00054))","v":0},{"$f":"IF(O91=\"\",\"\",\"lb/ton\")","v":"lb/ton"},{"$f":"IF($K$84=1,\"\",N91*O91)","v":0},{"$f":"IF($K$84=1,N91*O91,\"\")","v":""},{"$f":"IF(N91=0,0,IF($C$10>0,$C$10*O91/2000,IF($C$11>0,$C$11*365*O91/2000,IF($C$12>0,$C$12*365*O91*N91/2000,IF(R91=\"\",Q91*8760/2000,R91*8760/2000)))))","v":0},{"$f":"IF(N91>0,$P$5*O91/2000,0)","v":0}]
[null,null,null,null,null,null,null,null,null,null,null,null,"Manganese Compounds",null,null,null,0]
[null,null,null,null,null,null,null,null,null,null,null,null,{"$f":"IF($C$5=\"\",\"\",$C$5)","v":""},{"$f":"IF(C5=\"drum mix plant\",SUM(N5:N6),0)","v":0},{"$f":"IF(N93=0,0,IF($K$84=1,0.0000077,0.00065))","v":0},{"$f":"IF(O93=\"\",\"\",\"lb/ton\")","v":"lb/ton"},0,{"$f":"IF($K$84=1,N93*O93,\"\")","v":""},{"$f":"IF(N93=0,0,IF($C$10>0,$C$10*O93/2000,IF($C$11>0,$C$11*365*O93/2000,IF($C$12>0,$C$12*365*O93*N93/2000,IF(R93=\"\",Q93*8760/2000,R93*8760/2000)))))","v":0},{"$f":"IF(N93>0,$P$5*O93/2000,0)","v":0}]
[null,{"$f":"IF($C$4>5,\"Asphalt Plant\",\"\")","v":""},{"$f":"IF($C$4>5,\"Site 6\",\"\")","v":""},null,{"$f":"IF($C$4>5,\"Emission Point #\",\"\")","v":""},{"$f":"IF($C$4>5,\"Emission    Unit #\",\"\")","v":""},{"$f":"IF($C$4>5,\"Process\",\"\")","v":""},{"$f":"IF($C$4>5,\"Maximum Hourly     Design Rate\",\"\")","v":""},{"$f":"IF($C$4>5,('Facility Information'!G80&\" Annual Throughput\"),\"\")","v":""},null,null,null,"Nickel Compounds",null,null,null,0]
[null,null,null,null,null,null,null,null,null,null,null,null,{"$f":"$C$5 & \" - Fuel Oil\"","v":" - Fuel Oil"},{"$f":"IF(C5=\"drum mix plant\",N5,0)","v":0},{"$f":"IF(N95=0,0,IF($K$84=1,0.000015,0.0013))","v":0},{"$f":"IF(O95=\"\",\"\",\"lb/ton\")","v":"lb/ton"},0,{"$f":"IF($K$84=1,N95*O95,\"\")","v":""},{"$f":"IF(N95=0,0,IF($C$10>0,$C$10*O95/2000,IF($C$11>0,$C$11*365*O95/2000,IF($C$12>0,$C$12*365*O95*N95/2000,IF(R95=\"\",Q95*8760/2000,R95*8760/2000)))))","v":0},{"$f":"IF(N95>0,$P$5*O95/2000,0)","v":0}]
[null,{"$f":"IF($C$4>5,\"Site Name\",\"\")","v":""},null,null,{"$f":"IF($C$4>5,\"Dryers, Hot Screens, Mixer\",\"\")","v":""},null,null,{"$f":"IF($C$4>5,\"(tons/hr)\",\"\")","v":""},{"$f":"IF($C$4>5,\"(tons/yr)\",\"\")","v":""},"PM2.5","PM10",null,{"$f":"$C$5 & \" - Waste Oil\"","v":" - Waste Oil"},{"$f":"IF(C5=\"drum mix plant\",N6,0)","v":0},{"$f":"IF(N96=0,0,IF($K$84=1,0.000015,0.0013))","v":0},{"$f":"IF(O96=\"\",\"\",\"lb/ton\")","v":"lb/ton"},0,{"$f":"IF($K$84=1,N96*O96,\"\")","v":""},{"$f":"IF(N96=0,0,IF($C$10>0,$C$10*O96/2000,IF($C$11>0,$C$11*365*O96/2000,IF($C$12>0,$C$12*365*O96*N96/2000,IF(R96=\"\",Q96*8760/2000,R96*8760/2000)))))","v":0},{"$f":"IF(N96>0,$P$6*O96/2000,0)","v":0}]
[null,{"$f":"IF($C$4>5,\"County:\",\"\")","v":""},null,null,{"$f":"IF(C99=\"\",\"\",\"AP-7 EP-1\")","v":""},{"$f":"IF(C99=\"\",\"\",\"AP-7 EU-1\")","v":""},{"$f":"IF(C99=\"\",\"\",C5 & \" - \"&C99)","v":""},null,null,{"$f":"IF(C100=\"\",\"\",IF(C100=\"yes\",LOOKUP(G97,'Emission Factors'!$A$12:$A$17,'Emission Factors'!$D$12:$D$17),LOOKUP(G97,'Emission Factors'!$A$5:$A$10,'Emission Factors'!$D$5:$D$10)))","v":""},{"$f":"IF(C100=\"\",\"\",IF(C100=\"yes\",LOOKUP(G97,'Emission Factors'!$A$12:$A$17,'Emission Factors'!$F$12:$F$17),LOOKUP(G97,'Emission Factors'!$A$5:$A$10,'Emission Factors'!$F$5:$F$10)))","v":""},null,{"$f":"$C$5 & \" - Natural Gas\"","v":" - Natural Gas"},{"$f":"IF(C5=\"drum mix plant\",N7,0)","v":0},{"$f":"IF(N97=0,0,IF($K$84=1,0.000063,0.00063))","v":0},{"$f":"IF(O97=\"\",\"\",\"lb/ton\")","v":"lb/ton"},{"$f":"IF($K$84=1,\"\",N97*O97)","v":0},{"$f":"IF($K$84=1,N97*O97,\"\")","v":""},{"$f":"IF(N97=0,0,IF($C$10>0,$C$10*O97/2000,IF($C$11>0,$C$11*365*O97/2000,IF($C$12>0,$C$12*365*O97*N97/2000,IF(R97=\"\",Q97*8760/2000,R97*8760/2000)))))","v":0},{"$f":"IF(N97>0,$P$7*O97/2000,0)","v":0}]
[null,{"$f":"IF($C$4>5,\"Production Period (Dates):\",\"\")","v":""},null,null,{"$f":"IF($C$4>5,\"Liquid Asphalt Heater\",\"\")","v":""},null,null,{"$f":"IF($C$4>5,IF(C99=\"natural gas\",\"(MMCF/hr)\",\"(gallons/hr)\"),\"\")","v":""},{"$f":"IF($C$4>5,IF(C99=\"natural gas\",\"(MMCF/yr)\",\"(gallons/yr)\"),\"\")","v":""}]
[null,{"$f":"IF($C$4>5,\"Type of Fuel Used:\",\"\")","v":""},null,null,{"$f":"IF(C99=\"\",\"\",\"AP-7 EP-2\")","v":""},{"$f":"IF(C99=\"\",\"\",\"AP-7 EU-2\")","v":""},{"$f":"IF(C99=\"\",\"\",C99& \" Fired Heater\")","v":""}]
[null,{"$f":"IF($C$4>5,\"Is Your Operation Controlled?:\",\"\")","v":""},null,null,{"$f":"IF($C$4>5,\"Silo Filling, Truck Loadout, Aggregate Transfer\",\"\")","v":""},null,null,{"$f":"IF($C$4>5,\"(tons/hr)\",\"\")","v":""},{"$f":"IF($C$4>5,\"(tons/yr)\",\"\")","v":""}]
[null,null,null,null,{"$f":"IF($C$4>5,\"AP-7 EP-3\",\"\")","v":""},{"$f":"IF($C$4>5,\"AP-7 EU-3\",\"\")","v":""},{"$f":"IF($C$4>5,\"Silo Filling\",\"\")","v":""}]
[null,null,null,null,{"$f":"IF($C$4>5,\"AP-7 EP-3\",\"\")","v":""},{"$f":"IF($C$4>5,\"AP-7 EU-4\",\"\")","v":""},{"$f":"IF($C$4>5,\"Truck Loadout\",\"\")","v":""}]
[null,null,null,null,{"$f":"IF($C$4>5,\"AP-7 EP-3\",\"\")","v":""},{"$f":"IF($C$4>5,\"AP-7 EU-5\",\"\")","v":""},{"$f":"IF($C$4>5,\"Cold Aggregate Bins\",\"\")","v":""}]
[]
[null,null,null,null,{"$f":"IF($C$4>5,\"Stock Pile Area\",\"\")","v":""}]
[null,null,null,null,null,{"$f":"IF($C$4>5,\"Emission Unit #\",\"\")","v":""},{"$f":"IF($C$4>5,\"Maximum Storage Area (acres)\",\"\")","v":""},{"$f":"IF($C$4>5,\"Actual Storage Area (acres)\",\"\")","v":""},{"$f":"IF($C$4>5,\"Actual Days in Existence (days)\",\"\")","v":""}]
[]
[]
[null,{"$f":"IF($C$4>6,\"Asphalt Plant\",\"\")","v":""},{"$f":"IF($C$4>6,\"Site 7\",\"\")","v":""},null,{"$f":"IF($C$4>6,\"Emission Point #\",\"\")","v":""},{"$f":"IF($C$4>6,\"Emission    Unit #\",\"\")","v":""},{"$f":"IF($C$4>6,\"Process\",\"\")","v":""},{"$f":"IF($C$4>6,\"Maximum Hourly     Design Rate\",\"\")","v":""},{"$f":"IF($C$4>6,('Facility Information'!G95&\" Annual Throughput\"),\"\")","v":""}]
[]
[null,{"$f":"IF($C$4>6,\"Site Name\",\"\")","v":""},null,null,{"$f":"IF($C$4>6,\"Dryers, Hot Screens, Mixer\",\"\")","v":""},null,null,{"$f":"IF($C$4>6,\"(tons/hr)\",\"\")","v":""},{"$f":"IF($C$4>6,\"(tons/yr)\",\"\")","v":""},"PM2.5","PM10"]
[null,{"$f":"IF($C$4>6,\"County:\",\"\")","v":""},null,null,{"$f":"IF(C114=\"\",\"\",\"AP-7 EP-1\")","v":""},{"$f":"IF(C114=\"\",\"\",\"AP-7 EU-1\")","v":""},{"$f":"IF(C114=\"\",\"\",C5 & \" - \"&C114)","v":""},null,null,{"$f":"IF(C115=\"\",\"\",IF(C115=\"yes\",LOOKUP(G112,'Emission Factors'!$A$12:$A$17,'Emission Factors'!$D$12:$D$17),LOOKUP(G112,'Emission Factors'!$A$5:$A$10,'Emission Factors'!$D$5:$D$10)))","v":""},{"$f":"IF(C115=\"\",\"\",IF(C115=\"yes\",LOOKUP(G112,'Emission Factors'!$A$12:$A$17,'Emission Factors'!$F$12:$F$17),LOOKUP(G112,'Emission Factors'!$A$5:$A$10,'Emission Factors'!$F$5:$F$10)))","v":""}]
[null,{"$f":"IF($C$4>6,\"Production Period (Dates):\",\"\")","v":""},null,null,{"$f":"IF($C$4>6,\"Liquid Asphalt Heater\",\"\")","v":""},null,null,{"$f":"IF($C$4>6,IF(C114=\"natural gas\",\"(MMCF/hr)\",\"(gallons/hr)\"),\"\")","v":""},{"$f":"IF($C$4>6,IF(C114=\"natural gas\",\"(MMCF/yr)\",\"(gallons/yr)\"),\"\")","v":""}]
[null,{"$f":"IF($C$4>6,\"Type of Fuel Used:\",\"\")","v":""},null,null,{"$f":"IF(C114=\"\",\"\",\"AP-7 EP-2\")","v":""},{"$f":"IF(C114=\"\",\"\",\"AP-7 EU-2\")","v":""},{"$f":"IF(C114=\"\",\"\",C114& \" Fired Heater\")","v":""}]
[null,{"$f":"IF($C$4>6,\"Is Your Operation Controlled?:\",\"\")","v":""},null,null,{"$f":"IF($C$4>6,\"Silo Filling, Truck Loadout, Aggregate Transfer\",\"\")","v":""},null,null,{"$f":"IF($C$4>6,\"(tons/hr)\",\"\")","v":""},{"$f":"IF($C$4>6,\"(tons/yr)\",\"\")","v":""}]
[null,null,null,null,{"$f":"IF($C$4>6,\"AP-7 EP-3\",\"\")","v":""},{"$f":"IF($C$4>6,\"AP-7 EU-3\",\"\")","v":""},{"$f":"IF($C$4>6,\"Silo Filling\",\"\")","v":""}]
[null,null,null,null,{"$f":"IF($C$4>6,\"AP-7 EP-3\",\"\")","v":""},{"$f":"IF($C$4>6,\"AP-7 EU-4\",\"\")","v":""},{"$f":"IF($C$4>6,\"Truck Loadout\",\"\")","v":""}]
[null,null,null,null,{"$f":"IF($C$4>6,\"AP-7 EP-3\",\"\")","v":""},{"$f":"IF($C$4>6,\"AP-7 EU-5\",\"\")","v":""},{"$f":"IF($C$4>6,\"Cold Aggregate Bins\",\"\")","v":""}]
[]
[null,null,null,null,{"$f":"IF($C$4>6,\"Stock Pile Area\",\"\")","v":""}]
[null,null,null,null,null,{"$f":"IF($C$4>6,\"Emission Unit #\",\"\")","v":""},{"$f":"IF($C$4>6,\"Maximum Storage Area (acres)\",\"\")","v":""},{"$f":"IF($C$4>6,\"Actual Storage Area (acres)\",\"\")","v":""},{"$f":"IF($C$4>6,\"Actual Days in Existence (days)\",\"\")","v":""}]
[]
[]
[null,{"$f":"IF($C$4>7,\"Asphalt Plant\",\"\")","v":""},{"$f":"IF($C$4>7,\"Site 8\",\"\")","v":""},null,{"$f":"IF($C$4>7,\"Emission Point #\",\"\")","v":""},{"$f":"IF($C$4>7,\"Emission    Unit #\",\"\")","v":""},{"$f":"IF($C$4>7,\"Process\",\"\")","v":""},{"$f":"IF($C$4>7,\"Maximum Hourly     Design Rate\",\"\")","v":""},{"$f":"IF($C$4>7,('Facility Information'!G110&\" Annual Throughput\"),\"\")","v":""}]
[]
[null,{"$f":"IF($C$4>7,\"Site Name\",\"\")","v":""},null,null,{"$f":"IF($C$4>7,\"Dryers, Hot Screens, Mixer\",\"\")","v":""},null,null,{"$f":"IF($C$4>7,\"(tons/hr)\",\"\")","v":""},{"$f":"IF($C$4>7,\"(tons/yr)\",\"\")","v":""},"PM2.5","PM10"]
[null,{"$f":"IF($C$4>7,\"County:\",\"\")","v":""},null,null,{"$f":"IF(C129=\"\",\"\",\"AP-7 EP-1\")","v":""},{"$f":"IF(C129=\"\",\"\",\"AP-7 EU-1\")","v":""},{"$f":"IF(C129=\"\",\"\",C5 & \" - \"&C129)","v":""},null,null,{"$f":"IF(C130=\"\",\"\",IF(C130=\"yes\",LOOKUP(G127,'Emission Factors'!$A$12:$A$17,'Emission Factors'!$D$12:$D$17),LOOKUP(G127,'Emission Factors'!$A$5:$A$10,'Emission Factors'!$D$5:$D$10)))","v":""},{"$f":"IF(C130=\"\",\"\",IF(C130=\"yes\",LOOKUP(G127,'Emission Factors'!$A$12:$A$17,'Emission Factors'!$F$12:$F$17),LOOKUP(G127,'Emission Factors'!$A$5:$A$10,'Emission Factors'!$F$5:$F$10)))","v":""}]
[null,{"$f":"IF($C$4>7,\"Production Period (Dates):\",\"\")","v":""},null,null,{"$f":"IF($C$4>7,\"Liquid Asphalt Heater\",\"\")","v":""},null,null,{"$f":"IF($C$4>7,IF(C129=\"natural gas\",\"(MMCF/hr)\",\"(gallons/hr)\"),\"\")","v":""},{"$f":"IF($C$4>7,IF(C129=\"natural gas\",\"(MMCF/yr)\",\"(gallons/yr)\"),\"\")","v":""}]
[null,{"$f":"IF($C$4>7,\"Type of Fuel Used:\",\"\")","v":""},null,null,{"$f":"IF(C129=\"\",\"\",\"AP-7 EP-2\")","v":""},{"$f":"IF(C129=\"\",\"\",\"AP-7 EU-2\")","v":""},{"$f":"IF(C129=\"\",\"\",C129& \" Fired Heater\")","v":""}]
[null,{"$f":"IF($C$4>7,\"Is Your Operation Controlled?:\",\"\")","v":""},null,null,{"$f":"IF($C$4>7,\"Silo Filling, Truck Loadout, Aggregate Transfer\",\"\")","v":""},null,null,{"$f":"IF($C$4>7,\"(tons/hr)\",\"\")","v":""},{"$f":"IF($C$4>7,\"(tons/yr)\",\"\")","v":""}]
[null,null,null,null,{"$f":"IF($C$4>7,\"AP-7 EP-3\",\"\")","v":""},{"$f":"IF($C$4>7,\"AP-7 EU-3\",\"\")","v":""},{"$f":"IF($C$4>7,\"Silo Filling\",\"\")","v":""}]
[null,null,null,null,{"$f":"IF($C$4>7,\"AP-7 EP-3\",\"\")","v":""},{"$f":"IF($C$4>7,\"AP-7 EU-4\",\"\")","v":""},{"$f":"IF($C$4>7,\"Truck Loadout\",\"\")","v":""}]
[null,null,null,null,{"$f":"IF($C$4>7,\"AP-7 EP-3\",\"\")","v":""},{"$f":"IF($C$4>7,\"AP-7 EU-5\",\"\")","v":""},{"$f":"IF($C$4>7,\"Cold Aggregate Bins\",\"\")","v":""}]
[]
[null,null,null,null,{"$f":"IF($C$4>7,\"Stock Pile Area\",\"\")","v":""}]
[null,null,null,null,null,{"$f":"IF($C$4>7,\"Emission Unit #\",\"\")","v":""},{"$f":"IF($C$4>7,\"Maximum Storage Area (acres)\",\"\")","v":""},{"$f":"IF($C$4>7,\"Actual Storage Area (acres)\",\"\")","v":""},{"$f":"IF($C$4>7,\"Actual Days in Existence (days)\",\"\")","v":""}]
[]
[]
[null,{"$f":"IF($C$4>8,\"Asphalt Plant\",\"\")","v":""},{"$f":"IF($C$4>8,\"Site 9\",\"\")","v":""},null,{"$f":"IF($C$4>8,\"Emission Point #\",\"\")","v":""},{"$f":"IF($C$4>8,\"Emission    Unit #\",\"\")","v":""},{"$f":"IF($C$4>8,\"Process\",\"\")","v":""},{"$f":"IF($C$4>8,\"Maximum Hourly     Design Rate\",\"\")","v":""},{"$f":"IF($C$4>8,('Facility Information'!G125&\" Annual Throughput\"),\"\")","v":""}]
[]
[null,{"$f":"IF($C$4>8,\"Site Name\",\"\")","v":""},null,null,{"$f":"IF($C$4>8,\"Dryers, Hot Screens, Mixer\",\"\")","v":""},null,null,{"$f":"IF($C$4>8,\"(tons/hr)\",\"\")","v":""},{"$f":"IF($C$4>8,\"(tons/yr)\",\"\")","v":""},"PM2.5","PM10"]
[null,{"$f":"IF($C$4>8,\"County:\",\"\")","v":""},null,null,{"$f":"IF(C144=\"\",\"\",\"AP-7 EP-1\")","v":""},{"$f":"IF(C144=\"\",\"\",\"AP-7 EU-1\")","v":""},{"$f":"IF(C144=\"\",\"\",C5 & \" - \"&C144)","v":""},null,null,{"$f":"IF(C145=\"\",\"\",IF(C145=\"yes\",LOOKUP(G142,'Emission Factors'!$A$12:$A$17,'Emission Factors'!$D$12:$D$17),LOOKUP(G142,'Emission Factors'!$A$5:$A$10,'Emission Factors'!$D$5:$D$10)))","v":""},{"$f":"IF(C145=\"\",\"\",IF(C145=\"yes\",LOOKUP(G142,'Emission Factors'!$A$12:$A$17,'Emission Factors'!$F$12:$F$17),LOOKUP(G142,'Emission Factors'!$A$5:$A$10,'Emission Factors'!$F$5:$F$10)))","v":""}]
[null,{"$f":"IF($C$4>8,\"Production Period (Dates):\",\"\")","v":""},null,null,{"$f":"IF($C$4>8,\"Liquid Asphalt Heater\",\"\")","v":""},null,null,{"$f":"IF($C$4>8,IF(C144=\"natural gas\",\"(MMCF/hr)\",\"(gallons/hr)\"),\"\")","v":""},{"$f":"IF($C$4>8,IF(C144=\"natural gas\",\"(MMCF/yr)\",\"(gallons/yr)\"),\"\")","v":""}]
[null,{"$f":"IF($C$4>8,\"Type of Fuel Used:\",\"\")","v":""},null,null,{"$f":"IF(C144=\"\",\"\",\"AP-7 EP-2\")","v":""},{"$f":"IF(C144=\"\",\"\",\"AP-7 EU-2\")","v":""},{"$f":"IF(C144=\"\",\"\",C144& \" Fired Heater\")","v":""}]
[null,{"$f":"IF($C$4>8,\"Is Your Operation Controlled?:\",\"\")","v":""},null,null,{"$f":"IF($C$4>8,\"Silo Filling, Truck Loadout, Aggregate Transfer\",\"\")","v":""},null,null,{"$f":"IF($C$4>8,\"(tons/hr)\",\"\")","v":""},{"$f":"IF($C$4>8,\"(tons/yr)\",\"\")","v":""}]
[null,null,null,null,{"$f":"IF($C$4>8,\"AP-7 EP-3\",\"\")","v":""},{"$f":"IF($C$4>8,\"AP-7 EU-3\",\"\")","v":""},{"$f":"IF($C$4>8,\"Silo Filling\",\"\")","v":""}]
[null,null,null,null,{"$f":"IF($C$4>8,\"AP-7 EP-3\",\"\")","v":""},{"$f":"IF($C$4>8,\"AP-7 EU-4\",\"\")","v":""},{"$f":"IF($C$4>8,\"Truck Loadout\",\"\")","v":""}]
[null,null,null,null,{"$f":"IF($C$4>8,\"AP-7 EP-3\",\"\")","v":""},{"$f":"IF($C$4>8,\"AP-7 EU-5\",\"\")","v":""},{"$f":"IF($C$4>8,\"Cold Aggregate Bins\",\"\")","v":""}]
[]
[null,null,null,null,{"$f":"IF($C$4>8,\"Stock Pile Area\",\"\")","v":""}]
[null,null,null,null,null,{"$f":"IF($C$4>8,\"Emission Unit #\",\"\")","v":""},{"$f":"IF($C$4>8,\"Maximum Storage Area (acres)\",\"\")","v":""},{"$f":"IF($C$4>8,\"Actual Storage Area (acres)\",\"\")","v":""},{"$f":"IF($C$4>8,\"Actual Days in Existence (days)\",\"\")","v":""}]
[]
[]
[null,{"$f":"IF($C$4>9,\"Asphalt Plant\",\"\")","v":""},{"$f":"IF($C$4>9,\"Site 10\",\"\")","v":""},null,{"$f":"IF($C$4>9,\"Emission Point #\",\"\")","v":""},{"$f":"IF($C$4>9,\"Emission    Unit #\",\"\")","v":""},{"$f":"IF($C$4>9,\"Process\",\"\")","v":""},{"$f":"IF($C$4>9,\"Maximum Hourly     Design Rate\",\"\")","v":""},{"$f":"IF($C$4>9,('Facility Information'!G140&\" Annual Throughput\"),\"\")","v":""}]
[]
[null,{"$f":"IF($C$4>9,\"Site Name\",\"\")","v":""},null,null,{"$f":"IF($C$4>9,\"Dryers, Hot Screens, Mixer\",\"\")","v":""},null,null,{"$f":"IF($C$4>9,\"(tons/hr)\",\"\")","v":""},{"$f":"IF($C$4>9,\"(tons/yr)\",\"\")","v":""},"PM2.5","PM10"]
[null,{"$f":"IF($C$4>9,\"County:\",\"\")","v":""},null,null,{"$f":"IF(C159=\"\",\"\",\"AP-7 EP-1\")","v":""},{"$f":"IF(C159=\"\",\"\",\"AP-7 EU-1\")","v":""},{"$f":"IF(C159=\"\",\"\",C5 & \" - \"&C159)","v":""},null,null,{"$f":"IF(C160=\"\",\"\",IF(C160=\"yes\",LOOKUP(G157,'Emission Factors'!$A$12:$A$17,'Emission Factors'!$D$12:$D$17),LOOKUP(G157,'Emission Factors'!$A$5:$A$10,'Emission Factors'!$D$5:$D$10)))","v":""},{"$f":"IF(C160=\"\",\"\",IF(C160=\"yes\",LOOKUP(G157,'Emission Factors'!$A$12:$A$17,'Emission Factors'!$F$12:$F$17),LOOKUP(G157,'Emission Factors'!$A$5:$A$10,'Emission Factors'!$F$5:$F$10)))","v":""}]
[null,{"$f":"IF($C$4>9,\"Production Period (Dates):\",\"\")","v":""},null,null,{"$f":"IF($C$4>9,\"Liquid Asphalt Heater\",\"\")","v":""},null,null,{"$f":"IF($C$4>9,IF(C159=\"natural gas\",\"(MMCF/hr)\",\"(gallons/hr)\"),\"\")","v":""},{"$f":"IF($C$4>9,IF(C159=\"natural gas\",\"(MMCF/yr)\",\"(gallons/yr)\"),\"\")","v":""}]
[null,{"$f":"IF($C$4>9,\"Type of Fuel Used:\",\"\")","v":""},null,null,{"$f":"IF(C159=\"\",\"\",\"AP-7 EP-2\")","v":""},{"$f":"IF(C159=\"\",\"\",\"AP-7 EU-2\")","v":""},{"$f":"IF(C159=\"\",\"\",C159& \" Fired Heater\")","v":""}]
[null,{"$f":"IF($C$4>9,\"Is Your Operation Controlled?:\",\"\")","v":""},null,null,{"$f":"IF($C$4>9,\"Silo Filling, Truck Loadout, Aggregate Transfer\",\"\")","v":""},null,null,{"$f":"IF($C$4>9,\"(tons/hr)\",\"\")","v":""},{"$f":"IF($C$4>9,\"(tons/yr)\",\"\")","v":""}]
[null,null,null,null,{"$f":"IF($C$4>9,\"AP-7 EP-3\",\"\")","v":""},{"$f":"IF($C$4>9,\"AP-7 EU-3\",\"\")","v":""},{"$f":"IF($C$4>9,\"Silo Filling\",\"\")","v":""}]
[null,null,null,null,{"$f":"IF($C$4>9,\"AP-7 EP-3\",\"\")","v":""},{"$f":"IF($C$4>9,\"AP-7 EU-4\",\"\")","v":""},{"$f":"IF($C$4>9,\"Truck Loadout\",\"\")","v":""}]
[null,null,null,null,{"$f":"IF($C$4>9,\"AP-7 EP-3\",\"\")","v":""},{"$f":"IF($C$4>9,\"AP-7 EU-5\",\"\")","v":""},{"$f":"IF($C$4>9,\"Cold Aggregate Bins\",\"\")","v":""}]
[]
[null,null,null,null,{"$f":"IF($C$4>9,\"Stock Pile Area\",\"\")","v":""}]
[null,null,null,null,null,{"$f":"IF($C$4>9,\"Emission Unit #\",\"\")","v":""},{"$f":"IF($C$4>9,\"Maximum Storage Area (acres)\",\"\")","v":""},{"$f":"IF($C$4>9,\"Actual Storage Area (acres)\",\"\")","v":""},{"$f":"IF($C$4>9,\"Actual Days in Existence (days)\",\"\")","v":""}]

{"sheet":"Asphalt Plant (AP-8)","index":8,"n_rows":166,"n_cols":20,"rows_kept":166,"cut":false,"hidden":true,"merged":[]}
[null,"ASPHALT PLANT (AP-8)"]
[null,"Please fill in the yellow boxes as applicable for your facility. ",null,null,null,null,null,null,"Values used for calculating emissions →",null,null,null,"Values Used to Calculate Actual Emissions for the Listed Processes at this Plant"]
[]
[null,{"$f":"\"Number of Sites this Plant operated at in \"&'Facility Information'!G5&\":\"","v":"Number of Sites this Plant operated at in :"},null,null,null,null,null,null,null,null,null,null,"Process","Maximum Design Rate","Units","Actual throughput",null,"** As of 2016 Potential Emissions are no longer required to be reported in the Minor Source Emissions Inventory**",null,"Units"]
[null,"Plant Type:",null,null,null,null,null,null,null,null,null,null,{"$f":"$C$5 & \" - Fuel Oil\"","v":" - Fuel Oil"},{"$f":"MAX((IFERROR(OFFSET($G$21,MATCH(M5,$G$22,0),1),0)),((IFERROR(OFFSET($G$35,MATCH(M5,$G$36,0),1),0))),((IFERROR(OFFSET($G$50,MATCH(M5,$G$51,0),1),0))),((IFERROR(OFFSET($G$65,MATCH(M5,$G$66,0),1),0))),((IFERROR(OFFSET($G$80,MATCH(M5,$G$81,0),1),0))),((IFERROR(OFFSET($G$96,MATCH(M5,$G$97,0),1),0))),((IFERROR(OFFSET($G$111,MATCH(M5,$G$112,0),1),0))),((IFERROR(OFFSET($G$126,MATCH(M5,$G$127,0),1),0))),((IFERROR(OFFSET($G$141,MATCH(M5,$G$142,0),1),0))),((IFERROR(OFFSET($G$156,MATCH(M5,$G$157,0),1),0))))","v":0},"tons/hr",{"$f":"SUM((IFERROR(OFFSET($G$21,MATCH(M5,$G$22,0),2),0)),((IFERROR(OFFSET($G$35,MATCH(M5,$G$36,0),2),0))),((IFERROR(OFFSET($G$50,MATCH(M5,$G$51,0),2),0))),((IFERROR(OFFSET($G$65,MATCH(M5,$G$66,0),2),0))),((IFERROR(OFFSET($G$80,MATCH(M5,$G$81,0),2),0))),((IFERROR(OFFSET($G$96,MATCH(M5,$G$97,0),2),0))),((IFERROR(OFFSET($G$111,MATCH(M5,$G$112,0),2),0))),((IFERROR(OFFSET($G$126,MATCH(M5,$G$127,0),2),0))),((IFERROR(OFFSET($G$141,MATCH(M5,$G$142,0),2),0))),((IFERROR(OFFSET($G$156,MATCH(M5,$G$157,0),2),0))))","v":0},null,null,null,"tons/yr"]
[null,null,null,null,null,null,null,null,null,null,null,null,{"$f":"$C$5 & \" - Waste Oil\"","v":" - Waste Oil"},{"$f":"MAX((IFERROR(OFFSET($G$21,MATCH(M6,$G$22,0),1),0)),((IFERROR(OFFSET($G$35,MATCH(M6,$G$36,0),1),0))),((IFERROR(OFFSET($G$50,MATCH(M6,$G$51,0),1),0))),((IFERROR(OFFSET($G$65,MATCH(M6,$G$66,0),1),0))),((IFERROR(OFFSET($G$80,MATCH(M6,$G$81,0),1),0))),((IFERROR(OFFSET($G$96,MATCH(M6,$G$97,0),1),0))),((IFERROR(OFFSET($G$111,MATCH(M6,$G$112,0),1),0))),((IFERROR(OFFSET($G$126,MATCH(M6,$G$127,0),1),0))),((IFERROR(OFFSET($G$141,MATCH(M6,$G$142,0),1),0))),((IFERROR(OFFSET($G$156,MATCH(M6,$G$157,0),1),0))))","v":0},"tons/hr",{"$f":"SUM((IFERROR(OFFSET($G$21,MATCH(M6,$G$22,0),2),0)),((IFERROR(OFFSET($G$35,MATCH(M6,$G$36,0),2),0))),((IFERROR(OFFSET($G$50,MATCH(M6,$G$51,0),2),0))),((IFERROR(OFFSET($G$65,MATCH(M6,$G$66,0),2),0))),((IFERROR(OFFSET($G$80,MATCH(M6,$G$81,0),2),0))),((IFERROR(OFFSET($G$96,MATCH(M6,$G$97,0),2),0))),((IFERROR(OFFSET($G$111,MATCH(M6,$G$112,0),2),0))),((IFERROR(OFFSET($G$126,MATCH(M6,$G$127,0),2),0))),((IFERROR(OFFSET($G$141,MATCH(M6,$G$142,0),2),0))),((IFERROR(OFFSET($G$156,MATCH(M6,$G$157,0),2),0))))","v":0},null,null,null,"tons/yr"]
[null,"Plant Specific Permit Number: ",null,null,null,null,null,null,null,null,null,null,{"$f":"$C$5 & \" - Natural Gas\"","v":" - Natural Gas"},{"$f":"MAX((IFERROR(OFFSET($G$21,MATCH(M7,$G$22,0),1),0)),((IFERROR(OFFSET($G$35,MATCH(M7,$G$36,0),1),0))),((IFERROR(OFFSET($G$50,MATCH(M7,$G$51,0),1),0))),((IFERROR(OFFSET($G$65,MATCH(M7,$G$66,0),1),0))),((IFERROR(OFFSET($G$80,MATCH(M7,$G$81,0),1),0))),((IFERROR(OFFSET($G$96,MATCH(M7,$G$97,0),1),0))),((IFERROR(OFFSET($G$111,MATCH(M7,$G$112,0),1),0))),((IFERROR(OFFSET($G$126,MATCH(M7,$G$127,0),1),0))),((IFERROR(OFFSET($G$141,MATCH(M7,$G$142,0),1),0))),((IFERROR(OFFSET($G$156,MATCH(M7,$G$157,0),1),0))))","v":0},"tons/hr",{"$f":"SUM((IFERROR(OFFSET($G$21,MATCH(M7,$G$22,0),2),0)),((IFERROR(OFFSET($G$35,MATCH(M7,$G$36,0),2),0))),((IFERROR(OFFSET($G$50,MATCH(M7,$G$51,0),2),0))),((IFERROR(OFFSET($G$65,MATCH(M7,$G$66,0),2),0))),((IFERROR(OFFSET($G$80,MATCH(M7,$G$81,0),2),0))),((IFERROR(OFFSET($G$96,MATCH(M7,$G$97,0),2),0))),((IFERROR(OFFSET($G$111,MATCH(M7,$G$112,0),2),0))),((IFERROR(OFFSET($G$126,MATCH(M7,$G$127,0),2),0))),((IFERROR(OFFSET($G$141,MATCH(M7,$G$142,0),2),0))),((IFERROR(OFFSET($G$156,MATCH(M7,$G$157,0),2),0))))","v":0},null,null,null,"tons/yr"]
[null,null,null,null,null,null,null,null,null,null,null,null,"Fuel Oil Fired Heater",{"$f":"MAX((IFERROR(OFFSET($G$23,MATCH(\"Fuel Oil Fired Heater\",$G$24,0),1),0)),((IFERROR(OFFSET($G$37,MATCH(\"Fuel Oil Fired Heater\",$G$38,0),1),0))),((IFERROR(OFFSET($G$52,MATCH(\"Fuel Oil Fired Heater\",$G$53,0),1),0))),((IFERROR(OFFSET($G$67,MATCH(\"Fuel Oil Fired Heater\",$G$68,0),1),0))),((IFERROR(OFFSET($G$82,MATCH(\"Fuel Oil Fired Heater\",$G$83,0),1),0))),((IFERROR(OFFSET($G$98,MATCH(\"Fuel Oil Fired Heater\",$G$99,0),1),0))),((IFERROR(OFFSET($G$113,MATCH(\"Fuel Oil Fired Heater\",$G$114,0),1),0))),((IFERROR(OFFSET($G$128,MATCH(\"Fuel Oil Fired Heater\",$G$129,0),1),0))),((IFERROR(OFFSET($G$143,MATCH(\"Fuel Oil Fired Heater\",$G$144,0),1),0))),((IFERROR(OFFSET($G$158,MATCH(\"Fuel Oil Fired Heater\",$G$159,0),1),0))))","v":0},"gallons/hr",{"$f":"SUM((IFERROR(OFFSET($G$23,MATCH(\"Fuel Oil Fired Heater\",$G$24,0),2),0)),((IFERROR(OFFSET($G$37,MATCH(\"Fuel Oil Fired Heater\",$G$38,0),2),0))),((IFERROR(OFFSET($G$52,MATCH(\"Fuel Oil Fired Heater\",$G$53,0),2),0))),((IFERROR(OFFSET($G$67,MATCH(\"Fuel Oil Fired Heater\",$G$68,0),2),0))),((IFERROR(OFFSET($G$82,MATCH(\"Fuel Oil Fired Heater\",$G$83,0),2),0))),((IFERROR(OFFSET($G$98,MATCH(\"Fuel Oil Fired Heater\",$G$99,0),2),0))),((IFERROR(OFFSET($G$113,MATCH(\"Fuel Oil Fired Heater\",$G$114,0),2),0))),((IFERROR(OFFSET($G$128,MATCH(\"Fuel Oil Fired Heater\",$G$129,0),2),0))),((IFERROR(OFFSET($G$143,MATCH(\"Fuel Oil Fired Heater\",$G$144,0),2),0))),((IFERROR(OFFSET($G$158,MATCH(\"Fuel Oil Fired Heater\",$G$159,0),2),0))))","v":0},null,null,null,"gallons/yr"]
[null,"Plant Specific Operating Limits:",null,null,"Plant Specific Emission Limits:",null,null,null,null,null,null,null,"Waste Oil Fired Heater",{"$f":"MAX((IFERROR(OFFSET($G$23,MATCH(\"waste oil Fired Heater\",$G$24,0),1),0)),((IFERROR(OFFSET($G$37,MATCH(\"waste oil Fired Heater\",$G$38,0),1),0))),((IFERROR(OFFSET($G$52,MATCH(\"waste oil Fired Heater\",$G$53,0),1),0))),((IFERROR(OFFSET($G$67,MATCH(\"waste oil Fired Heater\",$G$68,0),1),0))),((IFERROR(OFFSET($G$82,MATCH(\"waste oil Fired Heater\",$G$83,0),1),0))),((IFERROR(OFFSET($G$98,MATCH(\"waste oil Fired Heater\",$G$99,0),1),0))),((IFERROR(OFFSET($G$113,MATCH(\"waste oil Fired Heater\",$G$114,0),1),0))),((IFERROR(OFFSET($G$128,MATCH(\"waste oil Fired Heater\",$G$129,0),1),0))),((IFERROR(OFFSET($G$143,MATCH(\"waste oil Fired Heater\",$G$144,0),1),0))),((IFERROR(OFFSET($G$158,MATCH(\"waste oil Fired Heater\",$G$159,0),1),0))))","v":0},"gallons/hr",{"$f":"SUM((IFERROR(OFFSET($G$23,MATCH(\"waste oil Fired Heater\",$G$24,0),2),0)),((IFERROR(OFFSET($G$37,MATCH(\"waste oil Fired Heater\",$G$38,0),2),0))),((IFERROR(OFFSET($G$52,MATCH(\"waste oil Fired Heater\",$G$53,0),2),0))),((IFERROR(OFFSET($G$67,MATCH(\"waste oil Fired Heater\",$G$68,0),2),0))),((IFERROR(OFFSET($G$82,MATCH(\"waste oil Fired Heater\",$G$83,0),2),0))),((IFERROR(OFFSET($G$98,MATCH(\"waste oil Fired Heater\",$G$99,0),2),0))),((IFERROR(OFFSET($G$113,MATCH(\"waste oil Fired Heater\",$G$114,0),2),0))),((IFERROR(OFFSET($G$128,MATCH(\"waste oil Fired Heater\",$G$129,0),2),0))),((IFERROR(OFFSET($G$143,MATCH(\"waste oil Fired Heater\",$G$144,0),2),0))),((IFERROR(OFFSET($G$158,MATCH(\"waste oil Fired Heater\",$G$159,0),2),0))))","v":0},null,null,null,"gallons/yr"]
[null,"Throughput Limit (tons/yr):",null,null,"Pollutant","lb/hr","tons/yr",null,null,null,null,null,"Natural Gas Fired Heater",{"$f":"MAX((IFERROR(OFFSET($G$23,MATCH(\"Natural Gas Fired Heater\",$G$24,0),1),0)),((IFERROR(OFFSET($G$37,MATCH(\"Natural Gas Fired Heater\",$G$38,0),1),0))),((IFERROR(OFFSET($G$52,MATCH(\"Natural Gas Fired Heater\",$G$53,0),1),0))),((IFERROR(OFFSET($G$67,MATCH(\"Natural Gas Fired Heater\",$G$68,0),1),0))),((IFERROR(OFFSET($G$82,MATCH(\"Natural Gas Fired Heater\",$G$83,0),1),0))),((IFERROR(OFFSET($G$98,MATCH(\"Natural Gas Fired Heater\",$G$99,0),1),0))),((IFERROR(OFFSET($G$113,MATCH(\"Natural Gas Fired Heater\",$G$114,0),1),0))),((IFERROR(OFFSET($G$128,MATCH(\"Natural Gas Fired Heater\",$G$129,0),1),0))),((IFERROR(OFFSET($G$143,MATCH(\"Natural Gas Fired Heater\",$G$144,0),1),0))),((IFERROR(OFFSET($G$158,MATCH(\"Natural Gas Fired Heater\",$G$159,0),1),0))))","v":0},"MMCF/hr",{"$f":"SUM((IFERROR(OFFSET($G$23,MATCH(\"Natural Gas Fired Heater\",$G$24,0),2),0)),((IFERROR(OFFSET($G$37,MATCH(\"Natural Gas Fired Heater\",$G$38,0),2),0))),((IFERROR(OFFSET($G$52,MATCH(\"Natural Gas Fired Heater\",$G$53,0),2),0))),((IFERROR(OFFSET($G$67,MATCH(\"Natural Gas Fired Heater\",$G$68,0),2),0))),((IFERROR(OFFSET($G$82,MATCH(\"Natural Gas Fired Heater\",$G$83,0),2),0))),((IFERROR(OFFSET($G$98,MATCH(\"Natural Gas Fired Heater\",$G$99,0),2),0))),((IFERROR(OFFSET($G$113,MATCH(\"Natural Gas Fired Heater\",$G$114,0),2),0))),((IFERROR(OFFSET($G$128,MATCH(\"Natural Gas Fired Heater\",$G$129,0),2),0))),((IFERROR(OFFSET($G$143,MATCH(\"Natural Gas Fired Heater\",$G$144,0),2),0))),((IFERROR(OFFSET($G$158,MATCH(\"Natural Gas Fired Heater\",$G$159,0),2),0))))","v":0},null,null,null,"MMCF/yr"]
[null,"Daily Throughput Limit (tons/day):",null,null,"PM2.5",null,null,null,null,null,null,null,"Silo Filling",{"$f":"MAX((IFERROR(OFFSET($G$25,MATCH(\"Silo Filling\",$G$26,0),1),0)),((IFERROR(OFFSET($G$39,MATCH(\"Silo Filling\",$G$40,0),1),0))),((IFERROR(OFFSET($G$54,MATCH(\"Silo Filling\",$G$55,0),1),0))),((IFERROR(OFFSET($G$69,MATCH(\"Silo Filling\",$G$70,0),1),0))),((IFERROR(OFFSET($G$84,MATCH(\"Silo Filling\",$G$85,0),1),0))),((IFERROR(OFFSET($G$100,MATCH(\"Silo Filling\",$G$101,0),1),0))),((IFERROR(OFFSET($G$115,MATCH(\"Silo Filling\",$G$116,0),1),0))),((IFERROR(OFFSET($G$130,MATCH(\"Silo Filling\",$G$131,0),1),0))),((IFERROR(OFFSET($G$145,MATCH(\"Silo Filling\",$G$146,0),1),0))),((IFERROR(OFFSET($G$160,MATCH(\"Silo Filling\",$G$161,0),1),0))))","v":0},"tons/hr",{"$f":"SUM((IFERROR(OFFSET($G$25,MATCH(\"Silo Filling\",$G$26,0),2),0)),((IFERROR(OFFSET($G$39,MATCH(\"Silo Filling\",$G$40,0),2),0))),((IFERROR(OFFSET($G$54,MATCH(\"Silo Filling\",$G$55,0),2),0))),((IFERROR(OFFSET($G$69,MATCH(\"Silo Filling\",$G$70,0),2),0))),((IFERROR(OFFSET($G$84,MATCH(\"Silo Filling\",$G$85,0),2),0))),((IFERROR(OFFSET($G$100,MATCH(\"Silo Filling\",$G$101,0),2),0))),((IFERROR(OFFSET($G$115,MATCH(\"Silo Filling\",$G$116,0),2),0))),((IFERROR(OFFSET($G$130,MATCH(\"Silo Filling\",$G$131,0),2),0))),((IFERROR(OFFSET($G$145,MATCH(\"Silo Filling\",$G$146,0),2),0))),((IFERROR(OFFSET($G$160,MATCH(\"Silo Filling\",$G$161,0),2),0))))","v":0},null,null,null,"tons/yr"]
[null,"Hours of Operation Limit (hours/day):",null,null,"PM10",null,null,null,null,null,null,null,"Truck Loadout",{"$f":"MAX((IFERROR(OFFSET(G26,MATCH(\"Truck Loadout\",G27,0),1),0)),((IFERROR(OFFSET(G40,MATCH(\"Truck Loadout\",G41,0),1),0))),((IFERROR(OFFSET(G55,MATCH(\"Truck Loadout\",G56,0),1),0))),((IFERROR(OFFSET(G70,MATCH(\"Truck Loadout\",G71,0),1),0))),((IFERROR(OFFSET(G85,MATCH(\"Truck Loadout\",G86,0),1),0))),((IFERROR(OFFSET(G101,MATCH(\"Truck Loadout\",G102,0),1),0))),((IFERROR(OFFSET(G116,MATCH(\"Truck Loadout\",G117,0),1),0))),((IFERROR(OFFSET(G131,MATCH(\"Truck Loadout\",G132,0),1),0))),((IFERROR(OFFSET(G146,MATCH(\"Truck Loadout\",G147,0),1),0))),((IFERROR(OFFSET(G161,MATCH(\"Truck Loadout\",G162,0),1),0))))","v":0},"tons/hr",{"$f":"SUM((IFERROR(OFFSET(G26,MATCH(\"Truck Loadout\",G27,0),2),0)),((IFERROR(OFFSET(G40,MATCH(\"Truck Loadout\",G41,0),2),0))),((IFERROR(OFFSET(G55,MATCH(\"Truck Loadout\",G56,0),2),0))),((IFERROR(OFFSET(G70,MATCH(\"Truck Loadout\",G71,0),2),0))),((IFERROR(OFFSET(G85,MATCH(\"Truck Loadout\",G86,0),2),0))),((IFERROR(OFFSET(G101,MATCH(\"Truck Loadout\",G102,0),2),0))),((IFERROR(OFFSET(G116,MATCH(\"Truck Loadout\",G117,0),2),0))),((IFERROR(OFFSET(G131,MATCH(\"Truck Loadout\",G132,0),2),0))),((IFERROR(OFFSET(G146,MATCH(\"Truck Loadout\",G147,0),2),0))),((IFERROR(OFFSET(G161,MATCH(\"Truck Loadout\",G162,0),2),0))))","v":0},null,null,null,"tons/yr"]
["Fuel Oil","Note: if the plant has an hrs/day and a tons/hr permit limit, those values",null,null,"SO2",null,null,null,null,null,null,null,"Cold Aggregate Bins",{"$f":"MAX((IFERROR(OFFSET(G27,MATCH(\"Cold Aggregate Bins\",G28,0),1),0)),((IFERROR(OFFSET(G41,MATCH(\"Cold Aggregate Bins\",G42,0),1),0))),((IFERROR(OFFSET(G56,MATCH(\"Cold Aggregate Bins\",G57,0),1),0))),((IFERROR(OFFSET(G71,MATCH(\"Cold Aggregate Bins\",G72,0),1),0))),((IFERROR(OFFSET(G86,MATCH(\"Cold Aggregate Bins\",G87,0),1),0))),((IFERROR(OFFSET(G102,MATCH(\"Cold Aggregate Bins\",G103,0),1),0))),((IFERROR(OFFSET(G117,MATCH(\"Cold Aggregate Bins\",G118,0),1),0))),((IFERROR(OFFSET(G132,MATCH(\"Cold Aggregate Bins\",G133,0),1),0))),((IFERROR(OFFSET(G147,MATCH(\"Cold Aggregate Bins\",G148,0),1),0))),((IFERROR(OFFSET(G162,MATCH(\"Cold Aggregate Bins\",G163,0),1),0))))","v":0},"tons/hr",{"$f":"SUM((IFERROR(OFFSET(G27,MATCH(\"Cold Aggregate Bins\",G28,0),2),0)),((IFERROR(OFFSET(G41,MATCH(\"Cold Aggregate Bins\",G42,0),2),0))),((IFERROR(OFFSET(G56,MATCH(\"Cold Aggregate Bins\",G57,0),2),0))),((IFERROR(OFFSET(G71,MATCH(\"Cold Aggregate Bins\",G72,0),2),0))),((IFERROR(OFFSET(G86,MATCH(\"Cold Aggregate Bins\",G87,0),2),0))),((IFERROR(OFFSET(G102,MATCH(\"Cold Aggregate Bins\",G103,0),2),0))),((IFERROR(OFFSET(G117,MATCH(\"Cold Aggregate Bins\",G118,0),2),0))),((IFERROR(OFFSET(G132,MATCH(\"Cold Aggregate Bins\",G133,0),2),0))),((IFERROR(OFFSET(G147,MATCH(\"Cold Aggregate Bins\",G148,0),2),0))),((IFERROR(OFFSET(G162,MATCH(\"Cold Aggregate Bins\",G163,0),2),0))))","v":0},null,null,null,"tons/yr"]
["Natural Gas","should be multiplied together to calculate a tons/day limit and that value ",null,null,"NOx",null,null,null,null,null,null,null,null,"Maximum (acres)","Actual (acres-day/yr)"]
["Waste Oil","should be placed in cell C11.",null,null,"VOC",null,null,null,null,null,null,null,"Storage Pile",{"$f":"SUM(G32,G46,G61,G76,G91,G107,G122,G137,G152,G167,)","v":0},{"$f":"SUM(H32*I32,H46*I46,H61*I61,H76*I76,H91*I91,H107*I107,H122*I122,H137*I137,H152*I152,H167*I167)","v":0}]
[null,null,null,null,"CO"]
["Batch Mix Plant"]
["Drum Mix Plant",null,null,null,null,null,null,null,null,null,null,null,"Actual Emissions for the Listed Processes at this Plant"]
[null,"Asphalt Plant","Site 1",null,"Emission Point #","Emission     Unit #","Processes","Maximum Hourly     Design Rate",{"$f":"('Facility Information'!G5&\" Annual Throughput\")","v":" Annual Throughput"},null,null,null,"PM2.5","Maximum Design Rate (tons/hr)","Emission Factor","Units","Potential Uncontrolled Emissions (lb/hr)","Potential Controlled Emissions (lb/hr)","Potential Annual Emissions (tons/yr)","Actual Annual Emissions (tons/yr)"]
["YES",null,null,null,null,null,null,null,null,null,null,null,{"$f":"$C$5 & \" - Fuel Oil\"","v":" - Fuel Oil"},{"$f":"N5","v":0},{"$f":"IF(N20=0,0,IF(MAX((IFERROR(OFFSET($G$21,MATCH(M20,$G$22,0),3),0)),((IFERROR(OFFSET($G$35,MATCH(M20,$G$36,0),3),0))),((IFERROR(OFFSET($G$50,MATCH(M20,$G$51,0),3),0))),((IFERROR(OFFSET($G$65,MATCH(M20,$G$66,0),3),0))),((IFERROR(OFFSET($G$80,MATCH(M20,$G$81,0),3),0))),((IFERROR(OFFSET($G$96,MATCH(M20,$G$97,0),3),0))),((IFERROR(OFFSET($G$111,MATCH(M20,$G$112,0),3),0))),((IFERROR(OFFSET($G$126,MATCH(M20,$G$127,0),3),0))),((IFERROR(OFFSET($G$141,MATCH(M20,$G$142,0),3),0))),((IFERROR(OFFSET($G$156,MATCH(M20,$G$157,0),3),0))))=0,0,(MAX((IFERROR(OFFSET($G$21,MATCH(M20,$G$22,0),3),0)),((IFERROR(OFFSET($G$35,MATCH(M20,$G$36,0),3),0))),((IFERROR(OFFSET($G$50,MATCH(M20,$G$51,0),3),0))),((IFERROR(OFFSET($G$65,MATCH(M20,$G$66,0),3),0))),((IFERROR(OFFSET($G$80,MATCH(M20,$G$81,0),3),0))),((IFERROR(OFFSET($G$96,MATCH(M20,$G$97,0),3),0))),((IFERROR(OFFSET($G$111,MATCH(M20,$G$112,0),3),0))),((IFERROR(OFFSET($G$126,MATCH(M20,$G$127,0),3),0))),((IFERROR(OFFSET($G$141,MATCH(M20,$G$142,0),3),0))),((IFERROR(OFFSET($G$156,MATCH(M20,$G$157,0),3),0)))))))","v":0},{"$f":"IF(O20=\"\",\"\",\"lb/ton\")","v":"lb/ton"},{"$f":"IF(O20=0.27,N20*O20,IF(O20=1.54,N20*O20,\"\"))","v":""},{"$f":"IF(N20=0,\"\",IF(AND($F$11>0,$O$20>=$O$21,$O$20>=$O$22),$F$11,IF(O20=0.0083,N20*O20,IF(O20=0.007,N20*O20,\"\"))))","v":""},{"$f":"IF(N20=0,0,IF($G$11>0,$G$11,IF(AND(OR($C$10>0,$C$11>0,$C$12>0),$O$20>=$O$21,$O$20>=$O$22),(IF($C$10>0,$C$10*O20/2000,IF($C$11>0,$C$11*365*O20/2000,IF($C$12>0,$C$12*365*O20*N20/2000)))),IF(AND($F$11>0,$O$20>=$O$21,$O$20>=$O$22),$F$11*8760/2000,IF(AND(OR($C$10=\"\",$C$10=0),OR($C$11=\"\",$C$11=0),OR($C$12=\"\",$C$12=0),$F$11=\"\"),IF(R20=\"\",Q20*8760/2000,R20*8760/2000),\"\")))))","v":0},{"$f":"IF(N20=\"\",\"\",SUM((IFERROR(MATCH(M20,$G$22,0)*$I$22*$J$22/2000,0)),(IFERROR(MATCH(M20,$G$36,0)*$I$36*$J$36/2000,0)),(IFERROR(MATCH(M20,$G$51,0)*$I$51*$J$51/2000,0)),(IFERROR(MATCH(M20,$G$66,0)*$I$66*$J$66/2000,0)),(IFERROR(MATCH(M20,$G$81,0)*$I$81*$J$81/2000,0)),(IFERROR(MATCH(M20,$G$97,0)*$I$97*$J$97/2000,0)),(IFERROR(MATCH(M20,$G$112,0)*$I$112*$J$112/2000,0)),(IFERROR(MATCH(M20,$G$127,0)*$I$127*$J$127/2000,0)),(IFERROR(MATCH(M20,$G$142,0)*$I$142*$J$142/2000,0)),(IFERROR(MATCH(M20,$G$157,0)*$I$157*$J$157/2000,0))))","v":0}]
["NO","Site Name:",null,null,"Dryer, Hot Screens, Mixer",null,null,"(tons/hr)","(tons/yr)","PM2.5","PM10",null,{"$f":"$C$5 & \" - Waste Oil\"","v":" - Waste Oil"},{"$f":"N6","v":0},{"$f":"IF(N21=0,0,IF(MAX((IFERROR(OFFSET($G$21,MATCH(M21,$G$22,0),3),0)),((IFERROR(OFFSET($G$35,MATCH(M21,$G$36,0),3),0))),((IFERROR(OFFSET($G$50,MATCH(M21,$G$51,0),3),0))),((IFERROR(OFFSET($G$65,MATCH(M21,$G$66,0),3),0))),((IFERROR(OFFSET($G$80,MATCH(M21,$G$81,0),3),0))),((IFERROR(OFFSET($G$96,MATCH(M21,$G$97,0),3),0))),((IFERROR(OFFSET($G$111,MATCH(M21,$G$112,0),3),0))),((IFERROR(OFFSET($G$126,MATCH(M21,$G$127,0),3),0))),((IFERROR(OFFSET($G$141,MATCH(M21,$G$142,0),3),0))),((IFERROR(OFFSET($G$156,MATCH(M21,$G$157,0),3),0))))=0,0,(MAX((IFERROR(OFFSET($G$21,MATCH(M21,$G$22,0),3),0)),((IFERROR(OFFSET($G$35,MATCH(M21,$G$36,0),3),0))),((IFERROR(OFFSET($G$50,MATCH(M21,$G$51,0),3),0))),((IFERROR(OFFSET($G$65,MATCH(M21,$G$66,0),3),0))),((IFERROR(OFFSET($G$80,MATCH(M21,$G$81,0),3),0))),((IFERROR(OFFSET($G$96,MATCH(M21,$G$97,0),3),0))),((IFERROR(OFFSET($G$111,MATCH(M21,$G$112,0),3),0))),((IFERROR(OFFSET($G$126,MATCH(M21,$G$127,0),3),0))),((IFERROR(OFFSET($G$141,MATCH(M21,$G$142,0),3),0))),((IFERROR(OFFSET($G$156,MATCH(M21,$G$157,0),3),0)))))))","v":0},"lb/ton",{"$f":"IF(O21=0.27,N21*O21,IF(O21=1.54,N21*O21,\"\"))","v":""},{"$f":"IF(N21=0,\"\",IF(AND($F$11>0,$O$21>$O$20,$O$21>=$O$22),$F$11,IF(O21=0.0083,N21*O21,IF(O21=0.007,N21*O21,\"\"))))","v":""},{"$f":"IF(N21=0,0,IF($G$11>0,IF(S20=0,G11,\"\"),IF(AND(OR($C$10>0,$C$11>0,$C$12>0),$O$21>$O$20,$O$21>=$O$22),(IF($C$10>0,$C$10*O21/2000,IF($C$11>0,$C$11*365*O21/2000,IF($C$12>0,$C$12*365*O21*N21/2000)))),IF(AND($F$11>0,$O$21>$O$20,$O$21>=$O$22),$F$11*8760/2000,IF(AND(OR($C$10=\"\",$C$10=0),OR($C$11=\"\",$C$11=0),OR($C$12=\"\",$C$12=0),$F$11=\"\"),IF(R21=\"\",Q21*8760/2000,R21*8760/2000),\"\")))))","v":0},{"$f":"IF(N21=\"\",\"\",SUM((IFERROR(MATCH(M21,$G$22,0)*$I$22*$J$22/2000,0)),(IFERROR(MATCH(M21,$G$36,0)*$I$36*$J$36/2000,0)),(IFERROR(MATCH(M21,$G$51,0)*$I$51*$J$51/2000,0)),(IFERROR(MATCH(M21,$G$66,0)*$I$66*$J$66/2000,0)),(IFERROR(MATCH(M21,$G$81,0)*$I$81*$J$81/2000,0)),(IFERROR(MATCH(M21,$G$97,0)*$I$97*$J$97/2000,0)),(IFERROR(MATCH(M21,$G$112,0)*$I$112*$J$112/2000,0)),(IFERROR(MATCH(M21,$G$127,0)*$I$127*$J$127/2000,0)),(IFERROR(MATCH(M21,$G$142,0)*$I$142*$J$142/2000,0)),(IFERROR(MATCH(M21,$G$157,0)*$I$157*$J$157/2000,0))))","v":0}]
[null,"County:",null,null,{"$f":"IF($C$4>0,\"AP-8 EP-1\",\"\")","v":""},{"$f":"IF($C$4>0,\"AP-8 EU-1\",\"\")","v":""},{"$f":"IF(C24=\"\",\"\",C5 & \" - \"&C24)","v":""},null,null,{"$f":"IF(C25=\"\",\"\",IF(C25=\"yes\",LOOKUP(G22,'Emission Factors'!$A$12:$A$17,'Emission Factors'!$D$12:$D$17),LOOKUP(G22,'Emission Factors'!$A$5:$A$10,'Emission Factors'!$D$5:$D$10)))","v":""},{"$f":"IF(C25=\"\",\"\",IF(C25=\"yes\",LOOKUP(G22,'Emission Factors'!$A$12:$A$17,'Emission Factors'!$F$12:$F$17),LOOKUP(G22,'Emission Factors'!$A$5:$A$10,'Emission Factors'!$F$5:$F$10)))","v":""},null,{"$f":"$C$5 & \" - Natural Gas\"","v":" - Natural Gas"},{"$f":"N7","v":0},{"$f":"IF(N22=0,0,IF(MAX((IFERROR(OFFSET($G$21,MATCH(M22,$G$22,0),3),0)),((IFERROR(OFFSET($G$35,MATCH(M22,$G$36,0),3),0))),((IFERROR(OFFSET($G$50,MATCH(M22,$G$51,0),3),0))),((IFERROR(OFFSET($G$65,MATCH(M22,$G$66,0),3),0))),((IFERROR(OFFSET($G$80,MATCH(M22,$G$81,0),3),0))),((IFERROR(OFFSET($G$96,MATCH(M22,$G$97,0),3),0))),((IFERROR(OFFSET($G$111,MATCH(M22,$G$112,0),3),0))),((IFERROR(OFFSET($G$126,MATCH(M22,$G$127,0),3),0))),((IFERROR(OFFSET($G$141,MATCH(M22,$G$142,0),3),0))),((IFERROR(OFFSET($G$156,MATCH(M22,$G$157,0),3),0))))=0,0,(MAX((IFERROR(OFFSET($G$21,MATCH(M22,$G$22,0),3),0)),((IFERROR(OFFSET($G$35,MATCH(M22,$G$36,0),3),0))),((IFERROR(OFFSET($G$50,MATCH(M22,$G$51,0),3),0))),((IFERROR(OFFSET($G$65,MATCH(M22,$G$66,0),3),0))),((IFERROR(OFFSET($G$80,MATCH(M22,$G$81,0),3),0))),((IFERROR(OFFSET($G$96,MATCH(M22,$G$97,0),3),0))),((IFERROR(OFFSET($G$111,MATCH(M22,$G$112,0),3),0))),((IFERROR(OFFSET($G$126,MATCH(M22,$G$127,0),3),0))),((IFERROR(OFFSET($G$141,MATCH(M22,$G$142,0),3),0))),((IFERROR(OFFSET($G$156,MATCH(M22,$G$157,0),3),0)))))))","v":0},"lb/ton",{"$f":"IF(O22=0.27,N22*O22,IF(O22=1.54,N22*O22,\"\"))","v":""},{"$f":"IF(N22=0,\"\",IF(AND($F$11>0,$O$22>$O$20,$O$22>$O$20),$F$11,IF(O22=0.0083,N22*O22,IF(O22=0.007,N22*O22,\"\"))))","v":""},{"$f":"IF(N22=0,0,IF($G$11>0,IF(AND(S20=0,S21=0),\"\"),IF(AND(OR($C$10>0,$C$11>0,$C$12>0),$O$22>$O$20,$O$22>$O$20),(IF($C$10>0,$C$10*O22/2000,IF($C$11>0,$C$11*365*O22/2000,IF($C$12>0,$C$12*365*O22*N22/2000)))),IF(AND($F$11>0,$O$22>$O$20,$O$22>$O$20),$F$11*8760/2000,IF(AND(OR($C$10=\"\",$C$10=0),OR($C$11=\"\",$C$11=0),OR($C$12=\"\",$C$12=0),$F$11=\"\"),IF(R22=\"\",Q22*8760/2000,R22*8760/2000),\"\")))))","v":0},{"$f":"IF(N22=\"\",\"\",SUM((IFERROR(MATCH(M22,$G$22,0)*$I$22*$J$22/2000,0)),(IFERROR(MATCH(M22,$G$36,0)*$I$36*$J$36/2000,0)),(IFERROR(MATCH(M22,$G$51,0)*$I$51*$J$51/2000,0)),(IFERROR(MATCH(M22,$G$66,0)*$I$66*$J$66/2000,0)),(IFERROR(MATCH(M22,$G$81,0)*$I$81*$J$81/2000,0)),(IFERROR(MATCH(M22,$G$97,0)*$I$97*$J$97/2000,0)),(IFERROR(MATCH(M22,$G$112,0)*$I$112*$J$112/2000,0)),(IFERROR(MATCH(M22,$G$127,0)*$I$127*$J$127/2000,0)),(IFERROR(MATCH(M22,$G$142,0)*$I$142*$J$142/2000,0)),(IFERROR(MATCH(M22,$G$157,0)*$I$157*$J$157/2000,0))))","v":0}]
[null,"Production Period (Dates):",null,null,"Liquid Asphalt Heater",null,null,{"$f":"IF(C24=\"natural gas\", \"(MMCF/hr)\",\"(gallons/hr)\")","v":"(gallons/hr)"},{"$f":"IF(C24=\"natural gas\", \"(MMCF/yr)\",\"(gallons/yr)\")","v":"(gallons/yr)"},null,null,null,"Silo Filling",{"$f":"N11","v":0},{"$f":"IF(N23=0,0,IF(N23=0,0,LOOKUP(M23,'Emission Factors'!$A$23:$A$25,'Emission Factors'!$D$23:$D$25)))","v":0},"lb/ton",{"$f":"N23*O23","v":0},null,{"$f":"IF($G$11>0,\"\",IF($C$10>0,$C$10*O23/2000,IF($C$11>0,$C$11*365*O23/2000,IF($C$12>0,$C$12*365*O23*N23/2000,IF($F$11>0,\"\",IF(R23=\"\",Q23*8760/2000,R23*8760/2000))))))","v":0},{"$f":"(P11*O23/2000)","v":0}]
[null,"Type of Fuel Used:",null,null,{"$f":"IF($C$4>0,\"AP-8 EP-2\",\"\")","v":""},{"$f":"IF($C$4>0,\"AP-8 EU-2\",\"\")","v":""},{"$f":"IF(C24=\"\",\"\",C24& \" Fired Heater\")","v":""},null,null,null,null,null,"Truck Loadout",{"$f":"N12","v":0},{"$f":"IF(N24=0,0,IF(N24=0,0,LOOKUP(M24,'Emission Factors'!$A$23:$A$25,'Emission Factors'!$D$23:$D$25)))","v":0},"lb/ton",{"$f":"N24*O24","v":0},null,{"$f":"IF($G$11>0,\"\",IF($C$10>0,$C$10*O24/2000,IF($C$11>0,$C$11*365*O24/2000,IF($C$12>0,$C$12*365*O24*N24/2000,IF($F$11>0,\"\",IF(R24=\"\",Q24*8760/2000,R24*8760/2000))))))","v":0},{"$f":"(P12*O24/2000)","v":0}]
[null,"Is Your Operation Controlled?:",null,null,"Silo Filling, Truck Loadout, Aggregate Transfer",null,null,"(tons/hr)","(tons/yr)",null,null,null,"Cold Aggregate Bins",{"$f":"N13","v":0},{"$f":"IF(N25=0,0,IF(N25=0,0,LOOKUP(M25,'Emission Factors'!A23:A25,'Emission Factors'!D23:D25)))","v":0},"lb/ton",{"$f":"N25*O25","v":0},null,{"$f":"IF($G$11>0,\"\",IF($C$10>0,$C$10*O25/2000,IF($C$11>0,$C$11*365*O25/2000,IF($C$12>0,$C$12*365*O25*N25/2000,IF($F$11>0,\"\",IF(R25=\"\",Q25*8760/2000,R25*8760/2000))))))","v":0},{"$f":"(P13*O25/2000)","v":0}]
[null,null,null,null,{"$f":"IF($C$4>0,\"AP-8 EP-3\",\"\")","v":""},{"$f":"IF($C$4>0,\"AP-8 EU-3\",\"\")","v":""},{"$f":"IF(C5=\"\",\"\",\"Silo Filling\")","v":""},null,null,null,null,null,"PM10"]
[null,null,null,null,{"$f":"IF($C$4>0,\"AP-8 EP-3\",\"\")","v":""},{"$f":"IF($C$4>0,\"AP-8 EU-4\",\"\")","v":""},{"$f":"IF(C5=\"\",\"\",\"Truck Loadout\")","v":""},null,null,null,null,null,{"$f":"$C$5 & \" - Fuel Oil\"","v":" - Fuel Oil"},{"$f":"N5","v":0},{"$f":"IF(N27=0,0,IF(MAX((IFERROR(OFFSET($G$21,MATCH(M27,$G$22,0),4),0)),((IFERROR(OFFSET($G$35,MATCH(M27,$G$36,0),4),0))),((IFERROR(OFFSET($G$50,MATCH(M27,$G$51,0),4),0))),((IFERROR(OFFSET($G$65,MATCH(M27,$G$66,0),4),0))),((IFERROR(OFFSET($G$80,MATCH(M27,$G$81,0),3),0))),((IFERROR(OFFSET($G$96,MATCH(M27,$G$97,0),4),0))),((IFERROR(OFFSET($G$111,MATCH(M27,$G$112,0),4),0))),((IFERROR(OFFSET($G$126,MATCH(M27,$G$127,0),4),0))),((IFERROR(OFFSET($G$141,MATCH(M27,$G$142,0),4),0))),((IFERROR(OFFSET($G$156,MATCH(M27,$G$157,0),4),0))))=0,0,(MAX((IFERROR(OFFSET($G$21,MATCH(M27,$G$22,0),4),0)),((IFERROR(OFFSET($G$35,MATCH(M27,$G$36,0),4),0))),((IFERROR(OFFSET($G$50,MATCH(M27,$G$51,0),4),0))),((IFERROR(OFFSET($G$65,MATCH(M27,$G$66,0),4),0))),((IFERROR(OFFSET($G$80,MATCH(M27,$G$81,0),4),0))),((IFERROR(OFFSET($G$96,MATCH(M27,$G$97,0),4),0))),((IFERROR(OFFSET($G$111,MATCH(M27,$G$112,0),4),0))),((IFERROR(OFFSET($G$126,MATCH(M27,$G$127,0),4),0))),((IFERROR(OFFSET($G$141,MATCH(M27,$G$142,0),4),0))),((IFERROR(OFFSET($G$156,MATCH(M27,$G$157,0),4),0)))))))","v":0},{"$f":"IF(O27=\"\",\"\",\"lb/ton\")","v":"lb/ton"},{"$f":"IF(O27=4.5,N27*O27,IF(O27=6.5,N27*O27,\"\"))","v":""},{"$f":"IF(N27=0,\"\",IF(AND($F$12>0,$O$27>=$O$28,$O$27>=$O$29),$F$12,IF(O27=0.0098,N27*O27,IF(O27=0.023,N27*O27,\"\"))))","v":""},{"$f":"IF(N27=0,0,IF($G$12>0,$G$12,IF(AND(OR($C$10>0,$C$11>0,$C$12>0),$O$27>=$O$28,$O$27>=$O$29),(IF($C$10>0,$C$10*O27/2000,IF($C$11>0,$C$11*365*O27/2000,IF($C$12>0,$C$12*365*O27*N27/2000)))),IF(AND($F$12>0,$O$27>=$O$28,$O$27>=$O$29),$F$12*8760/2000,IF(AND(OR($C$10=\"\",$C$10=0),OR($C$11=\"\",$C$11=0),OR($C$12=\"\",$C$12=0),$F$12=\"\"),IF(R27=\"\",Q27*8760/2000,R27*8760/2000),\"\")))))","v":0},{"$f":"IF(N27=\"\",\"\",SUM((IFERROR(MATCH(M27,$G$22,0)*$I$22*$K$22/2000,0)),(IFERROR(MATCH(M27,$G$36,0)*$I$36*$K$36/2000,0)),(IFERROR(MATCH(M27,$G$51,0)*$I$51*$K$51/2000,0)),(IFERROR(MATCH(M27,$G$66,0)*$I$66*$K$66/2000,0)),(IFERROR(MATCH(M27,$G$81,0)*$I$81*$K$81/2000,0)),(IFERROR(MATCH(M27,$G$97,0)*$I$97*$K$97/2000,0)),(IFERROR(MATCH(M27,$G$112,0)*$I$112*$K$112/2000,0)),(IFERROR(MATCH(M27,$G$127,0)*$I$127*$K$127/2000,0)),(IFERROR(MATCH(M27,$G$142,0)*$I$142*$K$142/2000,0)),(IFERROR(MATCH(M27,$G$157,0)*$I$157*$K$157/2000,0))))","v":0}]
[null,null,null,null,{"$f":"IF($C$4>0,\"AP-8 EP-3\",\"\")","v":""},{"$f":"IF($C$4>0,\"AP-8 EU-5\",\"\")","v":""},{"$f":"IF(C5=\"\",\"\",\"Cold Aggregate Bins\")","v":""},null,null,null,null,null,{"$f":"$C$5 & \" - Waste Oil\"","v":" - Waste Oil"},{"$f":"N6","v":0},{"$f":"IF(N28=0,0,IF(MAX((IFERROR(OFFSET($G$21,MATCH(M28,$G$22,0),4),0)),((IFERROR(OFFSET($G$35,MATCH(M28,$G$36,0),4),0))),((IFERROR(OFFSET($G$50,MATCH(M28,$G$51,0),4),0))),((IFERROR(OFFSET($G$65,MATCH(M28,$G$66,0),4),0))),((IFERROR(OFFSET($G$80,MATCH(M28,$G$81,0),3),0))),((IFERROR(OFFSET($G$96,MATCH(M28,$G$97,0),4),0))),((IFERROR(OFFSET($G$111,MATCH(M28,$G$112,0),4),0))),((IFERROR(OFFSET($G$126,MATCH(M28,$G$127,0),4),0))),((IFERROR(OFFSET($G$141,MATCH(M28,$G$142,0),4),0))),((IFERROR(OFFSET($G$156,MATCH(M28,$G$157,0),4),0))))=0,0,(MAX((IFERROR(OFFSET($G$21,MATCH(M28,$G$22,0),4),0)),((IFERROR(OFFSET($G$35,MATCH(M28,$G$36,0),4),0))),((IFERROR(OFFSET($G$50,MATCH(M28,$G$51,0),4),0))),((IFERROR(OFFSET($G$65,MATCH(M28,$G$66,0),4),0))),((IFERROR(OFFSET($G$80,MATCH(M28,$G$81,0),4),0))),((IFERROR(OFFSET($G$96,MATCH(M28,$G$97,0),4),0))),((IFERROR(OFFSET($G$111,MATCH(M28,$G$112,0),4),0))),((IFERROR(OFFSET($G$126,MATCH(M28,$G$127,0),4),0))),((IFERROR(OFFSET($G$141,MATCH(M28,$G$142,0),4),0))),((IFERROR(OFFSET($G$156,MATCH(M28,$G$157,0),4),0)))))))","v":0},"lb/ton",{"$f":"IF(O28=4.5,N28*O28,IF(O28=6.5,N28*O28,\"\"))","v":""},{"$f":"IF(N28=0,\"\",IF(AND($F$12>0,$O$28>$O$27,$O$28>=$O$29),$F$12,IF(O28=0.0098,N28*O28,IF(O28=0.023,N28*O28,\"\"))))","v":""},{"$f":"IF(N28=0,0,IF($G$12>0,IF(S27=0,$G$12,\"\"),IF(AND(OR($C$10>0,$C$11>0,$C$12>0),$O$28>$O$27,$O$28>=$O$29),(IF($C$10>0,$C$10*O28/2000,IF($C$11>0,$C$11*365*O28/2000,IF($C$12>0,$C$12*365*O28*N28/2000)))),IF(AND($F$12>0,$O$28>$O$27,$O$28>=$O$29),$F$12*8760/2000,IF(AND(OR($C$10=\"\",$C$10=0),OR($C$11=\"\",$C$11=0),OR($C$12=\"\",$C$12=0),$F$12=\"\"),IF(R28=\"\",Q28*8760/2000,R28*8760/2000),\"\")))))","v":0},{"$f":"IF(N28=\"\",\"\",SUM((IFERROR(MATCH(M28,$G$22,0)*$I$22*$K$22/2000,0)),(IFERROR(MATCH(M28,$G$36,0)*$I$36*$K$36/2000,0)),(IFERROR(MATCH(M28,$G$51,0)*$I$51*$K$51/2000,0)),(IFERROR(MATCH(M28,$G$66,0)*$I$66*$K$66/2000,0)),(IFERROR(MATCH(M28,$G$81,0)*$I$81*$K$81/2000,0)),(IFERROR(MATCH(M28,$G$97,0)*$I$97*$K$97/2000,0)),(IFERROR(MATCH(M28,$G$112,0)*$I$112*$K$112/2000,0)),(IFERROR(MATCH(M28,$G$127,0)*$I$127*$K$127/2000,0)),(IFERROR(MATCH(M28,$G$142,0)*$I$142*$K$142/2000,0)),(IFERROR(MATCH(M28,$G$157,0)*$I$157*$K$157/2000,0))))","v":0}]
[null,null,null,null,null,null,null,null,null,null,null,null,{"$f":"$C$5 & \" - Natural Gas\"","v":" - Natural Gas"},{"$f":"N7","v":0},{"$f":"IF(N29=0,0,IF(MAX((IFERROR(OFFSET($G$21,MATCH(M29,$G$22,0),4),0)),((IFERROR(OFFSET($G$35,MATCH(M29,$G$36,0),4),0))),((IFERROR(OFFSET($G$50,MATCH(M29,$G$51,0),4),0))),((IFERROR(OFFSET($G$65,MATCH(M29,$G$66,0),4),0))),((IFERROR(OFFSET($G$80,MATCH(M29,$G$81,0),3),0))),((IFERROR(OFFSET($G$96,MATCH(M29,$G$97,0),4),0))),((IFERROR(OFFSET($G$111,MATCH(M29,$G$112,0),4),0))),((IFERROR(OFFSET($G$126,MATCH(M29,$G$127,0),4),0))),((IFERROR(OFFSET($G$141,MATCH(M29,$G$142,0),4),0))),((IFERROR(OFFSET($G$156,MATCH(M29,$G$157,0),4),0))))=0,0,(MAX((IFERROR(OFFSET($G$21,MATCH(M29,$G$22,0),4),0)),((IFERROR(OFFSET($G$35,MATCH(M29,$G$36,0),4),0))),((IFERROR(OFFSET($G$50,MATCH(M29,$G$51,0),4),0))),((IFERROR(OFFSET($G$65,MATCH(M29,$G$66,0),4),0))),((IFERROR(OFFSET($G$80,MATCH(M29,$G$81,0),4),0))),((IFERROR(OFFSET($G$96,MATCH(M29,$G$97,0),4),0))),((IFERROR(OFFSET($G$111,MATCH(M29,$G$112,0),4),0))),((IFERROR(OFFSET($G$126,MATCH(M29,$G$127,0),4),0))),((IFERROR(OFFSET($G$141,MATCH(M29,$G$142,0),4),0))),((IFERROR(OFFSET($G$156,MATCH(M29,$G$157,0),4),0)))))))","v":0},"lb/ton",{"$f":"IF(O29=4.5,N29*O29,IF(O29=6.5,N29*O29,\"\"))","v":""},{"$f":"IF(N29=0,\"\",IF(AND($F$12>0,$O$29>$O$27,$O$29>$O$28),$F$12,IF(O29=0.0098,N29*O29,IF(O29=0.023,N29*O29,\"\"))))","v":""},{"$f":"IF(N29=0,0,IF($G$12>0,IF(AND(S27=0,S28=0),$G$12,\"\"),IF(AND(OR($C$10>0,$C$11>0,$C$12>0),$O$29>$O$27,$O$29>$O$28),(IF($C$10>0,$C$10*O29/2000,IF($C$11>0,$C$11*365*O29/2000,IF($C$12>0,$C$12*365*O29*N29/2000)))),IF(AND($F$12>0,$O$29>$O$27,$O$29>$O$28),$F$12*8760/2000,IF(AND(OR($C$10=\"\",$C$10=0),OR($C$11=\"\",$C$11=0),OR($C$12=\"\",$C$12=0),$F$12=\"\"),IF(R29=\"\",Q29*8760/2000,R29*8760/2000),\"\")))))","v":0},{"$f":"IF(N29=\"\",\"\",SUM((IFERROR(MATCH(M29,$G$22,0)*$I$22*$K$22/2000,0)),(IFERROR(MATCH(M29,$G$36,0)*$I$36*$K$36/2000,0)),(IFERROR(MATCH(M29,$G$51,0)*$I$51*$K$51/2000,0)),(IFERROR(MATCH(M29,$G$66,0)*$I$66*$K$66/2000,0)),(IFERROR(MATCH(M29,$G$81,0)*$I$81*$K$81/2000,0)),(IFERROR(MATCH(M29,$G$97,0)*$I$97*$K$97/2000,0)),(IFERROR(MATCH(M29,$G$112,0)*$I$112*$K$112/2000,0)),(IFERROR(MATCH(M29,$G$127,0)*$I$127*$K$127/2000,0)),(IFERROR(MATCH(M29,$G$142,0)*$I$142*$K$142/2000,0)),(IFERROR(MATCH(M29,$G$157,0)*$I$157*$K$157/2000,0))))","v":0}]
[null,null,null,null,"Stock Pile Area",null,null,null,null,null,null,null,"Silo Filling",{"$f":"N11","v":0},{"$f":"IF(N30=0,0,IF(N30=0,0,LOOKUP(M30,'Emission Factors'!$A$23:$A$25,'Emission Factors'!$F$23:$F$25)))","v":0},"lb/ton",{"$f":"N30*O30","v":0},null,{"$f":"IF($G$12>0,\"\",IF($C$10>0,$C$10*O30/2000,IF($C$11>0,$C$11*365*O30/2000,IF($C$12>0,$C$12*365*O30*N30/2000,IF($F$11>0,\"\",IF(R30=\"\",Q30*8760/2000,R30*8760/2000))))))","v":0},{"$f":"(P11*O30/2000)","v":0}]
[null,null,null,null,null,"Emission Unit #","Maximum Storage Area (acres)","Actual Storage Area (acres)","Actual Days in Existence (days)",null,null,null,"Truck Loadout",{"$f":"N12","v":0},{"$f":"IF(N31=0,0,IF(N31=0,0,LOOKUP(M31,'Emission Factors'!$A$23:$A$25,'Emission Factors'!$F$23:$F$25)))","v":0},"lb/ton",{"$f":"N31*O31","v":0},null,{"$f":"IF($G$12>0,\"\",IF($C$10>0,$C$10*O31/2000,IF($C$11>0,$C$11*365*O31/2000,IF($C$12>0,$C$12*365*O31*N31/2000,IF($F$11>0,\"\",IF(R31=\"\",Q31*8760/2000,R31*8760/2000))))))","v":0},{"$f":"(P12*O31/2000)","v":0}]
[null,null,null,null,null,null,null,null,null,null,null,null,"Cold Aggregate Bins",{"$f":"N13","v":0},{"$f":"IF(N32=0,0,IF(N32=0,0,LOOKUP(M32,'Emission Factors'!$A$23:$A$25,'Emission Factors'!$F$23:$F$25)))","v":0},"lb/ton",{"$f":"N32*O32","v":0},null,{"$f":"IF($G$12>0,\"\",IF($C$10>0,$C$10*O32/2000,IF($C$11>0,$C$11*365*O32/2000,IF($C$12>0,$C$12*365*O32*N32/2000,IF($F$11>0,\"\",IF(R32=\"\",Q32*8760/2000,R32*8760/2000))))))","v":0},{"$f":"(P13*O32/2000)","v":0}]
[]
[null,{"$f":"IF($C$4>1,\"Asphalt Plant\",\"\")","v":""},{"$f":"IF($C$4>1,\"Site 2\",\"\")","v":""},null,{"$f":"IF($C$4>1,\"Emission Point #\",\"\")","v":""},{"$f":"IF($C$4>1,\"Emission    Unit #\",\"\")","v":""},{"$f":"IF($C$4>1,\"Process\",\"\")","v":""},{"$f":"IF($C$4>1,\"Maximum Hourly     Design Rate\",\"\")","v":""},{"$f":"IF($C$4>1,('Facility Information'!G20&\" Annual Throughput\"),\"\")","v":""},null,null,null,null,"Storage Pile","Max Design Rate (acres)","Emission Factor   (lb/acre-day)","Potential Uncontrolled Emissions (lb/hr)","Potential Controlled Emissions (lb/hr)","Potential Annual Emissions (tons/yr)","Actual Annual Emissions (tons/yr)"]
[null,{"$f":"IF($C$4>1,\"Site Name\",\"\")","v":""},null,null,{"$f":"IF($C$4>1,\"Dryers, Hot Screens, Mixer\",\"\")","v":""},null,null,{"$f":"IF($C$4>1,\"(tons/hr)\",\"\")","v":""},{"$f":"IF($C$4>1,\"(tons/yr)\",\"\")","v":""},"PM2.5","PM10",null,null,"PM2.5/PM10",{"$f":"N15","v":0},3.64,{"$f":"O35*P35*(1/24)","v":0},null,{"$f":"O35*P35*365/2000","v":0},{"$f":"O15*P35/2000","v":0}]
[null,{"$f":"IF($C$4>1,\"County:\",\"\")","v":""},null,null,{"$f":"IF(C38=\"\",\"\",\"AP-8 EP-1\")","v":""},{"$f":"IF(C38=\"\",\"\",\"AP-8 EU-1\")","v":""},{"$f":"IF(C38=\"\",\"\",C5 & \" - \"&C38)","v":""},null,null,{"$f":"IF(C39=\"\",\"\",IF(C39=\"yes\",LOOKUP(G36,'Emission Factors'!$A$12:$A$17,'Emission Factors'!$D$12:$D$17),LOOKUP(G36,'Emission Factors'!$A$5:$A$10,'Emission Factors'!$D$5:$D$10)))","v":""},{"$f":"IF(C39=\"\",\"\",IF(C39=\"yes\",LOOKUP(G36,'Emission Factors'!$A$12:$A$17,'Emission Factors'!$F$12:$F$17),LOOKUP(G36,'Emission Factors'!$A$5:$A$10,'Emission Factors'!$F$5:$F$10)))","v":""}]
[null,{"$f":"IF($C$4>1,\"Production Period (Dates):\",\"\")","v":""},null,null,{"$f":"IF($C$4>1,\"Liquid Asphalt Heater\",\"\")","v":""},null,null,{"$f":"IF($C$4>1,IF(C38=\"natural gas\",\"MMCF/hr\",\"(gallons/hr)\"),\"\")","v":""},{"$f":"IF($C$4>1,IF(C38=\"natural gas\",\"MMCF/yr\",\"(gallons/yr)\"),\"\")","v":""},null,null,null,"SO2"]
[null,{"$f":"IF($C$4>1,\"Type of Fuel Used:\",\"\")","v":""},null,null,{"$f":"IF(C38=\"\",\"\",\"AP-8 EP-2\")","v":""},{"$f":"IF(C38=\"\",\"\",\"AP-8 EU-2\")","v":""},{"$f":"IF(C38=\"\",\"\",C38& \" Fired Heater\")","v":""},null,null,null,null,null,{"$f":"$C$5 & \" - Fuel Oil\"","v":" - Fuel Oil"},{"$f":"$N$5","v":0},{"$f":"IF(N38=0,0,LOOKUP(M38,'Emission Factors'!$A$5:$A$10,'Emission Factors'!$H$5:$H$10))","v":0},{"$f":"IF(O38=\"\",\"\",\"lb/ton\")","v":"lb/ton"},{"$f":"N38*O38","v":0},{"$f":"IF(N38=0,\"\",IF(AND($F$13>0,N39=0),$F$13,\"\"))","v":""},{"$f":"IF(N38=0,0,IF($G$13>0,$G$13,IF(OR(AND($C$10>0,$N$39>0),AND($C$11>0,$N$39>0),AND($C$12>0,$N$39>0)),\"\",IF($C$10>0,$C$10*O38/2000,IF($C$11>0,$C$11*365*O38/2000,IF($C$12>0,$C$12*365*O38*N38/2000,IF(AND(N39>0,F13>0),\"\",IF(R38=\"\",Q38*8760/2000,R38*8760/2000))))))))","v":0},{"$f":"P5*O38/2000","v":0}]
[null,{"$f":"IF($C$4>1,\"Is Your Operation Controlled?:\",\"\")","v":""},null,null,{"$f":"IF($C$4>1,\"Silo Filling, Truck Loadout, Aggregate Transfer\",\"\")","v":""},null,null,{"$f":"IF($C$4>1,\"(tons/hr)\",\"\")","v":""},{"$f":"IF($C$4>1,\"(tons/yr)\",\"\")","v":""},null,null,null,{"$f":"$C$5 & \" - Waste Oil\"","v":" - Waste Oil"},{"$f":"$N$6","v":0},{"$f":"IF(N39=0,0,LOOKUP(M39,'Emission Factors'!$A$5:$A$10,'Emission Factors'!$H$5:$H$10))","v":0},{"$f":"IF(O39=\"\",\"\",\"lb/ton\")","v":"lb/ton"},{"$f":"N39*O39","v":0},{"$f":"IF(N39=0,\"\",IF($F$13>0,$F$13,\"\"))","v":""},{"$f":"IF(N39=0,0,IF($G$13>0,IF(S38=0,G13,\"\"),IF($C$10>0,$C$10*O39/2000,IF($C$11>0,$C$11*365*O39/2000,IF($C$12>0,$C$12*365*O39*N39/2000,IF(R39=\"\",Q39*8760/2000,R39*8760/2000))))))","v":0},{"$f":"P6*O39/2000","v":0}]
[null,null,null,null,{"$f":"IF($C$4>1,\"AP-8 EP-3\",\"\")","v":""},{"$f":"IF($C$4>1,\"AP-8 EU-3\",\"\")","v":""},{"$f":"IF($C$4>1,\"Silo Filling\",\"\")","v":""},null,null,null,null,null,{"$f":"$C$5 & \" - Natural Gas\"","v":" - Natural Gas"},{"$f":"$N$7","v":0},{"$f":"IF(N40=0,0,LOOKUP(M40,'Emission Factors'!$A$5:$A$10,'Emission Factors'!$H$5:$H$10))","v":0},{"$f":"IF(O40=\"\",\"\",\"lb/ton\")","v":"lb/ton"},{"$f":"N40*O40","v":0},{"$f":"IF(N40=0,\"\",IF(AND($F$13>0,N38=0,N39=0),$F$13,\"\"))","v":""},{"$f":"IF(N40=0,0,IF($G$13>0,IF(AND(S38=0,S39=0),G13,\"\"),IF(OR(AND($C$10>0,$N$39>0),AND($C$11>0,$N$39>0),AND($C$12>0,$N$39>0)),\"\",IF(OR(AND($C$10>0,$N$38>0),AND($C$11>0,$N$38>0),AND($C$12>0,$N$38>0)),\"\",IF($C$10>0,$C$10*O40/2000,IF($C$11>0,$C$11*365*O40/2000,IF($C$12>0,$C$12*365*O40*N40/2000,IF(AND(N39>0,N38>0,F13>0),\"\",IF(R40=\"\",Q40*8760/2000,R40*8760/2000)))))))))","v":0},{"$f":"P7*O40/2000","v":0}]
[null,null,null,null,{"$f":"IF($C$4>1,\"AP-8 EP-3\",\"\")","v":""},{"$f":"IF($C$4>1,\"AP-8 EU-4\",\"\")","v":""},{"$f":"IF($C$4>1,\"Truck Loadout\",\"\")","v":""},null,null,null,null,null,"NOx"]
[null,null,null,null,{"$f":"IF($C$4>1,\"AP-8 EP-3\",\"\")","v":""},{"$f":"IF($C$4>1,\"AP-8 EU-5\",\"\")","v":""},{"$f":"IF($C$4>1,\"Cold Aggregate Bins\",\"\")","v":""},null,null,null,null,null,{"$f":"$C$5 & \" - Fuel Oil\"","v":" - Fuel Oil"},{"$f":"$N$5","v":0},{"$f":"IF(N42=0,0,LOOKUP(M42,'Emission Factors'!$A$5:$A$10,'Emission Factors'!$J$5:$J$10))","v":0},{"$f":"IF(O42=\"\",\"\",\"lb/ton\")","v":"lb/ton"},{"$f":"N42*O42","v":0},{"$f":"IF(N42=0,\"\",IF(AND($F$14>0,N43=0),$F$14,\"\"))","v":""},{"$f":"IF(N42=0,0,IF($G$14>0,$G$14,IF(OR(AND($C$10>0,$N$43>0),AND($C$11>0,$N$43>0),AND($C$12>0,$N$43>0)),\"\",IF($C$10>0,$C$10*O42/2000,IF($C$11>0,$C$11*365*O42/2000,IF($C$12>0,$C$12*365*O42*N42/2000,IF(AND(N43>0,F14>0),\"\",IF(R42=\"\",Q42*8760/2000,R42*8760/2000))))))))","v":0},{"$f":"P5*O42/2000","v":0}]
[null,null,null,null,null,null,null,null,null,null,null,null,{"$f":"$C$5 & \" - Waste Oil\"","v":" - Waste Oil"},{"$f":"$N$6","v":0},{"$f":"IF(N43=0,0,LOOKUP(M43,'Emission Factors'!$A$5:$A$10,'Emission Factors'!$J$5:$J$10))","v":0},{"$f":"IF(O43=\"\",\"\",\"lb/ton\")","v":"lb/ton"},{"$f":"N43*O43","v":0},{"$f":"IF(N43=0,\"\",IF($F$14>0,$F$14,\"\"))","v":""},{"$f":"IF(N43=0,0,IF($G$14>0,IF(S42=0,G14,\"\"),IF($C$10>0,$C$10*O43/2000,IF($C$11>0,$C$11*365*O43/2000,IF($C$12>0,$C$12*365*O43*N43/2000,IF(R43=\"\",Q43*8760/2000,R43*8760/2000))))))","v":0},{"$f":"P6*O43/2000","v":0}]
[null,null,null,null,{"$f":"IF($C$4>1,\"Stock Pile Area\",\"\")","v":""},null,null,null,null,null,null,null,{"$f":"$C$5 & \" - Natural Gas\"","v":" - Natural Gas"},{"$f":"$N$7","v":0},{"$f":"IF(N44=0,0,LOOKUP(M44,'Emission Factors'!$A$5:$A$10,'Emission Factors'!$J$5:$J$10))","v":0},{"$f":"IF(O44=\"\",\"\",\"lb/ton\")","v":"lb/ton"},{"$f":"N44*O44","v":0},{"$f":"IF(N44=0,\"\",IF(AND($F$14>0,N42=0,N43=0),$F$14,\"\"))","v":""},{"$f":"IF(N44=0,0,IF($G$14>0,IF(AND(S42=0,S43=0),G14,\"\"),IF(OR(AND($C$10>0,$N$43>0),AND($C$11>0,$N$43>0),AND($C$12>0,$N$43>0)),\"\",IF(OR(AND($C$10>0,$N$42>0),AND($C$11>0,$N$42>0),AND($C$12>0,$N$42>0)),\"\",IF($C$10>0,$C$10*O44/2000,IF($C$11>0,$C$11*365*O44/2000,IF($C$12>0,$C$12*365*O44*N44/2000,IF(AND(N42>0,N43>0,F14>0),\"\",IF(R44=\"\",Q44*8760/2000,R44*8760/2000)))))))))","v":0},{"$f":"P7*O44/2000","v":0}]
[null,null,null,null,null,{"$f":"IF($C$4>1,\"Emission Unit #\",\"\")","v":""},{"$f":"IF($C$4>1,\"Maximum Storage Area (acres)\",\"\")","v":""},{"$f":"IF($C$4>1,\"Actual Storage Area (acres)\",\"\")","v":""},{"$f":"IF($C$4>1,\"Actual Days in Existence (days)\",\"\")","v":""},null,null,null,"VOC"]
[null,null,null,null,null,null,null,null,null,null,null,null,{"$f":"$C$5 & \" - Fuel Oil\"","v":" - Fuel Oil"},{"$f":"$N$5","v":0},{"$f":"IF(N46=0,0,LOOKUP(M46,'Emission Factors'!$A$5:$A$10,'Emission Factors'!$L$5:$L$10))","v":0},{"$f":"IF(O46=\"\",\"\",\"lb/ton\")","v":"lb/ton"},{"$f":"N46*O46","v":0},{"$f":"IF(N46=0,\"\",IF(AND($F$15>0,N47=0),$F$15,\"\"))","v":""},{"$f":"IF(N46=0,0,IF($G$15>0,$G$15,IF(OR(AND($C$10>0,$N$47>0),AND($C$11>0,$N$47>0),AND($C$12>0,$N$47>0)),\"\",IF($C$10>0,$C$10*O46/2000,IF($C$11>0,$C$11*365*O46/2000,IF($C$12>0,$C$12*365*O46*N46/2000,IF(AND(N47>0,F15>0),\"\",IF(R46=\"\",Q46*8760/2000,R46*8760/2000))))))))","v":0},{"$f":"P5*O46/2000","v":0}]
[null,null,null,null,null,null,null,null,null,null,null,null,{"$f":"$C$5 & \" - Waste Oil\"","v":" - Waste Oil"},{"$f":"$N$6","v":0},{"$f":"IF(N47=0,0,LOOKUP(M47,'Emission Factors'!$A$5:$A$10,'Emission Factors'!$L$5:$L$10))","v":0},{"$f":"IF(O47=\"\",\"\",\"lb/ton\")","v":"lb/ton"},{"$f":"N47*O47","v":0},{"$f":"IF(N47=0,\"\",IF($F$15>0,$F$15,\"\"))","v":""},{"$f":"IF(N47=0,0,IF($G$15>0,IF(S46=0,G15,\"\"),IF($C$10>0,$C$10*O47/2000,IF($C$11>0,$C$11*365*O47/2000,IF($C$12>0,$C$12*365*O47*N47/2000,IF(R47=\"\",Q47*8760/2000,R47*8760/2000))))))","v":0},{"$f":"P6*O47/2000","v":0}]
[null,{"$f":"IF($C$4>2,\"Asphalt Plant\",\"\")","v":""},{"$f":"IF($C$4>2,\"Site 3\",\"\")","v":""},null,{"$f":"IF($C$4>2,\"Emission Point #\",\"\")","v":""},{"$f":"IF($C$4>2,\"Emission    Unit #\",\"\")","v":""},{"$f":"IF($C$4>2,\"Process\",\"\")","v":""},{"$f":"IF($C$4>2,\"Maximum Hourly     Design Rate\",\"\")","v":""},{"$f":"IF($C$4>2,('Facility Information'!G35&\" Annual Throughput\"),\"\")","v":""},null,null,null,{"$f":"$C$5 & \" - Natural Gas\"","v":" - Natural Gas"},{"$f":"$N$7","v":0},{"$f":"IF(N48=0,0,LOOKUP(M48,'Emission Factors'!$A$5:$A$10,'Emission Factors'!$L$5:$L$10))","v":0},{"$f":"IF(O48=\"\",\"\",\"lb/ton\")","v":"lb/ton"},{"$f":"N48*O48","v":0},{"$f":"IF(N48=0,\"\",IF(AND($F$15>0,N46=0,N47=0),$F$15,\"\"))","v":""},{"$f":"IF(N48=0,0,IF($G$15>0,IF(AND(S46=0,S47=0),G15,\"\"),IF(OR(AND($C$10>0,$N$47>0),AND($C$11>0,$N$47>0),AND($C$12>0,$N$47>0)),\"\",IF(OR(AND($C$10>0,$N$46>0),AND($C$11>0,$N$46>0),AND($C$12>0,$N$46>0)),\"\",IF($C$10>0,$C$10*O48/2000,IF($C$11>0,$C$11*365*O48/2000,IF($C$12>0,$C$12*365*O48*N48/2000,IF(AND(N46>0,N47>0,F15>0),\"\",IF(R48=\"\",Q48*8760/2000,R48*8760/2000)))))))))","v":0},{"$f":"P7*O48/2000","v":0}]
[null,null,null,null,null,null,null,null,null,null,null,null,{"$f":"\"Natural Gas Fired Heater\"","v":"Natural Gas Fired Heater"},{"$f":"N10","v":0},{"$f":"IF(N49=0,0,0.026)","v":0},{"$f":"IF(O49=\"\",\"\",\"lb/MMCF\")","v":"lb/MMCF"},{"$f":"N49*O49","v":0},null,{"$f":"IF(N49=0,0,IF(R49=\"\",Q49*8760/2000,R49*8760/2000))","v":0},{"$f":"($P$10*O49/2000)","v":0}]
[null,{"$f":"IF($C$4>2,\"Site Name\",\"\")","v":""},null,null,{"$f":"IF($C$4>2,\"Dryers, Hot Screens, Mixer\",\"\")","v":""},null,null,{"$f":"IF($C$4>2,\"(tons/hr)\",\"\")","v":""},{"$f":"IF($C$4>2,\"(tons/yr)\",\"\")","v":""},"PM2.5","PM10",null,"Silo Filling",{"$f":"N11","v":0},{"$f":"IF(N50=0,0,IF(N50=0,0,LOOKUP(M50,'Emission Factors'!$A$23:$A$25,'Emission Factors'!$L$23:$L$25)))","v":0},{"$f":"IF(O50=\"\",\"\",\"lb/ton\")","v":"lb/ton"},null,null,null,{"$f":"P11*O50/2000","v":0}]
[null,{"$f":"IF($C$4>2,\"County:\",\"\")","v":""},null,null,{"$f":"IF(C53=\"\",\"\",\"AP-8 EP-1\")","v":""},{"$f":"IF(C53=\"\",\"\",\"AP-8 EU-1\")","v":""},{"$f":"IF(C53=\"\",\"\",C5 & \" - \"&C53)","v":""},null,null,{"$f":"IF(C54=\"\",\"\",IF(C54=\"yes\",LOOKUP(G51,'Emission Factors'!$A$12:$A$17,'Emission Factors'!$D$12:$D$17),LOOKUP(G51,'Emission Factors'!$A$5:$A$10,'Emission Factors'!$D$5:$D$10)))","v":""},{"$f":"IF(C54=\"\",\"\",IF(C54=\"yes\",LOOKUP(G51,'Emission Factors'!$A$12:$A$17,'Emission Factors'!$F$12:$F$17),LOOKUP(G51,'Emission Factors'!$A$5:$A$10,'Emission Factors'!$F$5:$F$10)))","v":""},null,"Truck Loadout",{"$f":"N12","v":0},{"$f":"IF(N51=0,0,IF(N51=0,0,LOOKUP(M51,'Emission Factors'!$A$23:$A$25,'Emission Factors'!$L$23:$L$25)))","v":0},{"$f":"IF(O51=\"\",\"\",\"lb/ton\")","v":"lb/ton"},null,null,null,{"$f":"P12*O51/2000","v":0}]
[null,{"$f":"IF($C$4>2,\"Production Period (Dates):\",\"\")","v":""},null,null,{"$f":"IF($C$4>2,\"Liquid Asphalt Heater\",\"\")","v":""},null,null,{"$f":"IF($C$4>2,IF(C53=\"natural gas\",\"(MMCF/hr)\",\"(gallons/hr)\"),\"\")","v":""},{"$f":"IF($C$4>2,IF(C53=\"natural gas\",\"(MMCF/yr)\",\"(gallons/yr)\"),\"\")","v":""},null,null,null,"CO"]
[null,{"$f":"IF($C$4>2,\"Type of Fuel Used:\",\"\")","v":""},null,null,{"$f":"IF(C53=\"\",\"\",\"AP-8 EP-2\")","v":""},{"$f":"IF(C53=\"\",\"\",\"AP-8 EU-2\")","v":""},{"$f":"IF(C53=\"\",\"\",C53& \" Fired Heater\")","v":""},null,null,null,null,null,{"$f":"IF($C$5=\"\",\"\",$C$5)","v":""},{"$f":"SUM($N$5:$N$7)","v":0},{"$f":"IF(N53=0,0,IF(M53=\"Batch Mix Plant\",0.4,IF(M53=\"Drum Mix Plant\",0.13)))","v":0},{"$f":"IF(O53=\"\",\"\",\"lb/ton\")","v":"lb/ton"},{"$f":"N53*O53","v":0},{"$f":"IF(N53=0,\"\",IF($F$16>0,$F$16,\"\"))","v":""},{"$f":"IF($G$16>0,$G$16,IF(N53=0,0,IF($C$10>0,$C$10*O53/2000,IF($C$11>0,$C$11*365*O53/2000,IF($C$12>0,$C$12*365*O53*N53/2000,IF(R53=\"\",Q53*8760/2000,R53*8760/2000))))))","v":0},{"$f":"SUM($P$5:$P$7)*O53/2000","v":0}]
[null,{"$f":"IF($C$4>2,\"Is Your Operation Controlled?:\",\"\")","v":""},null,null,{"$f":"IF($C$4>2,\"Silo Filling, Truck Loadout, Aggregate Transfer\",\"\")","v":""},null,null,{"$f":"IF($C$4>2,\"(tons/hr)\",\"\")","v":""},{"$f":"IF($C$4>2,\"(tons/yr)\",\"\")","v":""},null,null,null,"Fuel Oil Fired Heater",{"$f":"N8","v":0},{"$f":"IF(N54=0,0,LOOKUP(M54,'Emission Factors'!$A$19:$A$21,'Emission Factors'!$N$19:$N$21))","v":0},{"$f":"IF(O54=\"\",\"\",\"lb/gallon\")","v":"lb/gallon"},{"$f":"N54*O54","v":0},null,{"$f":"IF(N54=0,0,IF($G$16>0,\"\",IF($F$16>0,\"\",IF(R54=\"\",Q54*8760/2000,R54*8760/2000))))","v":0},{"$f":"(P8*O54/2000)","v":0}]
[null,null,null,null,{"$f":"IF($C$4>2,\"AP-8 EP-3\",\"\")","v":""},{"$f":"IF($C$4>2,\"AP-8 EU-3\",\"\")","v":""},{"$f":"IF($C$4>2,\"Silo Filling\",\"\")","v":""},null,null,null,null,null,"Waste Oil Fired Heater",{"$f":"N9","v":0},{"$f":"IF(N55=0,0,LOOKUP(M55,'Emission Factors'!$A$19:$A$21,'Emission Factors'!$N$19:$N$21))","v":0},{"$f":"IF(O55=\"\",\"\",\"lb/gallon\")","v":"lb/gallon"},{"$f":"N55*O55","v":0},null,{"$f":"IF(N55=0,0,IF($G$16>0,\"\",IF($F$16>0,\"\",IF(R55=\"\",Q55*8760/2000,R55*8760/2000))))","v":0},{"$f":"(P9*O55/2000)","v":0}]
[null,null,null,null,{"$f":"IF($C$4>2,\"AP-8 EP-3\",\"\")","v":""},{"$f":"IF($C$4>2,\"AP-8 EU-4\",\"\")","v":""},{"$f":"IF($C$4>2,\"Truck Loadout\",\"\")","v":""},null,null,null,null,null,"Natural Gas Fired Heater",{"$f":"N10","v":0},{"$f":"IF(N56=0,0,LOOKUP(M56,'Emission Factors'!$A$19:$A$21,'Emission Factors'!$N$19:$N$21))","v":0},{"$f":"IF(O56=\"\",\"\",\"lb/MMCF\")","v":"lb/MMCF"},{"$f":"N56*O56","v":0},null,{"$f":"IF(N56=0,0,IF($G$16>0,\"\",IF($F$16>0,\"\",IF(R56=\"\",Q56*8760/2000,R56*8760/2000))))","v":0},{"$f":"($P$10*O56/2000)","v":0}]
[null,null,null,null,{"$f":"IF($C$4>2,\"AP-8 EP-3\",\"\")","v":""},{"$f":"IF($C$4>2,\"AP-8 EU-5\",\"\")","v":""},{"$f":"IF($C$4>2,\"Cold Aggregate Bins\",\"\")","v":""},null,null,null,null,null,"Silo Filling",{"$f":"N11","v":0},{"$f":"IF(N57=0,0,IF(N57=0,0,LOOKUP(M57,'Emission Factors'!$A$23:$A$25,'Emission Factors'!$N$23:$N$25)))","v":0},{"$f":"IF(O57=\"\",\"\",\"lb/ton\")","v":"lb/ton"},null,null,null,{"$f":"P11*O57/2000","v":0}]
[null,null,null,null,null,null,null,null,null,null,null,null,"Truck Loadout",{"$f":"N12","v":0},{"$f":"IF(N58=0,0,IF(N58=0,0,LOOKUP(M58,'Emission Factors'!$A$23:$A$25,'Emission Factors'!$N$23:$N$25)))","v":0},{"$f":"IF(O58=\"\",\"\",\"lb/ton\")","v":"lb/ton"},null,null,null,{"$f":"P12*O58/2000","v":0}]
[null,null,null,null,{"$f":"IF($C$4>2,\"Stock Pile Area\",\"\")","v":""},null,null,null,null,null,null,null,"Acetaldehyde"]
[null,null,null,null,null,{"$f":"IF($C$4>2,\"Emission Unit #\",\"\")","v":""},{"$f":"IF($C$4>2,\"Maximum Storage Area (acres)\",\"\")","v":""},{"$f":"IF($C$4>2,\"Actual Storage Area (acres)\",\"\")","v":""},{"$f":"IF($C$4>2,\"Actual Days in Existence (days)\",\"\")","v":""},null,null,null,{"$f":"IF($C$5=\"\",\"\",$C$5)","v":""},{"$f":"IF(C5=\"drum mix plant\",SUM(N5:$N$6),SUM($N$5:$N$7))","v":0},{"$f":"IF(N60=0,0,IF(M60=\"Batch Mix Plant\",0.00032,IF(M60=\"Drum Mix Plant\",0.0013)))","v":0},{"$f":"IF(O60=\"\",\"\",\"lb/ton\")","v":"lb/ton"},{"$f":"N60*O60","v":0},null,{"$f":"IF(N60=0,0,IF($C$10>0,$C$10*O60/2000,IF($C$11>0,$C$11*365*O60/2000,IF($C$12>0,$C$12*365*O60*N60/2000,IF(R60=\"\",Q60*8760/2000,R60*8760/2000)))))","v":0},{"$f":"IF(C5=\"drum mix plant\",$P$6*O60/2000,SUM($P$5:$P$7)*O60/2000)","v":0}]
[null,null,null,null,null,null,null,null,null,null,null,null,"Acrolein"]
[null,null,null,null,null,null,null,null,null,null,null,null,{"$f":"IF($C$5=\"\",\"\",$C$5)","v":""},{"$f":"IF(C5=\"drum mix plant\",SUM(N5:$N$6),0)","v":0},{"$f":"IF(N62=0,0,0.000026)","v":0},{"$f":"IF(O62=\"\",\"\",\"lb/ton\")","v":"lb/ton"},{"$f":"N62*O62","v":0},null,{"$f":"IF(N62=0,0,IF($C$10>0,$C$10*O62/2000,IF($C$11>0,$C$11*365*O62/2000,IF($C$12>0,$C$12*365*O62*N62/2000,IF(R62=\"\",Q62*8760/2000,R62*8760/2000)))))","v":0},{"$f":"IF(C7=\"drum mix plant\",$P$6*O62/2000,SUM($P$5:$P$7)*O62/2000)","v":0}]
[null,{"$f":"IF($C$4>3,\"Asphalt Plant\",\"\")","v":""},{"$f":"IF($C$4>3,\"Site 4\",\"\")","v":""},null,{"$f":"IF($C$4>3,\"Emission Point #\",\"\")","v":""},{"$f":"IF($C$4>3,\"Emission    Unit #\",\"\")","v":""},{"$f":"IF($C$4>3,\"Process\",\"\")","v":""},{"$f":"IF($C$4>3,\"Maximum Hourly     Design Rate\",\"\")","v":""},{"$f":"IF($C$4>3,('Facility Information'!G50&\" Annual Throughput\"),\"\")","v":""},null,null,null,"Benzene"]
[null,null,null,null,null,null,null,null,null,null,null,null,{"$f":"IF($C$5=\"\",\"\",$C$5)","v":""},{"$f":"SUM($N$5:$N$7)","v":0},{"$f":"IF(N64=0,0,IF(M64=\"Batch Mix Plant\",0.00028,IF(M64=\"Drum Mix Plant\",0.00039)))","v":0},{"$f":"IF(O64=\"\",\"\",\"lb/ton\")","v":"lb/ton"},{"$f":"N64*O64","v":0},null,{"$f":"IF(N64=0,0,IF($C$10>0,$C$10*O64/2000,IF($C$11>0,$C$11*365*O64/2000,IF($C$12>0,$C$12*365*O64*N64/2000,IF(R64=\"\",Q64*8760/2000,R64*8760/2000)))))","v":0},{"$f":"SUM($P$5:$P$7)*O64/2000","v":0}]
[null,{"$f":"IF($C$4>3,\"Site Name\",\"\")","v":""},null," ",{"$f":"IF($C$4>3,\"Dryers, Hot Screens, Mixer\",\"\")","v":""},null,null,{"$f":"IF($C$4>3,\"(tons/hr)\",\"\")","v":""},{"$f":"IF($C$4>3,\"(tons/yr)\",\"\")","v":""},"PM2.5","PM10",null,"Ethylbenzene"]
[null,{"$f":"IF($C$4>3,\"County:\",\"\")","v":""},null,null,{"$f":"IF(C68=\"\",\"\",\"AP-8 EP-1\")","v":""},{"$f":"IF(C68=\"\",\"\",\"AP-8 EU-1\")","v":""},{"$f":"IF(C68=\"\",\"\",C5 & \" - \"&C68)","v":""},null,null,{"$f":"IF(C69=\"\",\"\",IF(C69=\"yes\",LOOKUP(G66,'Emission Factors'!$A$12:$A$17,'Emission Factors'!$D$12:$D$17),LOOKUP(G66,'Emission Factors'!$A$5:$A$10,'Emission Factors'!$D$5:$D$10)))","v":""},{"$f":"IF(C69=\"\",\"\",IF(C69=\"yes\",LOOKUP(G66,'Emission Factors'!$A$12:$A$17,'Emission Factors'!$F$12:$F$17),LOOKUP(G66,'Emission Factors'!$A$5:$A$10,'Emission Factors'!$F$5:$F$10)))","v":""},null,{"$f":"IF($C$5=\"\",\"\",$C$5)","v":""},{"$f":"SUM($N$5:$N$7)","v":0},{"$f":"IF(N66=0,0,IF(M66=\"Batch Mix Plant\",0.0022,IF(M66=\"Drum Mix Plant\",0.00024)))","v":0},{"$f":"IF(O66=\"\",\"\",\"lb/ton\")","v":"lb/ton"},{"$f":"N66*O66","v":0},null,{"$f":"IF(N66=0,0,IF($C$10>0,$C$10*O66/2000,IF($C$11>0,$C$11*365*O66/2000,IF($C$12>0,$C$12*365*O66*N66/2000,IF(R66=\"\",Q66*8760/2000,R66*8760/2000)))))","v":0},{"$f":"SUM($P$5:$P$7)*O66/2000","v":0}]
[null,{"$f":"IF($C$4>3,\"Production Period (Dates):\",\"\")","v":""},null,null,{"$f":"IF($C$4>3,\"Liquid Asphalt Heater\",\"\")","v":""},null,null,{"$f":"IF($C$4>3,IF(C68=\"natural gas\",\"(MMCF/hr)\",\"(gallons/hr)\"),\"\")","v":""},{"$f":"IF($C$4>3,IF(C68=\"natural gas\",\"(MMCF/yr)\",\"(gallons/yr)\"),\"\")","v":""},null,null,null,"Formaldehyde"]
[null,{"$f":"IF($C$4>3,\"Type of Fuel Used:\",\"\")","v":""},null,null,{"$f":"IF(C68=\"\",\"\",\"AP-8 EP-2\")","v":""},{"$f":"IF(C68=\"\",\"\",\"AP-8 EU-2\")","v":""},{"$f":"IF(C68=\"\",\"\",C68& \" Fired Heater\")","v":""},null,null,null,null,null,{"$f":"IF($C$5=\"\",\"\",$C$5)","v":""},{"$f":"SUM($N$5:$N$7)","v":0},{"$f":"IF(N68=0,0,IF(M68=\"Batch Mix Plant\",0.00074,IF(M68=\"Drum Mix Plant\",0.0031)))","v":0},{"$f":"IF(O68=\"\",\"\",\"lb/ton\")","v":"lb/ton"},{"$f":"N68*O68","v":0},null,{"$f":"IF(N68=0,0,IF($C$10>0,$C$10*O68/2000,IF($C$11>0,$C$11*365*O68/2000,IF($C$12>0,$C$12*365*O68*N68/2000,IF(R68=\"\",Q68*8760/2000,R68*8760/2000)))))","v":0},{"$f":"SUM($P$5:$P$7)*O68/2000","v":0}]
[null,{"$f":"IF($C$4>3,\"Is Your Operation Controlled?:\",\"\")","v":""},null,null,{"$f":"IF($C$4>3,\"Silo Filling, Truck Loadout, Aggregate Transfer\",\"\")","v":""},null,null,{"$f":"IF($C$4>3,\"(tons/hr)\",\"\")","v":""},{"$f":"IF($C$4>3,\"(tons/yr)\",\"\")","v":""},null,null,null,{"$f":"\"Natural Gas Fired Heater\"","v":"Natural Gas Fired Heater"},{"$f":"N10","v":0},{"$f":"IF(N69=0,0,0.026)","v":0},{"$f":"IF(O69=\"\",\"\",\"lb/MMCF\")","v":"lb/MMCF"},{"$f":"N69*O69","v":0},null,{"$f":"IF(N69=0,0,IF(R69=\"\",Q69*8760/2000,R69*8760/2000))","v":0},{"$f":"($P$10*O69/2000)","v":0}]
[null,null,null,null,{"$f":"IF($C$4>3,\"AP-8 EP-3\",\"\")","v":""},{"$f":"IF($C$4>3,\"AP-8 EU-3\",\"\")","v":""},{"$f":"IF($C$4>3,\"Silo Filling\",\"\")","v":""},null,null,null,null,null,"Hexane"]
[null,null,null,null,{"$f":"IF($C$4>3,\"AP-8 EP-3\",\"\")","v":""},{"$f":"IF($C$4>3,\"AP-8 EU-4\",\"\")","v":""},{"$f":"IF($C$4>3,\"Truck Loadout\",\"\")","v":""},null,null,null,null,null,{"$f":"IF($C$5=\"\",\"\",$C$5)","v":""},{"$f":"IF(C5=\"drum mix plant\",SUM(N5:N7),0)","v":0},{"$f":"IF(N71=0,0,0.00092)","v":0},{"$f":"IF(O71=\"\",\"\",\"lb/ton\")","v":"lb/ton"},{"$f":"N71*O71","v":0},null,{"$f":"IF(N71=0,0,IF($C$10>0,$C$10*O71/2000,IF($C$11>0,$C$11*365*O71/2000,IF($C$12>0,$C$12*365*O71*N71/2000,IF(R71=\"\",Q71*8760/2000,R71*8760/2000)))))","v":0},{"$f":"IF(N71>0,SUM($P$5:$P$7)*O71/2000,0)","v":0}]
[null,null,null,null,{"$f":"IF($C$4>3,\"AP-8 EP-3\",\"\")","v":""},{"$f":"IF($C$4>3,\"AP-8 EU-5\",\"\")","v":""},{"$f":"IF($C$4>3,\"Cold Aggregate Bins\",\"\")","v":""},null,null,null,null,null,"Hydrochloric Acid"]
[null,null,null,null,null,null,null,null,null,null,null,null,{"$f":"IF($C$5=\"\",\"\",$C$5)","v":""},{"$f":"IF(C5=\"drum mix plant\",SUM(N5:$N$6),0)","v":0},{"$f":"IF(N73=0,0,0.00021)","v":0},{"$f":"IF(O73=\"\",\"\",\"lb/ton\")","v":"lb/ton"},{"$f":"N73*O73","v":0},null,{"$f":"IF(N73=0,0,IF($C$10>0,$C$10*O73/2000,IF($C$11>0,$C$11*365*O73/2000,IF($C$12>0,$C$12*365*O73*N73/2000,IF(R73=\"\",Q73*8760/2000,R73*8760/2000)))))","v":0},{"$f":"IF(N73>0,$P$6*O73/2000,0)","v":0}]
[null,null,null,null,{"$f":"IF($C$4>3,\"Stock Pile Area\",\"\")","v":""},null,null,null,null,null,null,null,"Methyl Chloroform"]
[null,null,null,null,null,{"$f":"IF($C$4>3,\"Emission Unit #\",\"\")","v":""},{"$f":"IF($C$4>3,\"Maximum Storage Area (acres)\",\"\")","v":""},{"$f":"IF($C$4>3,\"Actual Storage Area (acres)\",\"\")","v":""},{"$f":"IF($C$4>3,\"Actual Days in Existence (days)\",\"\")","v":""},null,null,null,{"$f":"IF($C$5=\"\",\"\",$C$5)","v":""},{"$f":"IF(C5=\"drum mix plant\",SUM(N5:N7),0)","v":0},{"$f":"IF(N75=0,0,0.000048)","v":0},{"$f":"IF(O75=\"\",\"\",\"lb/ton\")","v":"lb/ton"},{"$f":"N75*O75","v":0},null,{"$f":"IF(N75=0,0,IF($C$10>0,$C$10*O75/2000,IF($C$11>0,$C$11*365*O75/2000,IF($C$12>0,$C$12*365*O75*N75/2000,IF(R75=\"\",Q75*8760/2000,R75*8760/2000)))))","v":0},{"$f":"IF(N75>0,SUM($P$5:$P$7)*O75/2000,0)","v":0}]
[null,null,null,null,null,null,null,null,null,null,null,null,"Propionaldehyde"]
[null,null,null,null,null,null,null,null,null,null,null,null,{"$f":"IF($C$5=\"\",\"\",$C$5)","v":""},{"$f":"IF(C5=\"drum mix plant\",SUM(N5:$N$6),0)","v":0},{"$f":"IF(N77=0,0,0.00013)","v":0},{"$f":"IF(O77=\"\",\"\",\"lb/ton\")","v":"lb/ton"},{"$f":"N77*O77","v":0},null,{"$f":"IF(N77=0,0,IF($C$10>0,$C$10*O77/2000,IF($C$11>0,$C$11*365*O77/2000,IF($C$12>0,$C$12*365*O77*N77/2000,IF(R77=\"\",Q77*8760/2000,R77*8760/2000)))))","v":0},{"$f":"IF(N77>0,$P$6*O77/2000,0)","v":0}]
[null,{"$f":"IF($C$4>4,\"Asphalt Plant\",\"\")","v":""},{"$f":"IF($C$4>4,\"Site 5\",\"\")","v":""},null,{"$f":"IF($C$4>4,\"Emission Point #\",\"\")","v":""},{"$f":"IF($C$4>4,\"Emission    Unit #\",\"\")","v":""},{"$f":"IF($C$4>4,\"Process\",\"\")","v":""},{"$f":"IF($C$4>4,\"Maximum Hourly     Design Rate\",\"\")","v":""},{"$f":"IF($C$4>4,('Facility Information'!G65&\" Annual Throughput\"),\"\")","v":""},null,null,null,"Quinone"]
[null,null,null,null,null,null,null,null,null,null,null,null,{"$f":"IF($C$5=\"\",\"\",$C$5)","v":""},{"$f":"IF(C5=\"drum mix plant\",SUM(N5:$N$6),SUM($N$5:$N$7))","v":0},{"$f":"IF(N79=0,0,IF(M79=\"Batch Mix Plant\",0.00027,IF(M79=\"Drum Mix Plant\",0.00016)))","v":0},{"$f":"IF(O79=\"\",\"\",\"lb/ton\")","v":"lb/ton"},{"$f":"N79*O79","v":0},null,{"$f":"IF(N79=0,0,IF($C$10>0,$C$10*O79/2000,IF($C$11>0,$C$11*365*O79/2000,IF($C$12>0,$C$12*365*O79*N79/2000,IF(R79=\"\",Q79*8760/2000,R79*8760/2000)))))","v":0},{"$f":"IF(C23=\"drum mix plant\",$P$6*O79/2000,SUM($P$5:$P$7)*O79/2000)","v":0}]
[null,{"$f":"IF($C$4>4,\"Site Name\",\"\")","v":""},null,null,{"$f":"IF($C$4>4,\"Dryers, Hot Screens, Mixer\",\"\")","v":""},null,null,{"$f":"IF($C$4>4,\"(tons/hr)\",\"\")","v":""},{"$f":"IF($C$4>4,\"(tons/yr)\",\"\")","v":""},"PM2.5","PM10",null,"Toluene"]
[null,{"$f":"IF($C$4>4,\"County:\",\"\")","v":""},null,null,{"$f":"IF(C83=\"\",\"\",\"AP-8 EP-1\")","v":""},{"$f":"IF(C83=\"\",\"\",\"AP-8 EU-1\")","v":""},{"$f":"IF(C83=\"\",\"\",C5 & \" - \"&C83)","v":""},null,null,{"$f":"IF(C84=\"\",\"\",IF(C84=\"yes\",LOOKUP(G81,'Emission Factors'!$A$12:$A$17,'Emission Factors'!$D$12:$D$17),LOOKUP(G81,'Emission Factors'!$A$5:$A$10,'Emission Factors'!$D$5:$D$10)))","v":""},{"$f":"IF(C84=\"\",\"\",IF(C84=\"yes\",LOOKUP(G81,'Emission Factors'!$A$12:$A$17,'Emission Factors'!$F$12:$F$17),LOOKUP(G81,'Emission Factors'!$A$5:$A$10,'Emission Factors'!$F$5:$F$10)))","v":""},null,{"$f":"$C$5 & \" - Fuel Oil\"","v":" - Fuel Oil"},{"$f":"$N$5","v":0},{"$f":"IF(N81=0,0,LOOKUP(M81,'Emission Factors'!$A$5:$A$10,'Emission Factors'!$AJ$5:$AJ$10))","v":0},{"$f":"IF(O81=\"\",\"\",\"lb/ton\")","v":"lb/ton"},{"$f":"N81*O81","v":0},null,{"$f":"IF(N81=0,0,IF($C$10>0,$C$10*O81/2000,IF($C$11>0,$C$11*365*O81/2000,IF($C$12>0,$C$12*365*O81*N81/2000,IF(R81=\"\",Q81*8760/2000,R81*8760/2000)))))","v":0},{"$f":"P5*O81/2000","v":0}]
[null,{"$f":"IF($C$4>4,\"Production Period (Dates):\",\"\")","v":""},null,null,{"$f":"IF($C$4>4,\"Liquid Asphalt Heater\",\"\")","v":""},null,null,{"$f":"IF($C$4>4,IF(C83=\"natural gas\",\"(MMCF/hr)\",\"(gallons/hr)\"),\"\")","v":""},{"$f":"IF($C$4>4,IF(C83=\"natural gas\",\"(MMCF/yr)\",\"(gallons/yr)\"),\"\")","v":""},null,null,null,{"$f":"$C$5 & \" - Waste Oil\"","v":" - Waste Oil"},{"$f":"$N$6","v":0},{"$f":"IF(N82=0,0,LOOKUP(M82,'Emission Factors'!$A$5:$A$10,'Emission Factors'!$AJ$5:$AJ$10))","v":0},{"$f":"IF(O82=\"\",\"\",\"lb/ton\")","v":"lb/ton"},{"$f":"N82*O82","v":0},null,{"$f":"IF(N82=0,0,IF(OR(AND($C$10>0,$N$81>0),AND($C$11>0,$N$81>0),AND($C$12>0,$N$81>0)),\"\",IF($C$10>0,$C$10*O82/2000,IF($C$11>0,$C$11*365*O82/2000,IF($C$12>0,$C$12*365*O82*N82/2000,IF(R82=\"\",Q82*8760/2000,R82*8760/2000))))))","v":0},{"$f":"P6*O82/2000","v":0}]
[null,{"$f":"IF($C$4>4,\"Type of Fuel Used:\",\"\")","v":""},null,null,{"$f":"IF(C83=\"\",\"\",\"AP-8 EP-2\")","v":""},{"$f":"IF(C83=\"\",\"\",\"AP-8 EU-2\")","v":""},{"$f":"IF(C83=\"\",\"\",C83& \" Fired Heater\")","v":""},null,null,null,"Controlled?",null,{"$f":"$C$5 & \" - Natural Gas\"","v":" - Natural Gas"},{"$f":"$N$7","v":0},{"$f":"IF(N83=0,0,LOOKUP(M83,'Emission Factors'!$A$5:$A$10,'Emission Factors'!$AJ$5:$AJ$10))","v":0},{"$f":"IF(O83=\"\",\"\",\"lb/ton\")","v":"lb/ton"},{"$f":"N83*O83","v":0},null,{"$f":"IF(N83=0,0,IF(OR(AND($C$10>0,$N$81>0),AND($C$11>0,$N$81>0),AND($C$12>0,$N$81>0)),\"\",IF(OR(AND($C$10>0,$N$82>0),AND($C$11>0,$N$82>0),AND($C$12>0,$N$82>0)),\"\",IF($C$10>0,$C$10*O83/2000,IF($C$11>0,$C$11*365*O83/2000,IF($C$12>0,$C$12*365*O83*N83/2000,IF(R83=\"\",Q83*8760/2000,R83*8760/2000)))))))","v":0},{"$f":"P7*O83/2000","v":0}]
[null,{"$f":"IF($C$4>4,\"Is Your Operation Controlled?:\",\"\")","v":""},null,null,{"$f":"IF($C$4>4,\"Silo Filling, Truck Loadout, Aggregate Transfer\",\"\")","v":""},null,null,{"$f":"IF($C$4>4,\"(tons/hr)\",\"\")","v":""},{"$f":"IF($C$4>4,\"(tons/yr)\",\"\")","v":""},null,{"$f":"IF(OR(C25=\"yes\",C39=\"yes\",C69=\"yes\",C84=\"yes\",C100=\"yes\",C115=\"yes\",C130=\"yes\",C145=\"yes\",C160=\"yes\"),1,0)","v":0},null,"Xylene"]
[null,null,null,null,{"$f":"IF($C$4>4,\"AP-8 EP-3\",\"\")","v":""},{"$f":"IF($C$4>4,\"AP-8 EU-3\",\"\")","v":""},{"$f":"IF($C$4>4,\"Silo Filling\",\"\")","v":""},null,null,null,null,null,{"$f":"IF($C$5=\"\",\"\",$C$5)","v":""},{"$f":"SUM($N$5:$N$7)","v":0},{"$f":"IF(N85=0,0,IF(M85=\"Batch Mix Plant\",0.0027,IF(M85=\"Drum Mix Plant\",0.0002)))","v":0},{"$f":"IF(O85=\"\",\"\",\"lb/ton\")","v":"lb/ton"},{"$f":"N85*O85","v":0},null,{"$f":"IF(N85=0,0,IF($C$10>0,$C$10*O85/2000,IF($C$11>0,$C$11*365*O85/2000,IF($C$12>0,$C$12*365*O85*N85/2000,IF(R85=\"\",Q85*8760/2000,R85*8760/2000)))))","v":0},{"$f":"SUM($P$5:$P$7)*O85/2000","v":0}]
[null,null,null,null,{"$f":"IF($C$4>4,\"AP-8 EP-3\",\"\")","v":""},{"$f":"IF($C$4>4,\"AP-8 EU-4\",\"\")","v":""},{"$f":"IF($C$4>4,\"Truck Loadout\",\"\")","v":""},null,null,null,null,null,"2,2,4-Trimethylpentane"]
[null,null,null,null,{"$f":"IF($C$4>4,\"AP-8 EP-3\",\"\")","v":""},{"$f":"IF($C$4>4,\"AP-8 EU-5\",\"\")","v":""},{"$f":"IF($C$4>4,\"Cold Aggregate Bins\",\"\")","v":""},null,null,null,null,null,{"$f":"IF($C$5=\"\",\"\",$C$5)","v":""},{"$f":"IF(C5=\"drum mix plant\",SUM(N5:N7),0)","v":0},{"$f":"IF(N87=0,0,0.00004)","v":0},{"$f":"IF(O87=\"\",\"\",\"lb/ton\")","v":"lb/ton"},{"$f":"N87*O87","v":0},null,{"$f":"IF(N87=0,0,IF($C$10>0,$C$10*O87/2000,IF($C$11>0,$C$11*365*O87/2000,IF($C$12>0,$C$12*365*O87*N87/2000,IF(R87=\"\",Q87*8760/2000,R87*8760/2000)))))","v":0},{"$f":"IF(N87>0,SUM($P$5:$P$7)*O87/2000,0)","v":0}]
[null,null,null,null,null,null,null,null,null,null,null,null,"Chromium Compounds"]
[null,null,null,null,{"$f":"IF($C$4>4,\"Stock Pile Area\",\"\")","v":""},null,null,null,null,null,null,null,{"$f":"IF($C$5=\"\",\"\",$C$5)","v":""},{"$f":"IF(C5=\"drum mix plant\",SUM(N5:N6),0)","v":0},{"$f":"IF(N89=0,0,IF($K$84=1,0.0000055,0.000024))","v":0},{"$f":"IF(O89=\"\",\"\",\"lb/ton\")","v":"lb/ton"},{"$f":"IF($K$84=1,\"\",N89*O89)","v":0},{"$f":"IF($K$84=1,N89*O89,\"\")","v":""},{"$f":"IF(N89=0,0,IF($C$10>0,$C$10*O89/2000,IF($C$11>0,$C$11*365*O89/2000,IF($C$12>0,$C$12*365*O89*N89/2000,IF(R89=\"\",Q89*8760/2000,R89*8760/2000)))))","v":0},{"$f":"IF(N89>0,$P$5*O89/2000,0)","v":0}]
[null,null,null,null,null,{"$f":"IF($C$4>4,\"Emission Unit #\",\"\")","v":""},{"$f":"IF($C$4>4,\"Maximum Storage Area (acres)\",\"\")","v":""},{"$f":"IF($C$4>4,\"Actual Storage Area (acres)\",\"\")","v":""},{"$f":"IF($C$4>4,\"Actual Days in Existence (days)\",\"\")","v":""},null,null,null,"Lead Compounds"]
[null,null,null,null,null,null,null,null,null,null,null,null,{"$f":"IF($C$5=\"\",\"\",$C$5)","v":""},{"$f":"IF(C5=\"drum mix plant\",SUM(N5:N6),0)","v":0},{"$f":"IF(N91=0,0,IF($K$84=1,0.000015,0.00054))","v":0},{"$f":"IF(O91=\"\",\"\",\"lb/ton\")","v":"lb/ton"},{"$f":"IF($K$84=1,\"\",N91*O91)","v":0},{"$f":"IF($K$84=1,N91*O91,\"\")","v":""},{"$f":"IF(N91=0,0,IF($C$10>0,$C$10*O91/2000,IF($C$11>0,$C$11*365*O91/2000,IF($C$12>0,$C$12*365*O91*N91/2000,IF(R91=\"\",Q91*8760/2000,R91*8760/2000)))))","v":0},{"$f":"IF(N91>0,$P$5*O91/2000,0)","v":0}]
[null,null,null,null,null,null,null,null,null,null,null,null,"Manganese Compounds",null,null,null,0]
[null,null,null,null,null,null,null,null,null,null,null,null,{"$f":"IF($C$5=\"\",\"\",$C$5)","v":""},{"$f":"IF(C5=\"drum mix plant\",SUM(N5:N6),0)","v":0},{"$f":"IF(N93=0,0,IF($K$84=1,0.0000077,0.00065))","v":0},{"$f":"IF(O93=\"\",\"\",\"lb/ton\")","v":"lb/ton"},0,{"$f":"IF($K$84=1,N93*O93,\"\")","v":""},{"$f":"IF(N93=0,0,IF($C$10>0,$C$10*O93/2000,IF($C$11>0,$C$11*365*O93/2000,IF($C$12>0,$C$12*365*O93*N93/2000,IF(R93=\"\",Q93*8760/2000,R93*8760/2000)))))","v":0},{"$f":"IF(N93>0,$P$5*O93/2000,0)","v":0}]
[null,{"$f":"IF($C$4>5,\"Asphalt Plant\",\"\")","v":""},{"$f":"IF($C$4>5,\"Site 6\",\"\")","v":""},null,{"$f":"IF($C$4>5,\"Emission Point #\",\"\")","v":""},{"$f":"IF($C$4>5,\"Emission    Unit #\",\"\")","v":""},{"$f":"IF($C$4>5,\"Process\",\"\")","v":""},{"$f":"IF($C$4>5,\"Maximum Hourly     Design Rate\",\"\")","v":""},{"$f":"IF($C$4>5,('Facility Information'!G80&\" Annual Throughput\"),\"\")","v":""},null,null,null,"Nickel Compounds",null,null,null,0]
[null,null,null,null,null,null,null,null,null,null,null,null,{"$f":"$C$5 & \" - Fuel Oil\"","v":" - Fuel Oil"},{"$f":"IF(C5=\"drum mix plant\",N5,0)","v":0},{"$f":"IF(N95=0,0,IF($K$84=1,0.000015,0.0013))","v":0},{"$f":"IF(O95=\"\",\"\",\"lb/ton\")","v":"lb/ton"},0,{"$f":"IF($K$84=1,N95*O95,\"\")","v":""},{"$f":"IF(N95=0,0,IF($C$10>0,$C$10*O95/2000,IF($C$11>0,$C$11*365*O95/2000,IF($C$12>0,$C$12*365*O95*N95/2000,IF(R95=\"\",Q95*8760/2000,R95*8760/2000)))))","v":0},{"$f":"IF(N95>0,$P$5*O95/2000,0)","v":0}]
[null,{"$f":"IF($C$4>5,\"Site Name\",\"\")","v":""},null,null,{"$f":"IF($C$4>5,\"Dryers, Hot Screens, Mixer\",\"\")","v":""},null,null,{"$f":"IF($C$4>5,\"(tons/hr)\",\"\")","v":""},{"$f":"IF($C$4>5,\"(tons/yr)\",\"\")","v":""},"PM2.5","PM10",null,{"$f":"$C$5 & \" - Waste Oil\"","v":" - Waste Oil"},{"$f":"IF(C5=\"drum mix plant\",N6,0)","v":0},{"$f":"IF(N96=0,0,IF($K$84=1,0.000015,0.0013))","v":0},{"$f":"IF(O96=\"\",\"\",\"lb/ton\")","v":"lb/ton"},0,{"$f":"IF($K$84=1,N96*O96,\"\")","v":""},{"$f":"IF(N96=0,0,IF($C$10>0,$C$10*O96/2000,IF($C$11>0,$C$11*365*O96/2000,IF($C$12>0,$C$12*365*O96*N96/2000,IF(R96=\"\",Q96*8760/2000,R96*8760/2000)))))","v":0},{"$f":"IF(N96>0,$P$6*O96/2000,0)","v":0}]
[null,{"$f":"IF($C$4>5,\"County:\",\"\")","v":""},null,null,{"$f":"IF(C99=\"\",\"\",\"AP-8 EP-1\")","v":""},{"$f":"IF(C99=\"\",\"\",\"AP-8 EU-1\")","v":""},{"$f":"IF(C99=\"\",\"\",C5 & \" - \"&C99)","v":""},null,null,{"$f":"IF(C100=\"\",\"\",IF(C100=\"yes\",LOOKUP(G97,'Emission Factors'!$A$12:$A$17,'Emission Factors'!$D$12:$D$17),LOOKUP(G97,'Emission Factors'!$A$5:$A$10,'Emission Factors'!$D$5:$D$10)))","v":""},{"$f":"IF(C100=\"\",\"\",IF(C100=\"yes\",LOOKUP(G97,'Emission Factors'!$A$12:$A$17,'Emission Factors'!$F$12:$F$17),LOOKUP(G97,'Emission Factors'!$A$5:$A$10,'Emission Factors'!$F$5:$F$10)))","v":""},null,{"$f":"$C$5 & \" - Natural Gas\"","v":" - Natural Gas"},{"$f":"IF(C5=\"drum mix plant\",N7,0)","v":0},{"$f":"IF(N97=0,0,IF($K$84=1,0.000063,0.00063))","v":0},{"$f":"IF(O97=\"\",\"\",\"lb/ton\")","v":"lb/ton"},{"$f":"IF($K$84=1,\"\",N97*O97)","v":0},{"$f":"IF($K$84=1,N97*O97,\"\")","v":""},{"$f":"IF(N97=0,0,IF($C$10>0,$C$10*O97/2000,IF($C$11>0,$C$11*365*O97/2000,IF($C$12>0,$C$12*365*O97*N97/2000,IF(R97=\"\",Q97*8760/2000,R97*8760/2000)))))","v":0},{"$f":"IF(N97>0,$P$7*O97/2000,0)","v":0}]
[null,{"$f":"IF($C$4>5,\"Production Period (Dates):\",\"\")","v":""},null,null,{"$f":"IF($C$4>5,\"Liquid Asphalt Heater\",\"\")","v":""},null,null,{"$f":"IF($C$4>5,IF(C99=\"natural gas\",\"(MMCF/hr)\",\"(gallons/hr)\"),\"\")","v":""},{"$f":"IF($C$4>5,IF(C99=\"natural gas\",\"(MMCF/yr)\",\"(gallons/yr)\"),\"\")","v":""}]
[null,{"$f":"IF($C$4>5,\"Type of Fuel Used:\",\"\")","v":""},null,null,{"$f":"IF(C99=\"\",\"\",\"AP-8 EP-2\")","v":""},{"$f":"IF(C99=\"\",\"\",\"AP-8 EU-2\")","v":""},{"$f":"IF(C99=\"\",\"\",C99& \" Fired Heater\")","v":""}]
[null,{"$f":"IF($C$4>5,\"Is Your Operation Controlled?:\",\"\")","v":""},null,null,{"$f":"IF($C$4>5,\"Silo Filling, Truck Loadout, Aggregate Transfer\",\"\")","v":""},null,null,{"$f":"IF($C$4>5,\"(tons/hr)\",\"\")","v":""},{"$f":"IF($C$4>5,\"(tons/yr)\",\"\")","v":""}]
[null,null,null,null,{"$f":"IF($C$4>5,\"AP-8 EP-3\",\"\")","v":""},{"$f":"IF($C$4>5,\"AP-8 EU-3\",\"\")","v":""},{"$f":"IF($C$4>5,\"Silo Filling\",\"\")","v":""}]
[null,null,null,null,{"$f":"IF($C$4>5,\"AP-8 EP-3\",\"\")","v":""},{"$f":"IF($C$4>5,\"AP-8 EU-4\",\"\")","v":""},{"$f":"IF($C$4>5,\"Truck Loadout\",\"\")","v":""}]
[null,null,null,null,{"$f":"IF($C$4>5,\"AP-8 EP-3\",\"\")","v":""},{"$f":"IF($C$4>5,\"AP-8 EU-5\",\"\")","v":""},{"$f":"IF($C$4>5,\"Cold Aggregate Bins\",\"\")","v":""}]
[]
[null,null,null,null,{"$f":"IF($C$4>5,\"Stock Pile Area\",\"\")","v":""}]
[null,null,null,null,null,{"$f":"IF($C$4>5,\"Emission Unit #\",\"\")","v":""},{"$f":"IF($C$4>5,\"Maximum Storage Area (acres)\",\"\")","v":""},{"$f":"IF($C$4>5,\"Actual Storage Area (acres)\",\"\")","v":""},{"$f":"IF($C$4>5,\"Actual Days in Existence (days)\",\"\")","v":""}]
[]
[]
[null,{"$f":"IF($C$4>6,\"Asphalt Plant\",\"\")","v":""},{"$f":"IF($C$4>6,\"Site 7\",\"\")","v":""},null,{"$f":"IF($C$4>6,\"Emission Point #\",\"\")","v":""},{"$f":"IF($C$4>6,\"Emission    Unit #\",\"\")","v":""},{"$f":"IF($C$4>6,\"Process\",\"\")","v":""},{"$f":"IF($C$4>6,\"Maximum Hourly     Design Rate\",\"\")","v":""},{"$f":"IF($C$4>6,('Facility Information'!G95&\" Annual Throughput\"),\"\")","v":""}]
[]
[null,{"$f":"IF($C$4>6,\"Site Name\",\"\")","v":""},null,null,{"$f":"IF($C$4>6,\"Dryers, Hot Screens, Mixer\",\"\")","v":""},null,null,{"$f":"IF($C$4>6,\"(tons/hr)\",\"\")","v":""},{"$f":"IF($C$4>6,\"(tons/yr)\",\"\")","v":""},"PM2.5","PM10"]
[null,{"$f":"IF($C$4>6,\"County:\",\"\")","v":""},null,null,{"$f":"IF(C114=\"\",\"\",\"AP-8 EP-1\")","v":""},{"$f":"IF(C114=\"\",\"\",\"AP-8 EU-1\")","v":""},{"$f":"IF(C114=\"\",\"\",C5 & \" - \"&C114)","v":""},null,null,{"$f":"IF(C115=\"\",\"\",IF(C115=\"yes\",LOOKUP(G112,'Emission Factors'!$A$12:$A$17,'Emission Factors'!$D$12:$D$17),LOOKUP(G112,'Emission Factors'!$A$5:$A$10,'Emission Factors'!$D$5:$D$10)))","v":""},{"$f":"IF(C115=\"\",\"\",IF(C115=\"yes\",LOOKUP(G112,'Emission Factors'!$A$12:$A$17,'Emission Factors'!$F$12:$F$17),LOOKUP(G112,'Emission Factors'!$A$5:$A$10,'Emission Factors'!$F$5:$F$10)))","v":""}]
[null,{"$f":"IF($C$4>6,\"Production Period (Dates):\",\"\")","v":""},null,null,{"$f":"IF($C$4>6,\"Liquid Asphalt Heater\",\"\")","v":""},null,null,{"$f":"IF($C$4>6,IF(C114=\"natural gas\",\"(MMCF/hr)\",\"(gallons/hr)\"),\"\")","v":""},{"$f":"IF($C$4>6,IF(C114=\"natural gas\",\"(MMCF/yr)\",\"(gallons/yr)\"),\"\")","v":""}]
[null,{"$f":"IF($C$4>6,\"Type of Fuel Used:\",\"\")","v":""},null,null,{"$f":"IF(C114=\"\",\"\",\"AP-8 EP-2\")","v":""},{"$f":"IF(C114=\"\",\"\",\"AP-8 EU-2\")","v":""},{"$f":"IF(C114=\"\",\"\",C114& \" Fired Heater\")","v":""}]
[null,{"$f":"IF($C$4>6,\"Is Your Operation Controlled?:\",\"\")","v":""},null,null,{"$f":"IF($C$4>6,\"Silo Filling, Truck Loadout, Aggregate Transfer\",\"\")","v":""},null,null,{"$f":"IF($C$4>6,\"(tons/hr)\",\"\")","v":""},{"$f":"IF($C$4>6,\"(tons/yr)\",\"\")","v":""}]
[null,null,null,null,{"$f":"IF($C$4>6,\"AP-8 EP-3\",\"\")","v":""},{"$f":"IF($C$4>6,\"AP-8 EU-3\",\"\")","v":""},{"$f":"IF($C$4>6,\"Silo Filling\",\"\")","v":""}]
[null,null,null,null,{"$f":"IF($C$4>6,\"AP-8 EP-3\",\"\")","v":""},{"$f":"IF($C$4>6,\"AP-8 EU-4\",\"\")","v":""},{"$f":"IF($C$4>6,\"Truck Loadout\",\"\")","v":""}]
[null,null,null,null,{"$f":"IF($C$4>6,\"AP-8 EP-3\",\"\")","v":""},{"$f":"IF($C$4>6,\"AP-8 EU-5\",\"\")","v":""},{"$f":"IF($C$4>6,\"Cold Aggregate Bins\",\"\")","v":""}]
[]
[null,null,null,null,{"$f":"IF($C$4>6,\"Stock Pile Area\",\"\")","v":""}]
[null,null,null,null,null,{"$f":"IF($C$4>6,\"Emission Unit #\",\"\")","v":""},{"$f":"IF($C$4>6,\"Maximum Storage Area (acres)\",\"\")","v":""},{"$f":"IF($C$4>6,\"Actual Storage Area (acres)\",\"\")","v":""},{"$f":"IF($C$4>6,\"Actual Days in Existence (days)\",\"\")","v":""}]
[]
[]
[null,{"$f":"IF($C$4>7,\"Asphalt Plant\",\"\")","v":""},{"$f":"IF($C$4>7,\"Site 8\",\"\")","v":""},null,{"$f":"IF($C$4>7,\"Emission Point #\",\"\")","v":""},{"$f":"IF($C$4>7,\"Emission    Unit #\",\"\")","v":""},{"$f":"IF($C$4>7,\"Process\",\"\")","v":""},{"$f":"IF($C$4>7,\"Maximum Hourly     Design Rate\",\"\")","v":""},{"$f":"IF($C$4>7,('Facility Information'!G110&\" Annual Throughput\"),\"\")","v":""}]
[]
[null,{"$f":"IF($C$4>7,\"Site Name\",\"\")","v":""},null,null,{"$f":"IF($C$4>7,\"Dryers, Hot Screens, Mixer\",\"\")","v":""},null,null,{"$f":"IF($C$4>7,\"(tons/hr)\",\"\")","v":""},{"$f":"IF($C$4>7,\"(tons/yr)\",\"\")","v":""},"PM2.5","PM10"]
[null,{"$f":"IF($C$4>7,\"County:\",\"\")","v":""},null,null,{"$f":"IF(C129=\"\",\"\",\"AP-8 EP-1\")","v":""},{"$f":"IF(C129=\"\",\"\",\"AP-8 EU-1\")","v":""},{"$f":"IF(C129=\"\",\"\",C5 & \" - \"&C129)","v":""},null,null,{"$f":"IF(C130=\"\",\"\",IF(C130=\"yes\",LOOKUP(G127,'Emission Factors'!$A$12:$A$17,'Emission Factors'!$D$12:$D$17),LOOKUP(G127,'Emission Factors'!$A$5:$A$10,'Emission Factors'!$D$5:$D$10)))","v":""},{"$f":"IF(C130=\"\",\"\",IF(C130=\"yes\",LOOKUP(G127,'Emission Factors'!$A$12:$A$17,'Emission Factors'!$F$12:$F$17),LOOKUP(G127,'Emission Factors'!$A$5:$A$10,'Emission Factors'!$F$5:$F$10)))","v":""}]
[null,{"$f":"IF($C$4>7,\"Production Period (Dates):\",\"\")","v":""},null,null,{"$f":"IF($C$4>7,\"Liquid Asphalt Heater\",\"\")","v":""},null,null,{"$f":"IF($C$4>7,IF(C129=\"natural gas\",\"(MMCF/hr)\",\"(gallons/hr)\"),\"\")","v":""},{"$f":"IF($C$4>7,IF(C129=\"natural gas\",\"(MMCF/yr)\",\"(gallons/yr)\"),\"\")","v":""}]
[null,{"$f":"IF($C$4>7,\"Type of Fuel Used:\",\"\")","v":""},null,null,{"$f":"IF(C129=\"\",\"\",\"AP-8 EP-2\")","v":""},{"$f":"IF(C129=\"\",\"\",\"AP-8 EU-2\")","v":""},{"$f":"IF(C129=\"\",\"\",C129& \" Fired Heater\")","v":""}]
[null,{"$f":"IF($C$4>7,\"Is Your Operation Controlled?:\",\"\")","v":""},null,null,{"$f":"IF($C$4>7,\"Silo Filling, Truck Loadout, Aggregate Transfer\",\"\")","v":""},null,null,{"$f":"IF($C$4>7,\"(tons/hr)\",\"\")","v":""},{"$f":"IF($C$4>7,\"(tons/yr)\",\"\")","v":""}]
[null,null,null,null,{"$f":"IF($C$4>7,\"AP-8 EP-3\",\"\")","v":""},{"$f":"IF($C$4>7,\"AP-8 EU-3\",\"\")","v":""},{"$f":"IF($C$4>7,\"Silo Filling\",\"\")","v":""}]
[null,null,null,null,{"$f":"IF($C$4>7,\"AP-8 EP-3\",\"\")","v":""},{"$f":"IF($C$4>7,\"AP-8 EU-4\",\"\")","v":""},{"$f":"IF($C$4>7,\"Truck Loadout\",\"\")","v":""}]
[null,null,null,null,{"$f":"IF($C$4>7,\"AP-8 EP-3\",\"\")","v":""},{"$f":"IF($C$4>7,\"AP-8 EU-5\",\"\")","v":""},{"$f":"IF($C$4>7,\"Cold Aggregate Bins\",\"\")","v":""}]
[]
[null,null,null,null,{"$f":"IF($C$4>7,\"Stock Pile Area\",\"\")","v":""}]
[null,null,null,null,null,{"$f":"IF($C$4>7,\"Emission Unit #\",\"\")","v":""},{"$f":"IF($C$4>7,\"Maximum Storage Area (acres)\",\"\")","v":""},{"$f":"IF($C$4>7,\"Actual Storage Area (acres)\",\"\")","v":""},{"$f":"IF($C$4>7,\"Actual Days in Existence (days)\",\"\")","v":""}]
[]
[]
[null,{"$f":"IF($C$4>8,\"Asphalt Plant\",\"\")","v":""},{"$f":"IF($C$4>8,\"Site 9\",\"\")","v":""},null,{"$f":"IF($C$4>8,\"Emission Point #\",\"\")","v":""},{"$f":"IF($C$4>8,\"Emission    Unit #\",\"\")","v":""},{"$f":"IF($C$4>8,\"Process\",\"\")","v":""},{"$f":"IF($C$4>8,\"Maximum Hourly     Design Rate\",\"\")","v":""},{"$f":"IF($C$4>8,('Facility Information'!G125&\" Annual Throughput\"),\"\")","v":""}]
[]
[null,{"$f":"IF($C$4>8,\"Site Name\",\"\")","v":""},null,null,{"$f":"IF($C$4>8,\"Dryers, Hot Screens, Mixer\",\"\")","v":""},null,null,{"$f":"IF($C$4>8,\"(tons/hr)\",\"\")","v":""},{"$f":"IF($C$4>8,\"(tons/yr)\",\"\")","v":""},"PM2.5","PM10"]
[null,{"$f":"IF($C$4>8,\"County:\",\"\")","v":""},null,null,{"$f":"IF(C144=\"\",\"\",\"AP-8 EP-1\")","v":""},{"$f":"IF(C144=\"\",\"\",\"AP-8 EU-1\")","v":""},{"$f":"IF(C144=\"\",\"\",C5 & \" - \"&C144)","v":""},null,null,{"$f":"IF(C145=\"\",\"\",IF(C145=\"yes\",LOOKUP(G142,'Emission Factors'!$A$12:$A$17,'Emission Factors'!$D$12:$D$17),LOOKUP(G142,'Emission Factors'!$A$5:$A$10,'Emission Factors'!$D$5:$D$10)))","v":""},{"$f":"IF(C145=\"\",\"\",IF(C145=\"yes\",LOOKUP(G142,'Emission Factors'!$A$12:$A$17,'Emission Factors'!$F$12:$F$17),LOOKUP(G142,'Emission Factors'!$A$5:$A$10,'Emission Factors'!$F$5:$F$10)))","v":""}]
[null,{"$f":"IF($C$4>8,\"Production Period (Dates):\",\"\")","v":""},null,null,{"$f":"IF($C$4>8,\"Liquid Asphalt Heater\",\"\")","v":""},null,null,{"$f":"IF($C$4>8,IF(C144=\"natural gas\",\"(MMCF/hr)\",\"(gallons/hr)\"),\"\")","v":""},{"$f":"IF($C$4>8,IF(C144=\"natural gas\",\"(MMCF/yr)\",\"(gallons/yr)\"),\"\")","v":""}]
[null,{"$f":"IF($C$4>8,\"Type of Fuel Used:\",\"\")","v":""},null,null,{"$f":"IF(C144=\"\",\"\",\"AP-8 EP-2\")","v":""},{"$f":"IF(C144=\"\",\"\",\"AP-8 EU-2\")","v":""},{"$f":"IF(C144=\"\",\"\",C144& \" Fired Heater\")","v":""}]
[null,{"$f":"IF($C$4>8,\"Is Your Operation Controlled?:\",\"\")","v":""},null,null,{"$f":"IF($C$4>8,\"Silo Filling, Truck Loadout, Aggregate Transfer\",\"\")","v":""},null,null,{"$f":"IF($C$4>8,\"(tons/hr)\",\"\")","v":""},{"$f":"IF($C$4>8,\"(tons/yr)\",\"\")","v":""}]
[null,null,null,null,{"$f":"IF($C$4>8,\"AP-8 EP-3\",\"\")","v":""},{"$f":"IF($C$4>8,\"AP-8 EU-3\",\"\")","v":""},{"$f":"IF($C$4>8,\"Silo Filling\",\"\")","v":""}]
[null,null,null,null,{"$f":"IF($C$4>8,\"AP-8 EP-3\",\"\")","v":""},{"$f":"IF($C$4>8,\"AP-8 EU-4\",\"\")","v":""},{"$f":"IF($C$4>8,\"Truck Loadout\",\"\")","v":""}]
[null,null,null,null,{"$f":"IF($C$4>8,\"AP-8 EP-3\",\"\")","v":""},{"$f":"IF($C$4>8,\"AP-8 EU-5\",\"\")","v":""},{"$f":"IF($C$4>8,\"Cold Aggregate Bins\",\"\")","v":""}]
[]
[null,null,null,null,{"$f":"IF($C$4>8,\"Stock Pile Area\",\"\")","v":""}]
[null,null,null,null,null,{"$f":"IF($C$4>8,\"Emission Unit #\",\"\")","v":""},{"$f":"IF($C$4>8,\"Maximum Storage Area (acres)\",\"\")","v":""},{"$f":"IF($C$4>8,\"Actual Storage Area (acres)\",\"\")","v":""},{"$f":"IF($C$4>8,\"Actual Days in Existence (days)\",\"\")","v":""}]
[]
[]
[null,{"$f":"IF($C$4>9,\"Asphalt Plant\",\"\")","v":""},{"$f":"IF($C$4>9,\"Site 10\",\"\")","v":""},null,{"$f":"IF($C$4>9,\"Emission Point #\",\"\")","v":""},{"$f":"IF($C$4>9,\"Emission    Unit #\",\"\")","v":""},{"$f":"IF($C$4>9,\"Process\",\"\")","v":""},{"$f":"IF($C$4>9,\"Maximum Hourly     Design Rate\",\"\")","v":""},{"$f":"IF($C$4>9,('Facility Information'!G140&\" Annual Throughput\"),\"\")","v":""}]
[]
[null,{"$f":"IF($C$4>9,\"Site Name\",\"\")","v":""},null,null,{"$f":"IF($C$4>9,\"Dryers, Hot Screens, Mixer\",\"\")","v":""},null,null,{"$f":"IF($C$4>9,\"(tons/hr)\",\"\")","v":""},{"$f":"IF($C$4>9,\"(tons/yr)\",\"\")","v":""},"PM2.5","PM10"]
[null,{"$f":"IF($C$4>9,\"County:\",\"\")","v":""},null,null,{"$f":"IF(C159=\"\",\"\",\"AP-8 EP-1\")","v":""},{"$f":"IF(C159=\"\",\"\",\"AP-8 EU-1\")","v":""},{"$f":"IF(C159=\"\",\"\",C5 & \" - \"&C159)","v":""},null,null,{"$f":"IF(C160=\"\",\"\",IF(C160=\"yes\",LOOKUP(G157,'Emission Factors'!$A$12:$A$17,'Emission Factors'!$D$12:$D$17),LOOKUP(G157,'Emission Factors'!$A$5:$A$10,'Emission Factors'!$D$5:$D$10)))","v":""},{"$f":"IF(C160=\"\",\"\",IF(C160=\"yes\",LOOKUP(G157,'Emission Factors'!$A$12:$A$17,'Emission Factors'!$F$12:$F$17),LOOKUP(G157,'Emission Factors'!$A$5:$A$10,'Emission Factors'!$F$5:$F$10)))","v":""}]
[null,{"$f":"IF($C$4>9,\"Production Period (Dates):\",\"\")","v":""},null,null,{"$f":"IF($C$4>9,\"Liquid Asphalt Heater\",\"\")","v":""},null,null,{"$f":"IF($C$4>9,IF(C159=\"natural gas\",\"(MMCF/hr)\",\"(gallons/hr)\"),\"\")","v":""},{"$f":"IF($C$4>9,IF(C159=\"natural gas\",\"(MMCF/yr)\",\"(gallons/yr)\"),\"\")","v":""}]
[null,{"$f":"IF($C$4>9,\"Type of Fuel Used:\",\"\")","v":""},null,null,{"$f":"IF(C159=\"\",\"\",\"AP-8 EP-2\")","v":""},{"$f":"IF(C159=\"\",\"\",\"AP-8 EU-2\")","v":""},{"$f":"IF(C159=\"\",\"\",C159& \" Fired Heater\")","v":""}]
[null,{"$f":"IF($C$4>9,\"Is Your Operation Controlled?:\",\"\")","v":""},null,null,{"$f":"IF($C$4>9,\"Silo Filling, Truck Loadout, Aggregate Transfer\",\"\")","v":""},null,null,{"$f":"IF($C$4>9,\"(tons/hr)\",\"\")","v":""},{"$f":"IF($C$4>9,\"(tons/yr)\",\"\")","v":""}]
[null,null,null,null,{"$f":"IF($C$4>9,\"AP-8 EP-3\",\"\")","v":""},{"$f":"IF($C$4>9,\"AP-8 EU-3\",\"\")","v":""},{"$f":"IF($C$4>9,\"Silo Filling\",\"\")","v":""}]
[null,null,null,null,{"$f":"IF($C$4>9,\"AP-8 EP-3\",\"\")","v":""},{"$f":"IF($C$4>9,\"AP-8 EU-4\",\"\")","v":""},{"$f":"IF($C$4>9,\"Truck Loadout\",\"\")","v":""}]
[null,null,null,null,{"$f":"IF($C$4>9,\"AP-8 EP-3\",\"\")","v":""},{"$f":"IF($C$4>9,\"AP-8 EU-5\",\"\")","v":""},{"$f":"IF($C$4>9,\"Cold Aggregate Bins\",\"\")","v":""}]
[]
[null,null,null,null,{"$f":"IF($C$4>9,\"Stock Pile Area\",\"\")","v":""}]
[null,null,null,null,null,{"$f":"IF($C$4>9,\"Emission Unit #\",\"\")","v":""},{"$f":"IF($C$4>9,\"Maximum Storage Area (acres)\",\"\")","v":""},{"$f":"IF($C$4>9,\"Actual Storage Area (acres)\",\"\")","v":""},{"$f":"IF($C$4>9,\"Actual Days in Existence (days)\",\"\")","v":""}]

{"sheet":"Asphalt Plant (AP-9)","index":9,"n_rows":166,"n_cols":20,"rows_kept":166,"cut":false,"hidden":true,"merged":[]}
[null,"ASPHALT PLANT (AP-9)"]
[null,"Please fill in the yellow boxes as applicable for your facility. ",null,null,null,null,null,null,"Values used for calculating emissions →",null,null,null,"Values Used to Calculate Actual Emissions for the Listed Processes at this Plant"]
[]
[null,{"$f":"\"Number of Sites this Plant operated at in \"&'Facility Information'!G5&\":\"","v":"Number of Sites this Plant operated at in :"},null,null,null,null,null,null,null,null,null,null,"Process","Maximum Design Rate","Units","Actual throughput",null,"** As of 2016 Potential Emissions are no longer required to be reported in the Minor Source Emissions Inventory**",null,"Units"]
[null,"Plant Type:",null,null,null,null,null,null,null,null,null,null,{"$f":"$C$5 & \" - Fuel Oil\"","v":" - Fuel Oil"},{"$f":"MAX((IFERROR(OFFSET($G$21,MATCH(M5,$G$22,0),1),0)),((IFERROR(OFFSET($G$35,MATCH(M5,$G$36,0),1),0))),((IFERROR(OFFSET($G$50,MATCH(M5,$G$51,0),1),0))),((IFERROR(OFFSET($G$65,MATCH(M5,$G$66,0),1),0))),((IFERROR(OFFSET($G$80,MATCH(M5,$G$81,0),1),0))),((IFERROR(OFFSET($G$96,MATCH(M5,$G$97,0),1),0))),((IFERROR(OFFSET($G$111,MATCH(M5,$G$112,0),1),0))),((IFERROR(OFFSET($G$126,MATCH(M5,$G$127,0),1),0))),((IFERROR(OFFSET($G$141,MATCH(M5,$G$142,0),1),0))),((IFERROR(OFFSET($G$156,MATCH(M5,$G$157,0),1),0))))","v":0},"tons/hr",{"$f":"SUM((IFERROR(OFFSET($G$21,MATCH(M5,$G$22,0),2),0)),((IFERROR(OFFSET($G$35,MATCH(M5,$G$36,0),2),0))),((IFERROR(OFFSET($G$50,MATCH(M5,$G$51,0),2),0))),((IFERROR(OFFSET($G$65,MATCH(M5,$G$66,0),2),0))),((IFERROR(OFFSET($G$80,MATCH(M5,$G$81,0),2),0))),((IFERROR(OFFSET($G$96,MATCH(M5,$G$97,0),2),0))),((IFERROR(OFFSET($G$111,MATCH(M5,$G$112,0),2),0))),((IFERROR(OFFSET($G$126,MATCH(M5,$G$127,0),2),0))),((IFERROR(OFFSET($G$141,MATCH(M5,$G$142,0),2),0))),((IFERROR(OFFSET($G$156,MATCH(M5,$G$157,0),2),0))))","v":0},null,null,null,"tons/yr"]
[null,null,null,null,null,null,null,null,null,null,null,null,{"$f":"$C$5 & \" - Waste Oil\"","v":" - Waste Oil"},{"$f":"MAX((IFERROR(OFFSET($G$21,MATCH(M6,$G$22,0),1),0)),((IFERROR(OFFSET($G$35,MATCH(M6,$G$36,0),1),0))),((IFERROR(OFFSET($G$50,MATCH(M6,$G$51,0),1),0))),((IFERROR(OFFSET($G$65,MATCH(M6,$G$66,0),1),0))),((IFERROR(OFFSET($G$80,MATCH(M6,$G$81,0),1),0))),((IFERROR(OFFSET($G$96,MATCH(M6,$G$97,0),1),0))),((IFERROR(OFFSET($G$111,MATCH(M6,$G$112,0),1),0))),((IFERROR(OFFSET($G$126,MATCH(M6,$G$127,0),1),0))),((IFERROR(OFFSET($G$141,MATCH(M6,$G$142,0),1),0))),((IFERROR(OFFSET($G$156,MATCH(M6,$G$157,0),1),0))))","v":0},"tons/hr",{"$f":"SUM((IFERROR(OFFSET($G$21,MATCH(M6,$G$22,0),2),0)),((IFERROR(OFFSET($G$35,MATCH(M6,$G$36,0),2),0))),((IFERROR(OFFSET($G$50,MATCH(M6,$G$51,0),2),0))),((IFERROR(OFFSET($G$65,MATCH(M6,$G$66,0),2),0))),((IFERROR(OFFSET($G$80,MATCH(M6,$G$81,0),2),0))),((IFERROR(OFFSET($G$96,MATCH(M6,$G$97,0),2),0))),((IFERROR(OFFSET($G$111,MATCH(M6,$G$112,0),2),0))),((IFERROR(OFFSET($G$126,MATCH(M6,$G$127,0),2),0))),((IFERROR(OFFSET($G$141,MATCH(M6,$G$142,0),2),0))),((IFERROR(OFFSET($G$156,MATCH(M6,$G$157,0),2),0))))","v":0},null,null,null,"tons/yr"]
[null,"Plant Specific Permit Number: ",null,null,null,null,null,null,null,null,null,null,{"$f":"$C$5 & \" - Natural Gas\"","v":" - Natural Gas"},{"$f":"MAX((IFERROR(OFFSET($G$21,MATCH(M7,$G$22,0),1),0)),((IFERROR(OFFSET($G$35,MATCH(M7,$G$36,0),1),0))),((IFERROR(OFFSET($G$50,MATCH(M7,$G$51,0),1),0))),((IFERROR(OFFSET($G$65,MATCH(M7,$G$66,0),1),0))),((IFERROR(OFFSET($G$80,MATCH(M7,$G$81,0),1),0))),((IFERROR(OFFSET($G$96,MATCH(M7,$G$97,0),1),0))),((IFERROR(OFFSET($G$111,MATCH(M7,$G$112,0),1),0))),((IFERROR(OFFSET($G$126,MATCH(M7,$G$127,0),1),0))),((IFERROR(OFFSET($G$141,MATCH(M7,$G$142,0),1),0))),((IFERROR(OFFSET($G$156,MATCH(M7,$G$157,0),1),0))))","v":0},"tons/hr",{"$f":"SUM((IFERROR(OFFSET($G$21,MATCH(M7,$G$22,0),2),0)),((IFERROR(OFFSET($G$35,MATCH(M7,$G$36,0),2),0))),((IFERROR(OFFSET($G$50,MATCH(M7,$G$51,0),2),0))),((IFERROR(OFFSET($G$65,MATCH(M7,$G$66,0),2),0))),((IFERROR(OFFSET($G$80,MATCH(M7,$G$81,0),2),0))),((IFERROR(OFFSET($G$96,MATCH(M7,$G$97,0),2),0))),((IFERROR(OFFSET($G$111,MATCH(M7,$G$112,0),2),0))),((IFERROR(OFFSET($G$126,MATCH(M7,$G$127,0),2),0))),((IFERROR(OFFSET($G$141,MATCH(M7,$G$142,0),2),0))),((IFERROR(OFFSET($G$156,MATCH(M7,$G$157,0),2),0))))","v":0},null,null,null,"tons/yr"]
[null,null,null,null,null,null,null,null,null,null,null,null,"Fuel Oil Fired Heater",{"$f":"MAX((IFERROR(OFFSET($G$23,MATCH(\"Fuel Oil Fired Heater\",$G$24,0),1),0)),((IFERROR(OFFSET($G$37,MATCH(\"Fuel Oil Fired Heater\",$G$38,0),1),0))),((IFERROR(OFFSET($G$52,MATCH(\"Fuel Oil Fired Heater\",$G$53,0),1),0))),((IFERROR(OFFSET($G$67,MATCH(\"Fuel Oil Fired Heater\",$G$68,0),1),0))),((IFERROR(OFFSET($G$82,MATCH(\"Fuel Oil Fired Heater\",$G$83,0),1),0))),((IFERROR(OFFSET($G$98,MATCH(\"Fuel Oil Fired Heater\",$G$99,0),1),0))),((IFERROR(OFFSET($G$113,MATCH(\"Fuel Oil Fired Heater\",$G$114,0),1),0))),((IFERROR(OFFSET($G$128,MATCH(\"Fuel Oil Fired Heater\",$G$129,0),1),0))),((IFERROR(OFFSET($G$143,MATCH(\"Fuel Oil Fired Heater\",$G$144,0),1),0))),((IFERROR(OFFSET($G$158,MATCH(\"Fuel Oil Fired Heater\",$G$159,0),1),0))))","v":0},"gallons/hr",{"$f":"SUM((IFERROR(OFFSET($G$23,MATCH(\"Fuel Oil Fired Heater\",$G$24,0),2),0)),((IFERROR(OFFSET($G$37,MATCH(\"Fuel Oil Fired Heater\",$G$38,0),2),0))),((IFERROR(OFFSET($G$52,MATCH(\"Fuel Oil Fired Heater\",$G$53,0),2),0))),((IFERROR(OFFSET($G$67,MATCH(\"Fuel Oil Fired Heater\",$G$68,0),2),0))),((IFERROR(OFFSET($G$82,MATCH(\"Fuel Oil Fired Heater\",$G$83,0),2),0))),((IFERROR(OFFSET($G$98,MATCH(\"Fuel Oil Fired Heater\",$G$99,0),2),0))),((IFERROR(OFFSET($G$113,MATCH(\"Fuel Oil Fired Heater\",$G$114,0),2),0))),((IFERROR(OFFSET($G$128,MATCH(\"Fuel Oil Fired Heater\",$G$129,0),2),0))),((IFERROR(OFFSET($G$143,MATCH(\"Fuel Oil Fired Heater\",$G$144,0),2),0))),((IFERROR(OFFSET($G$158,MATCH(\"Fuel Oil Fired Heater\",$G$159,0),2),0))))","v":0},null,null,null,"gallons/yr"]
[null,"Plant Specific Operating Limits:",null,null,"Plant Specific Emission Limits:",null,null,null,null,null,null,null,"Waste Oil Fired Heater",{"$f":"MAX((IFERROR(OFFSET($G$23,MATCH(\"waste oil Fired Heater\",$G$24,0),1),0)),((IFERROR(OFFSET($G$37,MATCH(\"waste oil Fired Heater\",$G$38,0),1),0))),((IFERROR(OFFSET($G$52,MATCH(\"waste oil Fired Heater\",$G$53,0),1),0))),((IFERROR(OFFSET($G$67,MATCH(\"waste oil Fired Heater\",$G$68,0),1),0))),((IFERROR(OFFSET($G$82,MATCH(\"waste oil Fired Heater\",$G$83,0),1),0))),((IFERROR(OFFSET($G$98,MATCH(\"waste oil Fired Heater\",$G$99,0),1),0))),((IFERROR(OFFSET($G$113,MATCH(\"waste oil Fired Heater\",$G$114,0),1),0))),((IFERROR(OFFSET($G$128,MATCH(\"waste oil Fired Heater\",$G$129,0),1),0))),((IFERROR(OFFSET($G$143,MATCH(\"waste oil Fired Heater\",$G$144,0),1),0))),((IFERROR(OFFSET($G$158,MATCH(\"waste oil Fired Heater\",$G$159,0),1),0))))","v":0},"gallons/hr",{"$f":"SUM((IFERROR(OFFSET($G$23,MATCH(\"waste oil Fired Heater\",$G$24,0),2),0)),((IFERROR(OFFSET($G$37,MATCH(\"waste oil Fired Heater\",$G$38,0),2),0))),((IFERROR(OFFSET($G$52,MATCH(\"waste oil Fired Heater\",$G$53,0),2),0))),((IFERROR(OFFSET($G$67,MATCH(\"waste oil Fired Heater\",$G$68,0),2),0))),((IFERROR(OFFSET($G$82,MATCH(\"waste oil Fired Heater\",$G$83,0),2),0))),((IFERROR(OFFSET($G$98,MATCH(\"waste oil Fired Heater\",$G$99,0),2),0))),((IFERROR(OFFSET($G$113,MATCH(\"waste oil Fired Heater\",$G$114,0),2),0))),((IFERROR(OFFSET($G$128,MATCH(\"waste oil Fired Heater\",$G$129,0),2),0))),((IFERROR(OFFSET($G$143,MATCH(\"waste oil Fired Heater\",$G$144,0),2),0))),((IFERROR(OFFSET($G$158,MATCH(\"waste oil Fired Heater\",$G$159,0),2),0))))","v":0},null,null,null,"gallons/yr"]
[null,"Throughput Limit (tons/yr):",null,null,"Pollutant","lb/hr","tons/yr",null,null,null,null,null,"Natural Gas Fired Heater",{"$f":"MAX((IFERROR(OFFSET($G$23,MATCH(\"Natural Gas Fired Heater\",$G$24,0),1),0)),((IFERROR(OFFSET($G$37,MATCH(\"Natural Gas Fired Heater\",$G$38,0),1),0))),((IFERROR(OFFSET($G$52,MATCH(\"Natural Gas Fired Heater\",$G$53,0),1),0))),((IFERROR(OFFSET($G$67,MATCH(\"Natural Gas Fired Heater\",$G$68,0),1),0))),((IFERROR(OFFSET($G$82,MATCH(\"Natural Gas Fired Heater\",$G$83,0),1),0))),((IFERROR(OFFSET($G$98,MATCH(\"Natural Gas Fired Heater\",$G$99,0),1),0))),((IFERROR(OFFSET($G$113,MATCH(\"Natural Gas Fired Heater\",$G$114,0),1),0))),((IFERROR(OFFSET($G$128,MATCH(\"Natural Gas Fired Heater\",$G$129,0),1),0))),((IFERROR(OFFSET($G$143,MATCH(\"Natural Gas Fired Heater\",$G$144,0),1),0))),((IFERROR(OFFSET($G$158,MATCH(\"Natural Gas Fired Heater\",$G$159,0),1),0))))","v":0},"MMCF/hr",{"$f":"SUM((IFERROR(OFFSET($G$23,MATCH(\"Natural Gas Fired Heater\",$G$24,0),2),0)),((IFERROR(OFFSET($G$37,MATCH(\"Natural Gas Fired Heater\",$G$38,0),2),0))),((IFERROR(OFFSET($G$52,MATCH(\"Natural Gas Fired Heater\",$G$53,0),2),0))),((IFERROR(OFFSET($G$67,MATCH(\"Natural Gas Fired Heater\",$G$68,0),2),0))),((IFERROR(OFFSET($G$82,MATCH(\"Natural Gas Fired Heater\",$G$83,0),2),0))),((IFERROR(OFFSET($G$98,MATCH(\"Natural Gas Fired Heater\",$G$99,0),2),0))),((IFERROR(OFFSET($G$113,MATCH(\"Natural Gas Fired Heater\",$G$114,0),2),0))),((IFERROR(OFFSET($G$128,MATCH(\"Natural Gas Fired Heater\",$G$129,0),2),0))),((IFERROR(OFFSET($G$143,MATCH(\"Natural Gas Fired Heater\",$G$144,0),2),0))),((IFERROR(OFFSET($G$158,MATCH(\"Natural Gas Fired Heater\",$G$159,0),2),0))))","v":0},null,null,null,"MMCF/yr"]
[null,"Daily Throughput Limit (tons/day):",null,null,"PM2.5",null,null,null,null,null,null,null,"Silo Filling",{"$f":"MAX((IFERROR(OFFSET($G$25,MATCH(\"Silo Filling\",$G$26,0),1),0)),((IFERROR(OFFSET($G$39,MATCH(\"Silo Filling\",$G$40,0),1),0))),((IFERROR(OFFSET($G$54,MATCH(\"Silo Filling\",$G$55,0),1),0))),((IFERROR(OFFSET($G$69,MATCH(\"Silo Filling\",$G$70,0),1),0))),((IFERROR(OFFSET($G$84,MATCH(\"Silo Filling\",$G$85,0),1),0))),((IFERROR(OFFSET($G$100,MATCH(\"Silo Filling\",$G$101,0),1),0))),((IFERROR(OFFSET($G$115,MATCH(\"Silo Filling\",$G$116,0),1),0))),((IFERROR(OFFSET($G$130,MATCH(\"Silo Filling\",$G$131,0),1),0))),((IFERROR(OFFSET($G$145,MATCH(\"Silo Filling\",$G$146,0),1),0))),((IFERROR(OFFSET($G$160,MATCH(\"Silo Filling\",$G$161,0),1),0))))","v":0},"tons/hr",{"$f":"SUM((IFERROR(OFFSET($G$25,MATCH(\"Silo Filling\",$G$26,0),2),0)),((IFERROR(OFFSET($G$39,MATCH(\"Silo Filling\",$G$40,0),2),0))),((IFERROR(OFFSET($G$54,MATCH(\"Silo Filling\",$G$55,0),2),0))),((IFERROR(OFFSET($G$69,MATCH(\"Silo Filling\",$G$70,0),2),0))),((IFERROR(OFFSET($G$84,MATCH(\"Silo Filling\",$G$85,0),2),0))),((IFERROR(OFFSET($G$100,MATCH(\"Silo Filling\",$G$101,0),2),0))),((IFERROR(OFFSET($G$115,MATCH(\"Silo Filling\",$G$116,0),2),0))),((IFERROR(OFFSET($G$130,MATCH(\"Silo Filling\",$G$131,0),2),0))),((IFERROR(OFFSET($G$145,MATCH(\"Silo Filling\",$G$146,0),2),0))),((IFERROR(OFFSET($G$160,MATCH(\"Silo Filling\",$G$161,0),2),0))))","v":0},null,null,null,"tons/yr"]
[null,"Hours of Operation Limit (hours/day):",null,null,"PM10",null,null,null,null,null,null,null,"Truck Loadout",{"$f":"MAX((IFERROR(OFFSET(G26,MATCH(\"Truck Loadout\",G27,0),1),0)),((IFERROR(OFFSET(G40,MATCH(\"Truck Loadout\",G41,0),1),0))),((IFERROR(OFFSET(G55,MATCH(\"Truck Loadout\",G56,0),1),0))),((IFERROR(OFFSET(G70,MATCH(\"Truck Loadout\",G71,0),1),0))),((IFERROR(OFFSET(G85,MATCH(\"Truck Loadout\",G86,0),1),0))),((IFERROR(OFFSET(G101,MATCH(\"Truck Loadout\",G102,0),1),0))),((IFERROR(OFFSET(G116,MATCH(\"Truck Loadout\",G117,0),1),0))),((IFERROR(OFFSET(G131,MATCH(\"Truck Loadout\",G132,0),1),0))),((IFERROR(OFFSET(G146,MATCH(\"Truck Loadout\",G147,0),1),0))),((IFERROR(OFFSET(G161,MATCH(\"Truck Loadout\",G162,0),1),0))))","v":0},"tons/hr",{"$f":"SUM((IFERROR(OFFSET(G26,MATCH(\"Truck Loadout\",G27,0),2),0)),((IFERROR(OFFSET(G40,MATCH(\"Truck Loadout\",G41,0),2),0))),((IFERROR(OFFSET(G55,MATCH(\"Truck Loadout\",G56,0),2),0))),((IFERROR(OFFSET(G70,MATCH(\"Truck Loadout\",G71,0),2),0))),((IFERROR(OFFSET(G85,MATCH(\"Truck Loadout\",G86,0),2),0))),((IFERROR(OFFSET(G101,MATCH(\"Truck Loadout\",G102,0),2),0))),((IFERROR(OFFSET(G116,MATCH(\"Truck Loadout\",G117,0),2),0))),((IFERROR(OFFSET(G131,MATCH(\"Truck Loadout\",G132,0),2),0))),((IFERROR(OFFSET(G146,MATCH(\"Truck Loadout\",G147,0),2),0))),((IFERROR(OFFSET(G161,MATCH(\"Truck Loadout\",G162,0),2),0))))","v":0},null,null,null,"tons/yr"]
["Fuel Oil","Note: if the plant has an hrs/day and a tons/hr permit limit, those values",null,null,"SO2",null,null,null,null,null,null,null,"Cold Aggregate Bins",{"$f":"MAX((IFERROR(OFFSET(G27,MATCH(\"Cold Aggregate Bins\",G28,0),1),0)),((IFERROR(OFFSET(G41,MATCH(\"Cold Aggregate Bins\",G42,0),1),0))),((IFERROR(OFFSET(G56,MATCH(\"Cold Aggregate Bins\",G57,0),1),0))),((IFERROR(OFFSET(G71,MATCH(\"Cold Aggregate Bins\",G72,0),1),0))),((IFERROR(OFFSET(G86,MATCH(\"Cold Aggregate Bins\",G87,0),1),0))),((IFERROR(OFFSET(G102,MATCH(\"Cold Aggregate Bins\",G103,0),1),0))),((IFERROR(OFFSET(G117,MATCH(\"Cold Aggregate Bins\",G118,0),1),0))),((IFERROR(OFFSET(G132,MATCH(\"Cold Aggregate Bins\",G133,0),1),0))),((IFERROR(OFFSET(G147,MATCH(\"Cold Aggregate Bins\",G148,0),1),0))),((IFERROR(OFFSET(G162,MATCH(\"Cold Aggregate Bins\",G163,0),1),0))))","v":0},"tons/hr",{"$f":"SUM((IFERROR(OFFSET(G27,MATCH(\"Cold Aggregate Bins\",G28,0),2),0)),((IFERROR(OFFSET(G41,MATCH(\"Cold Aggregate Bins\",G42,0),2),0))),((IFERROR(OFFSET(G56,MATCH(\"Cold Aggregate Bins\",G57,0),2),0))),((IFERROR(OFFSET(G71,MATCH(\"Cold Aggregate Bins\",G72,0),2),0))),((IFERROR(OFFSET(G86,MATCH(\"Cold Aggregate Bins\",G87,0),2),0))),((IFERROR(OFFSET(G102,MATCH(\"Cold Aggregate Bins\",G103,0),2),0))),((IFERROR(OFFSET(G117,MATCH(\"Cold Aggregate Bins\",G118,0),2),0))),((IFERROR(OFFSET(G132,MATCH(\"Cold Aggregate Bins\",G133,0),2),0))),((IFERROR(OFFSET(G147,MATCH(\"Cold Aggregate Bins\",G148,0),2),0))),((IFERROR(OFFSET(G162,MATCH(\"Cold Aggregate Bins\",G163,0),2),0))))","v":0},null,null,null,"tons/yr"]
["Natural Gas","should be multiplied together to calculate a tons/day limit and that value ",null,null,"NOx",null,null,null,null,null,null,null,null,"Maximum (acres)","Actual (acres-day/yr)"]
["Waste Oil","should be placed in cell C11.",null,null,"VOC",null,null,null,null,null,null,null,"Storage Pile",{"$f":"SUM(G32,G46,G61,G76,G91,G107,G122,G137,G152,G167,)","v":0},{"$f":"SUM(H32*I32,H46*I46,H61*I61,H76*I76,H91*I91,H107*I107,H122*I122,H137*I137,H152*I152,H167*I167)","v":0}]
[null,null,null,null,"CO"]
["Batch Mix Plant"]
["Drum Mix Plant",null,null,null,null,null,null,null,null,null,null,null,"Actual Emissions for the Listed Processes at this Plant"]
[null,"Asphalt Plant","Site 1",null,"Emission Point #","Emission     Unit #","Processes","Maximum Hourly     Design Rate",{"$f":"('Facility Information'!G5&\" Annual Throughput\")","v":" Annual Throughput"},null,null,null,"PM2.5","Maximum Design Rate (tons/hr)","Emission Factor","Units","Potential Uncontrolled Emissions (lb/hr)","Potential Controlled Emissions (lb/hr)","Potential Annual Emissions (tons/yr)","Actual Annual Emissions (tons/yr)"]
["YES",null,null,null,null,null,null,null,null,null,null,null,{"$f":"$C$5 & \" - Fuel Oil\"","v":" - Fuel Oil"},{"$f":"N5","v":0},{"$f":"IF(N20=0,0,IF(MAX((IFERROR(OFFSET($G$21,MATCH(M20,$G$22,0),3),0)),((IFERROR(OFFSET($G$35,MATCH(M20,$G$36,0),3),0))),((IFERROR(OFFSET($G$50,MATCH(M20,$G$51,0),3),0))),((IFERROR(OFFSET($G$65,MATCH(M20,$G$66,0),3),0))),((IFERROR(OFFSET($G$80,MATCH(M20,$G$81,0),3),0))),((IFERROR(OFFSET($G$96,MATCH(M20,$G$97,0),3),0))),((IFERROR(OFFSET($G$111,MATCH(M20,$G$112,0),3),0))),((IFERROR(OFFSET($G$126,MATCH(M20,$G$127,0),3),0))),((IFERROR(OFFSET($G$141,MATCH(M20,$G$142,0),3),0))),((IFERROR(OFFSET($G$156,MATCH(M20,$G$157,0),3),0))))=0,0,(MAX((IFERROR(OFFSET($G$21,MATCH(M20,$G$22,0),3),0)),((IFERROR(OFFSET($G$35,MATCH(M20,$G$36,0),3),0))),((IFERROR(OFFSET($G$50,MATCH(M20,$G$51,0),3),0))),((IFERROR(OFFSET($G$65,MATCH(M20,$G$66,0),3),0))),((IFERROR(OFFSET($G$80,MATCH(M20,$G$81,0),3),0))),((IFERROR(OFFSET($G$96,MATCH(M20,$G$97,0),3),0))),((IFERROR(OFFSET($G$111,MATCH(M20,$G$112,0),3),0))),((IFERROR(OFFSET($G$126,MATCH(M20,$G$127,0),3),0))),((IFERROR(OFFSET($G$141,MATCH(M20,$G$142,0),3),0))),((IFERROR(OFFSET($G$156,MATCH(M20,$G$157,0),3),0)))))))","v":0},{"$f":"IF(O20=\"\",\"\",\"lb/ton\")","v":"lb/ton"},{"$f":"IF(O20=0.27,N20*O20,IF(O20=1.54,N20*O20,\"\"))","v":""},{"$f":"IF(N20=0,\"\",IF(AND($F$11>0,$O$20>=$O$21,$O$20>=$O$22),$F$11,IF(O20=0.0083,N20*O20,IF(O20=0.007,N20*O20,\"\"))))","v":""},{"$f":"IF(N20=0,0,IF($G$11>0,$G$11,IF(AND(OR($C$10>0,$C$11>0,$C$12>0),$O$20>=$O$21,$O$20>=$O$22),(IF($C$10>0,$C$10*O20/2000,IF($C$11>0,$C$11*365*O20/2000,IF($C$12>0,$C$12*365*O20*N20/2000)))),IF(AND($F$11>0,$O$20>=$O$21,$O$20>=$O$22),$F$11*8760/2000,IF(AND(OR($C$10=\"\",$C$10=0),OR($C$11=\"\",$C$11=0),OR($C$12=\"\",$C$12=0),$F$11=\"\"),IF(R20=\"\",Q20*8760/2000,R20*8760/2000),\"\")))))","v":0},{"$f":"IF(N20=\"\",\"\",SUM((IFERROR(MATCH(M20,$G$22,0)*$I$22*$J$22/2000,0)),(IFERROR(MATCH(M20,$G$36,0)*$I$36*$J$36/2000,0)),(IFERROR(MATCH(M20,$G$51,0)*$I$51*$J$51/2000,0)),(IFERROR(MATCH(M20,$G$66,0)*$I$66*$J$66/2000,0)),(IFERROR(MATCH(M20,$G$81,0)*$I$81*$J$81/2000,0)),(IFERROR(MATCH(M20,$G$97,0)*$I$97*$J$97/2000,0)),(IFERROR(MATCH(M20,$G$112,0)*$I$112*$J$112/2000,0)),(IFERROR(MATCH(M20,$G$127,0)*$I$127*$J$127/2000,0)),(IFERROR(MATCH(M20,$G$142,0)*$I$142*$J$142/2000,0)),(IFERROR(MATCH(M20,$G$157,0)*$I$157*$J$157/2000,0))))","v":0}]
["NO","Site Name:",null,null,"Dryer, Hot Screens, Mixer",null,null,"(tons/hr)","(tons/yr)","PM2.5","PM10",null,{"$f":"$C$5 & \" - Waste Oil\"","v":" - Waste Oil"},{"$f":"N6","v":0},{"$f":"IF(N21=0,0,IF(MAX((IFERROR(OFFSET($G$21,MATCH(M21,$G$22,0),3),0)),((IFERROR(OFFSET($G$35,MATCH(M21,$G$36,0),3),0))),((IFERROR(OFFSET($G$50,MATCH(M21,$G$51,0),3),0))),((IFERROR(OFFSET($G$65,MATCH(M21,$G$66,0),3),0))),((IFERROR(OFFSET($G$80,MATCH(M21,$G$81,0),3),0))),((IFERROR(OFFSET($G$96,MATCH(M21,$G$97,0),3),0))),((IFERROR(OFFSET($G$111,MATCH(M21,$G$112,0),3),0))),((IFERROR(OFFSET($G$126,MATCH(M21,$G$127,0),3),0))),((IFERROR(OFFSET($G$141,MATCH(M21,$G$142,0),3),0))),((IFERROR(OFFSET($G$156,MATCH(M21,$G$157,0),3),0))))=0,0,(MAX((IFERROR(OFFSET($G$21,MATCH(M21,$G$22,0),3),0)),((IFERROR(OFFSET($G$35,MATCH(M21,$G$36,0),3),0))),((IFERROR(OFFSET($G$50,MATCH(M21,$G$51,0),3),0))),((IFERROR(OFFSET($G$65,MATCH(M21,$G$66,0),3),0))),((IFERROR(OFFSET($G$80,MATCH(M21,$G$81,0),3),0))),((IFERROR(OFFSET($G$96,MATCH(M21,$G$97,0),3),0))),((IFERROR(OFFSET($G$111,MATCH(M21,$G$112,0),3),0))),((IFERROR(OFFSET($G$126,MATCH(M21,$G$127,0),3),0))),((IFERROR(OFFSET($G$141,MATCH(M21,$G$142,0),3),0))),((IFERROR(OFFSET($G$156,MATCH(M21,$G$157,0),3),0)))))))","v":0},"lb/ton",{"$f":"IF(O21=0.27,N21*O21,IF(O21=1.54,N21*O21,\"\"))","v":""},{"$f":"IF(N21=0,\"\",IF(AND($F$11>0,$O$21>$O$20,$O$21>=$O$22),$F$11,IF(O21=0.0083,N21*O21,IF(O21=0.007,N21*O21,\"\"))))","v":""},{"$f":"IF(N21=0,0,IF($G$11>0,IF(S20=0,G11,\"\"),IF(AND(OR($C$10>0,$C$11>0,$C$12>0),$O$21>$O$20,$O$21>=$O$22),(IF($C$10>0,$C$10*O21/2000,IF($C$11>0,$C$11*365*O21/2000,IF($C$12>0,$C$12*365*O21*N21/2000)))),IF(AND($F$11>0,$O$21>$O$20,$O$21>=$O$22),$F$11*8760/2000,IF(AND(OR($C$10=\"\",$C$10=0),OR($C$11=\"\",$C$11=0),OR($C$12=\"\",$C$12=0),$F$11=\"\"),IF(R21=\"\",Q21*8760/2000,R21*8760/2000),\"\")))))","v":0},{"$f":"IF(N21=\"\",\"\",SUM((IFERROR(MATCH(M21,$G$22,0)*$I$22*$J$22/2000,0)),(IFERROR(MATCH(M21,$G$36,0)*$I$36*$J$36/2000,0)),(IFERROR(MATCH(M21,$G$51,0)*$I$51*$J$51/2000,0)),(IFERROR(MATCH(M21,$G$66,0)*$I$66*$J$66/2000,0)),(IFERROR(MATCH(M21,$G$81,0)*$I$81*$J$81/2000,0)),(IFERROR(MATCH(M21,$G$97,0)*$I$97*$J$97/2000,0)),(IFERROR(MATCH(M21,$G$112,0)*$I$112*$J$112/2000,0)),(IFERROR(MATCH(M21,$G$127,0)*$I$127*$J$127/2000,0)),(IFERROR(MATCH(M21,$G$142,0)*$I$142*$J$142/2000,0)),(IFERROR(MATCH(M21,$G$157,0)*$I$157*$J$157/2000,0))))","v":0}]
[null,"County:",null,null,{"$f":"IF($C$4>0,\"AP-9 EP-1\",\"\")","v":""},{"$f":"IF($C$4>0,\"AP-9 EU-1\",\"\")","v":""},{"$f":"IF(C24=\"\",\"\",C5 & \" - \"&C24)","v":""},null,null,{"$f":"IF(C25=\"\",\"\",IF(C25=\"yes\",LOOKUP(G22,'Emission Factors'!$A$12:$A$17,'Emission Factors'!$D$12:$D$17),LOOKUP(G22,'Emission Factors'!$A$5:$A$10,'Emission Factors'!$D$5:$D$10)))","v":""},{"$f":"IF(C25=\"\",\"\",IF(C25=\"yes\",LOOKUP(G22,'Emission Factors'!$A$12:$A$17,'Emission Factors'!$F$12:$F$17),LOOKUP(G22,'Emission Factors'!$A$5:$A$10,'Emission Factors'!$F$5:$F$10)))","v":""},null,{"$f":"$C$5 & \" - Natural Gas\"","v":" - Natural Gas"},{"$f":"N7","v":0},{"$f":"IF(N22=0,0,IF(MAX((IFERROR(OFFSET($G$21,MATCH(M22,$G$22,0),3),0)),((IFERROR(OFFSET($G$35,MATCH(M22,$G$36,0),3),0))),((IFERROR(OFFSET($G$50,MATCH(M22,$G$51,0),3),0))),((IFERROR(OFFSET($G$65,MATCH(M22,$G$66,0),3),0))),((IFERROR(OFFSET($G$80,MATCH(M22,$G$81,0),3),0))),((IFERROR(OFFSET($G$96,MATCH(M22,$G$97,0),3),0))),((IFERROR(OFFSET($G$111,MATCH(M22,$G$112,0),3),0))),((IFERROR(OFFSET($G$126,MATCH(M22,$G$127,0),3),0))),((IFERROR(OFFSET($G$141,MATCH(M22,$G$142,0),3),0))),((IFERROR(OFFSET($G$156,MATCH(M22,$G$157,0),3),0))))=0,0,(MAX((IFERROR(OFFSET($G$21,MATCH(M22,$G$22,0),3),0)),((IFERROR(OFFSET($G$35,MATCH(M22,$G$36,0),3),0))),((IFERROR(OFFSET($G$50,MATCH(M22,$G$51,0),3),0))),((IFERROR(OFFSET($G$65,MATCH(M22,$G$66,0),3),0))),((IFERROR(OFFSET($G$80,MATCH(M22,$G$81,0),3),0))),((IFERROR(OFFSET($G$96,MATCH(M22,$G$97,0),3),0))),((IFERROR(OFFSET($G$111,MATCH(M22,$G$112,0),3),0))),((IFERROR(OFFSET($G$126,MATCH(M22,$G$127,0),3),0))),((IFERROR(OFFSET($G$141,MATCH(M22,$G$142,0),3),0))),((IFERROR(OFFSET($G$156,MATCH(M22,$G$157,0),3),0)))))))","v":0},"lb/ton",{"$f":"IF(O22=0.27,N22*O22,IF(O22=1.54,N22*O22,\"\"))","v":""},{"$f":"IF(N22=0,\"\",IF(AND($F$11>0,$O$22>$O$20,$O$22>$O$20),$F$11,IF(O22=0.0083,N22*O22,IF(O22=0.007,N22*O22,\"\"))))","v":""},{"$f":"IF(N22=0,0,IF($G$11>0,IF(AND(S20=0,S21=0),\"\"),IF(AND(OR($C$10>0,$C$11>0,$C$12>0),$O$22>$O$20,$O$22>$O$20),(IF($C$10>0,$C$10*O22/2000,IF($C$11>0,$C$11*365*O22/2000,IF($C$12>0,$C$12*365*O22*N22/2000)))),IF(AND($F$11>0,$O$22>$O$20,$O$22>$O$20),$F$11*8760/2000,IF(AND(OR($C$10=\"\",$C$10=0),OR($C$11=\"\",$C$11=0),OR($C$12=\"\",$C$12=0),$F$11=\"\"),IF(R22=\"\",Q22*8760/2000,R22*8760/2000),\"\")))))","v":0},{"$f":"IF(N22=\"\",\"\",SUM((IFERROR(MATCH(M22,$G$22,0)*$I$22*$J$22/2000,0)),(IFERROR(MATCH(M22,$G$36,0)*$I$36*$J$36/2000,0)),(IFERROR(MATCH(M22,$G$51,0)*$I$51*$J$51/2000,0)),(IFERROR(MATCH(M22,$G$66,0)*$I$66*$J$66/2000,0)),(IFERROR(MATCH(M22,$G$81,0)*$I$81*$J$81/2000,0)),(IFERROR(MATCH(M22,$G$97,0)*$I$97*$J$97/2000,0)),(IFERROR(MATCH(M22,$G$112,0)*$I$112*$J$112/2000,0)),(IFERROR(MATCH(M22,$G$127,0)*$I$127*$J$127/2000,0)),(IFERROR(MATCH(M22,$G$142,0)*$I$142*$J$142/2000,0)),(IFERROR(MATCH(M22,$G$157,0)*$I$157*$J$157/2000,0))))","v":0}]
[null,"Production Period (Dates):",null,null,"Liquid Asphalt Heater",null,null,{"$f":"IF(C24=\"natural gas\", \"(MMCF/hr)\",\"(gallons/hr)\")","v":"(gallons/hr)"},{"$f":"IF(C24=\"natural gas\", \"(MMCF/yr)\",\"(gallons/yr)\")","v":"(gallons/yr)"},null,null,null,"Silo Filling",{"$f":"N11","v":0},{"$f":"IF(N23=0,0,IF(N23=0,0,LOOKUP(M23,'Emission Factors'!$A$23:$A$25,'Emission Factors'!$D$23:$D$25)))","v":0},"lb/ton",{"$f":"N23*O23","v":0},null,{"$f":"IF($G$11>0,\"\",IF($C$10>0,$C$10*O23/2000,IF($C$11>0,$C$11*365*O23/2000,IF($C$12>0,$C$12*365*O23*N23/2000,IF($F$11>0,\"\",IF(R23=\"\",Q23*8760/2000,R23*8760/2000))))))","v":0},{"$f":"(P11*O23/2000)","v":0}]
[null,"Type of Fuel Used:",null,null,{"$f":"IF($C$4>0,\"AP-9 EP-2\",\"\")","v":""},{"$f":"IF($C$4>0,\"AP-9 EU-2\",\"\")","v":""},{"$f":"IF(C24=\"\",\"\",C24& \" Fired Heater\")","v":""},null,null,null,null,null,"Truck Loadout",{"$f":"N12","v":0},{"$f":"IF(N24=0,0,IF(N24=0,0,LOOKUP(M24,'Emission Factors'!$A$23:$A$25,'Emission Factors'!$D$23:$D$25)))","v":0},"lb/ton",{"$f":"N24*O24","v":0},null,{"$f":"IF($G$11>0,\"\",IF($C$10>0,$C$10*O24/2000,IF($C$11>0,$C$11*365*O24/2000,IF($C$12>0,$C$12*365*O24*N24/2000,IF($F$11>0,\"\",IF(R24=\"\",Q24*8760/2000,R24*8760/2000))))))","v":0},{"$f":"(P12*O24/2000)","v":0}]
[null,"Is Your Operation Controlled?:",null,null,"Silo Filling, Truck Loadout, Aggregate Transfer",null,null,"(tons/hr)","(tons/yr)",null,null,null,"Cold Aggregate Bins",{"$f":"N13","v":0},{"$f":"IF(N25=0,0,IF(N25=0,0,LOOKUP(M25,'Emission Factors'!A23:A25,'Emission Factors'!D23:D25)))","v":0},"lb/ton",{"$f":"N25*O25","v":0},null,{"$f":"IF($G$11>0,\"\",IF($C$10>0,$C$10*O25/2000,IF($C$11>0,$C$11*365*O25/2000,IF($C$12>0,$C$12*365*O25*N25/2000,IF($F$11>0,\"\",IF(R25=\"\",Q25*8760/2000,R25*8760/2000))))))","v":0},{"$f":"(P13*O25/2000)","v":0}]
[null,null,null,null,{"$f":"IF($C$4>0,\"AP-9 EP-3\",\"\")","v":""},{"$f":"IF($C$4>0,\"AP-9 EU-3\",\"\")","v":""},{"$f":"IF(C5=\"\",\"\",\"Silo Filling\")","v":""},null,null,null,null,null,"PM10"]
[null,null,null,null,{"$f":"IF($C$4>0,\"AP-9 EP-3\",\"\")","v":""},{"$f":"IF($C$4>0,\"AP-9 EU-4\",\"\")","v":""},{"$f":"IF(C5=\"\",\"\",\"Truck Loadout\")","v":""},null,null,null,null,null,{"$f":"$C$5 & \" - Fuel Oil\"","v":" - Fuel Oil"},{"$f":"N5","v":0},{"$f":"IF(N27=0,0,IF(MAX((IFERROR(OFFSET($G$21,MATCH(M27,$G$22,0),4),0)),((IFERROR(OFFSET($G$35,MATCH(M27,$G$36,0),4),0))),((IFERROR(OFFSET($G$50,MATCH(M27,$G$51,0),4),0))),((IFERROR(OFFSET($G$65,MATCH(M27,$G$66,0),4),0))),((IFERROR(OFFSET($G$80,MATCH(M27,$G$81,0),3),0))),((IFERROR(OFFSET($G$96,MATCH(M27,$G$97,0),4),0))),((IFERROR(OFFSET($G$111,MATCH(M27,$G$112,0),4),0))),((IFERROR(OFFSET($G$126,MATCH(M27,$G$127,0),4),0))),((IFERROR(OFFSET($G$141,MATCH(M27,$G$142,0),4),0))),((IFERROR(OFFSET($G$156,MATCH(M27,$G$157,0),4),0))))=0,0,(MAX((IFERROR(OFFSET($G$21,MATCH(M27,$G$22,0),4),0)),((IFERROR(OFFSET($G$35,MATCH(M27,$G$36,0),4),0))),((IFERROR(OFFSET($G$50,MATCH(M27,$G$51,0),4),0))),((IFERROR(OFFSET($G$65,MATCH(M27,$G$66,0),4),0))),((IFERROR(OFFSET($G$80,MATCH(M27,$G$81,0),4),0))),((IFERROR(OFFSET($G$96,MATCH(M27,$G$97,0),4),0))),((IFERROR(OFFSET($G$111,MATCH(M27,$G$112,0),4),0))),((IFERROR(OFFSET($G$126,MATCH(M27,$G$127,0),4),0))),((IFERROR(OFFSET($G$141,MATCH(M27,$G$142,0),4),0))),((IFERROR(OFFSET($G$156,MATCH(M27,$G$157,0),4),0)))))))","v":0},{"$f":"IF(O27=\"\",\"\",\"lb/ton\")","v":"lb/ton"},{"$f":"IF(O27=4.5,N27*O27,IF(O27=6.5,N27*O27,\"\"))","v":""},{"$f":"IF(N27=0,\"\",IF(AND($F$12>0,$O$27>=$O$28,$O$27>=$O$29),$F$12,IF(O27=0.0098,N27*O27,IF(O27=0.023,N27*O27,\"\"))))","v":""},{"$f":"IF(N27=0,0,IF($G$12>0,$G$12,IF(AND(OR($C$10>0,$C$11>0,$C$12>0),$O$27>=$O$28,$O$27>=$O$29),(IF($C$10>0,$C$10*O27/2000,IF($C$11>0,$C$11*365*O27/2000,IF($C$12>0,$C$12*365*O27*N27/2000)))),IF(AND($F$12>0,$O$27>=$O$28,$O$27>=$O$29),$F$12*8760/2000,IF(AND(OR($C$10=\"\",$C$10=0),OR($C$11=\"\",$C$11=0),OR($C$12=\"\",$C$12=0),$F$12=\"\"),IF(R27=\"\",Q27*8760/2000,R27*8760/2000),\"\")))))","v":0},{"$f":"IF(N27=\"\",\"\",SUM((IFERROR(MATCH(M27,$G$22,0)*$I$22*$K$22/2000,0)),(IFERROR(MATCH(M27,$G$36,0)*$I$36*$K$36/2000,0)),(IFERROR(MATCH(M27,$G$51,0)*$I$51*$K$51/2000,0)),(IFERROR(MATCH(M27,$G$66,0)*$I$66*$K$66/2000,0)),(IFERROR(MATCH(M27,$G$81,0)*$I$81*$K$81/2000,0)),(IFERROR(MATCH(M27,$G$97,0)*$I$97*$K$97/2000,0)),(IFERROR(MATCH(M27,$G$112,0)*$I$112*$K$112/2000,0)),(IFERROR(MATCH(M27,$G$127,0)*$I$127*$K$127/2000,0)),(IFERROR(MATCH(M27,$G$142,0)*$I$142*$K$142/2000,0)),(IFERROR(MATCH(M27,$G$157,0)*$I$157*$K$157/2000,0))))","v":0}]
[null,null,null,null,{"$f":"IF($C$4>0,\"AP-9 EP-3\",\"\")","v":""},{"$f":"IF($C$4>0,\"AP-9 EU-5\",\"\")","v":""},{"$f":"IF(C5=\"\",\"\",\"Cold Aggregate Bins\")","v":""},null,null,null,null,null,{"$f":"$C$5 & \" - Waste Oil\"","v":" - Waste Oil"},{"$f":"N6","v":0},{"$f":"IF(N28=0,0,IF(MAX((IFERROR(OFFSET($G$21,MATCH(M28,$G$22,0),4),0)),((IFERROR(OFFSET($G$35,MATCH(M28,$G$36,0),4),0))),((IFERROR(OFFSET($G$50,MATCH(M28,$G$51,0),4),0))),((IFERROR(OFFSET($G$65,MATCH(M28,$G$66,0),4),0))),((IFERROR(OFFSET($G$80,MATCH(M28,$G$81,0),3),0))),((IFERROR(OFFSET($G$96,MATCH(M28,$G$97,0),4),0))),((IFERROR(OFFSET($G$111,MATCH(M28,$G$112,0),4),0))),((IFERROR(OFFSET($G$126,MATCH(M28,$G$127,0),4),0))),((IFERROR(OFFSET($G$141,MATCH(M28,$G$142,0),4),0))),((IFERROR(OFFSET($G$156,MATCH(M28,$G$157,0),4),0))))=0,0,(MAX((IFERROR(OFFSET($G$21,MATCH(M28,$G$22,0),4),0)),((IFERROR(OFFSET($G$35,MATCH(M28,$G$36,0),4),0))),((IFERROR(OFFSET($G$50,MATCH(M28,$G$51,0),4),0))),((IFERROR(OFFSET($G$65,MATCH(M28,$G$66,0),4),0))),((IFERROR(OFFSET($G$80,MATCH(M28,$G$81,0),4),0))),((IFERROR(OFFSET($G$96,MATCH(M28,$G$97,0),4),0))),((IFERROR(OFFSET($G$111,MATCH(M28,$G$112,0),4),0))),((IFERROR(OFFSET($G$126,MATCH(M28,$G$127,0),4),0))),((IFERROR(OFFSET($G$141,MATCH(M28,$G$142,0),4),0))),((IFERROR(OFFSET($G$156,MATCH(M28,$G$157,0),4),0)))))))","v":0},"lb/ton",{"$f":"IF(O28=4.5,N28*O28,IF(O28=6.5,N28*O28,\"\"))","v":""},{"$f":"IF(N28=0,\"\",IF(AND($F$12>0,$O$28>$O$27,$O$28>=$O$29),$F$12,IF(O28=0.0098,N28*O28,IF(O28=0.023,N28*O28,\"\"))))","v":""},{"$f":"IF(N28=0,0,IF($G$12>0,IF(S27=0,$G$12,\"\"),IF(AND(OR($C$10>0,$C$11>0,$C$12>0),$O$28>$O$27,$O$28>=$O$29),(IF($C$10>0,$C$10*O28/2000,IF($C$11>0,$C$11*365*O28/2000,IF($C$12>0,$C$12*365*O28*N28/2000)))),IF(AND($F$12>0,$O$28>$O$27,$O$28>=$O$29),$F$12*8760/2000,IF(AND(OR($C$10=\"\",$C$10=0),OR($C$11=\"\",$C$11=0),OR($C$12=\"\",$C$12=0),$F$12=\"\"),IF(R28=\"\",Q28*8760/2000,R28*8760/2000),\"\")))))","v":0},{"$f":"IF(N28=\"\",\"\",SUM((IFERROR(MATCH(M28,$G$22,0)*$I$22*$K$22/2000,0)),(IFERROR(MATCH(M28,$G$36,0)*$I$36*$K$36/2000,0)),(IFERROR(MATCH(M28,$G$51,0)*$I$51*$K$51/2000,0)),(IFERROR(MATCH(M28,$G$66,0)*$I$66*$K$66/2000,0)),(IFERROR(MATCH(M28,$G$81,0)*$I$81*$K$81/2000,0)),(IFERROR(MATCH(M28,$G$97,0)*$I$97*$K$97/2000,0)),(IFERROR(MATCH(M28,$G$112,0)*$I$112*$K$112/2000,0)),(IFERROR(MATCH(M28,$G$127,0)*$I$127*$K$127/2000,0)),(IFERROR(MATCH(M28,$G$142,0)*$I$142*$K$142/2000,0)),(IFERROR(MATCH(M28,$G$157,0)*$I$157*$K$157/2000,0))))","v":0}]
[null,null,null,null,null,null,null,null,null,null,null,null,{"$f":"$C$5 & \" - Natural Gas\"","v":" - Natural Gas"},{"$f":"N7","v":0},{"$f":"IF(N29=0,0,IF(MAX((IFERROR(OFFSET($G$21,MATCH(M29,$G$22,0),4),0)),((IFERROR(OFFSET($G$35,MATCH(M29,$G$36,0),4),0))),((IFERROR(OFFSET($G$50,MATCH(M29,$G$51,0),4),0))),((IFERROR(OFFSET($G$65,MATCH(M29,$G$66,0),4),0))),((IFERROR(OFFSET($G$80,MATCH(M29,$G$81,0),3),0))),((IFERROR(OFFSET($G$96,MATCH(M29,$G$97,0),4),0))),((IFERROR(OFFSET($G$111,MATCH(M29,$G$112,0),4),0))),((IFERROR(OFFSET($G$126,MATCH(M29,$G$127,0),4),0))),((IFERROR(OFFSET($G$141,MATCH(M29,$G$142,0),4),0))),((IFERROR(OFFSET($G$156,MATCH(M29,$G$157,0),4),0))))=0,0,(MAX((IFERROR(OFFSET($G$21,MATCH(M29,$G$22,0),4),0)),((IFERROR(OFFSET($G$35,MATCH(M29,$G$36,0),4),0))),((IFERROR(OFFSET($G$50,MATCH(M29,$G$51,0),4),0))),((IFERROR(OFFSET($G$65,MATCH(M29,$G$66,0),4),0))),((IFERROR(OFFSET($G$80,MATCH(M29,$G$81,0),4),0))),((IFERROR(OFFSET($G$96,MATCH(M29,$G$97,0),4),0))),((IFERROR(OFFSET($G$111,MATCH(M29,$G$112,0),4),0))),((IFERROR(OFFSET($G$126,MATCH(M29,$G$127,0),4),0))),((IFERROR(OFFSET($G$141,MATCH(M29,$G$142,0),4),0))),((IFERROR(OFFSET($G$156,MATCH(M29,$G$157,0),4),0)))))))","v":0},"lb/ton",{"$f":"IF(O29=4.5,N29*O29,IF(O29=6.5,N29*O29,\"\"))","v":""},{"$f":"IF(N29=0,\"\",IF(AND($F$12>0,$O$29>$O$27,$O$29>$O$28),$F$12,IF(O29=0.0098,N29*O29,IF(O29=0.023,N29*O29,\"\"))))","v":""},{"$f":"IF(N29=0,0,IF($G$12>0,IF(AND(S27=0,S28=0),$G$12,\"\"),IF(AND(OR($C$10>0,$C$11>0,$C$12>0),$O$29>$O$27,$O$29>$O$28),(IF($C$10>0,$C$10*O29/2000,IF($C$11>0,$C$11*365*O29/2000,IF($C$12>0,$C$12*365*O29*N29/2000)))),IF(AND($F$12>0,$O$29>$O$27,$O$29>$O$28),$F$12*8760/2000,IF(AND(OR($C$10=\"\",$C$10=0),OR($C$11=\"\",$C$11=0),OR($C$12=\"\",$C$12=0),$F$12=\"\"),IF(R29=\"\",Q29*8760/2000,R29*8760/2000),\"\")))))","v":0},{"$f":"IF(N29=\"\",\"\",SUM((IFERROR(MATCH(M29,$G$22,0)*$I$22*$K$22/2000,0)),(IFERROR(MATCH(M29,$G$36,0)*$I$36*$K$36/2000,0)),(IFERROR(MATCH(M29,$G$51,0)*$I$51*$K$51/2000,0)),(IFERROR(MATCH(M29,$G$66,0)*$I$66*$K$66/2000,0)),(IFERROR(MATCH(M29,$G$81,0)*$I$81*$K$81/2000,0)),(IFERROR(MATCH(M29,$G$97,0)*$I$97*$K$97/2000,0)),(IFERROR(MATCH(M29,$G$112,0)*$I$112*$K$112/2000,0)),(IFERROR(MATCH(M29,$G$127,0)*$I$127*$K$127/2000,0)),(IFERROR(MATCH(M29,$G$142,0)*$I$142*$K$142/2000,0)),(IFERROR(MATCH(M29,$G$157,0)*$I$157*$K$157/2000,0))))","v":0}]
[null,null,null,null,"Stock Pile Area",null,null,null,null,null,null,null,"Silo Filling",{"$f":"N11","v":0},{"$f":"IF(N30=0,0,IF(N30=0,0,LOOKUP(M30,'Emission Factors'!$A$23:$A$25,'Emission Factors'!$F$23:$F$25)))","v":0},"lb/ton",{"$f":"N30*O30","v":0},null,{"$f":"IF($G$12>0,\"\",IF($C$10>0,$C$10*O30/2000,IF($C$11>0,$C$11*365*O30/2000,IF($C$12>0,$C$12*365*O30*N30/2000,IF($F$11>0,\"\",IF(R30=\"\",Q30*8760/2000,R30*8760/2000))))))","v":0},{"$f":"(P11*O30/2000)","v":0}]
[null,null,null,null,null,"Emission Unit #","Maximum Storage Area (acres)","Actual Storage Area (acres)","Actual Days in Existence (days)",null,null,null,"Truck Loadout",{"$f":"N12","v":0},{"$f":"IF(N31=0,0,IF(N31=0,0,LOOKUP(M31,'Emission Factors'!$A$23:$A$25,'Emission Factors'!$F$23:$F$25)))","v":0},"lb/ton",{"$f":"N31*O31","v":0},null,{"$f":"IF($G$12>0,\"\",IF($C$10>0,$C$10*O31/2000,IF($C$11>0,$C$11*365*O31/2000,IF($C$12>0,$C$12*365*O31*N31/2000,IF($F$11>0,\"\",IF(R31=\"\",Q31*8760/2000,R31*8760/2000))))))","v":0},{"$f":"(P12*O31/2000)","v":0}]
[null,null,null,null,null,null,null,null,null,null,null,null,"Cold Aggregate Bins",{"$f":"N13","v":0},{"$f":"IF(N32=0,0,IF(N32=0,0,LOOKUP(M32,'Emission Factors'!$A$23:$A$25,'Emission Factors'!$F$23:$F$25)))","v":0},"lb/ton",{"$f":"N32*O32","v":0},null,{"$f":"IF($G$12>0,\"\",IF($C$10>0,$C$10*O32/2000,IF($C$11>0,$C$11*365*O32/2000,IF($C$12>0,$C$12*365*O32*N32/2000,IF($F$11>0,\"\",IF(R32=\"\",Q32*8760/2000,R32*8760/2000))))))","v":0},{"$f":"(P13*O32/2000)","v":0}]
[]
[null,{"$f":"IF($C$4>1,\"Asphalt Plant\",\"\")","v":""},{"$f":"IF($C$4>1,\"Site 2\",\"\")","v":""},null,{"$f":"IF($C$4>1,\"Emission Point #\",\"\")","v":""},{"$f":"IF($C$4>1,\"Emission    Unit #\",\"\")","v":""},{"$f":"IF($C$4>1,\"Process\",\"\")","v":""},{"$f":"IF($C$4>1,\"Maximum Hourly     Design Rate\",\"\")","v":""},{"$f":"IF($C$4>1,('Facility Information'!G20&\" Annual Throughput\"),\"\")","v":""},null,null,null,null,"Storage Pile","Max Design Rate (acres)","Emission Factor   (lb/acre-day)","Potential Uncontrolled Emissions (lb/hr)","Potential Controlled Emissions (lb/hr)","Potential Annual Emissions (tons/yr)","Actual Annual Emissions (tons/yr)"]
[null,{"$f":"IF($C$4>1,\"Site Name\",\"\")","v":""},null,null,{"$f":"IF($C$4>1,\"Dryers, Hot Screens, Mixer\",\"\")","v":""},null,null,{"$f":"IF($C$4>1,\"(tons/hr)\",\"\")","v":""},{"$f":"IF($C$4>1,\"(tons/yr)\",\"\")","v":""},"PM2.5","PM10",null,null,"PM2.5/PM10",{"$f":"N15","v":0},3.64,{"$f":"O35*P35*(1/24)","v":0},null,{"$f":"O35*P35*365/2000","v":0},{"$f":"O15*P35/2000","v":0}]
[null,{"$f":"IF($C$4>1,\"County:\",\"\")","v":""},null,null,{"$f":"IF(C38=\"\",\"\",\"AP-9 EP-1\")","v":""},{"$f":"IF(C38=\"\",\"\",\"AP-9 EU-1\")","v":""},{"$f":"IF(C38=\"\",\"\",C5 & \" - \"&C38)","v":""},null,null,{"$f":"IF(C39=\"\",\"\",IF(C39=\"yes\",LOOKUP(G36,'Emission Factors'!$A$12:$A$17,'Emission Factors'!$D$12:$D$17),LOOKUP(G36,'Emission Factors'!$A$5:$A$10,'Emission Factors'!$D$5:$D$10)))","v":""},{"$f":"IF(C39=\"\",\"\",IF(C39=\"yes\",LOOKUP(G36,'Emission Factors'!$A$12:$A$17,'Emission Factors'!$F$12:$F$17),LOOKUP(G36,'Emission Factors'!$A$5:$A$10,'Emission Factors'!$F$5:$F$10)))","v":""}]
[null,{"$f":"IF($C$4>1,\"Production Period (Dates):\",\"\")","v":""},null,null,{"$f":"IF($C$4>1,\"Liquid Asphalt Heater\",\"\")","v":""},null,null,{"$f":"IF($C$4>1,IF(C38=\"natural gas\",\"MMCF/hr\",\"(gallons/hr)\"),\"\")","v":""},{"$f":"IF($C$4>1,IF(C38=\"natural gas\",\"MMCF/yr\",\"(gallons/yr)\"),\"\")","v":""},null,null,null,"SO2"]
[null,{"$f":"IF($C$4>1,\"Type of Fuel Used:\",\"\")","v":""},null,null,{"$f":"IF(C38=\"\",\"\",\"AP-9 EP-2\")","v":""},{"$f":"IF(C38=\"\",\"\",\"AP-9 EU-2\")","v":""},{"$f":"IF(C38=\"\",\"\",C38& \" Fired Heater\")","v":""},null,null,null,null,null,{"$f":"$C$5 & \" - Fuel Oil\"","v":" - Fuel Oil"},{"$f":"$N$5","v":0},{"$f":"IF(N38=0,0,LOOKUP(M38,'Emission Factors'!$A$5:$A$10,'Emission Factors'!$H$5:$H$10))","v":0},{"$f":"IF(O38=\"\",\"\",\"lb/ton\")","v":"lb/ton"},{"$f":"N38*O38","v":0},{"$f":"IF(N38=0,\"\",IF(AND($F$13>0,N39=0),$F$13,\"\"))","v":""},{"$f":"IF(N38=0,0,IF($G$13>0,$G$13,IF(OR(AND($C$10>0,$N$39>0),AND($C$11>0,$N$39>0),AND($C$12>0,$N$39>0)),\"\",IF($C$10>0,$C$10*O38/2000,IF($C$11>0,$C$11*365*O38/2000,IF($C$12>0,$C$12*365*O38*N38/2000,IF(AND(N39>0,F13>0),\"\",IF(R38=\"\",Q38*8760/2000,R38*8760/2000))))))))","v":0},{"$f":"P5*O38/2000","v":0}]
[null,{"$f":"IF($C$4>1,\"Is Your Operation Controlled?:\",\"\")","v":""},null,null,{"$f":"IF($C$4>1,\"Silo Filling, Truck Loadout, Aggregate Transfer\",\"\")","v":""},null,null,{"$f":"IF($C$4>1,\"(tons/hr)\",\"\")","v":""},{"$f":"IF($C$4>1,\"(tons/yr)\",\"\")","v":""},null,null,null,{"$f":"$C$5 & \" - Waste Oil\"","v":" - Waste Oil"},{"$f":"$N$6","v":0},{"$f":"IF(N39=0,0,LOOKUP(M39,'Emission Factors'!$A$5:$A$10,'Emission Factors'!$H$5:$H$10))","v":0},{"$f":"IF(O39=\"\",\"\",\"lb/ton\")","v":"lb/ton"},{"$f":"N39*O39","v":0},{"$f":"IF(N39=0,\"\",IF($F$13>0,$F$13,\"\"))","v":""},{"$f":"IF(N39=0,0,IF($G$13>0,IF(S38=0,G13,\"\"),IF($C$10>0,$C$10*O39/2000,IF($C$11>0,$C$11*365*O39/2000,IF($C$12>0,$C$12*365*O39*N39/2000,IF(R39=\"\",Q39*8760/2000,R39*8760/2000))))))","v":0},{"$f":"P6*O39/2000","v":0}]
[null,null,null,null,{"$f":"IF($C$4>1,\"AP-9 EP-3\",\"\")","v":""},{"$f":"IF($C$4>1,\"AP-9 EU-3\",\"\")","v":""},{"$f":"IF($C$4>1,\"Silo Filling\",\"\")","v":""},null,null,null,null,null,{"$f":"$C$5 & \" - Natural Gas\"","v":" - Natural Gas"},{"$f":"$N$7","v":0},{"$f":"IF(N40=0,0,LOOKUP(M40,'Emission Factors'!$A$5:$A$10,'Emission Factors'!$H$5:$H$10))","v":0},{"$f":"IF(O40=\"\",\"\",\"lb/ton\")","v":"lb/ton"},{"$f":"N40*O40","v":0},{"$f":"IF(N40=0,\"\",IF(AND($F$13>0,N38=0,N39=0),$F$13,\"\"))","v":""},{"$f":"IF(N40=0,0,IF($G$13>0,IF(AND(S38=0,S39=0),G13,\"\"),IF(OR(AND($C$10>0,$N$39>0),AND($C$11>0,$N$39>0),AND($C$12>0,$N$39>0)),\"\",IF(OR(AND($C$10>0,$N$38>0),AND($C$11>0,$N$38>0),AND($C$12>0,$N$38>0)),\"\",IF($C$10>0,$C$10*O40/2000,IF($C$11>0,$C$11*365*O40/2000,IF($C$12>0,$C$12*365*O40*N40/2000,IF(AND(N39>0,N38>0,F13>0),\"\",IF(R40=\"\",Q40*8760/2000,R40*8760/2000)))))))))","v":0},{"$f":"P7*O40/2000","v":0}]
[null,null,null,null,{"$f":"IF($C$4>1,\"AP-9 EP-3\",\"\")","v":""},{"$f":"IF($C$4>1,\"AP-9 EU-4\",\"\")","v":""},{"$f":"IF($C$4>1,\"Truck Loadout\",\"\")","v":""},null,null,null,null,null,"NOx"]
[null,null,null,null,{"$f":"IF($C$4>1,\"AP-9 EP-3\",\"\")","v":""},{"$f":"IF($C$4>1,\"AP-9 EU-5\",\"\")","v":""},{"$f":"IF($C$4>1,\"Cold Aggregate Bins\",\"\")","v":""},null,null,null,null,null,{"$f":"$C$5 & \" - Fuel Oil\"","v":" - Fuel Oil"},{"$f":"$N$5","v":0},{"$f":"IF(N42=0,0,LOOKUP(M42,'Emission Factors'!$A$5:$A$10,'Emission Factors'!$J$5:$J$10))","v":0},{"$f":"IF(O42=\"\",\"\",\"lb/ton\")","v":"lb/ton"},{"$f":"N42*O42","v":0},{"$f":"IF(N42=0,\"\",IF(AND($F$14>0,N43=0),$F$14,\"\"))","v":""},{"$f":"IF(N42=0,0,IF($G$14>0,$G$14,IF(OR(AND($C$10>0,$N$43>0),AND($C$11>0,$N$43>0),AND($C$12>0,$N$43>0)),\"\",IF($C$10>0,$C$10*O42/2000,IF($C$11>0,$C$11*365*O42/2000,IF($C$12>0,$C$12*365*O42*N42/2000,IF(AND(N43>0,F14>0),\"\",IF(R42=\"\",Q42*8760/2000,R42*8760/2000))))))))","v":0},{"$f":"P5*O42/2000","v":0}]
[null,null,null,null,null,null,null,null,null,null,null,null,{"$f":"$C$5 & \" - Waste Oil\"","v":" - Waste Oil"},{"$f":"$N$6","v":0},{"$f":"IF(N43=0,0,LOOKUP(M43,'Emission Factors'!$A$5:$A$10,'Emission Factors'!$J$5:$J$10))","v":0},{"$f":"IF(O43=\"\",\"\",\"lb/ton\")","v":"lb/ton"},{"$f":"N43*O43","v":0},{"$f":"IF(N43=0,\"\",IF($F$14>0,$F$14,\"\"))","v":""},{"$f":"IF(N43=0,0,IF($G$14>0,IF(S42=0,G14,\"\"),IF($C$10>0,$C$10*O43/2000,IF($C$11>0,$C$11*365*O43/2000,IF($C$12>0,$C$12*365*O43*N43/2000,IF(R43=\"\",Q43*8760/2000,R43*8760/2000))))))","v":0},{"$f":"P6*O43/2000","v":0}]
[null,null,null,null,{"$f":"IF($C$4>1,\"Stock Pile Area\",\"\")","v":""},null,null,null,null,null,null,null,{"$f":"$C$5 & \" - Natural Gas\"","v":" - Natural Gas"},{"$f":"$N$7","v":0},{"$f":"IF(N44=0,0,LOOKUP(M44,'Emission Factors'!$A$5:$A$10,'Emission Factors'!$J$5:$J$10))","v":0},{"$f":"IF(O44=\"\",\"\",\"lb/ton\")","v":"lb/ton"},{"$f":"N44*O44","v":0},{"$f":"IF(N44=0,\"\",IF(AND($F$14>0,N42=0,N43=0),$F$14,\"\"))","v":""},{"$f":"IF(N44=0,0,IF($G$14>0,IF(AND(S42=0,S43=0),G14,\"\"),IF(OR(AND($C$10>0,$N$43>0),AND($C$11>0,$N$43>0),AND($C$12>0,$N$43>0)),\"\",IF(OR(AND($C$10>0,$N$42>0),AND($C$11>0,$N$42>0),AND($C$12>0,$N$42>0)),\"\",IF($C$10>0,$C$10*O44/2000,IF($C$11>0,$C$11*365*O44/2000,IF($C$12>0,$C$12*365*O44*N44/2000,IF(AND(N42>0,N43>0,F14>0),\"\",IF(R44=\"\",Q44*8760/2000,R44*8760/2000)))))))))","v":0},{"$f":"P7*O44/2000","v":0}]
[null,null,null,null,null,{"$f":"IF($C$4>1,\"Emission Unit #\",\"\")","v":""},{"$f":"IF($C$4>1,\"Maximum Storage Area (acres)\",\"\")","v":""},{"$f":"IF($C$4>1,\"Actual Storage Area (acres)\",\"\")","v":""},{"$f":"IF($C$4>1,\"Actual Days in Existence (days)\",\"\")","v":""},null,null,null,"VOC"]
[null,null,null,null,null,null,null,null,null,null,null,null,{"$f":"$C$5 & \" - Fuel Oil\"","v":" - Fuel Oil"},{"$f":"$N$5","v":0},{"$f":"IF(N46=0,0,LOOKUP(M46,'Emission Factors'!$A$5:$A$10,'Emission Factors'!$L$5:$L$10))","v":0},{"$f":"IF(O46=\"\",\"\",\"lb/ton\")","v":"lb/ton"},{"$f":"N46*O46","v":0},{"$f":"IF(N46=0,\"\",IF(AND($F$15>0,N47=0),$F$15,\"\"))","v":""},{"$f":"IF(N46=0,0,IF($G$15>0,$G$15,IF(OR(AND($C$10>0,$N$47>0),AND($C$11>0,$N$47>0),AND($C$12>0,$N$47>0)),\"\",IF($C$10>0,$C$10*O46/2000,IF($C$11>0,$C$11*365*O46/2000,IF($C$12>0,$C$12*365*O46*N46/2000,IF(AND(N47>0,F15>0),\"\",IF(R46=\"\",Q46*8760/2000,R46*8760/2000))))))))","v":0},{"$f":"P5*O46/2000","v":0}]
[null,null,null,null,null,null,null,null,null,null,null,null,{"$f":"$C$5 & \" - Waste Oil\"","v":" - Waste Oil"},{"$f":"$N$6","v":0},{"$f":"IF(N47=0,0,LOOKUP(M47,'Emission Factors'!$A$5:$A$10,'Emission Factors'!$L$5:$L$10))","v":0},{"$f":"IF(O47=\"\",\"\",\"lb/ton\")","v":"lb/ton"},{"$f":"N47*O47","v":0},{"$f":"IF(N47=0,\"\",IF($F$15>0,$F$15,\"\"))","v":""},{"$f":"IF(N47=0,0,IF($G$15>0,IF(S46=0,G15,\"\"),IF($C$10>0,$C$10*O47/2000,IF($C$11>0,$C$11*365*O47/2000,IF($C$12>0,$C$12*365*O47*N47/2000,IF(R47=\"\",Q47*8760/2000,R47*8760/2000))))))","v":0},{"$f":"P6*O47/2000","v":0}]
[null,{"$f":"IF($C$4>2,\"Asphalt Plant\",\"\")","v":""},{"$f":"IF($C$4>2,\"Site 3\",\"\")","v":""},null,{"$f":"IF($C$4>2,\"Emission Point #\",\"\")","v":""},{"$f":"IF($C$4>2,\"Emission    Unit #\",\"\")","v":""},{"$f":"IF($C$4>2,\"Process\",\"\")","v":""},{"$f":"IF($C$4>2,\"Maximum Hourly     Design Rate\",\"\")","v":""},{"$f":"IF($C$4>2,('Facility Information'!G35&\" Annual Throughput\"),\"\")","v":""},null,null,null,{"$f":"$C$5 & \" - Natural Gas\"","v":" - Natural Gas"},{"$f":"$N$7","v":0},{"$f":"IF(N48=0,0,LOOKUP(M48,'Emission Factors'!$A$5:$A$10,'Emission Factors'!$L$5:$L$10))","v":0},{"$f":"IF(O48=\"\",\"\",\"lb/ton\")","v":"lb/ton"},{"$f":"N48*O48","v":0},{"$f":"IF(N48=0,\"\",IF(AND($F$15>0,N46=0,N47=0),$F$15,\"\"))","v":""},{"$f":"IF(N48=0,0,IF($G$15>0,IF(AND(S46=0,S47=0),G15,\"\"),IF(OR(AND($C$10>0,$N$47>0),AND($C$11>0,$N$47>0),AND($C$12>0,$N$47>0)),\"\",IF(OR(AND($C$10>0,$N$46>0),AND($C$11>0,$N$46>0),AND($C$12>0,$N$46>0)),\"\",IF($C$10>0,$C$10*O48/2000,IF($C$11>0,$C$11*365*O48/2000,IF($C$12>0,$C$12*365*O48*N48/2000,IF(AND(N46>0,N47>0,F15>0),\"\",IF(R48=\"\",Q48*8760/2000,R48*8760/2000)))))))))","v":0},{"$f":"P7*O48/2000","v":0}]
[null,null,null,null,null,null,null,null,null,null,null,null,{"$f":"\"Natural Gas Fired Heater\"","v":"Natural Gas Fired Heater"},{"$f":"N10","v":0},{"$f":"IF(N49=0,0,0.026)","v":0},{"$f":"IF(O49=\"\",\"\",\"lb/MMCF\")","v":"lb/MMCF"},{"$f":"N49*O49","v":0},null,{"$f":"IF(N49=0,0,IF(R49=\"\",Q49*8760/2000,R49*8760/2000))","v":0},{"$f":"($P$10*O49/2000)","v":0}]
[null,{"$f":"IF($C$4>2,\"Site Name\",\"\")","v":""},null,null,{"$f":"IF($C$4>2,\"Dryers, Hot Screens, Mixer\",\"\")","v":""},null,null,{"$f":"IF($C$4>2,\"(tons/hr)\",\"\")","v":""},{"$f":"IF($C$4>2,\"(tons/yr)\",\"\")","v":""},"PM2.5","PM10",null,"Silo Filling",{"$f":"N11","v":0},{"$f":"IF(N50=0,0,IF(N50=0,0,LOOKUP(M50,'Emission Factors'!$A$23:$A$25,'Emission Factors'!$L$23:$L$25)))","v":0},{"$f":"IF(O50=\"\",\"\",\"lb/ton\")","v":"lb/ton"},null,null,null,{"$f":"P11*O50/2000","v":0}]
[null,{"$f":"IF($C$4>2,\"County:\",\"\")","v":""},null,null,{"$f":"IF(C53=\"\",\"\",\"AP-9 EP-1\")","v":""},{"$f":"IF(C53=\"\",\"\",\"AP-9 EU-1\")","v":""},{"$f":"IF(C53=\"\",\"\",C5 & \" - \"&C53)","v":""},null,null,{"$f":"IF(C54=\"\",\"\",IF(C54=\"yes\",LOOKUP(G51,'Emission Factors'!$A$12:$A$17,'Emission Factors'!$D$12:$D$17),LOOKUP(G51,'Emission Factors'!$A$5:$A$10,'Emission Factors'!$D$5:$D$10)))","v":""},{"$f":"IF(C54=\"\",\"\",IF(C54=\"yes\",LOOKUP(G51,'Emission Factors'!$A$12:$A$17,'Emission Factors'!$F$12:$F$17),LOOKUP(G51,'Emission Factors'!$A$5:$A$10,'Emission Factors'!$F$5:$F$10)))","v":""},null,"Truck Loadout",{"$f":"N12","v":0},{"$f":"IF(N51=0,0,IF(N51=0,0,LOOKUP(M51,'Emission Factors'!$A$23:$A$25,'Emission Factors'!$L$23:$L$25)))","v":0},{"$f":"IF(O51=\"\",\"\",\"lb/ton\")","v":"lb/ton"},null,null,null,{"$f":"P12*O51/2000","v":0}]
[null,{"$f":"IF($C$4>2,\"Production Period (Dates):\",\"\")","v":""},null,null,{"$f":"IF($C$4>2,\"Liquid Asphalt Heater\",\"\")","v":""},null,null,{"$f":"IF($C$4>2,IF(C53=\"natural gas\",\"(MMCF/hr)\",\"(gallons/hr)\"),\"\")","v":""},{"$f":"IF($C$4>2,IF(C53=\"natural gas\",\"(MMCF/yr)\",\"(gallons/yr)\"),\"\")","v":""},null,null,null,"CO"]
[null,{"$f":"IF($C$4>2,\"Type of Fuel Used:\",\"\")","v":""},null,null,{"$f":"IF(C53=\"\",\"\",\"AP-9 EP-2\")","v":""},{"$f":"IF(C53=\"\",\"\",\"AP-9 EU-2\")","v":""},{"$f":"IF(C53=\"\",\"\",C53& \" Fired Heater\")","v":""},null,null,null,null,null,{"$f":"IF($C$5=\"\",\"\",$C$5)","v":""},{"$f":"SUM($N$5:$N$7)","v":0},{"$f":"IF(N53=0,0,IF(M53=\"Batch Mix Plant\",0.4,IF(M53=\"Drum Mix Plant\",0.13)))","v":0},{"$f":"IF(O53=\"\",\"\",\"lb/ton\")","v":"lb/ton"},{"$f":"N53*O53","v":0},{"$f":"IF(N53=0,\"\",IF($F$16>0,$F$16,\"\"))","v":""},{"$f":"IF($G$16>0,$G$16,IF(N53=0,0,IF($C$10>0,$C$10*O53/2000,IF($C$11>0,$C$11*365*O53/2000,IF($C$12>0,$C$12*365*O53*N53/2000,IF(R53=\"\",Q53*8760/2000,R53*8760/2000))))))","v":0},{"$f":"SUM($P$5:$P$7)*O53/2000","v":0}]
[null,{"$f":"IF($C$4>2,\"Is Your Operation Controlled?:\",\"\")","v":""},null,null,{"$f":"IF($C$4>2,\"Silo Filling, Truck Loadout, Aggregate Transfer\",\"\")","v":""},null,null,{"$f":"IF($C$4>2,\"(tons/hr)\",\"\")","v":""},{"$f":"IF($C$4>2,\"(tons/yr)\",\"\")","v":""},null,null,null,"Fuel Oil Fired Heater",{"$f":"N8","v":0},{"$f":"IF(N54=0,0,LOOKUP(M54,'Emission Factors'!$A$19:$A$21,'Emission Factors'!$N$19:$N$21))","v":0},{"$f":"IF(O54=\"\",\"\",\"lb/gallon\")","v":"lb/gallon"},{"$f":"N54*O54","v":0},null,{"$f":"IF(N54=0,0,IF($G$16>0,\"\",IF($F$16>0,\"\",IF(R54=\"\",Q54*8760/2000,R54*8760/2000))))","v":0},{"$f":"(P8*O54/2000)","v":0}]
[null,null,null,null,{"$f":"IF($C$4>2,\"AP-9 EP-3\",\"\")","v":""},{"$f":"IF($C$4>2,\"AP-9 EU-3\",\"\")","v":""},{"$f":"IF($C$4>2,\"Silo Filling\",\"\")","v":""},null,null,null,null,null,"Waste Oil Fired Heater",{"$f":"N9","v":0},{"$f":"IF(N55=0,0,LOOKUP(M55,'Emission Factors'!$A$19:$A$21,'Emission Factors'!$N$19:$N$21))","v":0},{"$f":"IF(O55=\"\",\"\",\"lb/gallon\")","v":"lb/gallon"},{"$f":"N55*O55","v":0},null,{"$f":"IF(N55=0,0,IF($G$16>0,\"\",IF($F$16>0,\"\",IF(R55=\"\",Q55*8760/2000,R55*8760/2000))))","v":0},{"$f":"(P9*O55/2000)","v":0}]
[null,null,null,null,{"$f":"IF($C$4>2,\"AP-9 EP-3\",\"\")","v":""},{"$f":"IF($C$4>2,\"AP-9 EU-4\",\"\")","v":""},{"$f":"IF($C$4>2,\"Truck Loadout\",\"\")","v":""},null,null,null,null,null,"Natural Gas Fired Heater",{"$f":"N10","v":0},{"$f":"IF(N56=0,0,LOOKUP(M56,'Emission Factors'!$A$19:$A$21,'Emission Factors'!$N$19:$N$21))","v":0},{"$f":"IF(O56=\"\",\"\",\"lb/MMCF\")","v":"lb/MMCF"},{"$f":"N56*O56","v":0},null,{"$f":"IF(N56=0,0,IF($G$16>0,\"\",IF($F$16>0,\"\",IF(R56=\"\",Q56*8760/2000,R56*8760/2000))))","v":0},{"$f":"($P$10*O56/2000)","v":0}]
[null,null,null,null,{"$f":"IF($C$4>2,\"AP-9 EP-3\",\"\")","v":""},{"$f":"IF($C$4>2,\"AP-9 EU-5\",\"\")","v":""},{"$f":"IF($C$4>2,\"Cold Aggregate Bins\",\"\")","v":""},null,null,null,null,null,"Silo Filling",{"$f":"N11","v":0},{"$f":"IF(N57=0,0,IF(N57=0,0,LOOKUP(M57,'Emission Factors'!$A$23:$A$25,'Emission Factors'!$N$23:$N$25)))","v":0},{"$f":"IF(O57=\"\",\"\",\"lb/ton\")","v":"lb/ton"},null,null,null,{"$f":"P11*O57/2000","v":0}]
[null,null,null,null,null,null,null,null,null,null,null,null,"Truck Loadout",{"$f":"N12","v":0},{"$f":"IF(N58=0,0,IF(N58=0,0,LOOKUP(M58,'Emission Factors'!$A$23:$A$25,'Emission Factors'!$N$23:$N$25)))","v":0},{"$f":"IF(O58=\"\",\"\",\"lb/ton\")","v":"lb/ton"},null,null,null,{"$f":"P12*O58/2000","v":0}]
[null,null,null,null,{"$f":"IF($C$4>2,\"Stock Pile Area\",\"\")","v":""},null,null,null,null,null,null,null,"Acetaldehyde"]
[null,null,null,null,null,{"$f":"IF($C$4>2,\"Emission Unit #\",\"\")","v":""},{"$f":"IF($C$4>2,\"Maximum Storage Area (acres)\",\"\")","v":""},{"$f":"IF($C$4>2,\"Actual Storage Area (acres)\",\"\")","v":""},{"$f":"IF($C$4>2,\"Actual Days in Existence (days)\",\"\")","v":""},null,null,null,{"$f":"IF($C$5=\"\",\"\",$C$5)","v":""},{"$f":"IF(C5=\"drum mix plant\",SUM(N5:$N$6),SUM($N$5:$N$7))","v":0},{"$f":"IF(N60=0,0,IF(M60=\"Batch Mix Plant\",0.00032,IF(M60=\"Drum Mix Plant\",0.0013)))","v":0},{"$f":"IF(O60=\"\",\"\",\"lb/ton\")","v":"lb/ton"},{"$f":"N60*O60","v":0},null,{"$f":"IF(N60=0,0,IF($C$10>0,$C$10*O60/2000,IF($C$11>0,$C$11*365*O60/2000,IF($C$12>0,$C$12*365*O60*N60/2000,IF(R60=\"\",Q60*8760/2000,R60*8760/2000)))))","v":0},{"$f":"IF(C5=\"drum mix plant\",$P$6*O60/2000,SUM($P$5:$P$7)*O60/2000)","v":0}]
[null,null,null,null,null,null,null,null,null,null,null,null,"Acrolein"]
[null,null,null,null,null,null,null,null,null,null,null,null,{"$f":"IF($C$5=\"\",\"\",$C$5)","v":""},{"$f":"IF(C5=\"drum mix plant\",SUM(N5:$N$6),0)","v":0},{"$f":"IF(N62=0,0,0.000026)","v":0},{"$f":"IF(O62=\"\",\"\",\"lb/ton\")","v":"lb/ton"},{"$f":"N62*O62","v":0},null,{"$f":"IF(N62=0,0,IF($C$10>0,$C$10*O62/2000,IF($C$11>0,$C$11*365*O62/2000,IF($C$12>0,$C$12*365*O62*N62/2000,IF(R62=\"\",Q62*8760/2000,R62*8760/2000)))))","v":0},{"$f":"IF(C7=\"drum mix plant\",$P$6*O62/2000,SUM($P$5:$P$7)*O62/2000)","v":0}]
[null,{"$f":"IF($C$4>3,\"Asphalt Plant\",\"\")","v":""},{"$f":"IF($C$4>3,\"Site 4\",\"\")","v":""},null,{"$f":"IF($C$4>3,\"Emission Point #\",\"\")","v":""},{"$f":"IF($C$4>3,\"Emission    Unit #\",\"\")","v":""},{"$f":"IF($C$4>3,\"Process\",\"\")","v":""},{"$f":"IF($C$4>3,\"Maximum Hourly     Design Rate\",\"\")","v":""},{"$f":"IF($C$4>3,('Facility Information'!G50&\" Annual Throughput\"),\"\")","v":""},null,null,null,"Benzene"]
[null,null,null,null,null,null,null,null,null,null,null,null,{"$f":"IF($C$5=\"\",\"\",$C$5)","v":""},{"$f":"SUM($N$5:$N$7)","v":0},{"$f":"IF(N64=0,0,IF(M64=\"Batch Mix Plant\",0.00028,IF(M64=\"Drum Mix Plant\",0.00039)))","v":0},{"$f":"IF(O64=\"\",\"\",\"lb/ton\")","v":"lb/ton"},{"$f":"N64*O64","v":0},null,{"$f":"IF(N64=0,0,IF($C$10>0,$C$10*O64/2000,IF($C$11>0,$C$11*365*O64/2000,IF($C$12>0,$C$12*365*O64*N64/2000,IF(R64=\"\",Q64*8760/2000,R64*8760/2000)))))","v":0},{"$f":"SUM($P$5:$P$7)*O64/2000","v":0}]
[null,{"$f":"IF($C$4>3,\"Site Name\",\"\")","v":""},null," ",{"$f":"IF($C$4>3,\"Dryers, Hot Screens, Mixer\",\"\")","v":""},null,null,{"$f":"IF($C$4>3,\"(tons/hr)\",\"\")","v":""},{"$f":"IF($C$4>3,\"(tons/yr)\",\"\")","v":""},"PM2.5","PM10",null,"Ethylbenzene"]
[null,{"$f":"IF($C$4>3,\"County:\",\"\")","v":""},null,null,{"$f":"IF(C68=\"\",\"\",\"AP-9 EP-1\")","v":""},{"$f":"IF(C68=\"\",\"\",\"AP-9 EU-1\")","v":""},{"$f":"IF(C68=\"\",\"\",C5 & \" - \"&C68)","v":""},null,null,{"$f":"IF(C69=\"\",\"\",IF(C69=\"yes\",LOOKUP(G66,'Emission Factors'!$A$12:$A$17,'Emission Factors'!$D$12:$D$17),LOOKUP(G66,'Emission Factors'!$A$5:$A$10,'Emission Factors'!$D$5:$D$10)))","v":""},{"$f":"IF(C69=\"\",\"\",IF(C69=\"yes\",LOOKUP(G66,'Emission Factors'!$A$12:$A$17,'Emission Factors'!$F$12:$F$17),LOOKUP(G66,'Emission Factors'!$A$5:$A$10,'Emission Factors'!$F$5:$F$10)))","v":""},null,{"$f":"IF($C$5=\"\",\"\",$C$5)","v":""},{"$f":"SUM($N$5:$N$7)","v":0},{"$f":"IF(N66=0,0,IF(M66=\"Batch Mix Plant\",0.0022,IF(M66=\"Drum Mix Plant\",0.00024)))","v":0},{"$f":"IF(O66=\"\",\"\",\"lb/ton\")","v":"lb/ton"},{"$f":"N66*O66","v":0},null,{"$f":"IF(N66=0,0,IF($C$10>0,$C$10*O66/2000,IF($C$11>0,$C$11*365*O66/2000,IF($C$12>0,$C$12*365*O66*N66/2000,IF(R66=\"\",Q66*8760/2000,R66*8760/2000)))))","v":0},{"$f":"SUM($P$5:$P$7)*O66/2000","v":0}]
[null,{"$f":"IF($C$4>3,\"Production Period (Dates):\",\"\")","v":""},null,null,{"$f":"IF($C$4>3,\"Liquid Asphalt Heater\",\"\")","v":""},null,null,{"$f":"IF($C$4>3,IF(C68=\"natural gas\",\"(MMCF/hr)\",\"(gallons/hr)\"),\"\")","v":""},{"$f":"IF($C$4>3,IF(C68=\"natural gas\",\"(MMCF/yr)\",\"(gallons/yr)\"),\"\")","v":""},null,null,null,"Formaldehyde"]
[null,{"$f":"IF($C$4>3,\"Type of Fuel Used:\",\"\")","v":""},null,null,{"$f":"IF(C68=\"\",\"\",\"AP-9 EP-2\")","v":""},{"$f":"IF(C68=\"\",\"\",\"AP-9 EU-2\")","v":""},{"$f":"IF(C68=\"\",\"\",C68& \" Fired Heater\")","v":""},null,null,null,null,null,{"$f":"IF($C$5=\"\",\"\",$C$5)","v":""},{"$f":"SUM($N$5:$N$7)","v":0},{"$f":"IF(N68=0,0,IF(M68=\"Batch Mix Plant\",0.00074,IF(M68=\"Drum Mix Plant\",0.0031)))","v":0},{"$f":"IF(O68=\"\",\"\",\"lb/ton\")","v":"lb/ton"},{"$f":"N68*O68","v":0},null,{"$f":"IF(N68=0,0,IF($C$10>0,$C$10*O68/2000,IF($C$11>0,$C$11*365*O68/2000,IF($C$12>0,$C$12*365*O68*N68/2000,IF(R68=\"\",Q68*8760/2000,R68*8760/2000)))))","v":0},{"$f":"SUM($P$5:$P$7)*O68/2000","v":0}]
[null,{"$f":"IF($C$4>3,\"Is Your Operation Controlled?:\",\"\")","v":""},null,null,{"$f":"IF($C$4>3,\"Silo Filling, Truck Loadout, Aggregate Transfer\",\"\")","v":""},null,null,{"$f":"IF($C$4>3,\"(tons/hr)\",\"\")","v":""},{"$f":"IF($C$4>3,\"(tons/yr)\",\"\")","v":""},null,null,null,{"$f":"\"Natural Gas Fired Heater\"","v":"Natural Gas Fired Heater"},{"$f":"N10","v":0},{"$f":"IF(N69=0,0,0.026)","v":0},{"$f":"IF(O69=\"\",\"\",\"lb/MMCF\")","v":"lb/MMCF"},{"$f":"N69*O69","v":0},null,{"$f":"IF(N69=0,0,IF(R69=\"\",Q69*8760/2000,R69*8760/2000))","v":0},{"$f":"($P$10*O69/2000)","v":0}]
[null,null,null,null,{"$f":"IF($C$4>3,\"AP-9 EP-3\",\"\")","v":""},{"$f":"IF($C$4>3,\"AP-9 EU-3\",\"\")","v":""},{"$f":"IF($C$4>3,\"Silo Filling\",\"\")","v":""},null,null,null,null,null,"Hexane"]
[null,null,null,null,{"$f":"IF($C$4>3,\"AP-9 EP-3\",\"\")","v":""},{"$f":"IF($C$4>3,\"AP-9 EU-4\",\"\")","v":""},{"$f":"IF($C$4>3,\"Truck Loadout\",\"\")","v":""},null,null,null,null,null,{"$f":"IF($C$5=\"\",\"\",$C$5)","v":""},{"$f":"IF(C5=\"drum mix plant\",SUM(N5:N7),0)","v":0},{"$f":"IF(N71=0,0,0.00092)","v":0},{"$f":"IF(O71=\"\",\"\",\"lb/ton\")","v":"lb/ton"},{"$f":"N71*O71","v":0},null,{"$f":"IF(N71=0,0,IF($C$10>0,$C$10*O71/2000,IF($C$11>0,$C$11*365*O71/2000,IF($C$12>0,$C$12*365*O71*N71/2000,IF(R71=\"\",Q71*8760/2000,R71*8760/2000)))))","v":0},{"$f":"IF(N71>0,SUM($P$5:$P$7)*O71/2000,0)","v":0}]
[null,null,null,null,{"$f":"IF($C$4>3,\"AP-9 EP-3\",\"\")","v":""},{"$f":"IF($C$4>3,\"AP-9 EU-5\",\"\")","v":""},{"$f":"IF($C$4>3,\"Cold Aggregate Bins\",\"\")","v":""},null,null,null,null,null,"Hydrochloric Acid"]
[null,null,null,null,null,null,null,null,null,null,null,null,{"$f":"IF($C$5=\"\",\"\",$C$5)","v":""},{"$f":"IF(C5=\"drum mix plant\",SUM(N5:$N$6),0)","v":0},{"$f":"IF(N73=0,0,0.00021)","v":0},{"$f":"IF(O73=\"\",\"\",\"lb/ton\")","v":"lb/ton"},{"$f":"N73*O73","v":0},null,{"$f":"IF(N73=0,0,IF($C$10>0,$C$10*O73/2000,IF($C$11>0,$C$11*365*O73/2000,IF($C$12>0,$C$12*365*O73*N73/2000,IF(R73=\"\",Q73*8760/2000,R73*8760/2000)))))","v":0},{"$f":"IF(N73>0,$P$6*O73/2000,0)","v":0}]
[null,null,null,null,{"$f":"IF($C$4>3,\"Stock Pile Area\",\"\")","v":""},null,null,null,null,null,null,null,"Methyl Chloroform"]
[null,null,null,null,null,{"$f":"IF($C$4>3,\"Emission Unit #\",\"\")","v":""},{"$f":"IF($C$4>3,\"Maximum Storage Area (acres)\",\"\")","v":""},{"$f":"IF($C$4>3,\"Actual Storage Area (acres)\",\"\")","v":""},{"$f":"IF($C$4>3,\"Actual Days in Existence (days)\",\"\")","v":""},null,null,null,{"$f":"IF($C$5=\"\",\"\",$C$5)","v":""},{"$f":"IF(C5=\"drum mix plant\",SUM(N5:N7),0)","v":0},{"$f":"IF(N75=0,0,0.000048)","v":0},{"$f":"IF(O75=\"\",\"\",\"lb/ton\")","v":"lb/ton"},{"$f":"N75*O75","v":0},null,{"$f":"IF(N75=0,0,IF($C$10>0,$C$10*O75/2000,IF($C$11>0,$C$11*365*O75/2000,IF($C$12>0,$C$12*365*O75*N75/2000,IF(R75=\"\",Q75*8760/2000,R75*8760/2000)))))","v":0},{"$f":"IF(N75>0,SUM($P$5:$P$7)*O75/2000,0)","v":0}]
[null,null,null,null,null,null,null,null,null,null,null,null,"Propionaldehyde"]
[null,null,null,null,null,null,null,null,null,null,null,null,{"$f":"IF($C$5=\"\",\"\",$C$5)","v":""},{"$f":"IF(C5=\"drum mix plant\",SUM(N5:$N$6),0)","v":0},{"$f":"IF(N77=0,0,0.00013)","v":0},{"$f":"IF(O77=\"\",\"\",\"lb/ton\")","v":"lb/ton"},{"$f":"N77*O77","v":0},null,{"$f":"IF(N77=0,0,IF($C$10>0,$C$10*O77/2000,IF($C$11>0,$C$11*365*O77/2000,IF($C$12>0,$C$12*365*O77*N77/2000,IF(R77=\"\",Q77*8760/2000,R77*8760/2000)))))","v":0},{"$f":"IF(N77>0,$P$6*O77/2000,0)","v":0}]
[null,{"$f":"IF($C$4>4,\"Asphalt Plant\",\"\")","v":""},{"$f":"IF($C$4>4,\"Site 5\",\"\")","v":""},null,{"$f":"IF($C$4>4,\"Emission Point #\",\"\")","v":""},{"$f":"IF($C$4>4,\"Emission    Unit #\",\"\")","v":""},{"$f":"IF($C$4>4,\"Process\",\"\")","v":""},{"$f":"IF($C$4>4,\"Maximum Hourly     Design Rate\",\"\")","v":""},{"$f":"IF($C$4>4,('Facility Information'!G65&\" Annual Throughput\"),\"\")","v":""},null,null,null,"Quinone"]
[null,null,null,null,null,null,null,null,null,null,null,null,{"$f":"IF($C$5=\"\",\"\",$C$5)","v":""},{"$f":"IF(C5=\"drum mix plant\",SUM(N5:$N$6),SUM($N$5:$N$7))","v":0},{"$f":"IF(N79=0,0,IF(M79=\"Batch Mix Plant\",0.00027,IF(M79=\"Drum Mix Plant\",0.00016)))","v":0},{"$f":"IF(O79=\"\",\"\",\"lb/ton\")","v":"lb/ton"},{"$f":"N79*O79","v":0},null,{"$f":"IF(N79=0,0,IF($C$10>0,$C$10*O79/2000,IF($C$11>0,$C$11*365*O79/2000,IF($C$12>0,$C$12*365*O79*N79/2000,IF(R79=\"\",Q79*8760/2000,R79*8760/2000)))))","v":0},{"$f":"IF(C23=\"drum mix plant\",$P$6*O79/2000,SUM($P$5:$P$7)*O79/2000)","v":0}]
[null,{"$f":"IF($C$4>4,\"Site Name\",\"\")","v":""},null,null,{"$f":"IF($C$4>4,\"Dryers, Hot Screens, Mixer\",\"\")","v":""},null,null,{"$f":"IF($C$4>4,\"(tons/hr)\",\"\")","v":""},{"$f":"IF($C$4>4,\"(tons/yr)\",\"\")","v":""},"PM2.5","PM10",null,"Toluene"]
[null,{"$f":"IF($C$4>4,\"County:\",\"\")","v":""},null,null,{"$f":"IF(C83=\"\",\"\",\"AP-9 EP-1\")","v":""},{"$f":"IF(C83=\"\",\"\",\"AP-9 EU-1\")","v":""},{"$f":"IF(C83=\"\",\"\",C5 & \" - \"&C83)","v":""},null,null,{"$f":"IF(C84=\"\",\"\",IF(C84=\"yes\",LOOKUP(G81,'Emission Factors'!$A$12:$A$17,'Emission Factors'!$D$12:$D$17),LOOKUP(G81,'Emission Factors'!$A$5:$A$10,'Emission Factors'!$D$5:$D$10)))","v":""},{"$f":"IF(C84=\"\",\"\",IF(C84=\"yes\",LOOKUP(G81,'Emission Factors'!$A$12:$A$17,'Emission Factors'!$F$12:$F$17),LOOKUP(G81,'Emission Factors'!$A$5:$A$10,'Emission Factors'!$F$5:$F$10)))","v":""},null,{"$f":"$C$5 & \" - Fuel Oil\"","v":" - Fuel Oil"},{"$f":"$N$5","v":0},{"$f":"IF(N81=0,0,LOOKUP(M81,'Emission Factors'!$A$5:$A$10,'Emission Factors'!$AJ$5:$AJ$10))","v":0},{"$f":"IF(O81=\"\",\"\",\"lb/ton\")","v":"lb/ton"},{"$f":"N81*O81","v":0},null,{"$f":"IF(N81=0,0,IF($C$10>0,$C$10*O81/2000,IF($C$11>0,$C$11*365*O81/2000,IF($C$12>0,$C$12*365*O81*N81/2000,IF(R81=\"\",Q81*8760/2000,R81*8760/2000)))))","v":0},{"$f":"P5*O81/2000","v":0}]
[null,{"$f":"IF($C$4>4,\"Production Period (Dates):\",\"\")","v":""},null,null,{"$f":"IF($C$4>4,\"Liquid Asphalt Heater\",\"\")","v":""},null,null,{"$f":"IF($C$4>4,IF(C83=\"natural gas\",\"(MMCF/hr)\",\"(gallons/hr)\"),\"\")","v":""},{"$f":"IF($C$4>4,IF(C83=\"natural gas\",\"(MMCF/yr)\",\"(gallons/yr)\"),\"\")","v":""},null,null,null,{"$f":"$C$5 & \" - Waste Oil\"","v":" - Waste Oil"},{"$f":"$N$6","v":0},{"$f":"IF(N82=0,0,LOOKUP(M82,'Emission Factors'!$A$5:$A$10,'Emission Factors'!$AJ$5:$AJ$10))","v":0},{"$f":"IF(O82=\"\",\"\",\"lb/ton\")","v":"lb/ton"},{"$f":"N82*O82","v":0},null,{"$f":"IF(N82=0,0,IF(OR(AND($C$10>0,$N$81>0),AND($C$11>0,$N$81>0),AND($C$12>0,$N$81>0)),\"\",IF($C$10>0,$C$10*O82/2000,IF($C$11>0,$C$11*365*O82/2000,IF($C$12>0,$C$12*365*O82*N82/2000,IF(R82=\"\",Q82*8760/2000,R82*8760/2000))))))","v":0},{"$f":"P6*O82/2000","v":0}]
[null,{"$f":"IF($C$4>4,\"Type of Fuel Used:\",\"\")","v":""},null,null,{"$f":"IF(C83=\"\",\"\",\"AP-9 EP-2\")","v":""},{"$f":"IF(C83=\"\",\"\",\"AP-9 EU-2\")","v":""},{"$f":"IF(C83=\"\",\"\",C83& \" Fired Heater\")","v":""},null,null,null,"Controlled?",null,{"$f":"$C$5 & \" - Natural Gas\"","v":" - Natural Gas"},{"$f":"$N$7","v":0},{"$f":"IF(N83=0,0,LOOKUP(M83,'Emission Factors'!$A$5:$A$10,'Emission Factors'!$AJ$5:$AJ$10))","v":0},{"$f":"IF(O83=\"\",\"\",\"lb/ton\")","v":"lb/ton"},{"$f":"N83*O83","v":0},null,{"$f":"IF(N83=0,0,IF(OR(AND($C$10>0,$N$81>0),AND($C$11>0,$N$81>0),AND($C$12>0,$N$81>0)),\"\",IF(OR(AND($C$10>0,$N$82>0),AND($C$11>0,$N$82>0),AND($C$12>0,$N$82>0)),\"\",IF($C$10>0,$C$10*O83/2000,IF($C$11>0,$C$11*365*O83/2000,IF($C$12>0,$C$12*365*O83*N83/2000,IF(R83=\"\",Q83*8760/2000,R83*8760/2000)))))))","v":0},{"$f":"P7*O83/2000","v":0}]
[null,{"$f":"IF($C$4>4,\"Is Your Operation Controlled?:\",\"\")","v":""},null,null,{"$f":"IF($C$4>4,\"Silo Filling, Truck Loadout, Aggregate Transfer\",\"\")","v":""},null,null,{"$f":"IF($C$4>4,\"(tons/hr)\",\"\")","v":""},{"$f":"IF($C$4>4,\"(tons/yr)\",\"\")","v":""},null,{"$f":"IF(OR(C25=\"yes\",C39=\"yes\",C69=\"yes\",C84=\"yes\",C100=\"yes\",C115=\"yes\",C130=\"yes\",C145=\"yes\",C160=\"yes\"),1,0)","v":0},null,"Xylene"]
[null,null,null,null,{"$f":"IF($C$4>4,\"AP-9 EP-3\",\"\")","v":""},{"$f":"IF($C$4>4,\"AP-9 EU-3\",\"\")","v":""},{"$f":"IF($C$4>4,\"Silo Filling\",\"\")","v":""},null,null,null,null,null,{"$f":"IF($C$5=\"\",\"\",$C$5)","v":""},{"$f":"SUM($N$5:$N$7)","v":0},{"$f":"IF(N85=0,0,IF(M85=\"Batch Mix Plant\",0.0027,IF(M85=\"Drum Mix Plant\",0.0002)))","v":0},{"$f":"IF(O85=\"\",\"\",\"lb/ton\")","v":"lb/ton"},{"$f":"N85*O85","v":0},null,{"$f":"IF(N85=0,0,IF($C$10>0,$C$10*O85/2000,IF($C$11>0,$C$11*365*O85/2000,IF($C$12>0,$C$12*365*O85*N85/2000,IF(R85=\"\",Q85*8760/2000,R85*8760/2000)))))","v":0},{"$f":"SUM($P$5:$P$7)*O85/2000","v":0}]
[null,null,null,null,{"$f":"IF($C$4>4,\"AP-9 EP-3\",\"\")","v":""},{"$f":"IF($C$4>4,\"AP-9 EU-4\",\"\")","v":""},{"$f":"IF($C$4>4,\"Truck Loadout\",\"\")","v":""},null,null,null,null,null,"2,2,4-Trimethylpentane"]
[null,null,null,null,{"$f":"IF($C$4>4,\"AP-9 EP-3\",\"\")","v":""},{"$f":"IF($C$4>4,\"AP-9 EU-5\",\"\")","v":""},{"$f":"IF($C$4>4,\"Cold Aggregate Bins\",\"\")","v":""},null,null,null,null,null,{"$f":"IF($C$5=\"\",\"\",$C$5)","v":""},{"$f":"IF(C5=\"drum mix plant\",SUM(N5:N7),0)","v":0},{"$f":"IF(N87=0,0,0.00004)","v":0},{"$f":"IF(O87=\"\",\"\",\"lb/ton\")","v":"lb/ton"},{"$f":"N87*O87","v":0},null,{"$f":"IF(N87=0,0,IF($C$10>0,$C$10*O87/2000,IF($C$11>0,$C$11*365*O87/2000,IF($C$12>0,$C$12*365*O87*N87/2000,IF(R87=\"\",Q87*8760/2000,R87*8760/2000)))))","v":0},{"$f":"IF(N87>0,SUM($P$5:$P$7)*O87/2000,0)","v":0}]
[null,null,null,null,null,null,null,null,null,null,null,null,"Chromium Compounds"]
[null,null,null,null,{"$f":"IF($C$4>4,\"Stock Pile Area\",\"\")","v":""},null,null,null,null,null,null,null,{"$f":"IF($C$5=\"\",\"\",$C$5)","v":""},{"$f":"IF(C5=\"drum mix plant\",SUM(N5:N6),0)","v":0},{"$f":"IF(N89=0,0,IF($K$84=1,0.0000055,0.000024))","v":0},{"$f":"IF(O89=\"\",\"\",\"lb/ton\")","v":"lb/ton"},{"$f":"IF($K$84=1,\"\",N89*O89)","v":0},{"$f":"IF($K$84=1,N89*O89,\"\")","v":""},{"$f":"IF(N89=0,0,IF($C$10>0,$C$10*O89/2000,IF($C$11>0,$C$11*365*O89/2000,IF($C$12>0,$C$12*365*O89*N89/2000,IF(R89=\"\",Q89*8760/2000,R89*8760/2000)))))","v":0},{"$f":"IF(N89>0,$P$5*O89/2000,0)","v":0}]
[null,null,null,null,null,{"$f":"IF($C$4>4,\"Emission Unit #\",\"\")","v":""},{"$f":"IF($C$4>4,\"Maximum Storage Area (acres)\",\"\")","v":""},{"$f":"IF($C$4>4,\"Actual Storage Area (acres)\",\"\")","v":""},{"$f":"IF($C$4>4,\"Actual Days in Existence (days)\",\"\")","v":""},null,null,null,"Lead Compounds"]
[null,null,null,null,null,null,null,null,null,null,null,null,{"$f":"IF($C$5=\"\",\"\",$C$5)","v":""},{"$f":"IF(C5=\"drum mix plant\",SUM(N5:N6),0)","v":0},{"$f":"IF(N91=0,0,IF($K$84=1,0.000015,0.00054))","v":0},{"$f":"IF(O91=\"\",\"\",\"lb/ton\")","v":"lb/ton"},{"$f":"IF($K$84=1,\"\",N91*O91)","v":0},{"$f":"IF($K$84=1,N91*O91,\"\")","v":""},{"$f":"IF(N91=0,0,IF($C$10>0,$C$10*O91/2000,IF($C$11>0,$C$11*365*O91/2000,IF($C$12>0,$C$12*365*O91*N91/2000,IF(R91=\"\",Q91*8760/2000,R91*8760/2000)))))","v":0},{"$f":"IF(N91>0,$P$5*O91/2000,0)","v":0}]
[null,null,null,null,null,null,null,null,null,null,null,null,"Manganese Compounds",null,null,null,0]
[null,null,null,null,null,null,null,null,null,null,null,null,{"$f":"IF($C$5=\"\",\"\",$C$5)","v":""},{"$f":"IF(C5=\"drum mix plant\",SUM(N5:N6),0)","v":0},{"$f":"IF(N93=0,0,IF($K$84=1,0.0000077,0.00065))","v":0},{"$f":"IF(O93=\"\",\"\",\"lb/ton\")","v":"lb/ton"},0,{"$f":"IF($K$84=1,N93*O93,\"\")","v":""},{"$f":"IF(N93=0,0,IF($C$10>0,$C$10*O93/2000,IF($C$11>0,$C$11*365*O93/2000,IF($C$12>0,$C$12*365*O93*N93/2000,IF(R93=\"\",Q93*8760/2000,R93*8760/2000)))))","v":0},{"$f":"IF(N93>0,$P$5*O93/2000,0)","v":0}]
[null,{"$f":"IF($C$4>5,\"Asphalt Plant\",\"\")","v":""},{"$f":"IF($C$4>5,\"Site 6\",\"\")","v":""},null,{"$f":"IF($C$4>5,\"Emission Point #\",\"\")","v":""},{"$f":"IF($C$4>5,\"Emission    Unit #\",\"\")","v":""},{"$f":"IF($C$4>5,\"Process\",\"\")","v":""},{"$f":"IF($C$4>5,\"Maximum Hourly     Design Rate\",\"\")","v":""},{"$f":"IF($C$4>5,('Facility Information'!G80&\" Annual Throughput\"),\"\")","v":""},null,null,null,"Nickel Compounds",null,null,null,0]
[null,null,null,null,null,null,null,null,null,null,null,null,{"$f":"$C$5 & \" - Fuel Oil\"","v":" - Fuel Oil"},{"$f":"IF(C5=\"drum mix plant\",N5,0)","v":0},{"$f":"IF(N95=0,0,IF($K$84=1,0.000015,0.0013))","v":0},{"$f":"IF(O95=\"\",\"\",\"lb/ton\")","v":"lb/ton"},0,{"$f":"IF($K$84=1,N95*O95,\"\")","v":""},{"$f":"IF(N95=0,0,IF($C$10>0,$C$10*O95/2000,IF($C$11>0,$C$11*365*O95/2000,IF($C$12>0,$C$12*365*O95*N95/2000,IF(R95=\"\",Q95*8760/2000,R95*8760/2000)))))","v":0},{"$f":"IF(N95>0,$P$5*O95/2000,0)","v":0}]
[null,{"$f":"IF($C$4>5,\"Site Name\",\"\")","v":""},null,null,{"$f":"IF($C$4>5,\"Dryers, Hot Screens, Mixer\",\"\")","v":""},null,null,{"$f":"IF($C$4>5,\"(tons/hr)\",\"\")","v":""},{"$f":"IF($C$4>5,\"(tons/yr)\",\"\")","v":""},"PM2.5","PM10",null,{"$f":"$C$5 & \" - Waste Oil\"","v":" - Waste Oil"},{"$f":"IF(C5=\"drum mix plant\",N6,0)","v":0},{"$f":"IF(N96=0,0,IF($K$84=1,0.000015,0.0013))","v":0},{"$f":"IF(O96=\"\",\"\",\"lb/ton\")","v":"lb/ton"},0,{"$f":"IF($K$84=1,N96*O96,\"\")","v":""},{"$f":"IF(N96=0,0,IF($C$10>0,$C$10*O96/2000,IF($C$11>0,$C$11*365*O96/2000,IF($C$12>0,$C$12*365*O96*N96/2000,IF(R96=\"\",Q96*8760/2000,R96*8760/2000)))))","v":0},{"$f":"IF(N96>0,$P$6*O96/2000,0)","v":0}]
[null,{"$f":"IF($C$4>5,\"County:\",\"\")","v":""},null,null,{"$f":"IF(C99=\"\",\"\",\"AP-9 EP-1\")","v":""},{"$f":"IF(C99=\"\",\"\",\"AP-9 EU-1\")","v":""},{"$f":"IF(C99=\"\",\"\",C5 & \" - \"&C99)","v":""},null,null,{"$f":"IF(C100=\"\",\"\",IF(C100=\"yes\",LOOKUP(G97,'Emission Factors'!$A$12:$A$17,'Emission Factors'!$D$12:$D$17),LOOKUP(G97,'Emission Factors'!$A$5:$A$10,'Emission Factors'!$D$5:$D$10)))","v":""},{"$f":"IF(C100=\"\",\"\",IF(C100=\"yes\",LOOKUP(G97,'Emission Factors'!$A$12:$A$17,'Emission Factors'!$F$12:$F$17),LOOKUP(G97,'Emission Factors'!$A$5:$A$10,'Emission Factors'!$F$5:$F$10)))","v":""},null,{"$f":"$C$5 & \" - Natural Gas\"","v":" - Natural Gas"},{"$f":"IF(C5=\"drum mix plant\",N7,0)","v":0},{"$f":"IF(N97=0,0,IF($K$84=1,0.000063,0.00063))","v":0},{"$f":"IF(O97=\"\",\"\",\"lb/ton\")","v":"lb/ton"},{"$f":"IF($K$84=1,\"\",N97*O97)","v":0},{"$f":"IF($K$84=1,N97*O97,\"\")","v":""},{"$f":"IF(N97=0,0,IF($C$10>0,$C$10*O97/2000,IF($C$11>0,$C$11*365*O97/2000,IF($C$12>0,$C$12*365*O97*N97/2000,IF(R97=\"\",Q97*8760/2000,R97*8760/2000)))))","v":0},{"$f":"IF(N97>0,$P$7*O97/2000,0)","v":0}]
[null,{"$f":"IF($C$4>5,\"Production Period (Dates):\",\"\")","v":""},null,null,{"$f":"IF($C$4>5,\"Liquid Asphalt Heater\",\"\")","v":""},null,null,{"$f":"IF($C$4>5,IF(C99=\"natural gas\",\"(MMCF/hr)\",\"(gallons/hr)\"),\"\")","v":""},{"$f":"IF($C$4>5,IF(C99=\"natural gas\",\"(MMCF/yr)\",\"(gallons/yr)\"),\"\")","v":""}]
[null,{"$f":"IF($C$4>5,\"Type of Fuel Used:\",\"\")","v":""},null,null,{"$f":"IF(C99=\"\",\"\",\"AP-9 EP-2\")","v":""},{"$f":"IF(C99=\"\",\"\",\"AP-9 EU-2\")","v":""},{"$f":"IF(C99=\"\",\"\",C99& \" Fired Heater\")","v":""}]
[null,{"$f":"IF($C$4>5,\"Is Your Operation Controlled?:\",\"\")","v":""},null,null,{"$f":"IF($C$4>5,\"Silo Filling, Truck Loadout, Aggregate Transfer\",\"\")","v":""},null,null,{"$f":"IF($C$4>5,\"(tons/hr)\",\"\")","v":""},{"$f":"IF($C$4>5,\"(tons/yr)\",\"\")","v":""}]
[null,null,null,null,{"$f":"IF($C$4>5,\"AP-9 EP-3\",\"\")","v":""},{"$f":"IF($C$4>5,\"AP-9 EU-3\",\"\")","v":""},{"$f":"IF($C$4>5,\"Silo Filling\",\"\")","v":""}]
[null,null,null,null,{"$f":"IF($C$4>5,\"AP-9 EP-3\",\"\")","v":""},{"$f":"IF($C$4>5,\"AP-9 EU-4\",\"\")","v":""},{"$f":"IF($C$4>5,\"Truck Loadout\",\"\")","v":""}]
[null,null,null,null,{"$f":"IF($C$4>5,\"AP-9 EP-3\",\"\")","v":""},{"$f":"IF($C$4>5,\"AP-9 EU-5\",\"\")","v":""},{"$f":"IF($C$4>5,\"Cold Aggregate Bins\",\"\")","v":""}]
[]
[null,null,null,null,{"$f":"IF($C$4>5,\"Stock Pile Area\",\"\")","v":""}]
[null,null,null,null,null,{"$f":"IF($C$4>5,\"Emission Unit #\",\"\")","v":""},{"$f":"IF($C$4>5,\"Maximum Storage Area (acres)\",\"\")","v":""},{"$f":"IF($C$4>5,\"Actual Storage Area (acres)\",\"\")","v":""},{"$f":"IF($C$4>5,\"Actual Days in Existence (days)\",\"\")","v":""}]
[]
[]
[null,{"$f":"IF($C$4>6,\"Asphalt Plant\",\"\")","v":""},{"$f":"IF($C$4>6,\"Site 7\",\"\")","v":""},null,{"$f":"IF($C$4>6,\"Emission Point #\",\"\")","v":""},{"$f":"IF($C$4>6,\"Emission    Unit #\",\"\")","v":""},{"$f":"IF($C$4>6,\"Process\",\"\")","v":""},{"$f":"IF($C$4>6,\"Maximum Hourly     Design Rate\",\"\")","v":""},{"$f":"IF($C$4>6,('Facility Information'!G95&\" Annual Throughput\"),\"\")","v":""}]
[]
[null,{"$f":"IF($C$4>6,\"Site Name\",\"\")","v":""},null,null,{"$f":"IF($C$4>6,\"Dryers, Hot Screens, Mixer\",\"\")","v":""},null,null,{"$f":"IF($C$4>6,\"(tons/hr)\",\"\")","v":""},{"$f":"IF($C$4>6,\"(tons/yr)\",\"\")","v":""},"PM2.5","PM10"]
[null,{"$f":"IF($C$4>6,\"County:\",\"\")","v":""},null,null,{"$f":"IF(C114=\"\",\"\",\"AP-9 EP-1\")","v":""},{"$f":"IF(C114=\"\",\"\",\"AP-9 EU-1\")","v":""},{"$f":"IF(C114=\"\",\"\",C5 & \" - \"&C114)","v":""},null,null,{"$f":"IF(C115=\"\",\"\",IF(C115=\"yes\",LOOKUP(G112,'Emission Factors'!$A$12:$A$17,'Emission Factors'!$D$12:$D$17),LOOKUP(G112,'Emission Factors'!$A$5:$A$10,'Emission Factors'!$D$5:$D$10)))","v":""},{"$f":"IF(C115=\"\",\"\",IF(C115=\"yes\",LOOKUP(G112,'Emission Factors'!$A$12:$A$17,'Emission Factors'!$F$12:$F$17),LOOKUP(G112,'Emission Factors'!$A$5:$A$10,'Emission Factors'!$F$5:$F$10)))","v":""}]
[null,{"$f":"IF($C$4>6,\"Production Period (Dates):\",\"\")","v":""},null,null,{"$f":"IF($C$4>6,\"Liquid Asphalt Heater\",\"\")","v":""},null,null,{"$f":"IF($C$4>6,IF(C114=\"natural gas\",\"(MMCF/hr)\",\"(gallons/hr)\"),\"\")","v":""},{"$f":"IF($C$4>6,IF(C114=\"natural gas\",\"(MMCF/yr)\",\"(gallons/yr)\"),\"\")","v":""}]
[null,{"$f":"IF($C$4>6,\"Type of Fuel Used:\",\"\")","v":""},null,null,{"$f":"IF(C114=\"\",\"\",\"AP-9 EP-2\")","v":""},{"$f":"IF(C114=\"\",\"\",\"AP-9 EU-2\")","v":""},{"$f":"IF(C114=\"\",\"\",C114& \" Fired Heater\")","v":""}]
[null,{"$f":"IF($C$4>6,\"Is Your Operation Controlled?:\",\"\")","v":""},null,null,{"$f":"IF($C$4>6,\"Silo Filling, Truck Loadout, Aggregate Transfer\",\"\")","v":""},null,null,{"$f":"IF($C$4>6,\"(tons/hr)\",\"\")","v":""},{"$f":"IF($C$4>6,\"(tons/yr)\",\"\")","v":""}]
[null,null,null,null,{"$f":"IF($C$4>6,\"AP-9 EP-3\",\"\")","v":""},{"$f":"IF($C$4>6,\"AP-9 EU-3\",\"\")","v":""},{"$f":"IF($C$4>6,\"Silo Filling\",\"\")","v":""}]
[null,null,null,null,{"$f":"IF($C$4>6,\"AP-9 EP-3\",\"\")","v":""},{"$f":"IF($C$4>6,\"AP-9 EU-4\",\"\")","v":""},{"$f":"IF($C$4>6,\"Truck Loadout\",\"\")","v":""}]
[null,null,null,null,{"$f":"IF($C$4>6,\"AP-9 EP-3\",\"\")","v":""},{"$f":"IF($C$4>6,\"AP-9 EU-5\",\"\")","v":""},{"$f":"IF($C$4>6,\"Cold Aggregate Bins\",\"\")","v":""}]
[]
[null,null,null,null,{"$f":"IF($C$4>6,\"Stock Pile Area\",\"\")","v":""}]
[null,null,null,null,null,{"$f":"IF($C$4>6,\"Emission Unit #\",\"\")","v":""},{"$f":"IF($C$4>6,\"Maximum Storage Area (acres)\",\"\")","v":""},{"$f":"IF($C$4>6,\"Actual Storage Area (acres)\",\"\")","v":""},{"$f":"IF($C$4>6,\"Actual Days in Existence (days)\",\"\")","v":""}]
[]
[]
[null,{"$f":"IF($C$4>7,\"Asphalt Plant\",\"\")","v":""},{"$f":"IF($C$4>7,\"Site 8\",\"\")","v":""},null,{"$f":"IF($C$4>7,\"Emission Point #\",\"\")","v":""},{"$f":"IF($C$4>7,\"Emission    Unit #\",\"\")","v":""},{"$f":"IF($C$4>7,\"Process\",\"\")","v":""},{"$f":"IF($C$4>7,\"Maximum Hourly     Design Rate\",\"\")","v":""},{"$f":"IF($C$4>7,('Facility Information'!G110&\" Annual Throughput\"),\"\")","v":""}]
[]
[null,{"$f":"IF($C$4>7,\"Site Name\",\"\")","v":""},null,null,{"$f":"IF($C$4>7,\"Dryers, Hot Screens, Mixer\",\"\")","v":""},null,null,{"$f":"IF($C$4>7,\"(tons/hr)\",\"\")","v":""},{"$f":"IF($C$4>7,\"(tons/yr)\",\"\")","v":""},"PM2.5","PM10"]
[null,{"$f":"IF($C$4>7,\"County:\",\"\")","v":""},null,null,{"$f":"IF(C129=\"\",\"\",\"AP-9 EP-1\")","v":""},{"$f":"IF(C129=\"\",\"\",\"AP-9 EU-1\")","v":""},{"$f":"IF(C129=\"\",\"\",C5 & \" - \"&C129)","v":""},null,null,{"$f":"IF(C130=\"\",\"\",IF(C130=\"yes\",LOOKUP(G127,'Emission Factors'!$A$12:$A$17,'Emission Factors'!$D$12:$D$17),LOOKUP(G127,'Emission Factors'!$A$5:$A$10,'Emission Factors'!$D$5:$D$10)))","v":""},{"$f":"IF(C130=\"\",\"\",IF(C130=\"yes\",LOOKUP(G127,'Emission Factors'!$A$12:$A$17,'Emission Factors'!$F$12:$F$17),LOOKUP(G127,'Emission Factors'!$A$5:$A$10,'Emission Factors'!$F$5:$F$10)))","v":""}]
[null,{"$f":"IF($C$4>7,\"Production Period (Dates):\",\"\")","v":""},null,null,{"$f":"IF($C$4>7,\"Liquid Asphalt Heater\",\"\")","v":""},null,null,{"$f":"IF($C$4>7,IF(C129=\"natural gas\",\"(MMCF/hr)\",\"(gallons/hr)\"),\"\")","v":""},{"$f":"IF($C$4>7,IF(C129=\"natural gas\",\"(MMCF/yr)\",\"(gallons/yr)\"),\"\")","v":""}]
[null,{"$f":"IF($C$4>7,\"Type of Fuel Used:\",\"\")","v":""},null,null,{"$f":"IF(C129=\"\",\"\",\"AP-9 EP-2\")","v":""},{"$f":"IF(C129=\"\",\"\",\"AP-9 EU-2\")","v":""},{"$f":"IF(C129=\"\",\"\",C129& \" Fired Heater\")","v":""}]
[null,{"$f":"IF($C$4>7,\"Is Your Operation Controlled?:\",\"\")","v":""},null,null,{"$f":"IF($C$4>7,\"Silo Filling, Truck Loadout, Aggregate Transfer\",\"\")","v":""},null,null,{"$f":"IF($C$4>7,\"(tons/hr)\",\"\")","v":""},{"$f":"IF($C$4>7,\"(tons/yr)\",\"\")","v":""}]
[null,null,null,null,{"$f":"IF($C$4>7,\"AP-9 EP-3\",\"\")","v":""},{"$f":"IF($C$4>7,\"AP-9 EU-3\",\"\")","v":""},{"$f":"IF($C$4>7,\"Silo Filling\",\"\")","v":""}]
[null,null,null,null,{"$f":"IF($C$4>7,\"AP-9 EP-3\",\"\")","v":""},{"$f":"IF($C$4>7,\"AP-9 EU-4\",\"\")","v":""},{"$f":"IF($C$4>7,\"Truck Loadout\",\"\")","v":""}]
[null,null,null,null,{"$f":"IF($C$4>7,\"AP-9 EP-3\",\"\")","v":""},{"$f":"IF($C$4>7,\"AP-9 EU-5\",\"\")","v":""},{"$f":"IF($C$4>7,\"Cold Aggregate Bins\",\"\")","v":""}]
[]
[null,null,null,null,{"$f":"IF($C$4>7,\"Stock Pile Area\",\"\")","v":""}]
[null,null,null,null,null,{"$f":"IF($C$4>7,\"Emission Unit #\",\"\")","v":""},{"$f":"IF($C$4>7,\"Maximum Storage Area (acres)\",\"\")","v":""},{"$f":"IF($C$4>7,\"Actual Storage Area (acres)\",\"\")","v":""},{"$f":"IF($C$4>7,\"Actual Days in Existence (days)\",\"\")","v":""}]
[]
[]
[null,{"$f":"IF($C$4>8,\"Asphalt Plant\",\"\")","v":""},{"$f":"IF($C$4>8,\"Site 9\",\"\")","v":""},null,{"$f":"IF($C$4>8,\"Emission Point #\",\"\")","v":""},{"$f":"IF($C$4>8,\"Emission    Unit #\",\"\")","v":""},{"$f":"IF($C$4>8,\"Process\",\"\")","v":""},{"$f":"IF($C$4>8,\"Maximum Hourly     Design Rate\",\"\")","v":""},{"$f":"IF($C$4>8,('Facility Information'!G125&\" Annual Throughput\"),\"\")","v":""}]
[]
[null,{"$f":"IF($C$4>8,\"Site Name\",\"\")","v":""},null,null,{"$f":"IF($C$4>8,\"Dryers, Hot Screens, Mixer\",\"\")","v":""},null,null,{"$f":"IF($C$4>8,\"(tons/hr)\",\"\")","v":""},{"$f":"IF($C$4>8,\"(tons/yr)\",\"\")","v":""},"PM2.5","PM10"]
[null,{"$f":"IF($C$4>8,\"County:\",\"\")","v":""},null,null,{"$f":"IF(C144=\"\",\"\",\"AP-9 EP-1\")","v":""},{"$f":"IF(C144=\"\",\"\",\"AP-9 EU-1\")","v":""},{"$f":"IF(C144=\"\",\"\",C5 & \" - \"&C144)","v":""},null,null,{"$f":"IF(C145=\"\",\"\",IF(C145=\"yes\",LOOKUP(G142,'Emission Factors'!$A$12:$A$17,'Emission Factors'!$D$12:$D$17),LOOKUP(G142,'Emission Factors'!$A$5:$A$10,'Emission Factors'!$D$5:$D$10)))","v":""},{"$f":"IF(C145=\"\",\"\",IF(C145=\"yes\",LOOKUP(G142,'Emission Factors'!$A$12:$A$17,'Emission Factors'!$F$12:$F$17),LOOKUP(G142,'Emission Factors'!$A$5:$A$10,'Emission Factors'!$F$5:$F$10)))","v":""}]
[null,{"$f":"IF($C$4>8,\"Production Period (Dates):\",\"\")","v":""},null,null,{"$f":"IF($C$4>8,\"Liquid Asphalt Heater\",\"\")","v":""},null,null,{"$f":"IF($C$4>8,IF(C144=\"natural gas\",\"(MMCF/hr)\",\"(gallons/hr)\"),\"\")","v":""},{"$f":"IF($C$4>8,IF(C144=\"natural gas\",\"(MMCF/yr)\",\"(gallons/yr)\"),\"\")","v":""}]
[null,{"$f":"IF($C$4>8,\"Type of Fuel Used:\",\"\")","v":""},null,null,{"$f":"IF(C144=\"\",\"\",\"AP-9 EP-2\")","v":""},{"$f":"IF(C144=\"\",\"\",\"AP-9 EU-2\")","v":""},{"$f":"IF(C144=\"\",\"\",C144& \" Fired Heater\")","v":""}]
[null,{"$f":"IF($C$4>8,\"Is Your Operation Controlled?:\",\"\")","v":""},null,null,{"$f":"IF($C$4>8,\"Silo Filling, Truck Loadout, Aggregate Transfer\",\"\")","v":""},null,null,{"$f":"IF($C$4>8,\"(tons/hr)\",\"\")","v":""},{"$f":"IF($C$4>8,\"(tons/yr)\",\"\")","v":""}]
[null,null,null,null,{"$f":"IF($C$4>8,\"AP-9 EP-3\",\"\")","v":""},{"$f":"IF($C$4>8,\"AP-9 EU-3\",\"\")","v":""},{"$f":"IF($C$4>8,\"Silo Filling\",\"\")","v":""}]
[null,null,null,null,{"$f":"IF($C$4>8,\"AP-9 EP-3\",\"\")","v":""},{"$f":"IF($C$4>8,\"AP-9 EU-4\",\"\")","v":""},{"$f":"IF($C$4>8,\"Truck Loadout\",\"\")","v":""}]
[null,null,null,null,{"$f":"IF($C$4>8,\"AP-9 EP-3\",\"\")","v":""},{"$f":"IF($C$4>8,\"AP-9 EU-5\",\"\")","v":""},{"$f":"IF($C$4>8,\"Cold Aggregate Bins\",\"\")","v":""}]
[]
[null,null,null,null,{"$f":"IF($C$4>8,\"Stock Pile Area\",\"\")","v":""}]
[null,null,null,null,null,{"$f":"IF($C$4>8,\"Emission Unit #\",\"\")","v":""},{"$f":"IF($C$4>8,\"Maximum Storage Area (acres)\",\"\")","v":""},{"$f":"IF($C$4>8,\"Actual Storage Area (acres)\",\"\")","v":""},{"$f":"IF($C$4>8,\"Actual Days in Existence (days)\",\"\")","v":""}]
[]
[]
[null,{"$f":"IF($C$4>9,\"Asphalt Plant\",\"\")","v":""},{"$f":"IF($C$4>9,\"Site 10\",\"\")","v":""},null,{"$f":"IF($C$4>9,\"Emission Point #\",\"\")","v":""},{"$f":"IF($C$4>9,\"Emission    Unit #\",\"\")","v":""},{"$f":"IF($C$4>9,\"Process\",\"\")","v":""},{"$f":"IF($C$4>9,\"Maximum Hourly     Design Rate\",\"\")","v":""},{"$f":"IF($C$4>9,('Facility Information'!G140&\" Annual Throughput\"),\"\")","v":""}]
[]
[null,{"$f":"IF($C$4>9,\"Site Name\",\"\")","v":""},null,null,{"$f":"IF($C$4>9,\"Dryers, Hot Screens, Mixer\",\"\")","v":""},null,null,{"$f":"IF($C$4>9,\"(tons/hr)\",\"\")","v":""},{"$f":"IF($C$4>9,\"(tons/yr)\",\"\")","v":""},"PM2.5","PM10"]
[null,{"$f":"IF($C$4>9,\"County:\",\"\")","v":""},null,null,{"$f":"IF(C159=\"\",\"\",\"AP-9 EP-1\")","v":""},{"$f":"IF(C159=\"\",\"\",\"AP-9 EU-1\")","v":""},{"$f":"IF(C159=\"\",\"\",C5 & \" - \"&C159)","v":""},null,null,{"$f":"IF(C160=\"\",\"\",IF(C160=\"yes\",LOOKUP(G157,'Emission Factors'!$A$12:$A$17,'Emission Factors'!$D$12:$D$17),LOOKUP(G157,'Emission Factors'!$A$5:$A$10,'Emission Factors'!$D$5:$D$10)))","v":""},{"$f":"IF(C160=\"\",\"\",IF(C160=\"yes\",LOOKUP(G157,'Emission Factors'!$A$12:$A$17,'Emission Factors'!$F$12:$F$17),LOOKUP(G157,'Emission Factors'!$A$5:$A$10,'Emission Factors'!$F$5:$F$10)))","v":""}]
[null,{"$f":"IF($C$4>9,\"Production Period (Dates):\",\"\")","v":""},null,null,{"$f":"IF($C$4>9,\"Liquid Asphalt Heater\",\"\")","v":""},null,null,{"$f":"IF($C$4>9,IF(C159=\"natural gas\",\"(MMCF/hr)\",\"(gallons/hr)\"),\"\")","v":""},{"$f":"IF($C$4>9,IF(C159=\"natural gas\",\"(MMCF/yr)\",\"(gallons/yr)\"),\"\")","v":""}]
[null,{"$f":"IF($C$4>9,\"Type of Fuel Used:\",\"\")","v":""},null,null,{"$f":"IF(C159=\"\",\"\",\"AP-9 EP-2\")","v":""},{"$f":"IF(C159=\"\",\"\",\"AP-9 EU-2\")","v":""},{"$f":"IF(C159=\"\",\"\",C159& \" Fired Heater\")","v":""}]
[null,{"$f":"IF($C$4>9,\"Is Your Operation Controlled?:\",\"\")","v":""},null,null,{"$f":"IF($C$4>9,\"Silo Filling, Truck Loadout, Aggregate Transfer\",\"\")","v":""},null,null,{"$f":"IF($C$4>9,\"(tons/hr)\",\"\")","v":""},{"$f":"IF($C$4>9,\"(tons/yr)\",\"\")","v":""}]
[null,null,null,null,{"$f":"IF($C$4>9,\"AP-9 EP-3\",\"\")","v":""},{"$f":"IF($C$4>9,\"AP-9 EU-3\",\"\")","v":""},{"$f":"IF($C$4>9,\"Silo Filling\",\"\")","v":""}]
[null,null,null,null,{"$f":"IF($C$4>9,\"AP-9 EP-3\",\"\")","v":""},{"$f":"IF($C$4>9,\"AP-9 EU-4\",\"\")","v":""},{"$f":"IF($C$4>9,\"Truck Loadout\",\"\")","v":""}]
[null,null,null,null,{"$f":"IF($C$4>9,\"AP-9 EP-3\",\"\")","v":""},{"$f":"IF($C$4>9,\"AP-9 EU-5\",\"\")","v":""},{"$f":"IF($C$4>9,\"Cold Aggregate Bins\",\"\")","v":""}]
[]
[null,null,null,null,{"$f":"IF($C$4>9,\"Stock Pile Area\",\"\")","v":""}]
[null,null,null,null,null,{"$f":"IF($C$4>9,\"Emission Unit #\",\"\")","v":""},{"$f":"IF($C$4>9,\"Maximum Storage Area (acres)\",\"\")","v":""},{"$f":"IF($C$4>9,\"Actual Storage Area (acres)\",\"\")","v":""},{"$f":"IF($C$4>9,\"Actual Days in Existence (days)\",\"\")","v":""}]

{"sheet":"Asphalt Plant (AP-10)","index":10,"n_rows":166,"n_cols":20,"rows_kept":166,"cut":false,"hidden":true,"merged":[]}
[null,"ASPHALT PLANT (AP-10)"]
[null,"Please fill in the yellow boxes as applicable for your facility. ",null,null,null,null,null,null,"Values used for calculating emissions →",null,null,null,"Values Used to Calculate Actual Emissions for the Listed Processes at this Plant"]
[]
[null,{"$f":"\"Number of Sites this Plant operated at in \"&'Facility Information'!G5&\":\"","v":"Number of Sites this Plant operated at in :"},null,null,null,null,null,null,null,null,null,null,"Process","Maximum Design Rate","Units","Actual throughput",null,"** As of 2016 Potential Emissions are no longer required to be reported in the Minor Source Emissions Inventory**",null,"Units"]
[null,"Plant Type:",null,null,null,null,null,null,null,null,null,null,{"$f":"$C$5 & \" - Fuel Oil\"","v":" - Fuel Oil"},{"$f":"MAX((IFERROR(OFFSET($G$21,MATCH(M5,$G$22,0),1),0)),((IFERROR(OFFSET($G$35,MATCH(M5,$G$36,0),1),0))),((IFERROR(OFFSET($G$50,MATCH(M5,$G$51,0),1),0))),((IFERROR(OFFSET($G$65,MATCH(M5,$G$66,0),1),0))),((IFERROR(OFFSET($G$80,MATCH(M5,$G$81,0),1),0))),((IFERROR(OFFSET($G$96,MATCH(M5,$G$97,0),1),0))),((IFERROR(OFFSET($G$111,MATCH(M5,$G$112,0),1),0))),((IFERROR(OFFSET($G$126,MATCH(M5,$G$127,0),1),0))),((IFERROR(OFFSET($G$141,MATCH(M5,$G$142,0),1),0))),((IFERROR(OFFSET($G$156,MATCH(M5,$G$157,0),1),0))))","v":0},"tons/hr",{"$f":"SUM((IFERROR(OFFSET($G$21,MATCH(M5,$G$22,0),2),0)),((IFERROR(OFFSET($G$35,MATCH(M5,$G$36,0),2),0))),((IFERROR(OFFSET($G$50,MATCH(M5,$G$51,0),2),0))),((IFERROR(OFFSET($G$65,MATCH(M5,$G$66,0),2),0))),((IFERROR(OFFSET($G$80,MATCH(M5,$G$81,0),2),0))),((IFERROR(OFFSET($G$96,MATCH(M5,$G$97,0),2),0))),((IFERROR(OFFSET($G$111,MATCH(M5,$G$112,0),2),0))),((IFERROR(OFFSET($G$126,MATCH(M5,$G$127,0),2),0))),((IFERROR(OFFSET($G$141,MATCH(M5,$G$142,0),2),0))),((IFERROR(OFFSET($G$156,MATCH(M5,$G$157,0),2),0))))","v":0},null,null,null,"tons/yr"]
[null,null,null,null,null,null,null,null,null,null,null,null,{"$f":"$C$5 & \" - Waste Oil\"","v":" - Waste Oil"},{"$f":"MAX((IFERROR(OFFSET($G$21,MATCH(M6,$G$22,0),1),0)),((IFERROR(OFFSET($G$35,MATCH(M6,$G$36,0),1),0))),((IFERROR(OFFSET($G$50,MATCH(M6,$G$51,0),1),0))),((IFERROR(OFFSET($G$65,MATCH(M6,$G$66,0),1),0))),((IFERROR(OFFSET($G$80,MATCH(M6,$G$81,0),1),0))),((IFERROR(OFFSET($G$96,MATCH(M6,$G$97,0),1),0))),((IFERROR(OFFSET($G$111,MATCH(M6,$G$112,0),1),0))),((IFERROR(OFFSET($G$126,MATCH(M6,$G$127,0),1),0))),((IFERROR(OFFSET($G$141,MATCH(M6,$G$142,0),1),0))),((IFERROR(OFFSET($G$156,MATCH(M6,$G$157,0),1),0))))","v":0},"tons/hr",{"$f":"SUM((IFERROR(OFFSET($G$21,MATCH(M6,$G$22,0),2),0)),((IFERROR(OFFSET($G$35,MATCH(M6,$G$36,0),2),0))),((IFERROR(OFFSET($G$50,MATCH(M6,$G$51,0),2),0))),((IFERROR(OFFSET($G$65,MATCH(M6,$G$66,0),2),0))),((IFERROR(OFFSET($G$80,MATCH(M6,$G$81,0),2),0))),((IFERROR(OFFSET($G$96,MATCH(M6,$G$97,0),2),0))),((IFERROR(OFFSET($G$111,MATCH(M6,$G$112,0),2),0))),((IFERROR(OFFSET($G$126,MATCH(M6,$G$127,0),2),0))),((IFERROR(OFFSET($G$141,MATCH(M6,$G$142,0),2),0))),((IFERROR(OFFSET($G$156,MATCH(M6,$G$157,0),2),0))))","v":0},null,null,null,"tons/yr"]
[null,"Plant Specific Permit Number: ",null,null,null,null,null,null,null,null,null,null,{"$f":"$C$5 & \" - Natural Gas\"","v":" - Natural Gas"},{"$f":"MAX((IFERROR(OFFSET($G$21,MATCH(M7,$G$22,0),1),0)),((IFERROR(OFFSET($G$35,MATCH(M7,$G$36,0),1),0))),((IFERROR(OFFSET($G$50,MATCH(M7,$G$51,0),1),0))),((IFERROR(OFFSET($G$65,MATCH(M7,$G$66,0),1),0))),((IFERROR(OFFSET($G$80,MATCH(M7,$G$81,0),1),0))),((IFERROR(OFFSET($G$96,MATCH(M7,$G$97,0),1),0))),((IFERROR(OFFSET($G$111,MATCH(M7,$G$112,0),1),0))),((IFERROR(OFFSET($G$126,MATCH(M7,$G$127,0),1),0))),((IFERROR(OFFSET($G$141,MATCH(M7,$G$142,0),1),0))),((IFERROR(OFFSET($G$156,MATCH(M7,$G$157,0),1),0))))","v":0},"tons/hr",{"$f":"SUM((IFERROR(OFFSET($G$21,MATCH(M7,$G$22,0),2),0)),((IFERROR(OFFSET($G$35,MATCH(M7,$G$36,0),2),0))),((IFERROR(OFFSET($G$50,MATCH(M7,$G$51,0),2),0))),((IFERROR(OFFSET($G$65,MATCH(M7,$G$66,0),2),0))),((IFERROR(OFFSET($G$80,MATCH(M7,$G$81,0),2),0))),((IFERROR(OFFSET($G$96,MATCH(M7,$G$97,0),2),0))),((IFERROR(OFFSET($G$111,MATCH(M7,$G$112,0),2),0))),((IFERROR(OFFSET($G$126,MATCH(M7,$G$127,0),2),0))),((IFERROR(OFFSET($G$141,MATCH(M7,$G$142,0),2),0))),((IFERROR(OFFSET($G$156,MATCH(M7,$G$157,0),2),0))))","v":0},null,null,null,"tons/yr"]
[null,null,null,null,null,null,null,null,null,null,null,null,"Fuel Oil Fired Heater",{"$f":"MAX((IFERROR(OFFSET($G$23,MATCH(\"Fuel Oil Fired Heater\",$G$24,0),1),0)),((IFERROR(OFFSET($G$37,MATCH(\"Fuel Oil Fired Heater\",$G$38,0),1),0))),((IFERROR(OFFSET($G$52,MATCH(\"Fuel Oil Fired Heater\",$G$53,0),1),0))),((IFERROR(OFFSET($G$67,MATCH(\"Fuel Oil Fired Heater\",$G$68,0),1),0))),((IFERROR(OFFSET($G$82,MATCH(\"Fuel Oil Fired Heater\",$G$83,0),1),0))),((IFERROR(OFFSET($G$98,MATCH(\"Fuel Oil Fired Heater\",$G$99,0),1),0))),((IFERROR(OFFSET($G$113,MATCH(\"Fuel Oil Fired Heater\",$G$114,0),1),0))),((IFERROR(OFFSET($G$128,MATCH(\"Fuel Oil Fired Heater\",$G$129,0),1),0))),((IFERROR(OFFSET($G$143,MATCH(\"Fuel Oil Fired Heater\",$G$144,0),1),0))),((IFERROR(OFFSET($G$158,MATCH(\"Fuel Oil Fired Heater\",$G$159,0),1),0))))","v":0},"gallons/hr",{"$f":"SUM((IFERROR(OFFSET($G$23,MATCH(\"Fuel Oil Fired Heater\",$G$24,0),2),0)),((IFERROR(OFFSET($G$37,MATCH(\"Fuel Oil Fired Heater\",$G$38,0),2),0))),((IFERROR(OFFSET($G$52,MATCH(\"Fuel Oil Fired Heater\",$G$53,0),2),0))),((IFERROR(OFFSET($G$67,MATCH(\"Fuel Oil Fired Heater\",$G$68,0),2),0))),((IFERROR(OFFSET($G$82,MATCH(\"Fuel Oil Fired Heater\",$G$83,0),2),0))),((IFERROR(OFFSET($G$98,MATCH(\"Fuel Oil Fired Heater\",$G$99,0),2),0))),((IFERROR(OFFSET($G$113,MATCH(\"Fuel Oil Fired Heater\",$G$114,0),2),0))),((IFERROR(OFFSET($G$128,MATCH(\"Fuel Oil Fired Heater\",$G$129,0),2),0))),((IFERROR(OFFSET($G$143,MATCH(\"Fuel Oil Fired Heater\",$G$144,0),2),0))),((IFERROR(OFFSET($G$158,MATCH(\"Fuel Oil Fired Heater\",$G$159,0),2),0))))","v":0},null,null,null,"gallons/yr"]
[null,"Plant Specific Operating Limits:",null,null,"Plant Specific Emission Limits:",null,null,null,null,null,null,null,"Waste Oil Fired Heater",{"$f":"MAX((IFERROR(OFFSET($G$23,MATCH(\"waste oil Fired Heater\",$G$24,0),1),0)),((IFERROR(OFFSET($G$37,MATCH(\"waste oil Fired Heater\",$G$38,0),1),0))),((IFERROR(OFFSET($G$52,MATCH(\"waste oil Fired Heater\",$G$53,0),1),0))),((IFERROR(OFFSET($G$67,MATCH(\"waste oil Fired Heater\",$G$68,0),1),0))),((IFERROR(OFFSET($G$82,MATCH(\"waste oil Fired Heater\",$G$83,0),1),0))),((IFERROR(OFFSET($G$98,MATCH(\"waste oil Fired Heater\",$G$99,0),1),0))),((IFERROR(OFFSET($G$113,MATCH(\"waste oil Fired Heater\",$G$114,0),1),0))),((IFERROR(OFFSET($G$128,MATCH(\"waste oil Fired Heater\",$G$129,0),1),0))),((IFERROR(OFFSET($G$143,MATCH(\"waste oil Fired Heater\",$G$144,0),1),0))),((IFERROR(OFFSET($G$158,MATCH(\"waste oil Fired Heater\",$G$159,0),1),0))))","v":0},"gallons/hr",{"$f":"SUM((IFERROR(OFFSET($G$23,MATCH(\"waste oil Fired Heater\",$G$24,0),2),0)),((IFERROR(OFFSET($G$37,MATCH(\"waste oil Fired Heater\",$G$38,0),2),0))),((IFERROR(OFFSET($G$52,MATCH(\"waste oil Fired Heater\",$G$53,0),2),0))),((IFERROR(OFFSET($G$67,MATCH(\"waste oil Fired Heater\",$G$68,0),2),0))),((IFERROR(OFFSET($G$82,MATCH(\"waste oil Fired Heater\",$G$83,0),2),0))),((IFERROR(OFFSET($G$98,MATCH(\"waste oil Fired Heater\",$G$99,0),2),0))),((IFERROR(OFFSET($G$113,MATCH(\"waste oil Fired Heater\",$G$114,0),2),0))),((IFERROR(OFFSET($G$128,MATCH(\"waste oil Fired Heater\",$G$129,0),2),0))),((IFERROR(OFFSET($G$143,MATCH(\"waste oil Fired Heater\",$G$144,0),2),0))),((IFERROR(OFFSET($G$158,MATCH(\"waste oil Fired Heater\",$G$159,0),2),0))))","v":0},null,null,null,"gallons/yr"]
[null,"Throughput Limit (tons/yr):",null,null,"Pollutant","lb/hr","tons/yr",null,null,null,null,null,"Natural Gas Fired Heater",{"$f":"MAX((IFERROR(OFFSET($G$23,MATCH(\"Natural Gas Fired Heater\",$G$24,0),1),0)),((IFERROR(OFFSET($G$37,MATCH(\"Natural Gas Fired Heater\",$G$38,0),1),0))),((IFERROR(OFFSET($G$52,MATCH(\"Natural Gas Fired Heater\",$G$53,0),1),0))),((IFERROR(OFFSET($G$67,MATCH(\"Natural Gas Fired Heater\",$G$68,0),1),0))),((IFERROR(OFFSET($G$82,MATCH(\"Natural Gas Fired Heater\",$G$83,0),1),0))),((IFERROR(OFFSET($G$98,MATCH(\"Natural Gas Fired Heater\",$G$99,0),1),0))),((IFERROR(OFFSET($G$113,MATCH(\"Natural Gas Fired Heater\",$G$114,0),1),0))),((IFERROR(OFFSET($G$128,MATCH(\"Natural Gas Fired Heater\",$G$129,0),1),0))),((IFERROR(OFFSET($G$143,MATCH(\"Natural Gas Fired Heater\",$G$144,0),1),0))),((IFERROR(OFFSET($G$158,MATCH(\"Natural Gas Fired Heater\",$G$159,0),1),0))))","v":0},"MMCF/hr",{"$f":"SUM((IFERROR(OFFSET($G$23,MATCH(\"Natural Gas Fired Heater\",$G$24,0),2),0)),((IFERROR(OFFSET($G$37,MATCH(\"Natural Gas Fired Heater\",$G$38,0),2),0))),((IFERROR(OFFSET($G$52,MATCH(\"Natural Gas Fired Heater\",$G$53,0),2),0))),((IFERROR(OFFSET($G$67,MATCH(\"Natural Gas Fired Heater\",$G$68,0),2),0))),((IFERROR(OFFSET($G$82,MATCH(\"Natural Gas Fired Heater\",$G$83,0),2),0))),((IFERROR(OFFSET($G$98,MATCH(\"Natural Gas Fired Heater\",$G$99,0),2),0))),((IFERROR(OFFSET($G$113,MATCH(\"Natural Gas Fired Heater\",$G$114,0),2),0))),((IFERROR(OFFSET($G$128,MATCH(\"Natural Gas Fired Heater\",$G$129,0),2),0))),((IFERROR(OFFSET($G$143,MATCH(\"Natural Gas Fired Heater\",$G$144,0),2),0))),((IFERROR(OFFSET($G$158,MATCH(\"Natural Gas Fired Heater\",$G$159,0),2),0))))","v":0},null,null,null,"MMCF/yr"]
[null,"Daily Throughput Limit (tons/day):",null,null,"PM2.5",null,null,null,null,null,null,null,"Silo Filling",{"$f":"MAX((IFERROR(OFFSET($G$25,MATCH(\"Silo Filling\",$G$26,0),1),0)),((IFERROR(OFFSET($G$39,MATCH(\"Silo Filling\",$G$40,0),1),0))),((IFERROR(OFFSET($G$54,MATCH(\"Silo Filling\",$G$55,0),1),0))),((IFERROR(OFFSET($G$69,MATCH(\"Silo Filling\",$G$70,0),1),0))),((IFERROR(OFFSET($G$84,MATCH(\"Silo Filling\",$G$85,0),1),0))),((IFERROR(OFFSET($G$100,MATCH(\"Silo Filling\",$G$101,0),1),0))),((IFERROR(OFFSET($G$115,MATCH(\"Silo Filling\",$G$116,0),1),0))),((IFERROR(OFFSET($G$130,MATCH(\"Silo Filling\",$G$131,0),1),0))),((IFERROR(OFFSET($G$145,MATCH(\"Silo Filling\",$G$146,0),1),0))),((IFERROR(OFFSET($G$160,MATCH(\"Silo Filling\",$G$161,0),1),0))))","v":0},"tons/hr",{"$f":"SUM((IFERROR(OFFSET($G$25,MATCH(\"Silo Filling\",$G$26,0),2),0)),((IFERROR(OFFSET($G$39,MATCH(\"Silo Filling\",$G$40,0),2),0))),((IFERROR(OFFSET($G$54,MATCH(\"Silo Filling\",$G$55,0),2),0))),((IFERROR(OFFSET($G$69,MATCH(\"Silo Filling\",$G$70,0),2),0))),((IFERROR(OFFSET($G$84,MATCH(\"Silo Filling\",$G$85,0),2),0))),((IFERROR(OFFSET($G$100,MATCH(\"Silo Filling\",$G$101,0),2),0))),((IFERROR(OFFSET($G$115,MATCH(\"Silo Filling\",$G$116,0),2),0))),((IFERROR(OFFSET($G$130,MATCH(\"Silo Filling\",$G$131,0),2),0))),((IFERROR(OFFSET($G$145,MATCH(\"Silo Filling\",$G$146,0),2),0))),((IFERROR(OFFSET($G$160,MATCH(\"Silo Filling\",$G$161,0),2),0))))","v":0},null,null,null,"tons/yr"]
[null,"Hours of Operation Limit (hours/day):",null,null,"PM10",null,null,null,null,null,null,null,"Truck Loadout",{"$f":"MAX((IFERROR(OFFSET(G26,MATCH(\"Truck Loadout\",G27,0),1),0)),((IFERROR(OFFSET(G40,MATCH(\"Truck Loadout\",G41,0),1),0))),((IFERROR(OFFSET(G55,MATCH(\"Truck Loadout\",G56,0),1),0))),((IFERROR(OFFSET(G70,MATCH(\"Truck Loadout\",G71,0),1),0))),((IFERROR(OFFSET(G85,MATCH(\"Truck Loadout\",G86,0),1),0))),((IFERROR(OFFSET(G101,MATCH(\"Truck Loadout\",G102,0),1),0))),((IFERROR(OFFSET(G116,MATCH(\"Truck Loadout\",G117,0),1),0))),((IFERROR(OFFSET(G131,MATCH(\"Truck Loadout\",G132,0),1),0))),((IFERROR(OFFSET(G146,MATCH(\"Truck Loadout\",G147,0),1),0))),((IFERROR(OFFSET(G161,MATCH(\"Truck Loadout\",G162,0),1),0))))","v":0},"tons/hr",{"$f":"SUM((IFERROR(OFFSET(G26,MATCH(\"Truck Loadout\",G27,0),2),0)),((IFERROR(OFFSET(G40,MATCH(\"Truck Loadout\",G41,0),2),0))),((IFERROR(OFFSET(G55,MATCH(\"Truck Loadout\",G56,0),2),0))),((IFERROR(OFFSET(G70,MATCH(\"Truck Loadout\",G71,0),2),0))),((IFERROR(OFFSET(G85,MATCH(\"Truck Loadout\",G86,0),2),0))),((IFERROR(OFFSET(G101,MATCH(\"Truck Loadout\",G102,0),2),0))),((IFERROR(OFFSET(G116,MATCH(\"Truck Loadout\",G117,0),2),0))),((IFERROR(OFFSET(G131,MATCH(\"Truck Loadout\",G132,0),2),0))),((IFERROR(OFFSET(G146,MATCH(\"Truck Loadout\",G147,0),2),0))),((IFERROR(OFFSET(G161,MATCH(\"Truck Loadout\",G162,0),2),0))))","v":0},null,null,null,"tons/yr"]
["Fuel Oil","Note: if the plant has an hrs/day and a tons/hr permit limit, those values",null,null,"SO2",null,null,null,null,null,null,null,"Cold Aggregate Bins",{"$f":"MAX((IFERROR(OFFSET(G27,MATCH(\"Cold Aggregate Bins\",G28,0),1),0)),((IFERROR(OFFSET(G41,MATCH(\"Cold Aggregate Bins\",G42,0),1),0))),((IFERROR(OFFSET(G56,MATCH(\"Cold Aggregate Bins\",G57,0),1),0))),((IFERROR(OFFSET(G71,MATCH(\"Cold Aggregate Bins\",G72,0),1),0))),((IFERROR(OFFSET(G86,MATCH(\"Cold Aggregate Bins\",G87,0),1),0))),((IFERROR(OFFSET(G102,MATCH(\"Cold Aggregate Bins\",G103,0),1),0))),((IFERROR(OFFSET(G117,MATCH(\"Cold Aggregate Bins\",G118,0),1),0))),((IFERROR(OFFSET(G132,MATCH(\"Cold Aggregate Bins\",G133,0),1),0))),((IFERROR(OFFSET(G147,MATCH(\"Cold Aggregate Bins\",G148,0),1),0))),((IFERROR(OFFSET(G162,MATCH(\"Cold Aggregate Bins\",G163,0),1),0))))","v":0},"tons/hr",{"$f":"SUM((IFERROR(OFFSET(G27,MATCH(\"Cold Aggregate Bins\",G28,0),2),0)),((IFERROR(OFFSET(G41,MATCH(\"Cold Aggregate Bins\",G42,0),2),0))),((IFERROR(OFFSET(G56,MATCH(\"Cold Aggregate Bins\",G57,0),2),0))),((IFERROR(OFFSET(G71,MATCH(\"Cold Aggregate Bins\",G72,0),2),0))),((IFERROR(OFFSET(G86,MATCH(\"Cold Aggregate Bins\",G87,0),2),0))),((IFERROR(OFFSET(G102,MATCH(\"Cold Aggregate Bins\",G103,0),2),0))),((IFERROR(OFFSET(G117,MATCH(\"Cold Aggregate Bins\",G118,0),2),0))),((IFERROR(OFFSET(G132,MATCH(\"Cold Aggregate Bins\",G133,0),2),0))),((IFERROR(OFFSET(G147,MATCH(\"Cold Aggregate Bins\",G148,0),2),0))),((IFERROR(OFFSET(G162,MATCH(\"Cold Aggregate Bins\",G163,0),2),0))))","v":0},null,null,null,"tons/yr"]
["Natural Gas","should be multiplied together to calculate a tons/day limit and that value ",null,null,"NOx",null,null,null,null,null,null,null,null,"Maximum (acres)","Actual (acres-day/yr)"]
["Waste Oil","should be placed in cell C11.",null,null,"VOC",null,null,null,null,null,null,null,"Storage Pile",{"$f":"SUM(G32,G46,G61,G76,G91,G107,G122,G137,G152,G167,)","v":0},{"$f":"SUM(H32*I32,H46*I46,H61*I61,H76*I76,H91*I91,H107*I107,H122*I122,H137*I137,H152*I152,H167*I167)","v":0}]
[null,null,null,null,"CO"]
["Batch Mix Plant"]
["Drum Mix Plant",null,null,null,null,null,null,null,null,null,null,null,"Actual Emissions for the Listed Processes at this Plant"]
[null,"Asphalt Plant","Site 1",null,"Emission Point #","Emission     Unit #","Processes","Maximum Hourly     Design Rate",{"$f":"('Facility Information'!G5&\" Annual Throughput\")","v":" Annual Throughput"},null,null,null,"PM2.5","Maximum Design Rate (tons/hr)","Emission Factor","Units","Potential Uncontrolled Emissions (lb/hr)","Potential Controlled Emissions (lb/hr)","Potential Annual Emissions (tons/yr)","Actual Annual Emissions (tons/yr)"]
["YES",null,null,null,null,null,null,null,null,null,null,null,{"$f":"$C$5 & \" - Fuel Oil\"","v":" - Fuel Oil"},{"$f":"N5","v":0},{"$f":"IF(N20=0,0,IF(MAX((IFERROR(OFFSET($G$21,MATCH(M20,$G$22,0),3),0)),((IFERROR(OFFSET($G$35,MATCH(M20,$G$36,0),3),0))),((IFERROR(OFFSET($G$50,MATCH(M20,$G$51,0),3),0))),((IFERROR(OFFSET($G$65,MATCH(M20,$G$66,0),3),0))),((IFERROR(OFFSET($G$80,MATCH(M20,$G$81,0),3),0))),((IFERROR(OFFSET($G$96,MATCH(M20,$G$97,0),3),0))),((IFERROR(OFFSET($G$111,MATCH(M20,$G$112,0),3),0))),((IFERROR(OFFSET($G$126,MATCH(M20,$G$127,0),3),0))),((IFERROR(OFFSET($G$141,MATCH(M20,$G$142,0),3),0))),((IFERROR(OFFSET($G$156,MATCH(M20,$G$157,0),3),0))))=0,0,(MAX((IFERROR(OFFSET($G$21,MATCH(M20,$G$22,0),3),0)),((IFERROR(OFFSET($G$35,MATCH(M20,$G$36,0),3),0))),((IFERROR(OFFSET($G$50,MATCH(M20,$G$51,0),3),0))),((IFERROR(OFFSET($G$65,MATCH(M20,$G$66,0),3),0))),((IFERROR(OFFSET($G$80,MATCH(M20,$G$81,0),3),0))),((IFERROR(OFFSET($G$96,MATCH(M20,$G$97,0),3),0))),((IFERROR(OFFSET($G$111,MATCH(M20,$G$112,0),3),0))),((IFERROR(OFFSET($G$126,MATCH(M20,$G$127,0),3),0))),((IFERROR(OFFSET($G$141,MATCH(M20,$G$142,0),3),0))),((IFERROR(OFFSET($G$156,MATCH(M20,$G$157,0),3),0)))))))","v":0},{"$f":"IF(O20=\"\",\"\",\"lb/ton\")","v":"lb/ton"},{"$f":"IF(O20=0.27,N20*O20,IF(O20=1.54,N20*O20,\"\"))","v":""},{"$f":"IF(N20=0,\"\",IF(AND($F$11>0,$O$20>=$O$21,$O$20>=$O$22),$F$11,IF(O20=0.0083,N20*O20,IF(O20=0.007,N20*O20,\"\"))))","v":""},{"$f":"IF(N20=0,0,IF($G$11>0,$G$11,IF(AND(OR($C$10>0,$C$11>0,$C$12>0),$O$20>=$O$21,$O$20>=$O$22),(IF($C$10>0,$C$10*O20/2000,IF($C$11>0,$C$11*365*O20/2000,IF($C$12>0,$C$12*365*O20*N20/2000)))),IF(AND($F$11>0,$O$20>=$O$21,$O$20>=$O$22),$F$11*8760/2000,IF(AND(OR($C$10=\"\",$C$10=0),OR($C$11=\"\",$C$11=0),OR($C$12=\"\",$C$12=0),$F$11=\"\"),IF(R20=\"\",Q20*8760/2000,R20*8760/2000),\"\")))))","v":0},{"$f":"IF(N20=\"\",\"\",SUM((IFERROR(MATCH(M20,$G$22,0)*$I$22*$J$22/2000,0)),(IFERROR(MATCH(M20,$G$36,0)*$I$36*$J$36/2000,0)),(IFERROR(MATCH(M20,$G$51,0)*$I$51*$J$51/2000,0)),(IFERROR(MATCH(M20,$G$66,0)*$I$66*$J$66/2000,0)),(IFERROR(MATCH(M20,$G$81,0)*$I$81*$J$81/2000,0)),(IFERROR(MATCH(M20,$G$97,0)*$I$97*$J$97/2000,0)),(IFERROR(MATCH(M20,$G$112,0)*$I$112*$J$112/2000,0)),(IFERROR(MATCH(M20,$G$127,0)*$I$127*$J$127/2000,0)),(IFERROR(MATCH(M20,$G$142,0)*$I$142*$J$142/2000,0)),(IFERROR(MATCH(M20,$G$157,0)*$I$157*$J$157/2000,0))))","v":0}]
["NO","Site Name:",null,null,"Dryer, Hot Screens, Mixer",null,null,"(tons/hr)","(tons/yr)","PM2.5","PM10",null,{"$f":"$C$5 & \" - Waste Oil\"","v":" - Waste Oil"},{"$f":"N6","v":0},{"$f":"IF(N21=0,0,IF(MAX((IFERROR(OFFSET($G$21,MATCH(M21,$G$22,0),3),0)),((IFERROR(OFFSET($G$35,MATCH(M21,$G$36,0),3),0))),((IFERROR(OFFSET($G$50,MATCH(M21,$G$51,0),3),0))),((IFERROR(OFFSET($G$65,MATCH(M21,$G$66,0),3),0))),((IFERROR(OFFSET($G$80,MATCH(M21,$G$81,0),3),0))),((IFERROR(OFFSET($G$96,MATCH(M21,$G$97,0),3),0))),((IFERROR(OFFSET($G$111,MATCH(M21,$G$112,0),3),0))),((IFERROR(OFFSET($G$126,MATCH(M21,$G$127,0),3),0))),((IFERROR(OFFSET($G$141,MATCH(M21,$G$142,0),3),0))),((IFERROR(OFFSET($G$156,MATCH(M21,$G$157,0),3),0))))=0,0,(MAX((IFERROR(OFFSET($G$21,MATCH(M21,$G$22,0),3),0)),((IFERROR(OFFSET($G$35,MATCH(M21,$G$36,0),3),0))),((IFERROR(OFFSET($G$50,MATCH(M21,$G$51,0),3),0))),((IFERROR(OFFSET($G$65,MATCH(M21,$G$66,0),3),0))),((IFERROR(OFFSET($G$80,MATCH(M21,$G$81,0),3),0))),((IFERROR(OFFSET($G$96,MATCH(M21,$G$97,0),3),0))),((IFERROR(OFFSET($G$111,MATCH(M21,$G$112,0),3),0))),((IFERROR(OFFSET($G$126,MATCH(M21,$G$127,0),3),0))),((IFERROR(OFFSET($G$141,MATCH(M21,$G$142,0),3),0))),((IFERROR(OFFSET($G$156,MATCH(M21,$G$157,0),3),0)))))))","v":0},"lb/ton",{"$f":"IF(O21=0.27,N21*O21,IF(O21=1.54,N21*O21,\"\"))","v":""},{"$f":"IF(N21=0,\"\",IF(AND($F$11>0,$O$21>$O$20,$O$21>=$O$22),$F$11,IF(O21=0.0083,N21*O21,IF(O21=0.007,N21*O21,\"\"))))","v":""},{"$f":"IF(N21=0,0,IF($G$11>0,IF(S20=0,G11,\"\"),IF(AND(OR($C$10>0,$C$11>0,$C$12>0),$O$21>$O$20,$O$21>=$O$22),(IF($C$10>0,$C$10*O21/2000,IF($C$11>0,$C$11*365*O21/2000,IF($C$12>0,$C$12*365*O21*N21/2000)))),IF(AND($F$11>0,$O$21>$O$20,$O$21>=$O$22),$F$11*8760/2000,IF(AND(OR($C$10=\"\",$C$10=0),OR($C$11=\"\",$C$11=0),OR($C$12=\"\",$C$12=0),$F$11=\"\"),IF(R21=\"\",Q21*8760/2000,R21*8760/2000),\"\")))))","v":0},{"$f":"IF(N21=\"\",\"\",SUM((IFERROR(MATCH(M21,$G$22,0)*$I$22*$J$22/2000,0)),(IFERROR(MATCH(M21,$G$36,0)*$I$36*$J$36/2000,0)),(IFERROR(MATCH(M21,$G$51,0)*$I$51*$J$51/2000,0)),(IFERROR(MATCH(M21,$G$66,0)*$I$66*$J$66/2000,0)),(IFERROR(MATCH(M21,$G$81,0)*$I$81*$J$81/2000,0)),(IFERROR(MATCH(M21,$G$97,0)*$I$97*$J$97/2000,0)),(IFERROR(MATCH(M21,$G$112,0)*$I$112*$J$112/2000,0)),(IFERROR(MATCH(M21,$G$127,0)*$I$127*$J$127/2000,0)),(IFERROR(MATCH(M21,$G$142,0)*$I$142*$J$142/2000,0)),(IFERROR(MATCH(M21,$G$157,0)*$I$157*$J$157/2000,0))))","v":0}]
[null,"County:",null,null,{"$f":"IF($C$4>0,\"AP-10 EP-1\",\"\")","v":""},{"$f":"IF($C$4>0,\"AP-10 EU-1\",\"\")","v":""},{"$f":"IF(C24=\"\",\"\",C5 & \" - \"&C24)","v":""},null,null,{"$f":"IF(C25=\"\",\"\",IF(C25=\"yes\",LOOKUP(G22,'Emission Factors'!$A$12:$A$17,'Emission Factors'!$D$12:$D$17),LOOKUP(G22,'Emission Factors'!$A$5:$A$10,'Emission Factors'!$D$5:$D$10)))","v":""},{"$f":"IF(C25=\"\",\"\",IF(C25=\"yes\",LOOKUP(G22,'Emission Factors'!$A$12:$A$17,'Emission Factors'!$F$12:$F$17),LOOKUP(G22,'Emission Factors'!$A$5:$A$10,'Emission Factors'!$F$5:$F$10)))","v":""},null,{"$f":"$C$5 & \" - Natural Gas\"","v":" - Natural Gas"},{"$f":"N7","v":0},{"$f":"IF(N22=0,0,IF(MAX((IFERROR(OFFSET($G$21,MATCH(M22,$G$22,0),3),0)),((IFERROR(OFFSET($G$35,MATCH(M22,$G$36,0),3),0))),((IFERROR(OFFSET($G$50,MATCH(M22,$G$51,0),3),0))),((IFERROR(OFFSET($G$65,MATCH(M22,$G$66,0),3),0))),((IFERROR(OFFSET($G$80,MATCH(M22,$G$81,0),3),0))),((IFERROR(OFFSET($G$96,MATCH(M22,$G$97,0),3),0))),((IFERROR(OFFSET($G$111,MATCH(M22,$G$112,0),3),0))),((IFERROR(OFFSET($G$126,MATCH(M22,$G$127,0),3),0))),((IFERROR(OFFSET($G$141,MATCH(M22,$G$142,0),3),0))),((IFERROR(OFFSET($G$156,MATCH(M22,$G$157,0),3),0))))=0,0,(MAX((IFERROR(OFFSET($G$21,MATCH(M22,$G$22,0),3),0)),((IFERROR(OFFSET($G$35,MATCH(M22,$G$36,0),3),0))),((IFERROR(OFFSET($G$50,MATCH(M22,$G$51,0),3),0))),((IFERROR(OFFSET($G$65,MATCH(M22,$G$66,0),3),0))),((IFERROR(OFFSET($G$80,MATCH(M22,$G$81,0),3),0))),((IFERROR(OFFSET($G$96,MATCH(M22,$G$97,0),3),0))),((IFERROR(OFFSET($G$111,MATCH(M22,$G$112,0),3),0))),((IFERROR(OFFSET($G$126,MATCH(M22,$G$127,0),3),0))),((IFERROR(OFFSET($G$141,MATCH(M22,$G$142,0),3),0))),((IFERROR(OFFSET($G$156,MATCH(M22,$G$157,0),3),0)))))))","v":0},"lb/ton",{"$f":"IF(O22=0.27,N22*O22,IF(O22=1.54,N22*O22,\"\"))","v":""},{"$f":"IF(N22=0,\"\",IF(AND($F$11>0,$O$22>$O$20,$O$22>$O$20),$F$11,IF(O22=0.0083,N22*O22,IF(O22=0.007,N22*O22,\"\"))))","v":""},{"$f":"IF(N22=0,0,IF($G$11>0,IF(AND(S20=0,S21=0),\"\"),IF(AND(OR($C$10>0,$C$11>0,$C$12>0),$O$22>$O$20,$O$22>$O$20),(IF($C$10>0,$C$10*O22/2000,IF($C$11>0,$C$11*365*O22/2000,IF($C$12>0,$C$12*365*O22*N22/2000)))),IF(AND($F$11>0,$O$22>$O$20,$O$22>$O$20),$F$11*8760/2000,IF(AND(OR($C$10=\"\",$C$10=0),OR($C$11=\"\",$C$11=0),OR($C$12=\"\",$C$12=0),$F$11=\"\"),IF(R22=\"\",Q22*8760/2000,R22*8760/2000),\"\")))))","v":0},{"$f":"IF(N22=\"\",\"\",SUM((IFERROR(MATCH(M22,$G$22,0)*$I$22*$J$22/2000,0)),(IFERROR(MATCH(M22,$G$36,0)*$I$36*$J$36/2000,0)),(IFERROR(MATCH(M22,$G$51,0)*$I$51*$J$51/2000,0)),(IFERROR(MATCH(M22,$G$66,0)*$I$66*$J$66/2000,0)),(IFERROR(MATCH(M22,$G$81,0)*$I$81*$J$81/2000,0)),(IFERROR(MATCH(M22,$G$97,0)*$I$97*$J$97/2000,0)),(IFERROR(MATCH(M22,$G$112,0)*$I$112*$J$112/2000,0)),(IFERROR(MATCH(M22,$G$127,0)*$I$127*$J$127/2000,0)),(IFERROR(MATCH(M22,$G$142,0)*$I$142*$J$142/2000,0)),(IFERROR(MATCH(M22,$G$157,0)*$I$157*$J$157/2000,0))))","v":0}]
[null,"Production Period (Dates):",null,null,"Liquid Asphalt Heater",null,null,{"$f":"IF(C24=\"natural gas\", \"(MMCF/hr)\",\"(gallons/hr)\")","v":"(gallons/hr)"},{"$f":"IF(C24=\"natural gas\", \"(MMCF/yr)\",\"(gallons/yr)\")","v":"(gallons/yr)"},null,null,null,"Silo Filling",{"$f":"N11","v":0},{"$f":"IF(N23=0,0,IF(N23=0,0,LOOKUP(M23,'Emission Factors'!$A$23:$A$25,'Emission Factors'!$D$23:$D$25)))","v":0},"lb/ton",{"$f":"N23*O23","v":0},null,{"$f":"IF($G$11>0,\"\",IF($C$10>0,$C$10*O23/2000,IF($C$11>0,$C$11*365*O23/2000,IF($C$12>0,$C$12*365*O23*N23/2000,IF($F$11>0,\"\",IF(R23=\"\",Q23*8760/2000,R23*8760/2000))))))","v":0},{"$f":"(P11*O23/2000)","v":0}]
[null,"Type of Fuel Used:",null,null,{"$f":"IF($C$4>0,\"AP-10 EP-2\",\"\")","v":""},{"$f":"IF($C$4>0,\"AP-10 EU-2\",\"\")","v":""},{"$f":"IF(C24=\"\",\"\",C24& \" Fired Heater\")","v":""},null,null,null,null,null,"Truck Loadout",{"$f":"N12","v":0},{"$f":"IF(N24=0,0,IF(N24=0,0,LOOKUP(M24,'Emission Factors'!$A$23:$A$25,'Emission Factors'!$D$23:$D$25)))","v":0},"lb/ton",{"$f":"N24*O24","v":0},null,{"$f":"IF($G$11>0,\"\",IF($C$10>0,$C$10*O24/2000,IF($C$11>0,$C$11*365*O24/2000,IF($C$12>0,$C$12*365*O24*N24/2000,IF($F$11>0,\"\",IF(R24=\"\",Q24*8760/2000,R24*8760/2000))))))","v":0},{"$f":"(P12*O24/2000)","v":0}]
[null,"Is Your Operation Controlled?:",null,null,"Silo Filling, Truck Loadout, Aggregate Transfer",null,null,"(tons/hr)","(tons/yr)",null,null,null,"Cold Aggregate Bins",{"$f":"N13","v":0},{"$f":"IF(N25=0,0,IF(N25=0,0,LOOKUP(M25,'Emission Factors'!A23:A25,'Emission Factors'!D23:D25)))","v":0},"lb/ton",{"$f":"N25*O25","v":0},null,{"$f":"IF($G$11>0,\"\",IF($C$10>0,$C$10*O25/2000,IF($C$11>0,$C$11*365*O25/2000,IF($C$12>0,$C$12*365*O25*N25/2000,IF($F$11>0,\"\",IF(R25=\"\",Q25*8760/2000,R25*8760/2000))))))","v":0},{"$f":"(P13*O25/2000)","v":0}]
[null,null,null,null,{"$f":"IF($C$4>0,\"AP-10 EP-3\",\"\")","v":""},{"$f":"IF($C$4>0,\"AP-10 EU-3\",\"\")","v":""},{"$f":"IF(C5=\"\",\"\",\"Silo Filling\")","v":""},null,null,null,null,null,"PM10"]
[null,null,null,null,{"$f":"IF($C$4>0,\"AP-10 EP-3\",\"\")","v":""},{"$f":"IF($C$4>0,\"AP-10 EU-4\",\"\")","v":""},{"$f":"IF(C5=\"\",\"\",\"Truck Loadout\")","v":""},null,null,null,null,null,{"$f":"$C$5 & \" - Fuel Oil\"","v":" - Fuel Oil"},{"$f":"N5","v":0},{"$f":"IF(N27=0,0,IF(MAX((IFERROR(OFFSET($G$21,MATCH(M27,$G$22,0),4),0)),((IFERROR(OFFSET($G$35,MATCH(M27,$G$36,0),4),0))),((IFERROR(OFFSET($G$50,MATCH(M27,$G$51,0),4),0))),((IFERROR(OFFSET($G$65,MATCH(M27,$G$66,0),4),0))),((IFERROR(OFFSET($G$80,MATCH(M27,$G$81,0),3),0))),((IFERROR(OFFSET($G$96,MATCH(M27,$G$97,0),4),0))),((IFERROR(OFFSET($G$111,MATCH(M27,$G$112,0),4),0))),((IFERROR(OFFSET($G$126,MATCH(M27,$G$127,0),4),0))),((IFERROR(OFFSET($G$141,MATCH(M27,$G$142,0),4),0))),((IFERROR(OFFSET($G$156,MATCH(M27,$G$157,0),4),0))))=0,0,(MAX((IFERROR(OFFSET($G$21,MATCH(M27,$G$22,0),4),0)),((IFERROR(OFFSET($G$35,MATCH(M27,$G$36,0),4),0))),((IFERROR(OFFSET($G$50,MATCH(M27,$G$51,0),4),0))),((IFERROR(OFFSET($G$65,MATCH(M27,$G$66,0),4),0))),((IFERROR(OFFSET($G$80,MATCH(M27,$G$81,0),4),0))),((IFERROR(OFFSET($G$96,MATCH(M27,$G$97,0),4),0))),((IFERROR(OFFSET($G$111,MATCH(M27,$G$112,0),4),0))),((IFERROR(OFFSET($G$126,MATCH(M27,$G$127,0),4),0))),((IFERROR(OFFSET($G$141,MATCH(M27,$G$142,0),4),0))),((IFERROR(OFFSET($G$156,MATCH(M27,$G$157,0),4),0)))))))","v":0},{"$f":"IF(O27=\"\",\"\",\"lb/ton\")","v":"lb/ton"},{"$f":"IF(O27=4.5,N27*O27,IF(O27=6.5,N27*O27,\"\"))","v":""},{"$f":"IF(N27=0,\"\",IF(AND($F$12>0,$O$27>=$O$28,$O$27>=$O$29),$F$12,IF(O27=0.0098,N27*O27,IF(O27=0.023,N27*O27,\"\"))))","v":""},{"$f":"IF(N27=0,0,IF($G$12>0,$G$12,IF(AND(OR($C$10>0,$C$11>0,$C$12>0),$O$27>=$O$28,$O$27>=$O$29),(IF($C$10>0,$C$10*O27/2000,IF($C$11>0,$C$11*365*O27/2000,IF($C$12>0,$C$12*365*O27*N27/2000)))),IF(AND($F$12>0,$O$27>=$O$28,$O$27>=$O$29),$F$12*8760/2000,IF(AND(OR($C$10=\"\",$C$10=0),OR($C$11=\"\",$C$11=0),OR($C$12=\"\",$C$12=0),$F$12=\"\"),IF(R27=\"\",Q27*8760/2000,R27*8760/2000),\"\")))))","v":0},{"$f":"IF(N27=\"\",\"\",SUM((IFERROR(MATCH(M27,$G$22,0)*$I$22*$K$22/2000,0)),(IFERROR(MATCH(M27,$G$36,0)*$I$36*$K$36/2000,0)),(IFERROR(MATCH(M27,$G$51,0)*$I$51*$K$51/2000,0)),(IFERROR(MATCH(M27,$G$66,0)*$I$66*$K$66/2000,0)),(IFERROR(MATCH(M27,$G$81,0)*$I$81*$K$81/2000,0)),(IFERROR(MATCH(M27,$G$97,0)*$I$97*$K$97/2000,0)),(IFERROR(MATCH(M27,$G$112,0)*$I$112*$K$112/2000,0)),(IFERROR(MATCH(M27,$G$127,0)*$I$127*$K$127/2000,0)),(IFERROR(MATCH(M27,$G$142,0)*$I$142*$K$142/2000,0)),(IFERROR(MATCH(M27,$G$157,0)*$I$157*$K$157/2000,0))))","v":0}]
[null,null,null,null,{"$f":"IF($C$4>0,\"AP-10 EP-3\",\"\")","v":""},{"$f":"IF($C$4>0,\"AP-10 EU-5\",\"\")","v":""},{"$f":"IF(C5=\"\",\"\",\"Cold Aggregate Bins\")","v":""},null,null,null,null,null,{"$f":"$C$5 & \" - Waste Oil\"","v":" - Waste Oil"},{"$f":"N6","v":0},{"$f":"IF(N28=0,0,IF(MAX((IFERROR(OFFSET($G$21,MATCH(M28,$G$22,0),4),0)),((IFERROR(OFFSET($G$35,MATCH(M28,$G$36,0),4),0))),((IFERROR(OFFSET($G$50,MATCH(M28,$G$51,0),4),0))),((IFERROR(OFFSET($G$65,MATCH(M28,$G$66,0),4),0))),((IFERROR(OFFSET($G$80,MATCH(M28,$G$81,0),3),0))),((IFERROR(OFFSET($G$96,MATCH(M28,$G$97,0),4),0))),((IFERROR(OFFSET($G$111,MATCH(M28,$G$112,0),4),0))),((IFERROR(OFFSET($G$126,MATCH(M28,$G$127,0),4),0))),((IFERROR(OFFSET($G$141,MATCH(M28,$G$142,0),4),0))),((IFERROR(OFFSET($G$156,MATCH(M28,$G$157,0),4),0))))=0,0,(MAX((IFERROR(OFFSET($G$21,MATCH(M28,$G$22,0),4),0)),((IFERROR(OFFSET($G$35,MATCH(M28,$G$36,0),4),0))),((IFERROR(OFFSET($G$50,MATCH(M28,$G$51,0),4),0))),((IFERROR(OFFSET($G$65,MATCH(M28,$G$66,0),4),0))),((IFERROR(OFFSET($G$80,MATCH(M28,$G$81,0),4),0))),((IFERROR(OFFSET($G$96,MATCH(M28,$G$97,0),4),0))),((IFERROR(OFFSET($G$111,MATCH(M28,$G$112,0),4),0))),((IFERROR(OFFSET($G$126,MATCH(M28,$G$127,0),4),0))),((IFERROR(OFFSET($G$141,MATCH(M28,$G$142,0),4),0))),((IFERROR(OFFSET($G$156,MATCH(M28,$G$157,0),4),0)))))))","v":0},"lb/ton",{"$f":"IF(O28=4.5,N28*O28,IF(O28=6.5,N28*O28,\"\"))","v":""},{"$f":"IF(N28=0,\"\",IF(AND($F$12>0,$O$28>$O$27,$O$28>=$O$29),$F$12,IF(O28=0.0098,N28*O28,IF(O28=0.023,N28*O28,\"\"))))","v":""},{"$f":"IF(N28=0,0,IF($G$12>0,IF(S27=0,$G$12,\"\"),IF(AND(OR($C$10>0,$C$11>0,$C$12>0),$O$28>$O$27,$O$28>=$O$29),(IF($C$10>0,$C$10*O28/2000,IF($C$11>0,$C$11*365*O28/2000,IF($C$12>0,$C$12*365*O28*N28/2000)))),IF(AND($F$12>0,$O$28>$O$27,$O$28>=$O$29),$F$12*8760/2000,IF(AND(OR($C$10=\"\",$C$10=0),OR($C$11=\"\",$C$11=0),OR($C$12=\"\",$C$12=0),$F$12=\"\"),IF(R28=\"\",Q28*8760/2000,R28*8760/2000),\"\")))))","v":0},{"$f":"IF(N28=\"\",\"\",SUM((IFERROR(MATCH(M28,$G$22,0)*$I$22*$K$22/2000,0)),(IFERROR(MATCH(M28,$G$36,0)*$I$36*$K$36/2000,0)),(IFERROR(MATCH(M28,$G$51,0)*$I$51*$K$51/2000,0)),(IFERROR(MATCH(M28,$G$66,0)*$I$66*$K$66/2000,0)),(IFERROR(MATCH(M28,$G$81,0)*$I$81*$K$81/2000,0)),(IFERROR(MATCH(M28,$G$97,0)*$I$97*$K$97/2000,0)),(IFERROR(MATCH(M28,$G$112,0)*$I$112*$K$112/2000,0)),(IFERROR(MATCH(M28,$G$127,0)*$I$127*$K$127/2000,0)),(IFERROR(MATCH(M28,$G$142,0)*$I$142*$K$142/2000,0)),(IFERROR(MATCH(M28,$G$157,0)*$I$157*$K$157/2000,0))))","v":0}]
[null,null,null,null,null,null,null,null,null,null,null,null,{"$f":"$C$5 & \" - Natural Gas\"","v":" - Natural Gas"},{"$f":"N7","v":0},{"$f":"IF(N29=0,0,IF(MAX((IFERROR(OFFSET($G$21,MATCH(M29,$G$22,0),4),0)),((IFERROR(OFFSET($G$35,MATCH(M29,$G$36,0),4),0))),((IFERROR(OFFSET($G$50,MATCH(M29,$G$51,0),4),0))),((IFERROR(OFFSET($G$65,MATCH(M29,$G$66,0),4),0))),((IFERROR(OFFSET($G$80,MATCH(M29,$G$81,0),3),0))),((IFERROR(OFFSET($G$96,MATCH(M29,$G$97,0),4),0))),((IFERROR(OFFSET($G$111,MATCH(M29,$G$112,0),4),0))),((IFERROR(OFFSET($G$126,MATCH(M29,$G$127,0),4),0))),((IFERROR(OFFSET($G$141,MATCH(M29,$G$142,0),4),0))),((IFERROR(OFFSET($G$156,MATCH(M29,$G$157,0),4),0))))=0,0,(MAX((IFERROR(OFFSET($G$21,MATCH(M29,$G$22,0),4),0)),((IFERROR(OFFSET($G$35,MATCH(M29,$G$36,0),4),0))),((IFERROR(OFFSET($G$50,MATCH(M29,$G$51,0),4),0))),((IFERROR(OFFSET($G$65,MATCH(M29,$G$66,0),4),0))),((IFERROR(OFFSET($G$80,MATCH(M29,$G$81,0),4),0))),((IFERROR(OFFSET($G$96,MATCH(M29,$G$97,0),4),0))),((IFERROR(OFFSET($G$111,MATCH(M29,$G$112,0),4),0))),((IFERROR(OFFSET($G$126,MATCH(M29,$G$127,0),4),0))),((IFERROR(OFFSET($G$141,MATCH(M29,$G$142,0),4),0))),((IFERROR(OFFSET($G$156,MATCH(M29,$G$157,0),4),0)))))))","v":0},"lb/ton",{"$f":"IF(O29=4.5,N29*O29,IF(O29=6.5,N29*O29,\"\"))","v":""},{"$f":"IF(N29=0,\"\",IF(AND($F$12>0,$O$29>$O$27,$O$29>$O$28),$F$12,IF(O29=0.0098,N29*O29,IF(O29=0.023,N29*O29,\"\"))))","v":""},{"$f":"IF(N29=0,0,IF($G$12>0,IF(AND(S27=0,S28=0),$G$12,\"\"),IF(AND(OR($C$10>0,$C$11>0,$C$12>0),$O$29>$O$27,$O$29>$O$28),(IF($C$10>0,$C$10*O29/2000,IF($C$11>0,$C$11*365*O29/2000,IF($C$12>0,$C$12*365*O29*N29/2000)))),IF(AND($F$12>0,$O$29>$O$27,$O$29>$O$28),$F$12*8760/2000,IF(AND(OR($C$10=\"\",$C$10=0),OR($C$11=\"\",$C$11=0),OR($C$12=\"\",$C$12=0),$F$12=\"\"),IF(R29=\"\",Q29*8760/2000,R29*8760/2000),\"\")))))","v":0},{"$f":"IF(N29=\"\",\"\",SUM((IFERROR(MATCH(M29,$G$22,0)*$I$22*$K$22/2000,0)),(IFERROR(MATCH(M29,$G$36,0)*$I$36*$K$36/2000,0)),(IFERROR(MATCH(M29,$G$51,0)*$I$51*$K$51/2000,0)),(IFERROR(MATCH(M29,$G$66,0)*$I$66*$K$66/2000,0)),(IFERROR(MATCH(M29,$G$81,0)*$I$81*$K$81/2000,0)),(IFERROR(MATCH(M29,$G$97,0)*$I$97*$K$97/2000,0)),(IFERROR(MATCH(M29,$G$112,0)*$I$112*$K$112/2000,0)),(IFERROR(MATCH(M29,$G$127,0)*$I$127*$K$127/2000,0)),(IFERROR(MATCH(M29,$G$142,0)*$I$142*$K$142/2000,0)),(IFERROR(MATCH(M29,$G$157,0)*$I$157*$K$157/2000,0))))","v":0}]
[null,null,null,null,"Stock Pile Area",null,null,null,null,null,null,null,"Silo Filling",{"$f":"N11","v":0},{"$f":"IF(N30=0,0,IF(N30=0,0,LOOKUP(M30,'Emission Factors'!$A$23:$A$25,'Emission Factors'!$F$23:$F$25)))","v":0},"lb/ton",{"$f":"N30*O30","v":0},null,{"$f":"IF($G$12>0,\"\",IF($C$10>0,$C$10*O30/2000,IF($C$11>0,$C$11*365*O30/2000,IF($C$12>0,$C$12*365*O30*N30/2000,IF($F$11>0,\"\",IF(R30=\"\",Q30*8760/2000,R30*8760/2000))))))","v":0},{"$f":"(P11*O30/2000)","v":0}]
[null,null,null,null,null,"Emission Unit #","Maximum Storage Area (acres)","Actual Storage Area (acres)","Actual Days in Existence (days)",null,null,null,"Truck Loadout",{"$f":"N12","v":0},{"$f":"IF(N31=0,0,IF(N31=0,0,LOOKUP(M31,'Emission Factors'!$A$23:$A$25,'Emission Factors'!$F$23:$F$25)))","v":0},"lb/ton",{"$f":"N31*O31","v":0},null,{"$f":"IF($G$12>0,\"\",IF($C$10>0,$C$10*O31/2000,IF($C$11>0,$C$11*365*O31/2000,IF($C$12>0,$C$12*365*O31*N31/2000,IF($F$11>0,\"\",IF(R31=\"\",Q31*8760/2000,R31*8760/2000))))))","v":0},{"$f":"(P12*O31/2000)","v":0}]
[null,null,null,null,null,null,null,null,null,null,null,null,"Cold Aggregate Bins",{"$f":"N13","v":0},{"$f":"IF(N32=0,0,IF(N32=0,0,LOOKUP(M32,'Emission Factors'!$A$23:$A$25,'Emission Factors'!$F$23:$F$25)))","v":0},"lb/ton",{"$f":"N32*O32","v":0},null,{"$f":"IF($G$12>0,\"\",IF($C$10>0,$C$10*O32/2000,IF($C$11>0,$C$11*365*O32/2000,IF($C$12>0,$C$12*365*O32*N32/2000,IF($F$11>0,\"\",IF(R32=\"\",Q32*8760/2000,R32*8760/2000))))))","v":0},{"$f":"(P13*O32/2000)","v":0}]
[]
[null,{"$f":"IF($C$4>1,\"Asphalt Plant\",\"\")","v":""},{"$f":"IF($C$4>1,\"Site 2\",\"\")","v":""},null,{"$f":"IF($C$4>1,\"Emission Point #\",\"\")","v":""},{"$f":"IF($C$4>1,\"Emission    Unit #\",\"\")","v":""},{"$f":"IF($C$4>1,\"Process\",\"\")","v":""},{"$f":"IF($C$4>1,\"Maximum Hourly     Design Rate\",\"\")","v":""},{"$f":"IF($C$4>1,('Facility Information'!G20&\" Annual Throughput\"),\"\")","v":""},null,null,null,null,"Storage Pile","Max Design Rate (acres)","Emission Factor   (lb/acre-day)","Potential Uncontrolled Emissions (lb/hr)","Potential Controlled Emissions (lb/hr)","Potential Annual Emissions (tons/yr)","Actual Annual Emissions (tons/yr)"]
[null,{"$f":"IF($C$4>1,\"Site Name\",\"\")","v":""},null,null,{"$f":"IF($C$4>1,\"Dryers, Hot Screens, Mixer\",\"\")","v":""},null,null,{"$f":"IF($C$4>1,\"(tons/hr)\",\"\")","v":""},{"$f":"IF($C$4>1,\"(tons/yr)\",\"\")","v":""},"PM2.5","PM10",null,null,"PM2.5/PM10",{"$f":"N15","v":0},3.64,{"$f":"O35*P35*(1/24)","v":0},null,{"$f":"O35*P35*365/2000","v":0},{"$f":"O15*P35/2000","v":0}]
[null,{"$f":"IF($C$4>1,\"County:\",\"\")","v":""},null,null,{"$f":"IF(C38=\"\",\"\",\"AP-10 EP-1\")","v":""},{"$f":"IF(C38=\"\",\"\",\"AP-10 EU-1\")","v":""},{"$f":"IF(C38=\"\",\"\",C5 & \" - \"&C38)","v":""},null,null,{"$f":"IF(C39=\"\",\"\",IF(C39=\"yes\",LOOKUP(G36,'Emission Factors'!$A$12:$A$17,'Emission Factors'!$D$12:$D$17),LOOKUP(G36,'Emission Factors'!$A$5:$A$10,'Emission Factors'!$D$5:$D$10)))","v":""},{"$f":"IF(C39=\"\",\"\",IF(C39=\"yes\",LOOKUP(G36,'Emission Factors'!$A$12:$A$17,'Emission Factors'!$F$12:$F$17),LOOKUP(G36,'Emission Factors'!$A$5:$A$10,'Emission Factors'!$F$5:$F$10)))","v":""}]
[null,{"$f":"IF($C$4>1,\"Production Period (Dates):\",\"\")","v":""},null,null,{"$f":"IF($C$4>1,\"Liquid Asphalt Heater\",\"\")","v":""},null,null,{"$f":"IF($C$4>1,IF(C38=\"natural gas\",\"MMCF/hr\",\"(gallons/hr)\"),\"\")","v":""},{"$f":"IF($C$4>1,IF(C38=\"natural gas\",\"MMCF/yr\",\"(gallons/yr)\"),\"\")","v":""},null,null,null,"SO2"]
[null,{"$f":"IF($C$4>1,\"Type of Fuel Used:\",\"\")","v":""},null,null,{"$f":"IF(C38=\"\",\"\",\"AP-10 EP-2\")","v":""},{"$f":"IF(C38=\"\",\"\",\"AP-10 EU-2\")","v":""},{"$f":"IF(C38=\"\",\"\",C38& \" Fired Heater\")","v":""},null,null,null,null,null,{"$f":"$C$5 & \" - Fuel Oil\"","v":" - Fuel Oil"},{"$f":"$N$5","v":0},{"$f":"IF(N38=0,0,LOOKUP(M38,'Emission Factors'!$A$5:$A$10,'Emission Factors'!$H$5:$H$10))","v":0},{"$f":"IF(O38=\"\",\"\",\"lb/ton\")","v":"lb/ton"},{"$f":"N38*O38","v":0},{"$f":"IF(N38=0,\"\",IF(AND($F$13>0,N39=0),$F$13,\"\"))","v":""},{"$f":"IF(N38=0,0,IF($G$13>0,$G$13,IF(OR(AND($C$10>0,$N$39>0),AND($C$11>0,$N$39>0),AND($C$12>0,$N$39>0)),\"\",IF($C$10>0,$C$10*O38/2000,IF($C$11>0,$C$11*365*O38/2000,IF($C$12>0,$C$12*365*O38*N38/2000,IF(AND(N39>0,F13>0),\"\",IF(R38=\"\",Q38*8760/2000,R38*8760/2000))))))))","v":0},{"$f":"P5*O38/2000","v":0}]
[null,{"$f":"IF($C$4>1,\"Is Your Operation Controlled?:\",\"\")","v":""},null,null,{"$f":"IF($C$4>1,\"Silo Filling, Truck Loadout, Aggregate Transfer\",\"\")","v":""},null,null,{"$f":"IF($C$4>1,\"(tons/hr)\",\"\")","v":""},{"$f":"IF($C$4>1,\"(tons/yr)\",\"\")","v":""},null,null,null,{"$f":"$C$5 & \" - Waste Oil\"","v":" - Waste Oil"},{"$f":"$N$6","v":0},{"$f":"IF(N39=0,0,LOOKUP(M39,'Emission Factors'!$A$5:$A$10,'Emission Factors'!$H$5:$H$10))","v":0},{"$f":"IF(O39=\"\",\"\",\"lb/ton\")","v":"lb/ton"},{"$f":"N39*O39","v":0},{"$f":"IF(N39=0,\"\",IF($F$13>0,$F$13,\"\"))","v":""},{"$f":"IF(N39=0,0,IF($G$13>0,IF(S38=0,G13,\"\"),IF($C$10>0,$C$10*O39/2000,IF($C$11>0,$C$11*365*O39/2000,IF($C$12>0,$C$12*365*O39*N39/2000,IF(R39=\"\",Q39*8760/2000,R39*8760/2000))))))","v":0},{"$f":"P6*O39/2000","v":0}]
[null,null,null,null,{"$f":"IF($C$4>1,\"AP-10 EP-3\",\"\")","v":""},{"$f":"IF($C$4>1,\"AP-10 EU-3\",\"\")","v":""},{"$f":"IF($C$4>1,\"Silo Filling\",\"\")","v":""},null,null,null,null,null,{"$f":"$C$5 & \" - Natural Gas\"","v":" - Natural Gas"},{"$f":"$N$7","v":0},{"$f":"IF(N40=0,0,LOOKUP(M40,'Emission Factors'!$A$5:$A$10,'Emission Factors'!$H$5:$H$10))","v":0},{"$f":"IF(O40=\"\",\"\",\"lb/ton\")","v":"lb/ton"},{"$f":"N40*O40","v":0},{"$f":"IF(N40=0,\"\",IF(AND($F$13>0,N38=0,N39=0),$F$13,\"\"))","v":""},{"$f":"IF(N40=0,0,IF($G$13>0,IF(AND(S38=0,S39=0),G13,\"\"),IF(OR(AND($C$10>0,$N$39>0),AND($C$11>0,$N$39>0),AND($C$12>0,$N$39>0)),\"\",IF(OR(AND($C$10>0,$N$38>0),AND($C$11>0,$N$38>0),AND($C$12>0,$N$38>0)),\"\",IF($C$10>0,$C$10*O40/2000,IF($C$11>0,$C$11*365*O40/2000,IF($C$12>0,$C$12*365*O40*N40/2000,IF(AND(N39>0,N38>0,F13>0),\"\",IF(R40=\"\",Q40*8760/2000,R40*8760/2000)))))))))","v":0},{"$f":"P7*O40/2000","v":0}]
[null,null,null,null,{"$f":"IF($C$4>1,\"AP-10 EP-3\",\"\")","v":""},{"$f":"IF($C$4>1,\"AP-10 EU-4\",\"\")","v":""},{"$f":"IF($C$4>1,\"Truck Loadout\",\"\")","v":""},null,null,null,null,null,"NOx"]
[null,null,null,null,{"$f":"IF($C$4>1,\"AP-10 EP-3\",\"\")","v":""},{"$f":"IF($C$4>1,\"AP-10 EU-5\",\"\")","v":""},{"$f":"IF($C$4>1,\"Cold Aggregate Bins\",\"\")","v":""},null,null,null,null,null,{"$f":"$C$5 & \" - Fuel Oil\"","v":" - Fuel Oil"},{"$f":"$N$5","v":0},{"$f":"IF(N42=0,0,LOOKUP(M42,'Emission Factors'!$A$5:$A$10,'Emission Factors'!$J$5:$J$10))","v":0},{"$f":"IF(O42=\"\",\"\",\"lb/ton\")","v":"lb/ton"},{"$f":"N42*O42","v":0},{"$f":"IF(N42=0,\"\",IF(AND($F$14>0,N43=0),$F$14,\"\"))","v":""},{"$f":"IF(N42=0,0,IF($G$14>0,$G$14,IF(OR(AND($C$10>0,$N$43>0),AND($C$11>0,$N$43>0),AND($C$12>0,$N$43>0)),\"\",IF($C$10>0,$C$10*O42/2000,IF($C$11>0,$C$11*365*O42/2000,IF($C$12>0,$C$12*365*O42*N42/2000,IF(AND(N43>0,F14>0),\"\",IF(R42=\"\",Q42*8760/2000,R42*8760/2000))))))))","v":0},{"$f":"P5*O42/2000","v":0}]
[null,null,null,null,null,null,null,null,null,null,null,null,{"$f":"$C$5 & \" - Waste Oil\"","v":" - Waste Oil"},{"$f":"$N$6","v":0},{"$f":"IF(N43=0,0,LOOKUP(M43,'Emission Factors'!$A$5:$A$10,'Emission Factors'!$J$5:$J$10))","v":0},{"$f":"IF(O43=\"\",\"\",\"lb/ton\")","v":"lb/ton"},{"$f":"N43*O43","v":0},{"$f":"IF(N43=0,\"\",IF($F$14>0,$F$14,\"\"))","v":""},{"$f":"IF(N43=0,0,IF($G$14>0,IF(S42=0,G14,\"\"),IF($C$10>0,$C$10*O43/2000,IF($C$11>0,$C$11*365*O43/2000,IF($C$12>0,$C$12*365*O43*N43/2000,IF(R43=\"\",Q43*8760/2000,R43*8760/2000))))))","v":0},{"$f":"P6*O43/2000","v":0}]
[null,null,null,null,{"$f":"IF($C$4>1,\"Stock Pile Area\",\"\")","v":""},null,null,null,null,null,null,null,{"$f":"$C$5 & \" - Natural Gas\"","v":" - Natural Gas"},{"$f":"$N$7","v":0},{"$f":"IF(N44=0,0,LOOKUP(M44,'Emission Factors'!$A$5:$A$10,'Emission Factors'!$J$5:$J$10))","v":0},{"$f":"IF(O44=\"\",\"\",\"lb/ton\")","v":"lb/ton"},{"$f":"N44*O44","v":0},{"$f":"IF(N44=0,\"\",IF(AND($F$14>0,N42=0,N43=0),$F$14,\"\"))","v":""},{"$f":"IF(N44=0,0,IF($G$14>0,IF(AND(S42=0,S43=0),G14,\"\"),IF(OR(AND($C$10>0,$N$43>0),AND($C$11>0,$N$43>0),AND($C$12>0,$N$43>0)),\"\",IF(OR(AND($C$10>0,$N$42>0),AND($C$11>0,$N$42>0),AND($C$12>0,$N$42>0)),\"\",IF($C$10>0,$C$10*O44/2000,IF($C$11>0,$C$11*365*O44/2000,IF($C$12>0,$C$12*365*O44*N44/2000,IF(AND(N42>0,N43>0,F14>0),\"\",IF(R44=\"\",Q44*8760/2000,R44*8760/2000)))))))))","v":0},{"$f":"P7*O44/2000","v":0}]
[null,null,null,null,null,{"$f":"IF($C$4>1,\"Emission Unit #\",\"\")","v":""},{"$f":"IF($C$4>1,\"Maximum Storage Area (acres)\",\"\")","v":""},{"$f":"IF($C$4>1,\"Actual Storage Area (acres)\",\"\")","v":""},{"$f":"IF($C$4>1,\"Actual Days in Existence (days)\",\"\")","v":""},null,null,null,"VOC"]
[null,null,null,null,null,null,null,null,null,null,null,null,{"$f":"$C$5 & \" - Fuel Oil\"","v":" - Fuel Oil"},{"$f":"$N$5","v":0},{"$f":"IF(N46=0,0,LOOKUP(M46,'Emission Factors'!$A$5:$A$10,'Emission Factors'!$L$5:$L$10))","v":0},{"$f":"IF(O46=\"\",\"\",\"lb/ton\")","v":"lb/ton"},{"$f":"N46*O46","v":0},{"$f":"IF(N46=0,\"\",IF(AND($F$15>0,N47=0),$F$15,\"\"))","v":""},{"$f":"IF(N46=0,0,IF($G$15>0,$G$15,IF(OR(AND($C$10>0,$N$47>0),AND($C$11>0,$N$47>0),AND($C$12>0,$N$47>0)),\"\",IF($C$10>0,$C$10*O46/2000,IF($C$11>0,$C$11*365*O46/2000,IF($C$12>0,$C$12*365*O46*N46/2000,IF(AND(N47>0,F15>0),\"\",IF(R46=\"\",Q46*8760/2000,R46*8760/2000))))))))","v":0},{"$f":"P5*O46/2000","v":0}]
[null,null,null,null,null,null,null,null,null,null,null,null,{"$f":"$C$5 & \" - Waste Oil\"","v":" - Waste Oil"},{"$f":"$N$6","v":0},{"$f":"IF(N47=0,0,LOOKUP(M47,'Emission Factors'!$A$5:$A$10,'Emission Factors'!$L$5:$L$10))","v":0},{"$f":"IF(O47=\"\",\"\",\"lb/ton\")","v":"lb/ton"},{"$f":"N47*O47","v":0},{"$f":"IF(N47=0,\"\",IF($F$15>0,$F$15,\"\"))","v":""},{"$f":"IF(N47=0,0,IF($G$15>0,IF(S46=0,G15,\"\"),IF($C$10>0,$C$10*O47/2000,IF($C$11>0,$C$11*365*O47/2000,IF($C$12>0,$C$12*365*O47*N47/2000,IF(R47=\"\",Q47*8760/2000,R47*8760/2000))))))","v":0},{"$f":"P6*O47/2000","v":0}]
[null,{"$f":"IF($C$4>2,\"Asphalt Plant\",\"\")","v":""},{"$f":"IF($C$4>2,\"Site 3\",\"\")","v":""},null,{"$f":"IF($C$4>2,\"Emission Point #\",\"\")","v":""},{"$f":"IF($C$4>2,\"Emission    Unit #\",\"\")","v":""},{"$f":"IF($C$4>2,\"Process\",\"\")","v":""},{"$f":"IF($C$4>2,\"Maximum Hourly     Design Rate\",\"\")","v":""},{"$f":"IF($C$4>2,('Facility Information'!G35&\" Annual Throughput\"),\"\")","v":""},null,null,null,{"$f":"$C$5 & \" - Natural Gas\"","v":" - Natural Gas"},{"$f":"$N$7","v":0},{"$f":"IF(N48=0,0,LOOKUP(M48,'Emission Factors'!$A$5:$A$10,'Emission Factors'!$L$5:$L$10))","v":0},{"$f":"IF(O48=\"\",\"\",\"lb/ton\")","v":"lb/ton"},{"$f":"N48*O48","v":0},{"$f":"IF(N48=0,\"\",IF(AND($F$15>0,N46=0,N47=0),$F$15,\"\"))","v":""},{"$f":"IF(N48=0,0,IF($G$15>0,IF(AND(S46=0,S47=0),G15,\"\"),IF(OR(AND($C$10>0,$N$47>0),AND($C$11>0,$N$47>0),AND($C$12>0,$N$47>0)),\"\",IF(OR(AND($C$10>0,$N$46>0),AND($C$11>0,$N$46>0),AND($C$12>0,$N$46>0)),\"\",IF($C$10>0,$C$10*O48/2000,IF($C$11>0,$C$11*365*O48/2000,IF($C$12>0,$C$12*365*O48*N48/2000,IF(AND(N46>0,N47>0,F15>0),\"\",IF(R48=\"\",Q48*8760/2000,R48*8760/2000)))))))))","v":0},{"$f":"P7*O48/2000","v":0}]
[null,null,null,null,null,null,null,null,null,null,null,null,{"$f":"\"Natural Gas Fired Heater\"","v":"Natural Gas Fired Heater"},{"$f":"N10","v":0},{"$f":"IF(N49=0,0,0.026)","v":0},{"$f":"IF(O49=\"\",\"\",\"lb/MMCF\")","v":"lb/MMCF"},{"$f":"N49*O49","v":0},null,{"$f":"IF(N49=0,0,IF(R49=\"\",Q49*8760/2000,R49*8760/2000))","v":0},{"$f":"($P$10*O49/2000)","v":0}]
[null,{"$f":"IF($C$4>2,\"Site Name\",\"\")","v":""},null,null,{"$f":"IF($C$4>2,\"Dryers, Hot Screens, Mixer\",\"\")","v":""},null,null,{"$f":"IF($C$4>2,\"(tons/hr)\",\"\")","v":""},{"$f":"IF($C$4>2,\"(tons/yr)\",\"\")","v":""},"PM2.5","PM10",null,"Silo Filling",{"$f":"N12","v":0},{"$f":"IF(N50=0,0,IF(N50=0,0,LOOKUP(M50,'Emission Factors'!$A$23:$A$25,'Emission Factors'!$L$23:$L$25)))","v":0},{"$f":"IF(O50=\"\",\"\",\"lb/ton\")","v":"lb/ton"},null,null,null,{"$f":"P12*O50/2000","v":0}]
[null,{"$f":"IF($C$4>2,\"County:\",\"\")","v":""},null,null,{"$f":"IF(C53=\"\",\"\",\"AP-10 EP-1\")","v":""},{"$f":"IF(C53=\"\",\"\",\"AP-10 EU-1\")","v":""},{"$f":"IF(C53=\"\",\"\",C5 & \" - \"&C53)","v":""},null,null,{"$f":"IF(C54=\"\",\"\",IF(C54=\"yes\",LOOKUP(G51,'Emission Factors'!$A$12:$A$17,'Emission Factors'!$D$12:$D$17),LOOKUP(G51,'Emission Factors'!$A$5:$A$10,'Emission Factors'!$D$5:$D$10)))","v":""},{"$f":"IF(C54=\"\",\"\",IF(C54=\"yes\",LOOKUP(G51,'Emission Factors'!$A$12:$A$17,'Emission Factors'!$F$12:$F$17),LOOKUP(G51,'Emission Factors'!$A$5:$A$10,'Emission Factors'!$F$5:$F$10)))","v":""},null,"Truck Loadout",{"$f":"N13","v":0},{"$f":"IF(N51=0,0,IF(N51=0,0,LOOKUP(M51,'Emission Factors'!$A$23:$A$25,'Emission Factors'!$L$23:$L$25)))","v":0},{"$f":"IF(O51=\"\",\"\",\"lb/ton\")","v":"lb/ton"},null,null,null,{"$f":"P13*O51/2000","v":0}]
[null,{"$f":"IF($C$4>2,\"Production Period (Dates):\",\"\")","v":""},null,null,{"$f":"IF($C$4>2,\"Liquid Asphalt Heater\",\"\")","v":""},null,null,{"$f":"IF($C$4>2,IF(C53=\"natural gas\",\"(MMCF/hr)\",\"(gallons/hr)\"),\"\")","v":""},{"$f":"IF($C$4>2,IF(C53=\"natural gas\",\"(MMCF/yr)\",\"(gallons/yr)\"),\"\")","v":""},null,null,null,"CO"]
[null,{"$f":"IF($C$4>2,\"Type of Fuel Used:\",\"\")","v":""},null,null,{"$f":"IF(C53=\"\",\"\",\"AP-10 EP-2\")","v":""},{"$f":"IF(C53=\"\",\"\",\"AP-10 EU-2\")","v":""},{"$f":"IF(C53=\"\",\"\",C53& \" Fired Heater\")","v":""},null,null,null,null,null,{"$f":"IF($C$5=\"\",\"\",$C$5)","v":""},{"$f":"SUM($N$5:$N$7)","v":0},{"$f":"IF(N53=0,0,IF(M53=\"Batch Mix Plant\",0.4,IF(M53=\"Drum Mix Plant\",0.13)))","v":0},{"$f":"IF(O53=\"\",\"\",\"lb/ton\")","v":"lb/ton"},{"$f":"N53*O53","v":0},{"$f":"IF(N53=0,\"\",IF($F$16>0,$F$16,\"\"))","v":""},{"$f":"IF($G$16>0,$G$16,IF(N53=0,0,IF($C$10>0,$C$10*O53/2000,IF($C$11>0,$C$11*365*O53/2000,IF($C$12>0,$C$12*365*O53*N53/2000,IF(R53=\"\",Q53*8760/2000,R53*8760/2000))))))","v":0},{"$f":"SUM($P$5:$P$7)*O53/2000","v":0}]
[null,{"$f":"IF($C$4>2,\"Is Your Operation Controlled?:\",\"\")","v":""},null,null,{"$f":"IF($C$4>2,\"Silo Filling, Truck Loadout, Aggregate Transfer\",\"\")","v":""},null,null,{"$f":"IF($C$4>2,\"(tons/hr)\",\"\")","v":""},{"$f":"IF($C$4>2,\"(tons/yr)\",\"\")","v":""},null,null,null,"Fuel Oil Fired Heater",{"$f":"N8","v":0},{"$f":"IF(N54=0,0,LOOKUP(M54,'Emission Factors'!$A$19:$A$21,'Emission Factors'!$N$19:$N$21))","v":0},{"$f":"IF(O54=\"\",\"\",\"lb/gallon\")","v":"lb/gallon"},{"$f":"N54*O54","v":0},null,{"$f":"IF(N54=0,0,IF($G$16>0,\"\",IF($F$16>0,\"\",IF(R54=\"\",Q54*8760/2000,R54*8760/2000))))","v":0},{"$f":"(P8*O54/2000)","v":0}]
[null,null,null,null,{"$f":"IF($C$4>2,\"AP-10 EP-3\",\"\")","v":""},{"$f":"IF($C$4>2,\"AP-10 EU-3\",\"\")","v":""},{"$f":"IF($C$4>2,\"Silo Filling\",\"\")","v":""},null,null,null,null,null,"Waste Oil Fired Heater",{"$f":"N9","v":0},{"$f":"IF(N55=0,0,LOOKUP(M55,'Emission Factors'!$A$19:$A$21,'Emission Factors'!$N$19:$N$21))","v":0},{"$f":"IF(O55=\"\",\"\",\"lb/gallon\")","v":"lb/gallon"},{"$f":"N55*O55","v":0},null,{"$f":"IF(N55=0,0,IF($G$16>0,\"\",IF($F$16>0,\"\",IF(R55=\"\",Q55*8760/2000,R55*8760/2000))))","v":0},{"$f":"(P9*O55/2000)","v":0}]
[null,null,null,null,{"$f":"IF($C$4>2,\"AP-10 EP-3\",\"\")","v":""},{"$f":"IF($C$4>2,\"AP-10 EU-4\",\"\")","v":""},{"$f":"IF($C$4>2,\"Truck Loadout\",\"\")","v":""},null,null,null,null,null,"Natural Gas Fired Heater",{"$f":"N10","v":0},{"$f":"IF(N56=0,0,LOOKUP(M56,'Emission Factors'!$A$19:$A$21,'Emission Factors'!$N$19:$N$21))","v":0},{"$f":"IF(O56=\"\",\"\",\"lb/MMCF\")","v":"lb/MMCF"},{"$f":"N56*O56","v":0},null,{"$f":"IF(N56=0,0,IF($G$16>0,\"\",IF($F$16>0,\"\",IF(R56=\"\",Q56*8760/2000,R56*8760/2000))))","v":0},{"$f":"($P$10*O56/2000)","v":0}]
[null,null,null,null,{"$f":"IF($C$4>2,\"AP-10 EP-3\",\"\")","v":""},{"$f":"IF($C$4>2,\"AP-10 EU-5\",\"\")","v":""},{"$f":"IF($C$4>2,\"Cold Aggregate Bins\",\"\")","v":""},null,null,null,null,null,"Silo Filling",{"$f":"N12","v":0},{"$f":"IF(N57=0,0,IF(N57=0,0,LOOKUP(M57,'Emission Factors'!$A$23:$A$25,'Emission Factors'!$N$23:$N$25)))","v":0},{"$f":"IF(O57=\"\",\"\",\"lb/ton\")","v":"lb/ton"},null,null,null,{"$f":"P12*O57/2000","v":0}]
[null,null,null,null,null,null,null,null,null,null,null,null,"Truck Loadout",{"$f":"N13","v":0},{"$f":"IF(N58=0,0,IF(N58=0,0,LOOKUP(M58,'Emission Factors'!$A$23:$A$25,'Emission Factors'!$N$23:$N$25)))","v":0},{"$f":"IF(O58=\"\",\"\",\"lb/ton\")","v":"lb/ton"},null,null,null,{"$f":"P13*O58/2000","v":0}]
[null,null,null,null,{"$f":"IF($C$4>2,\"Stock Pile Area\",\"\")","v":""},null,null,null,null,null,null,null,"Acetaldehyde"]
[null,null,null,null,null,{"$f":"IF($C$4>2,\"Emission Unit #\",\"\")","v":""},{"$f":"IF($C$4>2,\"Maximum Storage Area (acres)\",\"\")","v":""},{"$f":"IF($C$4>2,\"Actual Storage Area (acres)\",\"\")","v":""},{"$f":"IF($C$4>2,\"Actual Days in Existence (days)\",\"\")","v":""},null,null,null,{"$f":"IF($C$5=\"\",\"\",$C$5)","v":""},{"$f":"IF(C5=\"drum mix plant\",SUM(N5:$N$6),SUM($N$5:$N$7))","v":0},{"$f":"IF(N60=0,0,IF(M60=\"Batch Mix Plant\",0.00032,IF(M60=\"Drum Mix Plant\",0.0013)))","v":0},{"$f":"IF(O60=\"\",\"\",\"lb/ton\")","v":"lb/ton"},{"$f":"N60*O60","v":0},null,{"$f":"IF(N60=0,0,IF($C$10>0,$C$10*O60/2000,IF($C$11>0,$C$11*365*O60/2000,IF($C$12>0,$C$12*365*O60*N60/2000,IF(R60=\"\",Q60*8760/2000,R60*8760/2000)))))","v":0},{"$f":"IF(C5=\"drum mix plant\",$P$6*O60/2000,SUM($P$5:$P$7)*O60/2000)","v":0}]
[null,null,null,null,null,null,null,null,null,null,null,null,"Acrolein"]
[null,null,null,null,null,null,null,null,null,null,null,null,{"$f":"IF($C$5=\"\",\"\",$C$5)","v":""},{"$f":"IF(C5=\"drum mix plant\",SUM(N5:$N$6),0)","v":0},{"$f":"IF(N62=0,0,0.000026)","v":0},{"$f":"IF(O62=\"\",\"\",\"lb/ton\")","v":"lb/ton"},{"$f":"N62*O62","v":0},null,{"$f":"IF(N62=0,0,IF($C$10>0,$C$10*O62/2000,IF($C$11>0,$C$11*365*O62/2000,IF($C$12>0,$C$12*365*O62*N62/2000,IF(R62=\"\",Q62*8760/2000,R62*8760/2000)))))","v":0},{"$f":"IF(C7=\"drum mix plant\",$P$6*O62/2000,SUM($P$5:$P$7)*O62/2000)","v":0}]
[null,{"$f":"IF($C$4>3,\"Asphalt Plant\",\"\")","v":""},{"$f":"IF($C$4>3,\"Site 4\",\"\")","v":""},null,{"$f":"IF($C$4>3,\"Emission Point #\",\"\")","v":""},{"$f":"IF($C$4>3,\"Emission    Unit #\",\"\")","v":""},{"$f":"IF($C$4>3,\"Process\",\"\")","v":""},{"$f":"IF($C$4>3,\"Maximum Hourly     Design Rate\",\"\")","v":""},{"$f":"IF($C$4>3,('Facility Information'!G50&\" Annual Throughput\"),\"\")","v":""},null,null,null,"Benzene"]
[null,null,null,null,null,null,null,null,null,null,null,null,{"$f":"IF($C$5=\"\",\"\",$C$5)","v":""},{"$f":"SUM($N$5:$N$7)","v":0},{"$f":"IF(N64=0,0,IF(M64=\"Batch Mix Plant\",0.00028,IF(M64=\"Drum Mix Plant\",0.00039)))","v":0},{"$f":"IF(O64=\"\",\"\",\"lb/ton\")","v":"lb/ton"},{"$f":"N64*O64","v":0},null,{"$f":"IF(N64=0,0,IF($C$10>0,$C$10*O64/2000,IF($C$11>0,$C$11*365*O64/2000,IF($C$12>0,$C$12*365*O64*N64/2000,IF(R64=\"\",Q64*8760/2000,R64*8760/2000)))))","v":0},{"$f":"SUM($P$5:$P$7)*O64/2000","v":0}]
[null,{"$f":"IF($C$4>3,\"Site Name\",\"\")","v":""},null," ",{"$f":"IF($C$4>3,\"Dryers, Hot Screens, Mixer\",\"\")","v":""},null,null,{"$f":"IF($C$4>3,\"(tons/hr)\",\"\")","v":""},{"$f":"IF($C$4>3,\"(tons/yr)\",\"\")","v":""},"PM2.5","PM10",null,"Ethylbenzene"]
[null,{"$f":"IF($C$4>3,\"County:\",\"\")","v":""},null,null,{"$f":"IF(C68=\"\",\"\",\"AP-10 EP-1\")","v":""},{"$f":"IF(C68=\"\",\"\",\"AP-10 EU-1\")","v":""},{"$f":"IF(C68=\"\",\"\",C5 & \" - \"&C68)","v":""},null,null,{"$f":"IF(C69=\"\",\"\",IF(C69=\"yes\",LOOKUP(G66,'Emission Factors'!$A$12:$A$17,'Emission Factors'!$D$12:$D$17),LOOKUP(G66,'Emission Factors'!$A$5:$A$10,'Emission Factors'!$D$5:$D$10)))","v":""},{"$f":"IF(C69=\"\",\"\",IF(C69=\"yes\",LOOKUP(G66,'Emission Factors'!$A$12:$A$17,'Emission Factors'!$F$12:$F$17),LOOKUP(G66,'Emission Factors'!$A$5:$A$10,'Emission Factors'!$F$5:$F$10)))","v":""},null,{"$f":"IF($C$5=\"\",\"\",$C$5)","v":""},{"$f":"SUM($N$5:$N$7)","v":0},{"$f":"IF(N66=0,0,IF(M66=\"Batch Mix Plant\",0.0022,IF(M66=\"Drum Mix Plant\",0.00024)))","v":0},{"$f":"IF(O66=\"\",\"\",\"lb/ton\")","v":"lb/ton"},{"$f":"N66*O66","v":0},null,{"$f":"IF(N66=0,0,IF($C$10>0,$C$10*O66/2000,IF($C$11>0,$C$11*365*O66/2000,IF($C$12>0,$C$12*365*O66*N66/2000,IF(R66=\"\",Q66*8760/2000,R66*8760/2000)))))","v":0},{"$f":"SUM($P$5:$P$7)*O66/2000","v":0}]
[null,{"$f":"IF($C$4>3,\"Production Period (Dates):\",\"\")","v":""},null,null,{"$f":"IF($C$4>3,\"Liquid Asphalt Heater\",\"\")","v":""},null,null,{"$f":"IF($C$4>3,IF(C68=\"natural gas\",\"(MMCF/hr)\",\"(gallons/hr)\"),\"\")","v":""},{"$f":"IF($C$4>3,IF(C68=\"natural gas\",\"(MMCF/yr)\",\"(gallons/yr)\"),\"\")","v":""},null,null,null,"Formaldehyde"]
[null,{"$f":"IF($C$4>3,\"Type of Fuel Used:\",\"\")","v":""},null,null,{"$f":"IF(C68=\"\",\"\",\"AP-10 EP-2\")","v":""},{"$f":"IF(C68=\"\",\"\",\"AP-10 EU-2\")","v":""},{"$f":"IF(C68=\"\",\"\",C68& \" Fired Heater\")","v":""},null,null,null,null,null,{"$f":"IF($C$5=\"\",\"\",$C$5)","v":""},{"$f":"SUM($N$5:$N$7)","v":0},{"$f":"IF(N68=0,0,IF(M68=\"Batch Mix Plant\",0.00074,IF(M68=\"Drum Mix Plant\",0.0031)))","v":0},{"$f":"IF(O68=\"\",\"\",\"lb/ton\")","v":"lb/ton"},{"$f":"N68*O68","v":0},null,{"$f":"IF(N68=0,0,IF($C$10>0,$C$10*O68/2000,IF($C$11>0,$C$11*365*O68/2000,IF($C$12>0,$C$12*365*O68*N68/2000,IF(R68=\"\",Q68*8760/2000,R68*8760/2000)))))","v":0},{"$f":"SUM($P$5:$P$7)*O68/2000","v":0}]
[null,{"$f":"IF($C$4>3,\"Is Your Operation Controlled?:\",\"\")","v":""},null,null,{"$f":"IF($C$4>3,\"Silo Filling, Truck Loadout, Aggregate Transfer\",\"\")","v":""},null,null,{"$f":"IF($C$4>3,\"(tons/hr)\",\"\")","v":""},{"$f":"IF($C$4>3,\"(tons/yr)\",\"\")","v":""},null,null,null,{"$f":"\"Natural Gas Fired Heater\"","v":"Natural Gas Fired Heater"},{"$f":"N10","v":0},{"$f":"IF(N69=0,0,0.026)","v":0},{"$f":"IF(O69=\"\",\"\",\"lb/MMCF\")","v":"lb/MMCF"},{"$f":"N69*O69","v":0},null,{"$f":"IF(N69=0,0,IF(R69=\"\",Q69*8760/2000,R69*8760/2000))","v":0},{"$f":"($P$10*O69/2000)","v":0}]
[null,null,null,null,{"$f":"IF($C$4>3,\"AP-10 EP-3\",\"\")","v":""},{"$f":"IF($C$4>3,\"AP-10 EU-3\",\"\")","v":""},{"$f":"IF($C$4>3,\"Silo Filling\",\"\")","v":""},null,null,null,null,null,"Hexane"]
[null,null,null,null,{"$f":"IF($C$4>3,\"AP-10 EP-3\",\"\")","v":""},{"$f":"IF($C$4>3,\"AP-10 EU-4\",\"\")","v":""},{"$f":"IF($C$4>3,\"Truck Loadout\",\"\")","v":""},null,null,null,null,null,{"$f":"IF($C$5=\"\",\"\",$C$5)","v":""},{"$f":"IF(C5=\"drum mix plant\",SUM(N5:N7),0)","v":0},{"$f":"IF(N71=0,0,0.00092)","v":0},{"$f":"IF(O71=\"\",\"\",\"lb/ton\")","v":"lb/ton"},{"$f":"N71*O71","v":0},null,{"$f":"IF(N71=0,0,IF($C$10>0,$C$10*O71/2000,IF($C$11>0,$C$11*365*O71/2000,IF($C$12>0,$C$12*365*O71*N71/2000,IF(R71=\"\",Q71*8760/2000,R71*8760/2000)))))","v":0},{"$f":"IF(N71>0,SUM($P$5:$P$7)*O71/2000,0)","v":0}]
[null,null,null,null,{"$f":"IF($C$4>3,\"AP-10 EP-3\",\"\")","v":""},{"$f":"IF($C$4>3,\"AP-10 EU-5\",\"\")","v":""},{"$f":"IF($C$4>3,\"Cold Aggregate Bins\",\"\")","v":""},null,null,null,null,null,"Hydrochloric Acid"]
[null,null,null,null,null,null,null,null,null,null,null,null,{"$f":"IF($C$5=\"\",\"\",$C$5)","v":""},{"$f":"IF(C5=\"drum mix plant\",SUM(N5:$N$6),0)","v":0},{"$f":"IF(N73=0,0,0.00021)","v":0},{"$f":"IF(O73=\"\",\"\",\"lb/ton\")","v":"lb/ton"},{"$f":"N73*O73","v":0},null,{"$f":"IF(N73=0,0,IF($C$10>0,$C$10*O73/2000,IF($C$11>0,$C$11*365*O73/2000,IF($C$12>0,$C$12*365*O73*N73/2000,IF(R73=\"\",Q73*8760/2000,R73*8760/2000)))))","v":0},{"$f":"IF(N73>0,$P$6*O73/2000,0)","v":0}]
[null,null,null,null,{"$f":"IF($C$4>3,\"Stock Pile Area\",\"\")","v":""},null,null,null,null,null,null,null,"Methyl Chloroform"]
[null,null,null,null,null,{"$f":"IF($C$4>3,\"Emission Unit #\",\"\")","v":""},{"$f":"IF($C$4>3,\"Maximum Storage Area (acres)\",\"\")","v":""},{"$f":"IF($C$4>3,\"Actual Storage Area (acres)\",\"\")","v":""},{"$f":"IF($C$4>3,\"Actual Days in Existence (days)\",\"\")","v":""},null,null,null,{"$f":"IF($C$5=\"\",\"\",$C$5)","v":""},{"$f":"IF(C5=\"drum mix plant\",SUM(N5:N7),0)","v":0},{"$f":"IF(N75=0,0,0.000048)","v":0},{"$f":"IF(O75=\"\",\"\",\"lb/ton\")","v":"lb/ton"},{"$f":"N75*O75","v":0},null,{"$f":"IF(N75=0,0,IF($C$10>0,$C$10*O75/2000,IF($C$11>0,$C$11*365*O75/2000,IF($C$12>0,$C$12*365*O75*N75/2000,IF(R75=\"\",Q75*8760/2000,R75*8760/2000)))))","v":0},{"$f":"IF(N75>0,SUM($P$5:$P$7)*O75/2000,0)","v":0}]
[null,null,null,null,null,null,null,null,null,null,null,null,"Propionaldehyde"]
[null,null,null,null,null,null,null,null,null,null,null,null,{"$f":"IF($C$5=\"\",\"\",$C$5)","v":""},{"$f":"IF(C5=\"drum mix plant\",SUM(N5:$N$6),0)","v":0},{"$f":"IF(N77=0,0,0.00013)","v":0},{"$f":"IF(O77=\"\",\"\",\"lb/ton\")","v":"lb/ton"},{"$f":"N77*O77","v":0},null,{"$f":"IF(N77=0,0,IF($C$10>0,$C$10*O77/2000,IF($C$11>0,$C$11*365*O77/2000,IF($C$12>0,$C$12*365*O77*N77/2000,IF(R77=\"\",Q77*8760/2000,R77*8760/2000)))))","v":0},{"$f":"IF(N77>0,$P$6*O77/2000,0)","v":0}]
[null,{"$f":"IF($C$4>4,\"Asphalt Plant\",\"\")","v":""},{"$f":"IF($C$4>4,\"Site 5\",\"\")","v":""},null,{"$f":"IF($C$4>4,\"Emission Point #\",\"\")","v":""},{"$f":"IF($C$4>4,\"Emission    Unit #\",\"\")","v":""},{"$f":"IF($C$4>4,\"Process\",\"\")","v":""},{"$f":"IF($C$4>4,\"Maximum Hourly     Design Rate\",\"\")","v":""},{"$f":"IF($C$4>4,('Facility Information'!G65&\" Annual Throughput\"),\"\")","v":""},null,null,null,"Quinone"]
[null,null,null,null,null,null,null,null,null,null,null,null,{"$f":"IF($C$5=\"\",\"\",$C$5)","v":""},{"$f":"IF(C5=\"drum mix plant\",SUM(N5:$N$6),SUM($N$5:$N$7))","v":0},{"$f":"IF(N79=0,0,IF(M79=\"Batch Mix Plant\",0.00027,IF(M79=\"Drum Mix Plant\",0.00016)))","v":0},{"$f":"IF(O79=\"\",\"\",\"lb/ton\")","v":"lb/ton"},{"$f":"N79*O79","v":0},null,{"$f":"IF(N79=0,0,IF($C$10>0,$C$10*O79/2000,IF($C$11>0,$C$11*365*O79/2000,IF($C$12>0,$C$12*365*O79*N79/2000,IF(R79=\"\",Q79*8760/2000,R79*8760/2000)))))","v":0},{"$f":"IF(C23=\"drum mix plant\",$P$6*O79/2000,SUM($P$5:$P$7)*O79/2000)","v":0}]
[null,{"$f":"IF($C$4>4,\"Site Name\",\"\")","v":""},null,null,{"$f":"IF($C$4>4,\"Dryers, Hot Screens, Mixer\",\"\")","v":""},null,null,{"$f":"IF($C$4>4,\"(tons/hr)\",\"\")","v":""},{"$f":"IF($C$4>4,\"(tons/yr)\",\"\")","v":""},"PM2.5","PM10",null,"Toluene"]
[null,{"$f":"IF($C$4>4,\"County:\",\"\")","v":""},null,null,{"$f":"IF(C83=\"\",\"\",\"AP-10 EP-1\")","v":""},{"$f":"IF(C83=\"\",\"\",\"AP-10 EU-1\")","v":""},{"$f":"IF(C83=\"\",\"\",C5 & \" - \"&C83)","v":""},null,null,{"$f":"IF(C84=\"\",\"\",IF(C84=\"yes\",LOOKUP(G81,'Emission Factors'!$A$12:$A$17,'Emission Factors'!$D$12:$D$17),LOOKUP(G81,'Emission Factors'!$A$5:$A$10,'Emission Factors'!$D$5:$D$10)))","v":""},{"$f":"IF(C84=\"\",\"\",IF(C84=\"yes\",LOOKUP(G81,'Emission Factors'!$A$12:$A$17,'Emission Factors'!$F$12:$F$17),LOOKUP(G81,'Emission Factors'!$A$5:$A$10,'Emission Factors'!$F$5:$F$10)))","v":""},null,{"$f":"$C$5 & \" - Fuel Oil\"","v":" - Fuel Oil"},{"$f":"$N$5","v":0},{"$f":"IF(N81=0,0,LOOKUP(M81,'Emission Factors'!$A$5:$A$10,'Emission Factors'!$AJ$5:$AJ$10))","v":0},{"$f":"IF(O81=\"\",\"\",\"lb/ton\")","v":"lb/ton"},{"$f":"N81*O81","v":0},null,{"$f":"IF(N81=0,0,IF($C$10>0,$C$10*O81/2000,IF($C$11>0,$C$11*365*O81/2000,IF($C$12>0,$C$12*365*O81*N81/2000,IF(R81=\"\",Q81*8760/2000,R81*8760/2000)))))","v":0},{"$f":"P5*O81/2000","v":0}]
[null,{"$f":"IF($C$4>4,\"Production Period (Dates):\",\"\")","v":""},null,null,{"$f":"IF($C$4>4,\"Liquid Asphalt Heater\",\"\")","v":""},null,null,{"$f":"IF($C$4>4,IF(C83=\"natural gas\",\"(MMCF/hr)\",\"(gallons/hr)\"),\"\")","v":""},{"$f":"IF($C$4>4,IF(C83=\"natural gas\",\"(MMCF/yr)\",\"(gallons/yr)\"),\"\")","v":""},null,null,null,{"$f":"$C$5 & \" - Waste Oil\"","v":" - Waste Oil"},{"$f":"$N$6","v":0},{"$f":"IF(N82=0,0,LOOKUP(M82,'Emission Factors'!$A$5:$A$10,'Emission Factors'!$AJ$5:$AJ$10))","v":0},{"$f":"IF(O82=\"\",\"\",\"lb/ton\")","v":"lb/ton"},{"$f":"N82*O82","v":0},null,{"$f":"IF(N82=0,0,IF(OR(AND($C$10>0,$N$81>0),AND($C$11>0,$N$81>0),AND($C$12>0,$N$81>0)),\"\",IF($C$10>0,$C$10*O82/2000,IF($C$11>0,$C$11*365*O82/2000,IF($C$12>0,$C$12*365*O82*N82/2000,IF(R82=\"\",Q82*8760/2000,R82*8760/2000))))))","v":0},{"$f":"P6*O82/2000","v":0}]
[null,{"$f":"IF($C$4>4,\"Type of Fuel Used:\",\"\")","v":""},null,null,{"$f":"IF(C83=\"\",\"\",\"AP-10 EP-2\")","v":""},{"$f":"IF(C83=\"\",\"\",\"AP-10 EU-2\")","v":""},{"$f":"IF(C83=\"\",\"\",C83& \" Fired Heater\")","v":""},null,null,null,"Controlled?",null,{"$f":"$C$5 & \" - Natural Gas\"","v":" - Natural Gas"},{"$f":"$N$7","v":0},{"$f":"IF(N83=0,0,LOOKUP(M83,'Emission Factors'!$A$5:$A$10,'Emission Factors'!$AJ$5:$AJ$10))","v":0},{"$f":"IF(O83=\"\",\"\",\"lb/ton\")","v":"lb/ton"},{"$f":"N83*O83","v":0},null,{"$f":"IF(N83=0,0,IF(OR(AND($C$10>0,$N$81>0),AND($C$11>0,$N$81>0),AND($C$12>0,$N$81>0)),\"\",IF(OR(AND($C$10>0,$N$82>0),AND($C$11>0,$N$82>0),AND($C$12>0,$N$82>0)),\"\",IF($C$10>0,$C$10*O83/2000,IF($C$11>0,$C$11*365*O83/2000,IF($C$12>0,$C$12*365*O83*N83/2000,IF(R83=\"\",Q83*8760/2000,R83*8760/2000)))))))","v":0},{"$f":"P7*O83/2000","v":0}]
[null,{"$f":"IF($C$4>4,\"Is Your Operation Controlled?:\",\"\")","v":""},null,null,{"$f":"IF($C$4>4,\"Silo Filling, Truck Loadout, Aggregate Transfer\",\"\")","v":""},null,null,{"$f":"IF($C$4>4,\"(tons/hr)\",\"\")","v":""},{"$f":"IF($C$4>4,\"(tons/yr)\",\"\")","v":""},null,{"$f":"IF(OR(C25=\"yes\",C39=\"yes\",C69=\"yes\",C84=\"yes\",C100=\"yes\",C115=\"yes\",C130=\"yes\",C145=\"yes\",C160=\"yes\"),1,0)","v":0},null,"Xylene"]
[null,null,null,null,{"$f":"IF($C$4>4,\"AP-10 EP-3\",\"\")","v":""},{"$f":"IF($C$4>4,\"AP-10 EU-3\",\"\")","v":""},{"$f":"IF($C$4>4,\"Silo Filling\",\"\")","v":""},null,null,null,null,null,{"$f":"IF($C$5=\"\",\"\",$C$5)","v":""},{"$f":"SUM($N$5:$N$7)","v":0},{"$f":"IF(N85=0,0,IF(M85=\"Batch Mix Plant\",0.0027,IF(M85=\"Drum Mix Plant\",0.0002)))","v":0},{"$f":"IF(O85=\"\",\"\",\"lb/ton\")","v":"lb/ton"},{"$f":"N85*O85","v":0},null,{"$f":"IF(N85=0,0,IF($C$10>0,$C$10*O85/2000,IF($C$11>0,$C$11*365*O85/2000,IF($C$12>0,$C$12*365*O85*N85/2000,IF(R85=\"\",Q85*8760/2000,R85*8760/2000)))))","v":0},{"$f":"SUM($P$5:$P$7)*O85/2000","v":0}]
[null,null,null,null,{"$f":"IF($C$4>4,\"AP-10 EP-3\",\"\")","v":""},{"$f":"IF($C$4>4,\"AP-10 EU-4\",\"\")","v":""},{"$f":"IF($C$4>4,\"Truck Loadout\",\"\")","v":""},null,null,null,null,null,"2,2,4-Trimethylpentane"]
[null,null,null,null,{"$f":"IF($C$4>4,\"AP-10 EP-3\",\"\")","v":""},{"$f":"IF($C$4>4,\"AP-10 EU-5\",\"\")","v":""},{"$f":"IF($C$4>4,\"Cold Aggregate Bins\",\"\")","v":""},null,null,null,null,null,{"$f":"IF($C$5=\"\",\"\",$C$5)","v":""},{"$f":"IF(C5=\"drum mix plant\",SUM(N5:N7),0)","v":0},{"$f":"IF(N87=0,0,0.00004)","v":0},{"$f":"IF(O87=\"\",\"\",\"lb/ton\")","v":"lb/ton"},{"$f":"N87*O87","v":0},null,{"$f":"IF(N87=0,0,IF($C$10>0,$C$10*O87/2000,IF($C$11>0,$C$11*365*O87/2000,IF($C$12>0,$C$12*365*O87*N87/2000,IF(R87=\"\",Q87*8760/2000,R87*8760/2000)))))","v":0},{"$f":"IF(N87>0,SUM($P$5:$P$7)*O87/2000,0)","v":0}]
[null,null,null,null,null,null,null,null,null,null,null,null,"Chromium Compounds"]
[null,null,null,null,{"$f":"IF($C$4>4,\"Stock Pile Area\",\"\")","v":""},null,null,null,null,null,null,null,{"$f":"IF($C$5=\"\",\"\",$C$5)","v":""},{"$f":"IF(C5=\"drum mix plant\",SUM(N5:N6),0)","v":0},{"$f":"IF(N89=0,0,IF($K$84=1,0.0000055,0.000024))","v":0},{"$f":"IF(O89=\"\",\"\",\"lb/ton\")","v":"lb/ton"},{"$f":"IF($K$84=1,\"\",N89*O89)","v":0},{"$f":"IF($K$84=1,N89*O89,\"\")","v":""},{"$f":"IF(N89=0,0,IF($C$10>0,$C$10*O89/2000,IF($C$11>0,$C$11*365*O89/2000,IF($C$12>0,$C$12*365*O89*N89/2000,IF(R89=\"\",Q89*8760/2000,R89*8760/2000)))))","v":0},{"$f":"IF(N89>0,$P$5*O89/2000,0)","v":0}]
[null,null,null,null,null,{"$f":"IF($C$4>4,\"Emission Unit #\",\"\")","v":""},{"$f":"IF($C$4>4,\"Maximum Storage Area (acres)\",\"\")","v":""},{"$f":"IF($C$4>4,\"Actual Storage Area (acres)\",\"\")","v":""},{"$f":"IF($C$4>4,\"Actual Days in Existence (days)\",\"\")","v":""},null,null,null,"Lead Compounds"]
[null,null,null,null,null,null,null,null,null,null,null,null,{"$f":"IF($C$5=\"\",\"\",$C$5)","v":""},{"$f":"IF(C5=\"drum mix plant\",SUM(N5:N6),0)","v":0},{"$f":"IF(N91=0,0,IF($K$84=1,0.000015,0.00054))","v":0},{"$f":"IF(O91=\"\",\"\",\"lb/ton\")","v":"lb/ton"},{"$f":"IF($K$84=1,\"\",N91*O91)","v":0},{"$f":"IF($K$84=1,N91*O91,\"\")","v":""},{"$f":"IF(N91=0,0,IF($C$10>0,$C$10*O91/2000,IF($C$11>0,$C$11*365*O91/2000,IF($C$12>0,$C$12*365*O91*N91/2000,IF(R91=\"\",Q91*8760/2000,R91*8760/2000)))))","v":0},{"$f":"IF(N91>0,$P$5*O91/2000,0)","v":0}]
[null,null,null,null,null,null,null,null,null,null,null,null,"Manganese Compounds"]
[null,null,null,null,null,null,null,null,null,null,null,null,{"$f":"IF($C$5=\"\",\"\",$C$5)","v":""},{"$f":"IF(C5=\"drum mix plant\",SUM(N5:N6),0)","v":0},{"$f":"IF(N93=0,0,IF($K$84=1,0.0000077,0.00065))","v":0},{"$f":"IF(O93=\"\",\"\",\"lb/ton\")","v":"lb/ton"},0,{"$f":"IF($K$84=1,N93*O93,\"\")","v":""},{"$f":"IF(N93=0,0,IF($C$10>0,$C$10*O93/2000,IF($C$11>0,$C$11*365*O93/2000,IF($C$12>0,$C$12*365*O93*N93/2000,IF(R93=\"\",Q93*8760/2000,R93*8760/2000)))))","v":0},{"$f":"IF(N93>0,$P$5*O93/2000,0)","v":0}]
[null,{"$f":"IF($C$4>5,\"Asphalt Plant\",\"\")","v":""},{"$f":"IF($C$4>5,\"Site 6\",\"\")","v":""},null,{"$f":"IF($C$4>5,\"Emission Point #\",\"\")","v":""},{"$f":"IF($C$4>5,\"Emission    Unit #\",\"\")","v":""},{"$f":"IF($C$4>5,\"Process\",\"\")","v":""},{"$f":"IF($C$4>5,\"Maximum Hourly     Design Rate\",\"\")","v":""},{"$f":"IF($C$4>5,('Facility Information'!G80&\" Annual Throughput\"),\"\")","v":""},null,null,null,"Nickel Compounds"]
[null,null,null,null,null,null,null,null,null,null,null,null,{"$f":"$C$5 & \" - Fuel Oil\"","v":" - Fuel Oil"},{"$f":"IF(C5=\"drum mix plant\",N5,0)","v":0},{"$f":"IF(N95=0,0,IF($K$84=1,0.000015,0.0013))","v":0},{"$f":"IF(O95=\"\",\"\",\"lb/ton\")","v":"lb/ton"},0,{"$f":"IF($K$84=1,N95*O95,\"\")","v":""},{"$f":"IF(N95=0,0,IF($C$10>0,$C$10*O95/2000,IF($C$11>0,$C$11*365*O95/2000,IF($C$12>0,$C$12*365*O95*N95/2000,IF(R95=\"\",Q95*8760/2000,R95*8760/2000)))))","v":0},{"$f":"IF(N95>0,$P$5*O95/2000,0)","v":0}]
[null,{"$f":"IF($C$4>5,\"Site Name\",\"\")","v":""},null,null,{"$f":"IF($C$4>5,\"Dryers, Hot Screens, Mixer\",\"\")","v":""},null,null,{"$f":"IF($C$4>5,\"(tons/hr)\",\"\")","v":""},{"$f":"IF($C$4>5,\"(tons/yr)\",\"\")","v":""},"PM2.5","PM10",null,{"$f":"$C$5 & \" - Waste Oil\"","v":" - Waste Oil"},{"$f":"IF(C5=\"drum mix plant\",N6,0)","v":0},{"$f":"IF(N96=0,0,IF($K$84=1,0.000015,0.0013))","v":0},{"$f":"IF(O96=\"\",\"\",\"lb/ton\")","v":"lb/ton"},0,{"$f":"IF($K$84=1,N96*O96,\"\")","v":""},{"$f":"IF(N96=0,0,IF($C$10>0,$C$10*O96/2000,IF($C$11>0,$C$11*365*O96/2000,IF($C$12>0,$C$12*365*O96*N96/2000,IF(R96=\"\",Q96*8760/2000,R96*8760/2000)))))","v":0},{"$f":"IF(N96>0,$P$6*O96/2000,0)","v":0}]
[null,{"$f":"IF($C$4>5,\"County:\",\"\")","v":""},null,null,{"$f":"IF(C99=\"\",\"\",\"AP-10 EP-1\")","v":""},{"$f":"IF(C99=\"\",\"\",\"AP-10 EU-1\")","v":""},{"$f":"IF(C99=\"\",\"\",C5 & \" - \"&C99)","v":""},null,null,{"$f":"IF(C100=\"\",\"\",IF(C100=\"yes\",LOOKUP(G97,'Emission Factors'!$A$12:$A$17,'Emission Factors'!$D$12:$D$17),LOOKUP(G97,'Emission Factors'!$A$5:$A$10,'Emission Factors'!$D$5:$D$10)))","v":""},{"$f":"IF(C100=\"\",\"\",IF(C100=\"yes\",LOOKUP(G97,'Emission Factors'!$A$12:$A$17,'Emission Factors'!$F$12:$F$17),LOOKUP(G97,'Emission Factors'!$A$5:$A$10,'Emission Factors'!$F$5:$F$10)))","v":""},null,{"$f":"$C$5 & \" - Natural Gas\"","v":" - Natural Gas"},{"$f":"IF(C5=\"drum mix plant\",N7,0)","v":0},{"$f":"IF(N97=0,0,IF($K$84=1,0.000063,0.00063))","v":0},{"$f":"IF(O97=\"\",\"\",\"lb/ton\")","v":"lb/ton"},{"$f":"IF($K$84=1,\"\",N97*O97)","v":0},{"$f":"IF($K$84=1,N97*O97,\"\")","v":""},{"$f":"IF(N97=0,0,IF($C$10>0,$C$10*O97/2000,IF($C$11>0,$C$11*365*O97/2000,IF($C$12>0,$C$12*365*O97*N97/2000,IF(R97=\"\",Q97*8760/2000,R97*8760/2000)))))","v":0},{"$f":"IF(N97>0,$P$7*O97/2000,0)","v":0}]
[null,{"$f":"IF($C$4>5,\"Production Period (Dates):\",\"\")","v":""},null,null,{"$f":"IF($C$4>5,\"Liquid Asphalt Heater\",\"\")","v":""},null,null,{"$f":"IF($C$4>5,IF(C99=\"natural gas\",\"(MMCF/hr)\",\"(gallons/hr)\"),\"\")","v":""},{"$f":"IF($C$4>5,IF(C99=\"natural gas\",\"(MMCF/yr)\",\"(gallons/yr)\"),\"\")","v":""}]
[null,{"$f":"IF($C$4>5,\"Type of Fuel Used:\",\"\")","v":""},null,null,{"$f":"IF(C99=\"\",\"\",\"AP-10 EP-2\")","v":""},{"$f":"IF(C99=\"\",\"\",\"AP-10 EU-2\")","v":""},{"$f":"IF(C99=\"\",\"\",C99& \" Fired Heater\")","v":""}]
[null,{"$f":"IF($C$4>5,\"Is Your Operation Controlled?:\",\"\")","v":""},null,null,{"$f":"IF($C$4>5,\"Silo Filling, Truck Loadout, Aggregate Transfer\",\"\")","v":""},null,null,{"$f":"IF($C$4>5,\"(tons/hr)\",\"\")","v":""},{"$f":"IF($C$4>5,\"(tons/yr)\",\"\")","v":""}]
[null,null,null,null,{"$f":"IF($C$4>5,\"AP-10 EP-3\",\"\")","v":""},{"$f":"IF($C$4>5,\"AP-10 EU-3\",\"\")","v":""},{"$f":"IF($C$4>5,\"Silo Filling\",\"\")","v":""}]
[null,null,null,null,{"$f":"IF($C$4>5,\"AP-10 EP-3\",\"\")","v":""},{"$f":"IF($C$4>5,\"AP-10 EU-4\",\"\")","v":""},{"$f":"IF($C$4>5,\"Truck Loadout\",\"\")","v":""}]
[null,null,null,null,{"$f":"IF($C$4>5,\"AP-10 EP-3\",\"\")","v":""},{"$f":"IF($C$4>5,\"AP-10 EU-5\",\"\")","v":""},{"$f":"IF($C$4>5,\"Cold Aggregate Bins\",\"\")","v":""}]
[]
[null,null,null,null,{"$f":"IF($C$4>5,\"Stock Pile Area\",\"\")","v":""}]
[null,null,null,null,null,{"$f":"IF($C$4>5,\"Emission Unit #\",\"\")","v":""},{"$f":"IF($C$4>5,\"Maximum Storage Area (acres)\",\"\")","v":""},{"$f":"IF($C$4>5,\"Actual Storage Area (acres)\",\"\")","v":""},{"$f":"IF($C$4>5,\"Actual Days in Existence (days)\",\"\")","v":""}]
[]
[]
[null,{"$f":"IF($C$4>6,\"Asphalt Plant\",\"\")","v":""},{"$f":"IF($C$4>6,\"Site 7\",\"\")","v":""},null,{"$f":"IF($C$4>6,\"Emission Point #\",\"\")","v":""},{"$f":"IF($C$4>6,\"Emission    Unit #\",\"\")","v":""},{"$f":"IF($C$4>6,\"Process\",\"\")","v":""},{"$f":"IF($C$4>6,\"Maximum Hourly     Design Rate\",\"\")","v":""},{"$f":"IF($C$4>6,('Facility Information'!G95&\" Annual Throughput\"),\"\")","v":""}]
[]
[null,{"$f":"IF($C$4>6,\"Site Name\",\"\")","v":""},null,null,{"$f":"IF($C$4>6,\"Dryers, Hot Screens, Mixer\",\"\")","v":""},null,null,{"$f":"IF($C$4>6,\"(tons/hr)\",\"\")","v":""},{"$f":"IF($C$4>6,\"(tons/yr)\",\"\")","v":""},"PM2.5","PM10"]
[null,{"$f":"IF($C$4>6,\"County:\",\"\")","v":""},null,null,{"$f":"IF(C114=\"\",\"\",\"AP-10 EP-1\")","v":""},{"$f":"IF(C114=\"\",\"\",\"AP-10 EU-1\")","v":""},{"$f":"IF(C114=\"\",\"\",C5 & \" - \"&C114)","v":""},null,null,{"$f":"IF(C115=\"\",\"\",IF(C115=\"yes\",LOOKUP(G112,'Emission Factors'!$A$12:$A$17,'Emission Factors'!$D$12:$D$17),LOOKUP(G112,'Emission Factors'!$A$5:$A$10,'Emission Factors'!$D$5:$D$10)))","v":""},{"$f":"IF(C115=\"\",\"\",IF(C115=\"yes\",LOOKUP(G112,'Emission Factors'!$A$12:$A$17,'Emission Factors'!$F$12:$F$17),LOOKUP(G112,'Emission Factors'!$A$5:$A$10,'Emission Factors'!$F$5:$F$10)))","v":""}]
[null,{"$f":"IF($C$4>6,\"Production Period (Dates):\",\"\")","v":""},null,null,{"$f":"IF($C$4>6,\"Liquid Asphalt Heater\",\"\")","v":""},null,null,{"$f":"IF($C$4>6,IF(C114=\"natural gas\",\"(MMCF/hr)\",\"(gallons/hr)\"),\"\")","v":""},{"$f":"IF($C$4>6,IF(C114=\"natural gas\",\"(MMCF/yr)\",\"(gallons/yr)\"),\"\")","v":""}]
[null,{"$f":"IF($C$4>6,\"Type of Fuel Used:\",\"\")","v":""},null,null,{"$f":"IF(C114=\"\",\"\",\"AP-10 EP-2\")","v":""},{"$f":"IF(C114=\"\",\"\",\"AP-10 EU-2\")","v":""},{"$f":"IF(C114=\"\",\"\",C114& \" Fired Heater\")","v":""}]
[null,{"$f":"IF($C$4>6,\"Is Your Operation Controlled?:\",\"\")","v":""},null,null,{"$f":"IF($C$4>6,\"Silo Filling, Truck Loadout, Aggregate Transfer\",\"\")","v":""},null,null,{"$f":"IF($C$4>6,\"(tons/hr)\",\"\")","v":""},{"$f":"IF($C$4>6,\"(tons/yr)\",\"\")","v":""}]
[null,null,null,null,{"$f":"IF($C$4>6,\"AP-10 EP-3\",\"\")","v":""},{"$f":"IF($C$4>6,\"AP-10 EU-3\",\"\")","v":""},{"$f":"IF($C$4>6,\"Silo Filling\",\"\")","v":""}]
[null,null,null,null,{"$f":"IF($C$4>6,\"AP-10 EP-3\",\"\")","v":""},{"$f":"IF($C$4>6,\"AP-10 EU-4\",\"\")","v":""},{"$f":"IF($C$4>6,\"Truck Loadout\",\"\")","v":""}]
[null,null,null,null,{"$f":"IF($C$4>6,\"AP-10 EP-3\",\"\")","v":""},{"$f":"IF($C$4>6,\"AP-10 EU-5\",\"\")","v":""},{"$f":"IF($C$4>6,\"Cold Aggregate Bins\",\"\")","v":""}]
[]
[null,null,null,null,{"$f":"IF($C$4>6,\"Stock Pile Area\",\"\")","v":""}]
[null,null,null,null,null,{"$f":"IF($C$4>6,\"Emission Unit #\",\"\")","v":""},{"$f":"IF($C$4>6,\"Maximum Storage Area (acres)\",\"\")","v":""},{"$f":"IF($C$4>6,\"Actual Storage Area (acres)\",\"\")","v":""},{"$f":"IF($C$4>6,\"Actual Days in Existence (days)\",\"\")","v":""}]
[]
[]
[null,{"$f":"IF($C$4>7,\"Asphalt Plant\",\"\")","v":""},{"$f":"IF($C$4>7,\"Site 8\",\"\")","v":""},null,{"$f":"IF($C$4>7,\"Emission Point #\",\"\")","v":""},{"$f":"IF($C$4>7,\"Emission    Unit #\",\"\")","v":""},{"$f":"IF($C$4>7,\"Process\",\"\")","v":""},{"$f":"IF($C$4>7,\"Maximum Hourly     Design Rate\",\"\")","v":""},{"$f":"IF($C$4>7,('Facility Information'!G110&\" Annual Throughput\"),\"\")","v":""}]
[]
[null,{"$f":"IF($C$4>7,\"Site Name\",\"\")","v":""},null,null,{"$f":"IF($C$4>7,\"Dryers, Hot Screens, Mixer\",\"\")","v":""},null,null,{"$f":"IF($C$4>7,\"(tons/hr)\",\"\")","v":""},{"$f":"IF($C$4>7,\"(tons/yr)\",\"\")","v":""},"PM2.5","PM10"]
[null,{"$f":"IF($C$4>7,\"County:\",\"\")","v":""},null,null,{"$f":"IF(C129=\"\",\"\",\"AP-10 EP-1\")","v":""},{"$f":"IF(C129=\"\",\"\",\"AP-10 EU-1\")","v":""},{"$f":"IF(C129=\"\",\"\",C5 & \" - \"&C129)","v":""},null,null,{"$f":"IF(C130=\"\",\"\",IF(C130=\"yes\",LOOKUP(G127,'Emission Factors'!$A$12:$A$17,'Emission Factors'!$D$12:$D$17),LOOKUP(G127,'Emission Factors'!$A$5:$A$10,'Emission Factors'!$D$5:$D$10)))","v":""},{"$f":"IF(C130=\"\",\"\",IF(C130=\"yes\",LOOKUP(G127,'Emission Factors'!$A$12:$A$17,'Emission Factors'!$F$12:$F$17),LOOKUP(G127,'Emission Factors'!$A$5:$A$10,'Emission Factors'!$F$5:$F$10)))","v":""}]
[null,{"$f":"IF($C$4>7,\"Production Period (Dates):\",\"\")","v":""},null,null,{"$f":"IF($C$4>7,\"Liquid Asphalt Heater\",\"\")","v":""},null,null,{"$f":"IF($C$4>7,IF(C129=\"natural gas\",\"(MMCF/hr)\",\"(gallons/hr)\"),\"\")","v":""},{"$f":"IF($C$4>7,IF(C129=\"natural gas\",\"(MMCF/yr)\",\"(gallons/yr)\"),\"\")","v":""}]
[null,{"$f":"IF($C$4>7,\"Type of Fuel Used:\",\"\")","v":""},null,null,{"$f":"IF(C129=\"\",\"\",\"AP-10 EP-2\")","v":""},{"$f":"IF(C129=\"\",\"\",\"AP-10 EU-2\")","v":""},{"$f":"IF(C129=\"\",\"\",C129& \" Fired Heater\")","v":""}]
[null,{"$f":"IF($C$4>7,\"Is Your Operation Controlled?:\",\"\")","v":""},null,null,{"$f":"IF($C$4>7,\"Silo Filling, Truck Loadout, Aggregate Transfer\",\"\")","v":""},null,null,{"$f":"IF($C$4>7,\"(tons/hr)\",\"\")","v":""},{"$f":"IF($C$4>7,\"(tons/yr)\",\"\")","v":""}]
[null,null,null,null,{"$f":"IF($C$4>7,\"AP-10 EP-3\",\"\")","v":""},{"$f":"IF($C$4>7,\"AP-10 EU-3\",\"\")","v":""},{"$f":"IF($C$4>7,\"Silo Filling\",\"\")","v":""}]
[null,null,null,null,{"$f":"IF($C$4>7,\"AP-10 EP-3\",\"\")","v":""},{"$f":"IF($C$4>7,\"AP-10 EU-4\",\"\")","v":""},{"$f":"IF($C$4>7,\"Truck Loadout\",\"\")","v":""}]
[null,null,null,null,{"$f":"IF($C$4>7,\"AP-10 EP-3\",\"\")","v":""},{"$f":"IF($C$4>7,\"AP-10 EU-5\",\"\")","v":""},{"$f":"IF($C$4>7,\"Cold Aggregate Bins\",\"\")","v":""}]
[]
[null,null,null,null,{"$f":"IF($C$4>7,\"Stock Pile Area\",\"\")","v":""}]
[null,null,null,null,null,{"$f":"IF($C$4>7,\"Emission Unit #\",\"\")","v":""},{"$f":"IF($C$4>7,\"Maximum Storage Area (acres)\",\"\")","v":""},{"$f":"IF($C$4>7,\"Actual Storage Area (acres)\",\"\")","v":""},{"$f":"IF($C$4>7,\"Actual Days in Existence (days)\",\"\")","v":""}]
[]
[]
[null,{"$f":"IF($C$4>8,\"Asphalt Plant\",\"\")","v":""},{"$f":"IF($C$4>8,\"Site 9\",\"\")","v":""},null,{"$f":"IF($C$4>8,\"Emission Point #\",\"\")","v":""},{"$f":"IF($C$4>8,\"Emission    Unit #\",\"\")","v":""},{"$f":"IF($C$4>8,\"Process\",\"\")","v":""},{"$f":"IF($C$4>8,\"Maximum Hourly     Design Rate\",\"\")","v":""},{"$f":"IF($C$4>8,('Facility Information'!G125&\" Annual Throughput\"),\"\")","v":""}]
[]
[null,{"$f":"IF($C$4>8,\"Site Name\",\"\")","v":""},null,null,{"$f":"IF($C$4>8,\"Dryers, Hot Screens, Mixer\",\"\")","v":""},null,null,{"$f":"IF($C$4>8,\"(tons/hr)\",\"\")","v":""},{"$f":"IF($C$4>8,\"(tons/yr)\",\"\")","v":""},"PM2.5","PM10"]
[null,{"$f":"IF($C$4>8,\"County:\",\"\")","v":""},null,null,{"$f":"IF(C144=\"\",\"\",\"AP-10 EP-1\")","v":""},{"$f":"IF(C144=\"\",\"\",\"AP-10 EU-1\")","v":""},{"$f":"IF(C144=\"\",\"\",C5 & \" - \"&C144)","v":""},null,null,{"$f":"IF(C145=\"\",\"\",IF(C145=\"yes\",LOOKUP(G142,'Emission Factors'!$A$12:$A$17,'Emission Factors'!$D$12:$D$17),LOOKUP(G142,'Emission Factors'!$A$5:$A$10,'Emission Factors'!$D$5:$D$10)))","v":""},{"$f":"IF(C145=\"\",\"\",IF(C145=\"yes\",LOOKUP(G142,'Emission Factors'!$A$12:$A$17,'Emission Factors'!$F$12:$F$17),LOOKUP(G142,'Emission Factors'!$A$5:$A$10,'Emission Factors'!$F$5:$F$10)))","v":""}]
[null,{"$f":"IF($C$4>8,\"Production Period (Dates):\",\"\")","v":""},null,null,{"$f":"IF($C$4>8,\"Liquid Asphalt Heater\",\"\")","v":""},null,null,{"$f":"IF($C$4>8,IF(C144=\"natural gas\",\"(MMCF/hr)\",\"(gallons/hr)\"),\"\")","v":""},{"$f":"IF($C$4>8,IF(C144=\"natural gas\",\"(MMCF/yr)\",\"(gallons/yr)\"),\"\")","v":""}]
[null,{"$f":"IF($C$4>8,\"Type of Fuel Used:\",\"\")","v":""},null,null,{"$f":"IF(C144=\"\",\"\",\"AP-10 EP-2\")","v":""},{"$f":"IF(C144=\"\",\"\",\"AP-10 EU-2\")","v":""},{"$f":"IF(C144=\"\",\"\",C144& \" Fired Heater\")","v":""}]
[null,{"$f":"IF($C$4>8,\"Is Your Operation Controlled?:\",\"\")","v":""},null,null,{"$f":"IF($C$4>8,\"Silo Filling, Truck Loadout, Aggregate Transfer\",\"\")","v":""},null,null,{"$f":"IF($C$4>8,\"(tons/hr)\",\"\")","v":""},{"$f":"IF($C$4>8,\"(tons/yr)\",\"\")","v":""}]
[null,null,null,null,{"$f":"IF($C$4>8,\"AP-10 EP-3\",\"\")","v":""},{"$f":"IF($C$4>8,\"AP-10 EU-3\",\"\")","v":""},{"$f":"IF($C$4>8,\"Silo Filling\",\"\")","v":""}]
[null,null,null,null,{"$f":"IF($C$4>8,\"AP-10 EP-3\",\"\")","v":""},{"$f":"IF($C$4>8,\"AP-10 EU-4\",\"\")","v":""},{"$f":"IF($C$4>8,\"Truck Loadout\",\"\")","v":""}]
[null,null,null,null,{"$f":"IF($C$4>8,\"AP-10 EP-3\",\"\")","v":""},{"$f":"IF($C$4>8,\"AP-10 EU-5\",\"\")","v":""},{"$f":"IF($C$4>8,\"Cold Aggregate Bins\",\"\")","v":""}]
[]
[null,null,null,null,{"$f":"IF($C$4>8,\"Stock Pile Area\",\"\")","v":""}]
[null,null,null,null,null,{"$f":"IF($C$4>8,\"Emission Unit #\",\"\")","v":""},{"$f":"IF($C$4>8,\"Maximum Storage Area (acres)\",\"\")","v":""},{"$f":"IF($C$4>8,\"Actual Storage Area (acres)\",\"\")","v":""},{"$f":"IF($C$4>8,\"Actual Days in Existence (days)\",\"\")","v":""}]
[]
[]
[null,{"$f":"IF($C$4>9,\"Asphalt Plant\",\"\")","v":""},{"$f":"IF($C$4>9,\"Site 10\",\"\")","v":""},null,{"$f":"IF($C$4>9,\"Emission Point #\",\"\")","v":""},{"$f":"IF($C$4>9,\"Emission    Unit #\",\"\")","v":""},{"$f":"IF($C$4>9,\"Process\",\"\")","v":""},{"$f":"IF($C$4>9,\"Maximum Hourly     Design Rate\",\"\")","v":""},{"$f":"IF($C$4>9,('Facility Information'!G140&\" Annual Throughput\"),\"\")","v":""}]
[]
[null,{"$f":"IF($C$4>9,\"Site Name\",\"\")","v":""},null,null,{"$f":"IF($C$4>9,\"Dryers, Hot Screens, Mixer\",\"\")","v":""},null,null,{"$f":"IF($C$4>9,\"(tons/hr)\",\"\")","v":""},{"$f":"IF($C$4>9,\"(tons/yr)\",\"\")","v":""},"PM2.5","PM10"]
[null,{"$f":"IF($C$4>9,\"County:\",\"\")","v":""},null,null,{"$f":"IF(C159=\"\",\"\",\"AP-10 EP-1\")","v":""},{"$f":"IF(C159=\"\",\"\",\"AP-10 EU-1\")","v":""},{"$f":"IF(C159=\"\",\"\",C5 & \" - \"&C159)","v":""},null,null,{"$f":"IF(C160=\"\",\"\",IF(C160=\"yes\",LOOKUP(G157,'Emission Factors'!$A$12:$A$17,'Emission Factors'!$D$12:$D$17),LOOKUP(G157,'Emission Factors'!$A$5:$A$10,'Emission Factors'!$D$5:$D$10)))","v":""},{"$f":"IF(C160=\"\",\"\",IF(C160=\"yes\",LOOKUP(G157,'Emission Factors'!$A$12:$A$17,'Emission Factors'!$F$12:$F$17),LOOKUP(G157,'Emission Factors'!$A$5:$A$10,'Emission Factors'!$F$5:$F$10)))","v":""}]
[null,{"$f":"IF($C$4>9,\"Production Period (Dates):\",\"\")","v":""},null,null,{"$f":"IF($C$4>9,\"Liquid Asphalt Heater\",\"\")","v":""},null,null,{"$f":"IF($C$4>9,IF(C159=\"natural gas\",\"(MMCF/hr)\",\"(gallons/hr)\"),\"\")","v":""},{"$f":"IF($C$4>9,IF(C159=\"natural gas\",\"(MMCF/yr)\",\"(gallons/yr)\"),\"\")","v":""}]
[null,{"$f":"IF($C$4>9,\"Type of Fuel Used:\",\"\")","v":""},null,null,{"$f":"IF(C159=\"\",\"\",\"AP-10 EP-2\")","v":""},{"$f":"IF(C159=\"\",\"\",\"AP-10 EU-2\")","v":""},{"$f":"IF(C159=\"\",\"\",C159& \" Fired Heater\")","v":""}]
[null,{"$f":"IF($C$4>9,\"Is Your Operation Controlled?:\",\"\")","v":""},null,null,{"$f":"IF($C$4>9,\"Silo Filling, Truck Loadout, Aggregate Transfer\",\"\")","v":""},null,null,{"$f":"IF($C$4>9,\"(tons/hr)\",\"\")","v":""},{"$f":"IF($C$4>9,\"(tons/yr)\",\"\")","v":""}]
[null,null,null,null,{"$f":"IF($C$4>9,\"AP-10 EP-3\",\"\")","v":""},{"$f":"IF($C$4>9,\"AP-10 EU-3\",\"\")","v":""},{"$f":"IF($C$4>9,\"Silo Filling\",\"\")","v":""}]
[null,null,null,null,{"$f":"IF($C$4>9,\"AP-10 EP-3\",\"\")","v":""},{"$f":"IF($C$4>9,\"AP-10 EU-4\",\"\")","v":""},{"$f":"IF($C$4>9,\"Truck Loadout\",\"\")","v":""}]
[null,null,null,null,{"$f":"IF($C$4>9,\"AP-10 EP-3\",\"\")","v":""},{"$f":"IF($C$4>9,\"AP-10 EU-5\",\"\")","v":""},{"$f":"IF($C$4>9,\"Cold Aggregate Bins\",\"\")","v":""}]
[]
[null,null,null,null,{"$f":"IF($C$4>9,\"Stock Pile Area\",\"\")","v":""}]
[null,null,null,null,null,{"$f":"IF($C$4>9,\"Emission Unit #\",\"\")","v":""},{"$f":"IF($C$4>9,\"Maximum Storage Area (acres)\",\"\")","v":""},{"$f":"IF($C$4>9,\"Actual Storage Area (acres)\",\"\")","v":""},{"$f":"IF($C$4>9,\"Actual Days in Existence (days)\",\"\")","v":""}]

{"sheet":"Permitted Diesel Engines","index":11,"n_rows":77,"n_cols":55,"rows_kept":77,"cut":false,"hidden":false,"merged":[]}
[null,null,"PERMITTED DIESEL ENGINES"]
[null,null,"Please fill in the yellow boxes as applicable for your facility. "]
[null,null,"** As of 2016 Potential Emissions are no longer required to be reported in the Minor Source Emissions Inventory**"]
[]
[null,null,null,null,null,"Actual Sulfur Content of Fuel:",null,"%"]
[]
[null,null,"Asphalt Plant #","Emission Point #","Emission Unit #","Emission Unit Description     (>600 bhp / ≤ 600 bhp)","Permit Number","Hours/Yr Plant Wide Limit","Gal/Yr Plant Wide Limit","Sulfur Content Limit (%)","Sulfur Content","Stack Height (ft)","Stack Diameter (inches)","Stack Type","Exhaust Flowrate (acfm)","Exhaust Temp (Degree F)","Max Hourly Rate (gal/hr)","Max Hourly Rate (MMBtu/hr)",{"$f":"'Facility Information'!A53&\" Annual Throughput (gallons/yr)\"","v":" Annual Throughput (gallons/yr)"},"Annual Throughput (MMBtu/yr)","Diesel Generator > 600 bhp",null,null,"PM2.5 Emission Factor (lb/MMBtu)","Potential Emissions (lb/hr)","Potential Emissions (tons/yr)","Actual Emissions (tons/yr)","PM10 Emission Factor (lb/MMBtu)","Potential Emissions (lb/hr)","Potential Emissions (tons/yr)","Actual Emissions (tons/yr)","SO2 Emission Factor (lb/MMBtu)","Potential Emissions (lb/hr)","Potential Emissions (tons/yr)","Actual Emissions (tons/yr)","NOx Emission Factor (lb/MMBtu)","Potential Emissions (lb/hr)","Potential Emissions (tons/yr)","Actual Emissions (tons/yr)","VOC Emission Factor (lb/MMBtu)","Potential Emissions (lb/hr)","Potential Emissions (tons/yr)","Actual Emissions (tons/yr)","CO Emission Factor (lb/MMBtu)","Potential Emissions (lb/hr)","Potential Emissions (tons/yr)","Actual Emissions (tons/yr)","Formaldehyde Emission Factor (lb/MMBtu)","Potential Emissions (lb/hr)","Potential Emissions (tons/yr)","Actual Emissions (tons/yr)","Benzene Emission Factor (lb/MMBtu)","Potential Emissions (lb/hr)","Potential Emissions (tons/yr)","Actual Emissions (tons/yr)"]
[">600 bhp",{"$f":"IF(F8=\"Diesel Generator> 600 bhp\",\"yes\",\"no\")","v":"no"},null,null,null,null,null,null,null,null,{"$f":"IF(B8=\"no\",1,IF(J8=\"\",0.5,J8))","v":1},null,null,null,null,null,null,{"$f":"IF(Q8=\"\",\"\",Q8*0.14)","v":""},null,{"$f":"IF(S8=\"\",\"\",S8*0.14)","v":""},"Diesel Generator ≤ 600 bhp",{"$f":"IF(B8=\"no\",H8*Q8*0.14,\"\")","v":0},{"$f":"IF(B8=\"yes\",H8*Q8*0.14,\"\")","v":""},{"$f":"IF(F8=\"\",\"\",IF(B8=\"no\",'Emission Factors'!$D$43,'Emission Factors'!$D$44))","v":""},{"$f":"IF(F8=\"\",\"\",X8*R8)","v":""},{"$f":"IF(F8=\"\",\"\",IF(I8>0,I8*0.14*X8/2000,IF(H8>0,X8*R8*H8/2000,Y8*8760/2000)))","v":""},{"$f":"IF(F8=\"\",\"\",T8*X8/2000)","v":""},{"$f":"IF(F8=\"\",\"\",IF(B8=\"no\",'Emission Factors'!$F$43,'Emission Factors'!$F$44))","v":""},{"$f":"IF(F8=\"\",\"\",AB8*R8)","v":""},{"$f":"IF(F8=\"\",\"\",IF(I8>0,I8*0.14*AB8/2000,IF(H8>0,AB8*R8*H8/2000,AC8*8760/2000)))","v":""},{"$f":"IF(F8=\"\",\"\",T8*AB8/2000)","v":""},{"$f":"IF(F8=\"\",\"\",IF(B8=\"no\",'Emission Factors'!$H$43,'Emission Factors'!$H$44))","v":""},{"$f":"IF(F8=\"\",\"\",AF8*R8)","v":""},{"$f":"IF(F8=\"\",\"\",IF(I8>0,I8*0.14*AF8*K8/2000,IF(H8>0,AF8*K8*R8*H8/2000,AG8*8760/2000)))","v":""},{"$f":"IF(F8=\"\",\"\",IF(AF8=1.01,IF($G$5=\"\",T8*AF8*K8/2000,T8*AF8*$G$5/2000),AF8*T8/2000))","v":""},{"$f":"IF(F8=\"\",\"\",IF(B8=\"no\",'Emission Factors'!$J$43,'Emission Factors'!$J$44))","v":""},{"$f":"IF(F8=\"\",\"\",AJ8*R8)","v":""},{"$f":"IF(F8=\"\",\"\",IF(I8>0,I8*0.14*AJ8/2000,IF(H8>0,AJ8*R8*H8/2000,AK8*8760/2000)))","v":""},{"$f":"IF(F8=\"\",\"\",T8*AJ8/2000)","v":""},{"$f":"IF(F8=\"\",\"\",IF(B8=\"no\",'Emission Factors'!$L$43,'Emission Factors'!$L$44))","v":""},{"$f":"IF(F8=\"\",\"\",AN8*R8)","v":""},{"$f":"IF(F8=\"\",\"\",IF(I8>0,I8*0.14*AN8/2000,IF(H8>0,AN8*R8*H8/2000,AO8*8760/2000)))","v":""},{"$f":"IF(F8=\"\",\"\",T8*AN8/2000)","v":""},{"$f":"IF(F8=\"\",\"\",IF(B8=\"no\",'Emission Factors'!$N$43,'Emission Factors'!$N$44))","v":""},{"$f":"IF(F8=\"\",\"\",AR8*R8)","v":""},{"$f":"IF(F8=\"\",\"\",IF(I8>0,I8*0.14*AR8/2000,IF(H8>0,AR8*R8*H8/2000,AS8*8760/2000)))","v":""},{"$f":"IF(F8=\"\",\"\",T8*AR8/2000)","v":""},{"$f":"IF(F8=\"\",\"\",IF(B8=\"no\",'Emission Factors'!$P$43,'Emission Factors'!$P$44))","v":""},{"$f":"IF(F8=\"\",\"\",AV8*R8)","v":""},{"$f":"IF(F8=\"\",\"\",IF(I8>0,I8*0.14*AV8/2000,IF(H8>0,AV8*R8*H8/2000,AW8*8760/2000)))","v":""},{"$f":"IF(F8=\"\",\"\",T8*AV8/2000)","v":""},{"$f":"IF(F8=\"\",\"\",IF(B8=\"no\",'Emission Factors'!$R$43,'Emission Factors'!$R$44))","v":""},{"$f":"IF(F8=\"\",\"\",AZ8*R8)","v":""},{"$f":"IF(F8=\"\",\"\",IF(I8>0,I8*0.14*AZ8/2000,IF(H8>0,AZ8*R8*H8/2000,BA8*8760/2000)))","v":""},{"$f":"IF(F8=\"\",\"\",T8*AZ8/2000)","v":""}]
[null,"no",null,null,null,null,null,null,null,null,{"$f":"IF(B9=\"no\",1,IF(J9=\"\",0.5,J9))","v":1},null,null,null,null,null,null,"",null,"",null,0,"",{"$f":"IF(F9=\"\",\"\",IF(B9=\"no\",'Emission Factors'!$D$43,'Emission Factors'!$D$44))","v":""},{"$f":"IF(F9=\"\",\"\",X9*R9)","v":""},{"$f":"IF(F9=\"\",\"\",IF(I9>0,I9*0.14*X9/2000,IF(H9>0,X9*R9*H9/2000,Y9*8760/2000)))","v":""},{"$f":"IF(F9=\"\",\"\",T9*X9/2000)","v":""},{"$f":"IF(F9=\"\",\"\",IF(B9=\"no\",'Emission Factors'!$F$43,'Emission Factors'!$F$44))","v":""},{"$f":"IF(F9=\"\",\"\",AB9*R9)","v":""},{"$f":"IF(F9=\"\",\"\",IF(I9>0,I9*0.14*AB9/2000,IF(H9>0,AB9*R9*H9/2000,AC9*8760/2000)))","v":""},{"$f":"IF(F9=\"\",\"\",T9*AB9/2000)","v":""},{"$f":"IF(F9=\"\",\"\",IF(B9=\"no\",'Emission Factors'!$H$43,'Emission Factors'!$H$44))","v":""},{"$f":"IF(F9=\"\",\"\",AF9*R9)","v":""},{"$f":"IF(F9=\"\",\"\",IF(I9>0,I9*0.14*AF9*K9/2000,IF(H9>0,AF9*K9*R9*H9/2000,AG9*8760/2000)))","v":""},{"$f":"IF(F9=\"\",\"\",IF(AF9=1.01,IF($G$5=\"\",T9*AF9*K9/2000,T9*AF9*$G$5/2000),AF9*T9/2000))","v":""},{"$f":"IF(F9=\"\",\"\",IF(B9=\"no\",'Emission Factors'!$J$43,'Emission Factors'!$J$44))","v":""},{"$f":"IF(F9=\"\",\"\",AJ9*R9)","v":""},{"$f":"IF(F9=\"\",\"\",IF(I9>0,I9*0.14*AJ9/2000,IF(H9>0,AJ9*R9*H9/2000,AK9*8760/2000)))","v":""},{"$f":"IF(F9=\"\",\"\",T9*AJ9/2000)","v":""},{"$f":"IF(F9=\"\",\"\",IF(B9=\"no\",'Emission Factors'!$L$43,'Emission Factors'!$L$44))","v":""},{"$f":"IF(F9=\"\",\"\",AN9*R9)","v":""},{"$f":"IF(F9=\"\",\"\",IF(I9>0,I9*0.14*AN9/2000,IF(H9>0,AN9*R9*H9/2000,AO9*8760/2000)))","v":""},{"$f":"IF(F9=\"\",\"\",T9*AN9/2000)","v":""},{"$f":"IF(F9=\"\",\"\",IF(B9=\"no\",'Emission Factors'!$N$43,'Emission Factors'!$N$44))","v":""},{"$f":"IF(F9=\"\",\"\",AR9*R9)","v":""},{"$f":"IF(F9=\"\",\"\",IF(I9>0,I9*0.14*AR9/2000,IF(H9>0,AR9*R9*H9/2000,AS9*8760/2000)))","v":""},{"$f":"IF(F9=\"\",\"\",T9*AR9/2000)","v":""},{"$f":"IF(F9=\"\",\"\",IF(B9=\"no\",'Emission Factors'!$P$43,'Emission Factors'!$P$44))","v":""},{"$f":"IF(F9=\"\",\"\",AV9*R9)","v":""},{"$f":"IF(F9=\"\",\"\",IF(I9>0,I9*0.14*AV9/2000,IF(H9>0,AV9*R9*H9/2000,AW9*8760/2000)))","v":""},{"$f":"IF(F9=\"\",\"\",T9*AV9/2000)","v":""},{"$f":"IF(F9=\"\",\"\",IF(B9=\"no\",'Emission Factors'!$R$43,'Emission Factors'!$R$44))","v":""},{"$f":"IF(F9=\"\",\"\",AZ9*R9)","v":""},{"$f":"IF(F9=\"\",\"\",IF(I9>0,I9*0.14*AZ9/2000,IF(H9>0,AZ9*R9*H9/2000,BA9*8760/2000)))","v":""},{"$f":"IF(F9=\"\",\"\",T9*AZ9/2000)","v":""}]
[{"$f":"IF('Facility Information'!$C$21>0,\"AP-1\",\"\")","v":""},"no",null,null,null,null,null,null,null,null,1,null,null,null,null,null,null,"",null,"",null,0,"",{"$f":"IF(F10=\"\",\"\",IF(B10=\"no\",'Emission Factors'!$D$43,'Emission Factors'!$D$44))","v":""},"","","",{"$f":"IF(F10=\"\",\"\",IF(B10=\"no\",'Emission Factors'!$F$43,'Emission Factors'!$F$44))","v":""},"","","",{"$f":"IF(F10=\"\",\"\",IF(B10=\"no\",'Emission Factors'!$H$43,'Emission Factors'!$H$44))","v":""},"","","",{"$f":"IF(F10=\"\",\"\",IF(B10=\"no\",'Emission Factors'!$J$43,'Emission Factors'!$J$44))","v":""},"","","",{"$f":"IF(F10=\"\",\"\",IF(B10=\"no\",'Emission Factors'!$L$43,'Emission Factors'!$L$44))","v":""},"","","",{"$f":"IF(F10=\"\",\"\",IF(B10=\"no\",'Emission Factors'!$N$43,'Emission Factors'!$N$44))","v":""},"","","",{"$f":"IF(F10=\"\",\"\",IF(B10=\"no\",'Emission Factors'!$P$43,'Emission Factors'!$P$44))","v":""},"","","",{"$f":"IF(F10=\"\",\"\",IF(B10=\"no\",'Emission Factors'!$R$43,'Emission Factors'!$R$44))","v":""},"","",""]
[{"$f":"IF('Facility Information'!$C$21>1,\"AP-2\",\"\")","v":""},"no",null,null,null,null,null,null,null,null,1,null,null,null,null,null,null,"",null,"",null,0,"",{"$f":"IF(F11=\"\",\"\",IF(B11=\"no\",'Emission Factors'!$D$43,'Emission Factors'!$D$44))","v":""},"","","",{"$f":"IF(F11=\"\",\"\",IF(B11=\"no\",'Emission Factors'!$F$43,'Emission Factors'!$F$44))","v":""},"","","",{"$f":"IF(F11=\"\",\"\",IF(B11=\"no\",'Emission Factors'!$H$43,'Emission Factors'!$H$44))","v":""},"","","",{"$f":"IF(F11=\"\",\"\",IF(B11=\"no\",'Emission Factors'!$J$43,'Emission Factors'!$J$44))","v":""},"","","",{"$f":"IF(F11=\"\",\"\",IF(B11=\"no\",'Emission Factors'!$L$43,'Emission Factors'!$L$44))","v":""},"","","",{"$f":"IF(F11=\"\",\"\",IF(B11=\"no\",'Emission Factors'!$N$43,'Emission Factors'!$N$44))","v":""},"","","",{"$f":"IF(F11=\"\",\"\",IF(B11=\"no\",'Emission Factors'!$P$43,'Emission Factors'!$P$44))","v":""},"","","",{"$f":"IF(F11=\"\",\"\",IF(B11=\"no\",'Emission Factors'!$R$43,'Emission Factors'!$R$44))","v":""},"","",""]
[{"$f":"IF('Facility Information'!$C$21>2,\"AP-3\",\"\")","v":""},"no",null,null,null,null,null,null,null,null,1,null,null,null,null,null,null,"",null,"",null,0,"",{"$f":"IF(F12=\"\",\"\",IF(B12=\"no\",'Emission Factors'!$D$43,'Emission Factors'!$D$44))","v":""},"","","",{"$f":"IF(F12=\"\",\"\",IF(B12=\"no\",'Emission Factors'!$F$43,'Emission Factors'!$F$44))","v":""},"","","",{"$f":"IF(F12=\"\",\"\",IF(B12=\"no\",'Emission Factors'!$H$43,'Emission Factors'!$H$44))","v":""},"","","",{"$f":"IF(F12=\"\",\"\",IF(B12=\"no\",'Emission Factors'!$J$43,'Emission Factors'!$J$44))","v":""},"","","",{"$f":"IF(F12=\"\",\"\",IF(B12=\"no\",'Emission Factors'!$L$43,'Emission Factors'!$L$44))","v":""},"","","",{"$f":"IF(F12=\"\",\"\",IF(B12=\"no\",'Emission Factors'!$N$43,'Emission Factors'!$N$44))","v":""},"","","",{"$f":"IF(F12=\"\",\"\",IF(B12=\"no\",'Emission Factors'!$P$43,'Emission Factors'!$P$44))","v":""},"","","",{"$f":"IF(F12=\"\",\"\",IF(B12=\"no\",'Emission Factors'!$R$43,'Emission Factors'!$R$44))","v":""},"","",""]
[{"$f":"IF('Facility Information'!$C$21>3,\"AP-4\",\"\")","v":""},"no",null,null,null,null,null,null,null,null,1,null,null,null,null,null,null,"",null,"",null,0,"",{"$f":"IF(F13=\"\",\"\",IF(B13=\"no\",'Emission Factors'!$D$43,'Emission Factors'!$D$44))","v":""},"","","",{"$f":"IF(F13=\"\",\"\",IF(B13=\"no\",'Emission Factors'!$F$43,'Emission Factors'!$F$44))","v":""},"","","",{"$f":"IF(F13=\"\",\"\",IF(B13=\"no\",'Emission Factors'!$H$43,'Emission Factors'!$H$44))","v":""},"","","",{"$f":"IF(F13=\"\",\"\",IF(B13=\"no\",'Emission Factors'!$J$43,'Emission Factors'!$J$44))","v":""},"","","",{"$f":"IF(F13=\"\",\"\",IF(B13=\"no\",'Emission Factors'!$L$43,'Emission Factors'!$L$44))","v":""},"","","",{"$f":"IF(F13=\"\",\"\",IF(B13=\"no\",'Emission Factors'!$N$43,'Emission Factors'!$N$44))","v":""},"","","",{"$f":"IF(F13=\"\",\"\",IF(B13=\"no\",'Emission Factors'!$P$43,'Emission Factors'!$P$44))","v":""},"","","",{"$f":"IF(F13=\"\",\"\",IF(B13=\"no\",'Emission Factors'!$R$43,'Emission Factors'!$R$44))","v":""},"","",""]
[{"$f":"IF('Facility Information'!$C$21>4,\"AP-5\",\"\")","v":""},{"$f":"IF(F14=\"Diesel Generator> 600 bhp\",\"yes\",\"no\")","v":"no"},null,null,null,null,null,null,null,null,1,null,null,null,null,null,null,{"$f":"IF(Q14=\"\",\"\",Q14*0.14)","v":""},null,{"$f":"IF(S14=\"\",\"\",S14*0.14)","v":""},null,0,"",{"$f":"IF(F14=\"\",\"\",IF(B14=\"no\",'Emission Factors'!$D$43,'Emission Factors'!$D$44))","v":""},"","","",{"$f":"IF(F14=\"\",\"\",IF(B14=\"no\",'Emission Factors'!$F$43,'Emission Factors'!$F$44))","v":""},"","","",{"$f":"IF(F14=\"\",\"\",IF(B14=\"no\",'Emission Factors'!$H$43,'Emission Factors'!$H$44))","v":""},"","","",{"$f":"IF(F14=\"\",\"\",IF(B14=\"no\",'Emission Factors'!$J$43,'Emission Factors'!$J$44))","v":""},"","","",{"$f":"IF(F14=\"\",\"\",IF(B14=\"no\",'Emission Factors'!$L$43,'Emission Factors'!$L$44))","v":""},"","","",{"$f":"IF(F14=\"\",\"\",IF(B14=\"no\",'Emission Factors'!$N$43,'Emission Factors'!$N$44))","v":""},"","","",{"$f":"IF(F14=\"\",\"\",IF(B14=\"no\",'Emission Factors'!$P$43,'Emission Factors'!$P$44))","v":""},"","","",{"$f":"IF(F14=\"\",\"\",IF(B14=\"no\",'Emission Factors'!$R$43,'Emission Factors'!$R$44))","v":""},"","",""]
[{"$f":"IF('Facility Information'!$C$21>5,\"AP-6\",\"\")","v":""},"no",null,null,null,null,null,null,null,null,1,null,null,null,null,null,null,"",null,"",null,0,"",{"$f":"IF(F15=\"\",\"\",IF(B15=\"no\",'Emission Factors'!$D$43,'Emission Factors'!$D$44))","v":""},"","","",{"$f":"IF(F15=\"\",\"\",IF(B15=\"no\",'Emission Factors'!$F$43,'Emission Factors'!$F$44))","v":""},"","","",{"$f":"IF(F15=\"\",\"\",IF(B15=\"no\",'Emission Factors'!$H$43,'Emission Factors'!$H$44))","v":""},"","","",{"$f":"IF(F15=\"\",\"\",IF(B15=\"no\",'Emission Factors'!$J$43,'Emission Factors'!$J$44))","v":""},"","","",{"$f":"IF(F15=\"\",\"\",IF(B15=\"no\",'Emission Factors'!$L$43,'Emission Factors'!$L$44))","v":""},"","","",{"$f":"IF(F15=\"\",\"\",IF(B15=\"no\",'Emission Factors'!$N$43,'Emission Factors'!$N$44))","v":""},"","","",{"$f":"IF(F15=\"\",\"\",IF(B15=\"no\",'Emission Factors'!$P$43,'Emission Factors'!$P$44))","v":""},"","","",{"$f":"IF(F15=\"\",\"\",IF(B15=\"no\",'Emission Factors'!$R$43,'Emission Factors'!$R$44))","v":""},"","",""]
[{"$f":"IF('Facility Information'!$C$21>6,\"AP-7\",\"\")","v":""},"no",null,null,null,null,null,null,null,null,1,null,null,null,null,null,null,"",null,"",null,0,"",{"$f":"IF(F16=\"\",\"\",IF(B16=\"no\",'Emission Factors'!$D$43,'Emission Factors'!$D$44))","v":""},"","","",{"$f":"IF(F16=\"\",\"\",IF(B16=\"no\",'Emission Factors'!$F$43,'Emission Factors'!$F$44))","v":""},"","","",{"$f":"IF(F16=\"\",\"\",IF(B16=\"no\",'Emission Factors'!$H$43,'Emission Factors'!$H$44))","v":""},"","","",{"$f":"IF(F16=\"\",\"\",IF(B16=\"no\",'Emission Factors'!$J$43,'Emission Factors'!$J$44))","v":""},"","","",{"$f":"IF(F16=\"\",\"\",IF(B16=\"no\",'Emission Factors'!$L$43,'Emission Factors'!$L$44))","v":""},"","","",{"$f":"IF(F16=\"\",\"\",IF(B16=\"no\",'Emission Factors'!$N$43,'Emission Factors'!$N$44))","v":""},"","","",{"$f":"IF(F16=\"\",\"\",IF(B16=\"no\",'Emission Factors'!$P$43,'Emission Factors'!$P$44))","v":""},"","","",{"$f":"IF(F16=\"\",\"\",IF(B16=\"no\",'Emission Factors'!$R$43,'Emission Factors'!$R$44))","v":""},"","",""]
[{"$f":"IF('Facility Information'!$C$21>7,\"AP-8\",\"\")","v":""},"no",null,null,null,null,null,null,null,null,1,null,null,null,null,null,null,"",null,"",null,0,"",{"$f":"IF(F17=\"\",\"\",IF(B17=\"no\",'Emission Factors'!$D$43,'Emission Factors'!$D$44))","v":""},"","","",{"$f":"IF(F17=\"\",\"\",IF(B17=\"no\",'Emission Factors'!$F$43,'Emission Factors'!$F$44))","v":""},"","","",{"$f":"IF(F17=\"\",\"\",IF(B17=\"no\",'Emission Factors'!$H$43,'Emission Factors'!$H$44))","v":""},"","","",{"$f":"IF(F17=\"\",\"\",IF(B17=\"no\",'Emission Factors'!$J$43,'Emission Factors'!$J$44))","v":""},"","","",{"$f":"IF(F17=\"\",\"\",IF(B17=\"no\",'Emission Factors'!$L$43,'Emission Factors'!$L$44))","v":""},"","","",{"$f":"IF(F17=\"\",\"\",IF(B17=\"no\",'Emission Factors'!$N$43,'Emission Factors'!$N$44))","v":""},"","","",{"$f":"IF(F17=\"\",\"\",IF(B17=\"no\",'Emission Factors'!$P$43,'Emission Factors'!$P$44))","v":""},"","","",{"$f":"IF(F17=\"\",\"\",IF(B17=\"no\",'Emission Factors'!$R$43,'Emission Factors'!$R$44))","v":""},"","",""]
[{"$f":"IF('Facility Information'!$C$21>8,\"AP-9\",\"\")","v":""},"no",null,null,null,null,null,null,null,null,1,null,null,null,null,null,null,"",null,"",null,0,"",{"$f":"IF(F18=\"\",\"\",IF(B18=\"no\",'Emission Factors'!$D$43,'Emission Factors'!$D$44))","v":""},"","","",{"$f":"IF(F18=\"\",\"\",IF(B18=\"no\",'Emission Factors'!$F$43,'Emission Factors'!$F$44))","v":""},"","","",{"$f":"IF(F18=\"\",\"\",IF(B18=\"no\",'Emission Factors'!$H$43,'Emission Factors'!$H$44))","v":""},"","","",{"$f":"IF(F18=\"\",\"\",IF(B18=\"no\",'Emission Factors'!$J$43,'Emission Factors'!$J$44))","v":""},"","","",{"$f":"IF(F18=\"\",\"\",IF(B18=\"no\",'Emission Factors'!$L$43,'Emission Factors'!$L$44))","v":""},"","","",{"$f":"IF(F18=\"\",\"\",IF(B18=\"no\",'Emission Factors'!$N$43,'Emission Factors'!$N$44))","v":""},"","","",{"$f":"IF(F18=\"\",\"\",IF(B18=\"no\",'Emission Factors'!$P$43,'Emission Factors'!$P$44))","v":""},"","","",{"$f":"IF(F18=\"\",\"\",IF(B18=\"no\",'Emission Factors'!$R$43,'Emission Factors'!$R$44))","v":""},"","",""]
[{"$f":"IF('Facility Information'!$C$21>9,\"AP-10\",\"\")","v":""},"no",null,null,null,null,null,null,null,null,1,null,null,null,null,null,null,"",null,"",null,0,"",{"$f":"IF(F19=\"\",\"\",IF(B19=\"no\",'Emission Factors'!$D$43,'Emission Factors'!$D$44))","v":""},"","","",{"$f":"IF(F19=\"\",\"\",IF(B19=\"no\",'Emission Factors'!$F$43,'Emission Factors'!$F$44))","v":""},"","","",{"$f":"IF(F19=\"\",\"\",IF(B19=\"no\",'Emission Factors'!$H$43,'Emission Factors'!$H$44))","v":""},"","","",{"$f":"IF(F19=\"\",\"\",IF(B19=\"no\",'Emission Factors'!$J$43,'Emission Factors'!$J$44))","v":""},"","","",{"$f":"IF(F19=\"\",\"\",IF(B19=\"no\",'Emission Factors'!$L$43,'Emission Factors'!$L$44))","v":""},"","","",{"$f":"IF(F19=\"\",\"\",IF(B19=\"no\",'Emission Factors'!$N$43,'Emission Factors'!$N$44))","v":""},"","","",{"$f":"IF(F19=\"\",\"\",IF(B19=\"no\",'Emission Factors'!$P$43,'Emission Factors'!$P$44))","v":""},"","","",{"$f":"IF(F19=\"\",\"\",IF(B19=\"no\",'Emission Factors'!$R$43,'Emission Factors'!$R$44))","v":""},"","",""]
[null,"no",null,null,null,null,null,null,null,null,1,null,null,null,null,null,null,"",null,"",null,0,"",{"$f":"IF(F20=\"\",\"\",IF(B20=\"no\",'Emission Factors'!$D$43,'Emission Factors'!$D$44))","v":""},"","","",{"$f":"IF(F20=\"\",\"\",IF(B20=\"no\",'Emission Factors'!$F$43,'Emission Factors'!$F$44))","v":""},"","","",{"$f":"IF(F20=\"\",\"\",IF(B20=\"no\",'Emission Factors'!$H$43,'Emission Factors'!$H$44))","v":""},"","","",{"$f":"IF(F20=\"\",\"\",IF(B20=\"no\",'Emission Factors'!$J$43,'Emission Factors'!$J$44))","v":""},"","","",{"$f":"IF(F20=\"\",\"\",IF(B20=\"no\",'Emission Factors'!$L$43,'Emission Factors'!$L$44))","v":""},"","","",{"$f":"IF(F20=\"\",\"\",IF(B20=\"no\",'Emission Factors'!$N$43,'Emission Factors'!$N$44))","v":""},"","","",{"$f":"IF(F20=\"\",\"\",IF(B20=\"no\",'Emission Factors'!$P$43,'Emission Factors'!$P$44))","v":""},"","","",{"$f":"IF(F20=\"\",\"\",IF(B20=\"no\",'Emission Factors'!$R$43,'Emission Factors'!$R$44))","v":""},"","",""]
[null,"no",null,null,null,null,null,null,null,null,1,null,null,null,null,null,null,"",null,"",null,0,"",{"$f":"IF(F21=\"\",\"\",IF(B21=\"no\",'Emission Factors'!$D$43,'Emission Factors'!$D$44))","v":""},"","","",{"$f":"IF(F21=\"\",\"\",IF(B21=\"no\",'Emission Factors'!$F$43,'Emission Factors'!$F$44))","v":""},"","","",{"$f":"IF(F21=\"\",\"\",IF(B21=\"no\",'Emission Factors'!$H$43,'Emission Factors'!$H$44))","v":""},"","","",{"$f":"IF(F21=\"\",\"\",IF(B21=\"no\",'Emission Factors'!$J$43,'Emission Factors'!$J$44))","v":""},"","","",{"$f":"IF(F21=\"\",\"\",IF(B21=\"no\",'Emission Factors'!$L$43,'Emission Factors'!$L$44))","v":""},"","","",{"$f":"IF(F21=\"\",\"\",IF(B21=\"no\",'Emission Factors'!$N$43,'Emission Factors'!$N$44))","v":""},"","","",{"$f":"IF(F21=\"\",\"\",IF(B21=\"no\",'Emission Factors'!$P$43,'Emission Factors'!$P$44))","v":""},"","","",{"$f":"IF(F21=\"\",\"\",IF(B21=\"no\",'Emission Factors'!$R$43,'Emission Factors'!$R$44))","v":""},"","",""]
[null,"no",null,null,null,null,null,null,null,null,1,null,null,null,null,null,null,"",null,"",null,0,"",{"$f":"IF(F22=\"\",\"\",IF(B22=\"no\",'Emission Factors'!$D$43,'Emission Factors'!$D$44))","v":""},"","","",{"$f":"IF(F22=\"\",\"\",IF(B22=\"no\",'Emission Factors'!$F$43,'Emission Factors'!$F$44))","v":""},"","","",{"$f":"IF(F22=\"\",\"\",IF(B22=\"no\",'Emission Factors'!$H$43,'Emission Factors'!$H$44))","v":""},"","","",{"$f":"IF(F22=\"\",\"\",IF(B22=\"no\",'Emission Factors'!$J$43,'Emission Factors'!$J$44))","v":""},"","","",{"$f":"IF(F22=\"\",\"\",IF(B22=\"no\",'Emission Factors'!$L$43,'Emission Factors'!$L$44))","v":""},"","","",{"$f":"IF(F22=\"\",\"\",IF(B22=\"no\",'Emission Factors'!$N$43,'Emission Factors'!$N$44))","v":""},"","","",{"$f":"IF(F22=\"\",\"\",IF(B22=\"no\",'Emission Factors'!$P$43,'Emission Factors'!$P$44))","v":""},"","","",{"$f":"IF(F22=\"\",\"\",IF(B22=\"no\",'Emission Factors'!$R$43,'Emission Factors'!$R$44))","v":""},"","",""]
[null,"no",null,null,null,null,null,null,null,null,1,null,null,null,null,null,null,"",null,"",null,0,"",{"$f":"IF(F23=\"\",\"\",IF(B23=\"no\",'Emission Factors'!$D$43,'Emission Factors'!$D$44))","v":""},"","","",{"$f":"IF(F23=\"\",\"\",IF(B23=\"no\",'Emission Factors'!$F$43,'Emission Factors'!$F$44))","v":""},"","","",{"$f":"IF(F23=\"\",\"\",IF(B23=\"no\",'Emission Factors'!$H$43,'Emission Factors'!$H$44))","v":""},"","","",{"$f":"IF(F23=\"\",\"\",IF(B23=\"no\",'Emission Factors'!$J$43,'Emission Factors'!$J$44))","v":""},"","","",{"$f":"IF(F23=\"\",\"\",IF(B23=\"no\",'Emission Factors'!$L$43,'Emission Factors'!$L$44))","v":""},"","","",{"$f":"IF(F23=\"\",\"\",IF(B23=\"no\",'Emission Factors'!$N$43,'Emission Factors'!$N$44))","v":""},"","","",{"$f":"IF(F23=\"\",\"\",IF(B23=\"no\",'Emission Factors'!$P$43,'Emission Factors'!$P$44))","v":""},"","","",{"$f":"IF(F23=\"\",\"\",IF(B23=\"no\",'Emission Factors'!$R$43,'Emission Factors'!$R$44))","v":""},"","",""]
[null,{"$f":"IF(F24=\"Diesel Generator> 600 bhp\",\"yes\",\"no\")","v":"no"},null,null,null,null,null,null,null,null,1,null,null,null,null,null,null,{"$f":"IF(Q24=\"\",\"\",Q24*0.14)","v":""},null,{"$f":"IF(S24=\"\",\"\",S24*0.14)","v":""},null,0,"",{"$f":"IF(F24=\"\",\"\",IF(B24=\"no\",'Emission Factors'!$D$43,'Emission Factors'!$D$44))","v":""},"","","",{"$f":"IF(F24=\"\",\"\",IF(B24=\"no\",'Emission Factors'!$F$43,'Emission Factors'!$F$44))","v":""},"","","",{"$f":"IF(F24=\"\",\"\",IF(B24=\"no\",'Emission Factors'!$H$43,'Emission Factors'!$H$44))","v":""},"","","",{"$f":"IF(F24=\"\",\"\",IF(B24=\"no\",'Emission Factors'!$J$43,'Emission Factors'!$J$44))","v":""},"","","",{"$f":"IF(F24=\"\",\"\",IF(B24=\"no\",'Emission Factors'!$L$43,'Emission Factors'!$L$44))","v":""},"","","",{"$f":"IF(F24=\"\",\"\",IF(B24=\"no\",'Emission Factors'!$N$43,'Emission Factors'!$N$44))","v":""},"","","",{"$f":"IF(F24=\"\",\"\",IF(B24=\"no\",'Emission Factors'!$P$43,'Emission Factors'!$P$44))","v":""},"","","",{"$f":"IF(F24=\"\",\"\",IF(B24=\"no\",'Emission Factors'!$R$43,'Emission Factors'!$R$44))","v":""},"","",""]
[null,{"$f":"IF(F25=\"Diesel Generator> 600 bhp\",\"yes\",\"no\")","v":"no"},null,null,null,null,null,null,null,null,1,null,null,null,null,null,null,{"$f":"IF(Q25=\"\",\"\",Q25*0.14)","v":""},null,{"$f":"IF(S25=\"\",\"\",S25*0.14)","v":""},null,0,"",{"$f":"IF(F25=\"\",\"\",IF(B25=\"no\",'Emission Factors'!$D$43,'Emission Factors'!$D$44))","v":""},"","","",{"$f":"IF(F25=\"\",\"\",IF(B25=\"no\",'Emission Factors'!$F$43,'Emission Factors'!$F$44))","v":""},"","","",{"$f":"IF(F25=\"\",\"\",IF(B25=\"no\",'Emission Factors'!$H$43,'Emission Factors'!$H$44))","v":""},"","","",{"$f":"IF(F25=\"\",\"\",IF(B25=\"no\",'Emission Factors'!$J$43,'Emission Factors'!$J$44))","v":""},"","","",{"$f":"IF(F25=\"\",\"\",IF(B25=\"no\",'Emission Factors'!$L$43,'Emission Factors'!$L$44))","v":""},"","","",{"$f":"IF(F25=\"\",\"\",IF(B25=\"no\",'Emission Factors'!$N$43,'Emission Factors'!$N$44))","v":""},"","","",{"$f":"IF(F25=\"\",\"\",IF(B25=\"no\",'Emission Factors'!$P$43,'Emission Factors'!$P$44))","v":""},"","","",{"$f":"IF(F25=\"\",\"\",IF(B25=\"no\",'Emission Factors'!$R$43,'Emission Factors'!$R$44))","v":""},"","",""]
[null,{"$f":"IF(F26=\"Diesel Generator> 600 bhp\",\"yes\",\"no\")","v":"no"},null,null,null,null,null,null,null,null,1,null,null,null,null,null,null,{"$f":"IF(Q26=\"\",\"\",Q26*0.14)","v":""},null,{"$f":"IF(S26=\"\",\"\",S26*0.14)","v":""},null,0,"",{"$f":"IF(F26=\"\",\"\",IF(B26=\"no\",'Emission Factors'!$D$43,'Emission Factors'!$D$44))","v":""},"","","",{"$f":"IF(F26=\"\",\"\",IF(B26=\"no\",'Emission Factors'!$F$43,'Emission Factors'!$F$44))","v":""},"","","",{"$f":"IF(F26=\"\",\"\",IF(B26=\"no\",'Emission Factors'!$H$43,'Emission Factors'!$H$44))","v":""},"","","",{"$f":"IF(F26=\"\",\"\",IF(B26=\"no\",'Emission Factors'!$J$43,'Emission Factors'!$J$44))","v":""},"","","",{"$f":"IF(F26=\"\",\"\",IF(B26=\"no\",'Emission Factors'!$L$43,'Emission Factors'!$L$44))","v":""},"","","",{"$f":"IF(F26=\"\",\"\",IF(B26=\"no\",'Emission Factors'!$N$43,'Emission Factors'!$N$44))","v":""},"","","",{"$f":"IF(F26=\"\",\"\",IF(B26=\"no\",'Emission Factors'!$P$43,'Emission Factors'!$P$44))","v":""},"","","",{"$f":"IF(F26=\"\",\"\",IF(B26=\"no\",'Emission Factors'!$R$43,'Emission Factors'!$R$44))","v":""},"","",""]
[null,{"$f":"IF(F27=\"Diesel Generator> 600 bhp\",\"yes\",\"no\")","v":"no"},null,null,null,null,null,null,null,null,1,null,null,null,null,null,null,{"$f":"IF(Q27=\"\",\"\",Q27*0.14)","v":""},null,{"$f":"IF(S27=\"\",\"\",S27*0.14)","v":""},null,0,"",{"$f":"IF(F27=\"\",\"\",IF(B27=\"no\",'Emission Factors'!$D$43,'Emission Factors'!$D$44))","v":""},"","","",{"$f":"IF(F27=\"\",\"\",IF(B27=\"no\",'Emission Factors'!$F$43,'Emission Factors'!$F$44))","v":""},"","","",{"$f":"IF(F27=\"\",\"\",IF(B27=\"no\",'Emission Factors'!$H$43,'Emission Factors'!$H$44))","v":""},"","","",{"$f":"IF(F27=\"\",\"\",IF(B27=\"no\",'Emission Factors'!$J$43,'Emission Factors'!$J$44))","v":""},"","","",{"$f":"IF(F27=\"\",\"\",IF(B27=\"no\",'Emission Factors'!$L$43,'Emission Factors'!$L$44))","v":""},"","","",{"$f":"IF(F27=\"\",\"\",IF(B27=\"no\",'Emission Factors'!$N$43,'Emission Factors'!$N$44))","v":""},"","","",{"$f":"IF(F27=\"\",\"\",IF(B27=\"no\",'Emission Factors'!$P$43,'Emission Factors'!$P$44))","v":""},"","","",{"$f":"IF(F27=\"\",\"\",IF(B27=\"no\",'Emission Factors'!$R$43,'Emission Factors'!$R$44))","v":""},"","",""]
[null,{"$f":"IF(F28=\"Diesel Generator> 600 bhp\",\"yes\",\"no\")","v":"no"},null,null,null,null,null,null,null,null,1,null,null,null,null,null,null,{"$f":"IF(Q28=\"\",\"\",Q28*0.14)","v":""},null,{"$f":"IF(S28=\"\",\"\",S28*0.14)","v":""},null,0,"",{"$f":"IF(F28=\"\",\"\",IF(B28=\"no\",'Emission Factors'!$D$43,'Emission Factors'!$D$44))","v":""},"","","",{"$f":"IF(F28=\"\",\"\",IF(B28=\"no\",'Emission Factors'!$F$43,'Emission Factors'!$F$44))","v":""},"","","",{"$f":"IF(F28=\"\",\"\",IF(B28=\"no\",'Emission Factors'!$H$43,'Emission Factors'!$H$44))","v":""},"","","",{"$f":"IF(F28=\"\",\"\",IF(B28=\"no\",'Emission Factors'!$J$43,'Emission Factors'!$J$44))","v":""},"","","",{"$f":"IF(F28=\"\",\"\",IF(B28=\"no\",'Emission Factors'!$L$43,'Emission Factors'!$L$44))","v":""},"","","",{"$f":"IF(F28=\"\",\"\",IF(B28=\"no\",'Emission Factors'!$N$43,'Emission Factors'!$N$44))","v":""},"","",null,{"$f":"IF(F28=\"\",\"\",IF(B28=\"no\",'Emission Factors'!$P$43,'Emission Factors'!$P$44))","v":""},"","","",{"$f":"IF(F28=\"\",\"\",IF(B28=\"no\",'Emission Factors'!$R$43,'Emission Factors'!$R$44))","v":""},"","",""]
[null,{"$f":"IF(F29=\"Diesel Generator> 600 bhp\",\"yes\",\"no\")","v":"no"},null,null,null,null,null,null,null,null,1,null,null,null,null,null,null,{"$f":"IF(Q29=\"\",\"\",Q29*0.14)","v":""},null,{"$f":"IF(S29=\"\",\"\",S29*0.14)","v":""},null,{"$f":"IF(B29=\"no\",H29*Q29*0.14,\"\")","v":0},{"$f":"IF(B29=\"yes\",H29*Q29*0.14,\"\")","v":""},{"$f":"IF(F29=\"\",\"\",IF(B29=\"no\",'Emission Factors'!$D$43,'Emission Factors'!$D$44))","v":""},{"$f":"IF(F29=\"\",\"\",X29*R29)","v":""},{"$f":"IF(F29=\"\",\"\",IF(I29>0,I29*0.14*X29/2000,IF(H29>0,X29*R29*H29/2000,Y29*8760/2000)))","v":""},{"$f":"IF(F29=\"\",\"\",T29*X29/2000)","v":""},{"$f":"IF(F29=\"\",\"\",IF(B29=\"no\",'Emission Factors'!$F$43,'Emission Factors'!$F$44))","v":""},{"$f":"IF(F29=\"\",\"\",AB29*R29)","v":""},{"$f":"IF(F29=\"\",\"\",IF(I29>0,I29*0.14*AB29/2000,IF(H29>0,AB29*R29*H29/2000,AC29*8760/2000)))","v":""},{"$f":"IF(F29=\"\",\"\",T29*AB29/2000)","v":""},{"$f":"IF(F29=\"\",\"\",IF(B29=\"no\",'Emission Factors'!$H$43,'Emission Factors'!$H$44))","v":""},"",{"$f":"IF(F29=\"\",\"\",IF(I29>0,I29*0.14*AF29*K29/2000,IF(H29>0,AF29*K29*R29*H29/2000,AG29*8760/2000)))","v":""},"",{"$f":"IF(F29=\"\",\"\",IF(B29=\"no\",'Emission Factors'!$J$43,'Emission Factors'!$J$44))","v":""},"",{"$f":"IF(F29=\"\",\"\",IF(I29>0,I29*0.14*AJ29/2000,IF(H29>0,AJ29*R29*H29/2000,AK29*8760/2000)))","v":""},{"$f":"IF(F29=\"\",\"\",T29*AJ29/2000)","v":""},{"$f":"IF(F29=\"\",\"\",IF(B29=\"no\",'Emission Factors'!$L$43,'Emission Factors'!$L$44))","v":""},"",{"$f":"IF(F29=\"\",\"\",IF(I29>0,I29*0.14*AN29/2000,IF(H29>0,AN29*R29*H29/2000,AO29*8760/2000)))","v":""},{"$f":"IF(F29=\"\",\"\",T29*AN29/2000)","v":""},{"$f":"IF(F29=\"\",\"\",IF(B29=\"no\",'Emission Factors'!$N$43,'Emission Factors'!$N$44))","v":""},"",{"$f":"IF(F29=\"\",\"\",IF(I29>0,I29*0.14*AR29/2000,IF(H29>0,AR29*R29*H29/2000,AS29*8760/2000)))","v":""},{"$f":"IF(F29=\"\",\"\",T29*AR29/2000)","v":""},{"$f":"IF(F29=\"\",\"\",IF(B29=\"no\",'Emission Factors'!$P$43,'Emission Factors'!$P$44))","v":""},{"$f":"IF(F29=\"\",\"\",AV29*R29)","v":""},{"$f":"IF(F29=\"\",\"\",IF(I29>0,I29*0.14*AV29/2000,IF(H29>0,AV29*R29*H29/2000,AW29*8760/2000)))","v":""},{"$f":"IF(F29=\"\",\"\",T29*AV29/2000)","v":""},{"$f":"IF(F29=\"\",\"\",IF(B29=\"no\",'Emission Factors'!$R$43,'Emission Factors'!$R$44))","v":""},{"$f":"IF(F29=\"\",\"\",AZ29*R29)","v":""},{"$f":"IF(F29=\"\",\"\",IF(I29>0,I29*0.14*AZ29/2000,IF(H29>0,AZ29*R29*H29/2000,BA29*8760/2000)))","v":""},{"$f":"IF(F29=\"\",\"\",T29*AZ29/2000)","v":""}]
[null,"no",null,null,null,null,null,null,null,null,1,null,null,null,null,null,null,"",null,"",null,0,"",{"$f":"IF(F30=\"\",\"\",IF(B30=\"no\",'Emission Factors'!$D$43,'Emission Factors'!$D$44))","v":""},{"$f":"IF(F30=\"\",\"\",X30*R30)","v":""},{"$f":"IF(F30=\"\",\"\",IF(I30>0,I30*0.14*X30/2000,IF(H30>0,X30*R30*H30/2000,Y30*8760/2000)))","v":""},{"$f":"IF(F30=\"\",\"\",T30*X30/2000)","v":""},{"$f":"IF(F30=\"\",\"\",IF(B30=\"no\",'Emission Factors'!$F$43,'Emission Factors'!$F$44))","v":""},{"$f":"IF(F30=\"\",\"\",AB30*R30)","v":""},{"$f":"IF(F30=\"\",\"\",IF(I30>0,I30*0.14*AB30/2000,IF(H30>0,AB30*R30*H30/2000,AC30*8760/2000)))","v":""},{"$f":"IF(F30=\"\",\"\",T30*AB30/2000)","v":""},{"$f":"IF(F30=\"\",\"\",IF(B30=\"no\",'Emission Factors'!$H$43,'Emission Factors'!$H$44))","v":""},"",{"$f":"IF(F30=\"\",\"\",IF(I30>0,I30*0.14*AF30*K30/2000,IF(H30>0,AF30*K30*R30*H30/2000,AG30*8760/2000)))","v":""},"",{"$f":"IF(F30=\"\",\"\",IF(B30=\"no\",'Emission Factors'!$J$43,'Emission Factors'!$J$44))","v":""},"",{"$f":"IF(F30=\"\",\"\",IF(I30>0,I30*0.14*AJ30/2000,IF(H30>0,AJ30*R30*H30/2000,AK30*8760/2000)))","v":""},{"$f":"IF(F30=\"\",\"\",T30*AJ30/2000)","v":""},{"$f":"IF(F30=\"\",\"\",IF(B30=\"no\",'Emission Factors'!$L$43,'Emission Factors'!$L$44))","v":""},"",{"$f":"IF(F30=\"\",\"\",IF(I30>0,I30*0.14*AN30/2000,IF(H30>0,AN30*R30*H30/2000,AO30*8760/2000)))","v":""},{"$f":"IF(F30=\"\",\"\",T30*AN30/2000)","v":""},{"$f":"IF(F30=\"\",\"\",IF(B30=\"no\",'Emission Factors'!$N$43,'Emission Factors'!$N$44))","v":""},"",{"$f":"IF(F30=\"\",\"\",IF(I30>0,I30*0.14*AR30/2000,IF(H30>0,AR30*R30*H30/2000,AS30*8760/2000)))","v":""},{"$f":"IF(F30=\"\",\"\",T30*AR30/2000)","v":""},{"$f":"IF(F30=\"\",\"\",IF(B30=\"no\",'Emission Factors'!$P$43,'Emission Factors'!$P$44))","v":""},{"$f":"IF(F30=\"\",\"\",AV30*R30)","v":""},{"$f":"IF(F30=\"\",\"\",IF(I30>0,I30*0.14*AV30/2000,IF(H30>0,AV30*R30*H30/2000,AW30*8760/2000)))","v":""},{"$f":"IF(F30=\"\",\"\",T30*AV30/2000)","v":""},{"$f":"IF(F30=\"\",\"\",IF(B30=\"no\",'Emission Factors'!$R$43,'Emission Factors'!$R$44))","v":""},{"$f":"IF(F30=\"\",\"\",AZ30*R30)","v":""},{"$f":"IF(F30=\"\",\"\",IF(I30>0,I30*0.14*AZ30/2000,IF(H30>0,AZ30*R30*H30/2000,BA30*8760/2000)))","v":""},{"$f":"IF(F30=\"\",\"\",T30*AZ30/2000)","v":""}]
[null,"no",null,null,null,null,null,null,null,null,1,null,null,null,null,null,null,"",null,"",null,0,"",{"$f":"IF(F31=\"\",\"\",IF(B31=\"no\",'Emission Factors'!$D$43,'Emission Factors'!$D$44))","v":""},"","","",{"$f":"IF(F31=\"\",\"\",IF(B31=\"no\",'Emission Factors'!$F$43,'Emission Factors'!$F$44))","v":""},"","","",{"$f":"IF(F31=\"\",\"\",IF(B31=\"no\",'Emission Factors'!$H$43,'Emission Factors'!$H$44))","v":""},"","","",{"$f":"IF(F31=\"\",\"\",IF(B31=\"no\",'Emission Factors'!$J$43,'Emission Factors'!$J$44))","v":""},"","","",{"$f":"IF(F31=\"\",\"\",IF(B31=\"no\",'Emission Factors'!$L$43,'Emission Factors'!$L$44))","v":""},"","","",{"$f":"IF(F31=\"\",\"\",IF(B31=\"no\",'Emission Factors'!$N$43,'Emission Factors'!$N$44))","v":""},"","","",{"$f":"IF(F31=\"\",\"\",IF(B31=\"no\",'Emission Factors'!$P$43,'Emission Factors'!$P$44))","v":""},"","","",{"$f":"IF(F31=\"\",\"\",IF(B31=\"no\",'Emission Factors'!$R$43,'Emission Factors'!$R$44))","v":""},"","",""]
[null,"no",null,null,null,null,null,null,null,null,1,null,null,null,null,null,null,"",null,"",null,0,"",{"$f":"IF(F32=\"\",\"\",IF(B32=\"no\",'Emission Factors'!$D$43,'Emission Factors'!$D$44))","v":""},"","","",{"$f":"IF(F32=\"\",\"\",IF(B32=\"no\",'Emission Factors'!$F$43,'Emission Factors'!$F$44))","v":""},"","","",{"$f":"IF(F32=\"\",\"\",IF(B32=\"no\",'Emission Factors'!$H$43,'Emission Factors'!$H$44))","v":""},"","","",{"$f":"IF(F32=\"\",\"\",IF(B32=\"no\",'Emission Factors'!$J$43,'Emission Factors'!$J$44))","v":""},"","","",{"$f":"IF(F32=\"\",\"\",IF(B32=\"no\",'Emission Factors'!$L$43,'Emission Factors'!$L$44))","v":""},"","","",{"$f":"IF(F32=\"\",\"\",IF(B32=\"no\",'Emission Factors'!$N$43,'Emission Factors'!$N$44))","v":""},"","","",{"$f":"IF(F32=\"\",\"\",IF(B32=\"no\",'Emission Factors'!$P$43,'Emission Factors'!$P$44))","v":""},"","","",{"$f":"IF(F32=\"\",\"\",IF(B32=\"no\",'Emission Factors'!$R$43,'Emission Factors'!$R$44))","v":""},"","",""]
[null,"no",null,null,null,null,null,null,null,null,1,null,null,null,null,null,null,"",null,"",null,0,"",{"$f":"IF(F33=\"\",\"\",IF(B33=\"no\",'Emission Factors'!$D$43,'Emission Factors'!$D$44))","v":""},"","","",{"$f":"IF(F33=\"\",\"\",IF(B33=\"no\",'Emission Factors'!$F$43,'Emission Factors'!$F$44))","v":""},"","","",{"$f":"IF(F33=\"\",\"\",IF(B33=\"no\",'Emission Factors'!$H$43,'Emission Factors'!$H$44))","v":""},"","","",{"$f":"IF(F33=\"\",\"\",IF(B33=\"no\",'Emission Factors'!$J$43,'Emission Factors'!$J$44))","v":""},"","","",{"$f":"IF(F33=\"\",\"\",IF(B33=\"no\",'Emission Factors'!$L$43,'Emission Factors'!$L$44))","v":""},"","","",{"$f":"IF(F33=\"\",\"\",IF(B33=\"no\",'Emission Factors'!$N$43,'Emission Factors'!$N$44))","v":""},"","","",{"$f":"IF(F33=\"\",\"\",IF(B33=\"no\",'Emission Factors'!$P$43,'Emission Factors'!$P$44))","v":""},"","","",{"$f":"IF(F33=\"\",\"\",IF(B33=\"no\",'Emission Factors'!$R$43,'Emission Factors'!$R$44))","v":""},"","",""]
[null,"no",null,null,null,null,null,null,null,null,1,null,null,null,null,null,null,"",null,"",null,0,"",{"$f":"IF(F34=\"\",\"\",IF(B34=\"no\",'Emission Factors'!$D$43,'Emission Factors'!$D$44))","v":""},"","","",{"$f":"IF(F34=\"\",\"\",IF(B34=\"no\",'Emission Factors'!$F$43,'Emission Factors'!$F$44))","v":""},"","","",{"$f":"IF(F34=\"\",\"\",IF(B34=\"no\",'Emission Factors'!$H$43,'Emission Factors'!$H$44))","v":""},"","","",{"$f":"IF(F34=\"\",\"\",IF(B34=\"no\",'Emission Factors'!$J$43,'Emission Factors'!$J$44))","v":""},"","","",{"$f":"IF(F34=\"\",\"\",IF(B34=\"no\",'Emission Factors'!$L$43,'Emission Factors'!$L$44))","v":""},"","","",{"$f":"IF(F34=\"\",\"\",IF(B34=\"no\",'Emission Factors'!$N$43,'Emission Factors'!$N$44))","v":""},"","","",{"$f":"IF(F34=\"\",\"\",IF(B34=\"no\",'Emission Factors'!$P$43,'Emission Factors'!$P$44))","v":""},"","","",{"$f":"IF(F34=\"\",\"\",IF(B34=\"no\",'Emission Factors'!$R$43,'Emission Factors'!$R$44))","v":""},"","",""]
[null,"no",null,null,null,null,null,null,null,null,1,null,null,null,null,null,null,"",null,"",null,0,"",{"$f":"IF(F35=\"\",\"\",IF(B35=\"no\",'Emission Factors'!$D$43,'Emission Factors'!$D$44))","v":""},"","","",{"$f":"IF(F35=\"\",\"\",IF(B35=\"no\",'Emission Factors'!$F$43,'Emission Factors'!$F$44))","v":""},"","","",{"$f":"IF(F35=\"\",\"\",IF(B35=\"no\",'Emission Factors'!$H$43,'Emission Factors'!$H$44))","v":""},"","","",{"$f":"IF(F35=\"\",\"\",IF(B35=\"no\",'Emission Factors'!$J$43,'Emission Factors'!$J$44))","v":""},"","","",{"$f":"IF(F35=\"\",\"\",IF(B35=\"no\",'Emission Factors'!$L$43,'Emission Factors'!$L$44))","v":""},"","","",{"$f":"IF(F35=\"\",\"\",IF(B35=\"no\",'Emission Factors'!$N$43,'Emission Factors'!$N$44))","v":""},"","","",{"$f":"IF(F35=\"\",\"\",IF(B35=\"no\",'Emission Factors'!$P$43,'Emission Factors'!$P$44))","v":""},"","","",{"$f":"IF(F35=\"\",\"\",IF(B35=\"no\",'Emission Factors'!$R$43,'Emission Factors'!$R$44))","v":""},"","",""]
[null,"no",null,null,null,null,null,null,null,null,1,null,null,null,null,null,null,"",null,"",null,0,"",{"$f":"IF(F36=\"\",\"\",IF(B36=\"no\",'Emission Factors'!$D$43,'Emission Factors'!$D$44))","v":""},"","","",{"$f":"IF(F36=\"\",\"\",IF(B36=\"no\",'Emission Factors'!$F$43,'Emission Factors'!$F$44))","v":""},"","","",{"$f":"IF(F36=\"\",\"\",IF(B36=\"no\",'Emission Factors'!$H$43,'Emission Factors'!$H$44))","v":""},"","","",{"$f":"IF(F36=\"\",\"\",IF(B36=\"no\",'Emission Factors'!$J$43,'Emission Factors'!$J$44))","v":""},"","","",{"$f":"IF(F36=\"\",\"\",IF(B36=\"no\",'Emission Factors'!$L$43,'Emission Factors'!$L$44))","v":""},"","","",{"$f":"IF(F36=\"\",\"\",IF(B36=\"no\",'Emission Factors'!$N$43,'Emission Factors'!$N$44))","v":""},"","","",{"$f":"IF(F36=\"\",\"\",IF(B36=\"no\",'Emission Factors'!$P$43,'Emission Factors'!$P$44))","v":""},"","","",{"$f":"IF(F36=\"\",\"\",IF(B36=\"no\",'Emission Factors'!$R$43,'Emission Factors'!$R$44))","v":""},"","",""]
[null,"no",null,null,null,null,null,null,null,null,1,null,null,null,null,null,null,"",null,"",null,0,"",{"$f":"IF(F37=\"\",\"\",IF(B37=\"no\",'Emission Factors'!$D$43,'Emission Factors'!$D$44))","v":""},"","","",{"$f":"IF(F37=\"\",\"\",IF(B37=\"no\",'Emission Factors'!$F$43,'Emission Factors'!$F$44))","v":""},"","","",{"$f":"IF(F37=\"\",\"\",IF(B37=\"no\",'Emission Factors'!$H$43,'Emission Factors'!$H$44))","v":""},"","","",{"$f":"IF(F37=\"\",\"\",IF(B37=\"no\",'Emission Factors'!$J$43,'Emission Factors'!$J$44))","v":""},"","","",{"$f":"IF(F37=\"\",\"\",IF(B37=\"no\",'Emission Factors'!$L$43,'Emission Factors'!$L$44))","v":""},"","","",{"$f":"IF(F37=\"\",\"\",IF(B37=\"no\",'Emission Factors'!$N$43,'Emission Factors'!$N$44))","v":""},"","","",{"$f":"IF(F37=\"\",\"\",IF(B37=\"no\",'Emission Factors'!$P$43,'Emission Factors'!$P$44))","v":""},"","","",{"$f":"IF(F37=\"\",\"\",IF(B37=\"no\",'Emission Factors'!$R$43,'Emission Factors'!$R$44))","v":""},"","",""]
[null,"no",null,null,null,null,null,null,null,null,1,null,null,null,null,null,null,"",null,"",null,0,"",{"$f":"IF(F38=\"\",\"\",IF(B38=\"no\",'Emission Factors'!$D$43,'Emission Factors'!$D$44))","v":""},"","","",{"$f":"IF(F38=\"\",\"\",IF(B38=\"no\",'Emission Factors'!$F$43,'Emission Factors'!$F$44))","v":""},"","","",{"$f":"IF(F38=\"\",\"\",IF(B38=\"no\",'Emission Factors'!$H$43,'Emission Factors'!$H$44))","v":""},"","","",{"$f":"IF(F38=\"\",\"\",IF(B38=\"no\",'Emission Factors'!$J$43,'Emission Factors'!$J$44))","v":""},"","","",{"$f":"IF(F38=\"\",\"\",IF(B38=\"no\",'Emission Factors'!$L$43,'Emission Factors'!$L$44))","v":""},"","","",{"$f":"IF(F38=\"\",\"\",IF(B38=\"no\",'Emission Factors'!$N$43,'Emission Factors'!$N$44))","v":""},"","","",{"$f":"IF(F38=\"\",\"\",IF(B38=\"no\",'Emission Factors'!$P$43,'Emission Factors'!$P$44))","v":""},"","","",{"$f":"IF(F38=\"\",\"\",IF(B38=\"no\",'Emission Factors'!$R$43,'Emission Factors'!$R$44))","v":""},"","",""]
[null,"no",null,null,null,null,null,null,null,null,1,null,null,null,null,null,null,"",null,"",null,0,"",{"$f":"IF(F39=\"\",\"\",IF(B39=\"no\",'Emission Factors'!$D$43,'Emission Factors'!$D$44))","v":""},"","","",{"$f":"IF(F39=\"\",\"\",IF(B39=\"no\",'Emission Factors'!$F$43,'Emission Factors'!$F$44))","v":""},"","","",{"$f":"IF(F39=\"\",\"\",IF(B39=\"no\",'Emission Factors'!$H$43,'Emission Factors'!$H$44))","v":""},"","","",{"$f":"IF(F39=\"\",\"\",IF(B39=\"no\",'Emission Factors'!$J$43,'Emission Factors'!$J$44))","v":""},"","","",{"$f":"IF(F39=\"\",\"\",IF(B39=\"no\",'Emission Factors'!$L$43,'Emission Factors'!$L$44))","v":""},"","","",{"$f":"IF(F39=\"\",\"\",IF(B39=\"no\",'Emission Factors'!$N$43,'Emission Factors'!$N$44))","v":""},"","","",{"$f":"IF(F39=\"\",\"\",IF(B39=\"no\",'Emission Factors'!$P$43,'Emission Factors'!$P$44))","v":""},"","","",{"$f":"IF(F39=\"\",\"\",IF(B39=\"no\",'Emission Factors'!$R$43,'Emission Factors'!$R$44))","v":""},"","",""]
[null,"no",null,null,null,null,null,null,null,null,1,null,null,null,null,null,null,"",null,"",null,0,"",{"$f":"IF(F40=\"\",\"\",IF(B40=\"no\",'Emission Factors'!$D$43,'Emission Factors'!$D$44))","v":""},"","","",{"$f":"IF(F40=\"\",\"\",IF(B40=\"no\",'Emission Factors'!$F$43,'Emission Factors'!$F$44))","v":""},"","","",{"$f":"IF(F40=\"\",\"\",IF(B40=\"no\",'Emission Factors'!$H$43,'Emission Factors'!$H$44))","v":""},"","","",{"$f":"IF(F40=\"\",\"\",IF(B40=\"no\",'Emission Factors'!$J$43,'Emission Factors'!$J$44))","v":""},"","","",{"$f":"IF(F40=\"\",\"\",IF(B40=\"no\",'Emission Factors'!$L$43,'Emission Factors'!$L$44))","v":""},"","","",{"$f":"IF(F40=\"\",\"\",IF(B40=\"no\",'Emission Factors'!$N$43,'Emission Factors'!$N$44))","v":""},"","","",{"$f":"IF(F40=\"\",\"\",IF(B40=\"no\",'Emission Factors'!$P$43,'Emission Factors'!$P$44))","v":""},"","","",{"$f":"IF(F40=\"\",\"\",IF(B40=\"no\",'Emission Factors'!$R$43,'Emission Factors'!$R$44))","v":""},"","",""]
[null,"no",null,null,null,null,null,null,null,null,1,null,null,null,null,null,null,"",null,"",null,0,"",{"$f":"IF(F41=\"\",\"\",IF(B41=\"no\",'Emission Factors'!$D$43,'Emission Factors'!$D$44))","v":""},"","","",{"$f":"IF(F41=\"\",\"\",IF(B41=\"no\",'Emission Factors'!$F$43,'Emission Factors'!$F$44))","v":""},"","","",{"$f":"IF(F41=\"\",\"\",IF(B41=\"no\",'Emission Factors'!$H$43,'Emission Factors'!$H$44))","v":""},"","","",{"$f":"IF(F41=\"\",\"\",IF(B41=\"no\",'Emission Factors'!$J$43,'Emission Factors'!$J$44))","v":""},"","","",{"$f":"IF(F41=\"\",\"\",IF(B41=\"no\",'Emission Factors'!$L$43,'Emission Factors'!$L$44))","v":""},"","","",{"$f":"IF(F41=\"\",\"\",IF(B41=\"no\",'Emission Factors'!$N$43,'Emission Factors'!$N$44))","v":""},"","","",{"$f":"IF(F41=\"\",\"\",IF(B41=\"no\",'Emission Factors'!$P$43,'Emission Factors'!$P$44))","v":""},"","","",{"$f":"IF(F41=\"\",\"\",IF(B41=\"no\",'Emission Factors'!$R$43,'Emission Factors'!$R$44))","v":""},"","",""]
[null,"no",null,null,null,null,null,null,null,null,1,null,null,null,null,null,null,"",null,"",null,0,"",{"$f":"IF(F42=\"\",\"\",IF(B42=\"no\",'Emission Factors'!$D$43,'Emission Factors'!$D$44))","v":""},"","","",{"$f":"IF(F42=\"\",\"\",IF(B42=\"no\",'Emission Factors'!$F$43,'Emission Factors'!$F$44))","v":""},"","","",{"$f":"IF(F42=\"\",\"\",IF(B42=\"no\",'Emission Factors'!$H$43,'Emission Factors'!$H$44))","v":""},"","","",{"$f":"IF(F42=\"\",\"\",IF(B42=\"no\",'Emission Factors'!$J$43,'Emission Factors'!$J$44))","v":""},"","","",{"$f":"IF(F42=\"\",\"\",IF(B42=\"no\",'Emission Factors'!$L$43,'Emission Factors'!$L$44))","v":""},"","","",{"$f":"IF(F42=\"\",\"\",IF(B42=\"no\",'Emission Factors'!$N$43,'Emission Factors'!$N$44))","v":""},"","","",{"$f":"IF(F42=\"\",\"\",IF(B42=\"no\",'Emission Factors'!$P$43,'Emission Factors'!$P$44))","v":""},"","","",{"$f":"IF(F42=\"\",\"\",IF(B42=\"no\",'Emission Factors'!$R$43,'Emission Factors'!$R$44))","v":""},"","",""]
[null,"no",null,null,null,null,null,null,null,null,1,null,null,null,null,null,null,"",null,"",null,0,"",{"$f":"IF(F43=\"\",\"\",IF(B43=\"no\",'Emission Factors'!$D$43,'Emission Factors'!$D$44))","v":""},"","","",{"$f":"IF(F43=\"\",\"\",IF(B43=\"no\",'Emission Factors'!$F$43,'Emission Factors'!$F$44))","v":""},"","","",{"$f":"IF(F43=\"\",\"\",IF(B43=\"no\",'Emission Factors'!$H$43,'Emission Factors'!$H$44))","v":""},"","","",{"$f":"IF(F43=\"\",\"\",IF(B43=\"no\",'Emission Factors'!$J$43,'Emission Factors'!$J$44))","v":""},"","","",{"$f":"IF(F43=\"\",\"\",IF(B43=\"no\",'Emission Factors'!$L$43,'Emission Factors'!$L$44))","v":""},"","","",{"$f":"IF(F43=\"\",\"\",IF(B43=\"no\",'Emission Factors'!$N$43,'Emission Factors'!$N$44))","v":""},"","","",{"$f":"IF(F43=\"\",\"\",IF(B43=\"no\",'Emission Factors'!$P$43,'Emission Factors'!$P$44))","v":""},"","","",{"$f":"IF(F43=\"\",\"\",IF(B43=\"no\",'Emission Factors'!$R$43,'Emission Factors'!$R$44))","v":""},"","",""]
[null,"no",null,null,null,null,null,null,null,null,1,null,null,null,null,null,null,"",null,"",null,0,"",{"$f":"IF(F44=\"\",\"\",IF(B44=\"no\",'Emission Factors'!$D$43,'Emission Factors'!$D$44))","v":""},"","","",{"$f":"IF(F44=\"\",\"\",IF(B44=\"no\",'Emission Factors'!$F$43,'Emission Factors'!$F$44))","v":""},"","","",{"$f":"IF(F44=\"\",\"\",IF(B44=\"no\",'Emission Factors'!$H$43,'Emission Factors'!$H$44))","v":""},"","","",{"$f":"IF(F44=\"\",\"\",IF(B44=\"no\",'Emission Factors'!$J$43,'Emission Factors'!$J$44))","v":""},"","","",{"$f":"IF(F44=\"\",\"\",IF(B44=\"no\",'Emission Factors'!$L$43,'Emission Factors'!$L$44))","v":""},"","","",{"$f":"IF(F44=\"\",\"\",IF(B44=\"no\",'Emission Factors'!$N$43,'Emission Factors'!$N$44))","v":""},"","","",{"$f":"IF(F44=\"\",\"\",IF(B44=\"no\",'Emission Factors'!$P$43,'Emission Factors'!$P$44))","v":""},"","","",{"$f":"IF(F44=\"\",\"\",IF(B44=\"no\",'Emission Factors'!$R$43,'Emission Factors'!$R$44))","v":""},"","",""]
[null,{"$f":"IF(F45=\"Diesel Generator> 600 bhp\",\"yes\",\"no\")","v":"no"},null,null,null,null,null,null,null,null,1,null,null,null,null,null,null,{"$f":"IF(Q45=\"\",\"\",Q45*0.14)","v":""},null,{"$f":"IF(S45=\"\",\"\",S45*0.14)","v":""},null,0,"",{"$f":"IF(F45=\"\",\"\",IF(B45=\"no\",'Emission Factors'!$D$43,'Emission Factors'!$D$44))","v":""},"","","",{"$f":"IF(F45=\"\",\"\",IF(B45=\"no\",'Emission Factors'!$F$43,'Emission Factors'!$F$44))","v":""},"","","",{"$f":"IF(F45=\"\",\"\",IF(B45=\"no\",'Emission Factors'!$H$43,'Emission Factors'!$H$44))","v":""},"","","",{"$f":"IF(F45=\"\",\"\",IF(B45=\"no\",'Emission Factors'!$J$43,'Emission Factors'!$J$44))","v":""},"","","",{"$f":"IF(F45=\"\",\"\",IF(B45=\"no\",'Emission Factors'!$L$43,'Emission Factors'!$L$44))","v":""},"","","",{"$f":"IF(F45=\"\",\"\",IF(B45=\"no\",'Emission Factors'!$N$43,'Emission Factors'!$N$44))","v":""},"","","",{"$f":"IF(F45=\"\",\"\",IF(B45=\"no\",'Emission Factors'!$P$43,'Emission Factors'!$P$44))","v":""},"","","",{"$f":"IF(F45=\"\",\"\",IF(B45=\"no\",'Emission Factors'!$R$43,'Emission Factors'!$R$44))","v":""},"","",""]
[null,{"$f":"IF(F46=\"Diesel Generator> 600 bhp\",\"yes\",\"no\")","v":"no"},null,null,null,null,null,null,null,null,1,null,null,null,null,null,null,{"$f":"IF(Q46=\"\",\"\",Q46*0.14)","v":""},null,{"$f":"IF(S46=\"\",\"\",S46*0.14)","v":""},null,0,"",{"$f":"IF(F46=\"\",\"\",IF(B46=\"no\",'Emission Factors'!$D$43,'Emission Factors'!$D$44))","v":""},"","","",{"$f":"IF(F46=\"\",\"\",IF(B46=\"no\",'Emission Factors'!$F$43,'Emission Factors'!$F$44))","v":""},"","","",{"$f":"IF(F46=\"\",\"\",IF(B46=\"no\",'Emission Factors'!$H$43,'Emission Factors'!$H$44))","v":""},"","","",{"$f":"IF(F46=\"\",\"\",IF(B46=\"no\",'Emission Factors'!$J$43,'Emission Factors'!$J$44))","v":""},"","","",{"$f":"IF(F46=\"\",\"\",IF(B46=\"no\",'Emission Factors'!$L$43,'Emission Factors'!$L$44))","v":""},"","","",{"$f":"IF(F46=\"\",\"\",IF(B46=\"no\",'Emission Factors'!$N$43,'Emission Factors'!$N$44))","v":""},"","","",{"$f":"IF(F46=\"\",\"\",IF(B46=\"no\",'Emission Factors'!$P$43,'Emission Factors'!$P$44))","v":""},"","","",{"$f":"IF(F46=\"\",\"\",IF(B46=\"no\",'Emission Factors'!$R$43,'Emission Factors'!$R$44))","v":""},"","",""]
[null,{"$f":"IF(F47=\"Diesel Generator> 600 bhp\",\"yes\",\"no\")","v":"no"},null,null,null,null,null,null,null,null,1,null,null,null,null,null,null,{"$f":"IF(Q47=\"\",\"\",Q47*0.14)","v":""},null,{"$f":"IF(S47=\"\",\"\",S47*0.14)","v":""},null,0,"",{"$f":"IF(F47=\"\",\"\",IF(B47=\"no\",'Emission Factors'!$D$43,'Emission Factors'!$D$44))","v":""},"","","",{"$f":"IF(F47=\"\",\"\",IF(B47=\"no\",'Emission Factors'!$F$43,'Emission Factors'!$F$44))","v":""},"","","",{"$f":"IF(F47=\"\",\"\",IF(B47=\"no\",'Emission Factors'!$H$43,'Emission Factors'!$H$44))","v":""},"","","",{"$f":"IF(F47=\"\",\"\",IF(B47=\"no\",'Emission Factors'!$J$43,'Emission Factors'!$J$44))","v":""},"","","",{"$f":"IF(F47=\"\",\"\",IF(B47=\"no\",'Emission Factors'!$L$43,'Emission Factors'!$L$44))","v":""},"","","",{"$f":"IF(F47=\"\",\"\",IF(B47=\"no\",'Emission Factors'!$N$43,'Emission Factors'!$N$44))","v":""},"","","",{"$f":"IF(F47=\"\",\"\",IF(B47=\"no\",'Emission Factors'!$P$43,'Emission Factors'!$P$44))","v":""},"","","",{"$f":"IF(F47=\"\",\"\",IF(B47=\"no\",'Emission Factors'!$R$43,'Emission Factors'!$R$44))","v":""},"","",""]
[null,{"$f":"IF(F48=\"Diesel Generator> 600 bhp\",\"yes\",\"no\")","v":"no"},null,null,null,null,null,null,null,null,1,null,null,null,null,null,null,{"$f":"IF(Q48=\"\",\"\",Q48*0.14)","v":""},null,{"$f":"IF(S48=\"\",\"\",S48*0.14)","v":""},null,0,"",{"$f":"IF(F48=\"\",\"\",IF(B48=\"no\",'Emission Factors'!$D$43,'Emission Factors'!$D$44))","v":""},"","","",{"$f":"IF(F48=\"\",\"\",IF(B48=\"no\",'Emission Factors'!$F$43,'Emission Factors'!$F$44))","v":""},"","","",{"$f":"IF(F48=\"\",\"\",IF(B48=\"no\",'Emission Factors'!$H$43,'Emission Factors'!$H$44))","v":""},"","","",{"$f":"IF(F48=\"\",\"\",IF(B48=\"no\",'Emission Factors'!$J$43,'Emission Factors'!$J$44))","v":""},"","","",{"$f":"IF(F48=\"\",\"\",IF(B48=\"no\",'Emission Factors'!$L$43,'Emission Factors'!$L$44))","v":""},"","","",{"$f":"IF(F48=\"\",\"\",IF(B48=\"no\",'Emission Factors'!$N$43,'Emission Factors'!$N$44))","v":""},"","","",{"$f":"IF(F48=\"\",\"\",IF(B48=\"no\",'Emission Factors'!$P$43,'Emission Factors'!$P$44))","v":""},"","","",{"$f":"IF(F48=\"\",\"\",IF(B48=\"no\",'Emission Factors'!$R$43,'Emission Factors'!$R$44))","v":""},"","",""]
[null,{"$f":"IF(F49=\"Diesel Generator> 600 bhp\",\"yes\",\"no\")","v":"no"},null,null,null,null,null,null,null,null,1,null,null,null,null,null,null,{"$f":"IF(Q49=\"\",\"\",Q49*0.14)","v":""},null,{"$f":"IF(S49=\"\",\"\",S49*0.14)","v":""},null,0,"",{"$f":"IF(F49=\"\",\"\",IF(B49=\"no\",'Emission Factors'!$D$43,'Emission Factors'!$D$44))","v":""},"","","",{"$f":"IF(F49=\"\",\"\",IF(B49=\"no\",'Emission Factors'!$F$43,'Emission Factors'!$F$44))","v":""},"","","",{"$f":"IF(F49=\"\",\"\",IF(B49=\"no\",'Emission Factors'!$H$43,'Emission Factors'!$H$44))","v":""},"","","",{"$f":"IF(F49=\"\",\"\",IF(B49=\"no\",'Emission Factors'!$J$43,'Emission Factors'!$J$44))","v":""},"","","",{"$f":"IF(F49=\"\",\"\",IF(B49=\"no\",'Emission Factors'!$L$43,'Emission Factors'!$L$44))","v":""},"","","",{"$f":"IF(F49=\"\",\"\",IF(B49=\"no\",'Emission Factors'!$N$43,'Emission Factors'!$N$44))","v":""},"","",null,{"$f":"IF(F49=\"\",\"\",IF(B49=\"no\",'Emission Factors'!$P$43,'Emission Factors'!$P$44))","v":""},"","","",{"$f":"IF(F49=\"\",\"\",IF(B49=\"no\",'Emission Factors'!$R$43,'Emission Factors'!$R$44))","v":""},"","",""]
[null,null,null,null,null,null,null,null,null,null,null,null,null,"               Total Combined for all Generators ≤ 600 BHP:",null,null,{"$f":"SUM(IF($B$8=\"no\",Q8),IF($B$9=\"no\",Q9),IF($B$10=\"no\",Q10),IF($B$11=\"no\",Q11),IF($B$12=\"no\",Q12),IF($B$13=\"no\",Q13),IF($B$14=\"no\",Q14),IF($B$15=\"no\",Q15),IF($B$16=\"no\",Q16),IF($B$17=\"no\",Q17),IF($B$18=\"no\",Q18),IF($B$19=\"no\",Q19),IF($B$20=\"no\",Q20),IF($B$21=\"no\",Q21),IF($B$22=\"no\",Q22),IF($B$23=\"no\",Q23),IF($B$24=\"no\",Q24),IF($B$25=\"no\",Q25),IF($B$26=\"no\",Q26),IF($B$27=\"no\",Q27),IF($B$28=\"no\",Q28),IF($B$29=\"no\",Q29),IF($B$30=\"no\",Q30),IF($B$31=\"no\",Q31),IF($B$32=\"no\",Q32),IF($B$33=\"no\",Q33),IF($B$34=\"no\",Q34),IF($B$35=\"no\",Q35),IF($B$36=\"no\",Q36),IF($B$37=\"no\",Q37),IF($B$38=\"no\",Q38),IF($B$39=\"no\",Q39),IF($B$40=\"no\",Q40),IF($B$41=\"no\",Q41),IF($B$42=\"no\",Q42),IF($B$43=\"no\",Q43),IF($B$44=\"no\",Q44),IF($B$45=\"no\",Q45),IF($B$46=\"no\",Q46),IF($B$47=\"no\",Q47),IF($B$48=\"no\",Q48),IF($B$49=\"no\",Q49))","v":0},{"$f":"SUM(IF($B$8=\"no\",R8),IF($B$9=\"no\",R9),IF($B$10=\"no\",R10),IF($B$11=\"no\",R11),IF($B$12=\"no\",R12),IF($B$13=\"no\",R13),IF($B$14=\"no\",R14),IF($B$15=\"no\",R15),IF($B$16=\"no\",R16),IF($B$17=\"no\",R17),IF($B$18=\"no\",R18),IF($B$19=\"no\",R19),IF($B$20=\"no\",R20),IF($B$21=\"no\",R21),IF($B$22=\"no\",R22),IF($B$23=\"no\",R23),IF($B$24=\"no\",R24),IF($B$25=\"no\",R25),IF($B$26=\"no\",R26),IF($B$27=\"no\",R27),IF($B$28=\"no\",R28),IF($B$29=\"no\",R29),IF($B$30=\"no\",R30),IF($B$31=\"no\",R31),IF($B$32=\"no\",R32),IF($B$33=\"no\",R33),IF($B$34=\"no\",R34),IF($B$35=\"no\",R35),IF($B$36=\"no\",R36),IF($B$37=\"no\",R37),IF($B$38=\"no\",R38),IF($B$39=\"no\",R39),IF($B$40=\"no\",R40),IF($B$41=\"no\",R41),IF($B$42=\"no\",R42),IF($B$43=\"no\",R43),IF($B$44=\"no\",R44),IF($B$45=\"no\",R45),IF($B$46=\"no\",R46),IF($B$47=\"no\",R47),IF($B$48=\"no\",R48),IF($B$49=\"no\",R49))","v":0},{"$f":"SUM(IF($B$8=\"no\",S8),IF($B$9=\"no\",S9),IF($B$10=\"no\",S10),IF($B$11=\"no\",S11),IF($B$12=\"no\",S12),IF($B$13=\"no\",S13),IF($B$14=\"no\",S14),IF($B$15=\"no\",S15),IF($B$16=\"no\",S16),IF($B$17=\"no\",S17),IF($B$18=\"no\",S18),IF($B$19=\"no\",S19),IF($B$20=\"no\",S20),IF($B$21=\"no\",S21),IF($B$22=\"no\",S22),IF($B$23=\"no\",S23),IF($B$24=\"no\",S24),IF($B$25=\"no\",S25),IF($B$26=\"no\",S26),IF($B$27=\"no\",S27),IF($B$28=\"no\",S28),IF($B$29=\"no\",S29),IF($B$30=\"no\",S30),IF($B$31=\"no\",S31),IF($B$32=\"no\",S32),IF($B$33=\"no\",S33),IF($B$34=\"no\",S34),IF($B$35=\"no\",S35),IF($B$36=\"no\",S36),IF($B$37=\"no\",S37),IF($B$38=\"no\",S38),IF($B$39=\"no\",S39),IF($B$40=\"no\",S40),IF($B$41=\"no\",S41),IF($B$42=\"no\",S42),IF($B$43=\"no\",S43),IF($B$44=\"no\",S44),IF($B$45=\"no\",S45),IF($B$46=\"no\",S46),IF($B$47=\"no\",S47),IF($B$48=\"no\",S48),IF($B$49=\"no\",S49))","v":0},{"$f":"SUM(IF($B$8=\"no\",T8),IF($B$9=\"no\",T9),IF($B$10=\"no\",T10),IF($B$11=\"no\",T11),IF($B$12=\"no\",T12),IF($B$13=\"no\",T13),IF($B$14=\"no\",T14),IF($B$15=\"no\",T15),IF($B$16=\"no\",T16),IF($B$17=\"no\",T17),IF($B$18=\"no\",T18),IF($B$19=\"no\",T19),IF($B$20=\"no\",T20),IF($B$21=\"no\",T21),IF($B$22=\"no\",T22),IF($B$23=\"no\",T23),IF($B$24=\"no\",T24),IF($B$25=\"no\",T25),IF($B$26=\"no\",T26),IF($B$27=\"no\",T27),IF($B$28=\"no\",T28),IF($B$29=\"no\",T29),IF($B$30=\"no\",T30),IF($B$31=\"no\",T31),IF($B$32=\"no\",T32),IF($B$33=\"no\",T33),IF($B$34=\"no\",T34),IF($B$35=\"no\",T35),IF($B$36=\"no\",T36),IF($B$37=\"no\",T37),IF($B$38=\"no\",T38),IF($B$39=\"no\",T39),IF($B$40=\"no\",T40),IF($B$41=\"no\",T41),IF($B$42=\"no\",T42),IF($B$43=\"no\",T43),IF($B$44=\"no\",T44),IF($B$45=\"no\",T45),IF($B$46=\"no\",T46),IF($B$47=\"no\",T47),IF($B$48=\"no\",T48),IF($B$49=\"no\",T49))","v":0}]
["AP-1",{"$f":"MAX(IF($C$8:$C$49=\"AP-1\",$I$8:$I$49))","v":0},null,null,null,null,null,null,null,null,null,null,null,"               Total Combined for all Generators > 600 BHP:",null,null,{"$f":"SUM(IF($B$8=\"yes\",Q8),IF($B$9=\"yes\",Q9),IF($B$10=\"yes\",Q10),IF($B$11=\"yes\",Q11),IF($B$12=\"yes\",Q12),IF($B$13=\"yes\",Q13),IF($B$14=\"yes\",Q14),IF($B$15=\"yes\",Q15),IF($B$16=\"yes\",Q16),IF($B$17=\"yes\",Q17),IF($B$18=\"yes\",Q18),IF($B$19=\"yes\",Q19),IF($B$20=\"yes\",Q20),IF($B$21=\"yes\",Q21),IF($B$22=\"yes\",Q22),IF($B$23=\"yes\",Q23),IF($B$24=\"yes\",Q24),IF($B$25=\"yes\",Q25),IF($B$26=\"yes\",Q26),IF($B$27=\"yes\",Q27),IF($B$28=\"yes\",Q28),IF($B$29=\"yes\",Q29),IF($B$30=\"yes\",Q30),IF($B$31=\"yes\",Q31),IF($B$32=\"yes\",Q32),IF($B$33=\"yes\",Q33),IF($B$34=\"yes\",Q34),IF($B$35=\"yes\",Q35),IF($B$36=\"yes\",Q36),IF($B$37=\"yes\",Q37),IF($B$38=\"yes\",Q38),IF($B$39=\"yes\",Q39),IF($B$40=\"yes\",Q40),IF($B$41=\"yes\",Q41),IF($B$42=\"yes\",Q42),IF($B$43=\"yes\",Q43),IF($B$44=\"yes\",Q44),IF($B$45=\"yes\",Q45),IF($B$46=\"yes\",Q46),IF($B$47=\"yes\",Q47),IF($B$48=\"yes\",Q48),IF($B$49=\"yes\",Q49))","v":0},{"$f":"SUM(IF($B$8=\"yes\",R8),IF($B$9=\"yes\",R9),IF($B$10=\"yes\",R10),IF($B$11=\"yes\",R11),IF($B$12=\"yes\",R12),IF($B$13=\"yes\",R13),IF($B$14=\"yes\",R14),IF($B$15=\"yes\",R15),IF($B$16=\"yes\",R16),IF($B$17=\"yes\",R17),IF($B$18=\"yes\",R18),IF($B$19=\"yes\",R19),IF($B$20=\"yes\",R20),IF($B$21=\"yes\",R21),IF($B$22=\"yes\",R22),IF($B$23=\"yes\",R23),IF($B$24=\"yes\",R24),IF($B$25=\"yes\",R25),IF($B$26=\"yes\",R26),IF($B$27=\"yes\",R27),IF($B$28=\"yes\",R28),IF($B$29=\"yes\",R29),IF($B$30=\"yes\",R30),IF($B$31=\"yes\",R31),IF($B$32=\"yes\",R32),IF($B$33=\"yes\",R33),IF($B$34=\"yes\",R34),IF($B$35=\"yes\",R35),IF($B$36=\"yes\",R36),IF($B$37=\"yes\",R37),IF($B$38=\"yes\",R38),IF($B$39=\"yes\",R39),IF($B$40=\"yes\",R40),IF($B$41=\"yes\",R41),IF($B$42=\"yes\",R42),IF($B$43=\"yes\",R43),IF($B$44=\"yes\",R44),IF($B$45=\"yes\",R45),IF($B$46=\"yes\",R46),IF($B$47=\"yes\",R47),IF($B$48=\"yes\",R48),IF($B$49=\"yes\",R49))","v":0},{"$f":"SUM(IF($B$8=\"yes\",S8),IF($B$9=\"yes\",S9),IF($B$10=\"yes\",S10),IF($B$11=\"yes\",S11),IF($B$12=\"yes\",S12),IF($B$13=\"yes\",S13),IF($B$14=\"yes\",S14),IF($B$15=\"yes\",S15),IF($B$16=\"yes\",S16),IF($B$17=\"yes\",S17),IF($B$18=\"yes\",S18),IF($B$19=\"yes\",S19),IF($B$20=\"yes\",S20),IF($B$21=\"yes\",S21),IF($B$22=\"yes\",S22),IF($B$23=\"yes\",S23),IF($B$24=\"yes\",S24),IF($B$25=\"yes\",S25),IF($B$26=\"yes\",S26),IF($B$27=\"yes\",S27),IF($B$28=\"yes\",S28),IF($B$29=\"yes\",S29),IF($B$30=\"yes\",S30),IF($B$31=\"yes\",S31),IF($B$32=\"yes\",S32),IF($B$33=\"yes\",S33),IF($B$34=\"yes\",S34),IF($B$35=\"yes\",S35),IF($B$36=\"yes\",S36),IF($B$37=\"yes\",S37),IF($B$38=\"yes\",S38),IF($B$39=\"yes\",S39),IF($B$40=\"yes\",S40),IF($B$41=\"yes\",S41),IF($B$42=\"yes\",S42),IF($B$43=\"yes\",S43),IF($B$44=\"yes\",S44),IF($B$45=\"yes\",S45),IF($B$46=\"yes\",S46),IF($B$47=\"yes\",S47),IF($B$48=\"yes\",S48),IF($B$49=\"yes\",S49))","v":0},{"$f":"SUM(IF($B$8=\"yes\",T8),IF($B$9=\"yes\",T9),IF($B$10=\"yes\",T10),IF($B$11=\"yes\",T11),IF($B$12=\"yes\",T12),IF($B$13=\"yes\",T13),IF($B$14=\"yes\",T14),IF($B$15=\"yes\",T15),IF($B$16=\"yes\",T16),IF($B$17=\"yes\",T17),IF($B$18=\"yes\",T18),IF($B$19=\"yes\",T19),IF($B$20=\"yes\",T20),IF($B$21=\"yes\",T21),IF($B$22=\"yes\",T22),IF($B$23=\"yes\",T23),IF($B$24=\"yes\",T24),IF($B$25=\"yes\",T25),IF($B$26=\"yes\",T26),IF($B$27=\"yes\",T27),IF($B$28=\"yes\",T28),IF($B$29=\"yes\",T29),IF($B$30=\"yes\",T30),IF($B$31=\"yes\",T31),IF($B$32=\"yes\",T32),IF($B$33=\"yes\",T33),IF($B$34=\"yes\",T34),IF($B$35=\"yes\",T35),IF($B$36=\"yes\",T36),IF($B$37=\"yes\",T37),IF($B$38=\"yes\",T38),IF($B$39=\"yes\",T39),IF($B$40=\"yes\",T40),IF($B$41=\"yes\",T41),IF($B$42=\"yes\",T42),IF($B$43=\"yes\",T43),IF($B$44=\"yes\",T44),IF($B$45=\"yes\",T45),IF($B$46=\"yes\",T46),IF($B$47=\"yes\",T47),IF($B$48=\"yes\",T48),IF($B$49=\"yes\",T49))","v":0}]
["AP-2",{"$f":"MAX(IF($C$8:$C$49=\"AP-2\",$I$8:$I$49))","v":0},null,null,null,null,null,null,null,null,null,null,null,null,null,null,null,null,null,null,null,null,null,null,null,null,"PM2.5","PM10","PM10","SO2","SO2","NOx","NOx","VOC","VOC","CO","CO","Formaldehyde","Formaldehyde","Benzene","Benzene"]
["AP-3",{"$f":"MAX(IF($C$8:$C$49=\"AP-3\",$I$8:$I$49))","v":0},null,null,null,null,null,null,null,null,null,null,null,null,null,null,null,null,null,null,null,null,null,null,null,"Potential tpy","Actual tpy","Actual tpy","Potential tpy","Potential tpy","Actual tpy","Actual tpy","Potential tpy","Potential tpy","Actual tpy","Actual tpy","Potential tpy","Potential tpy","Actual tpy","Actual tpy","Potential tpy"]
["AP-4",{"$f":"MAX(IF($C$8:$C$49=\"AP-4\",$I$8:$I$49))","v":0},null,null,null,null,null,null,null,null,null,null,null,null,null,null,null,null,null,null,null,null,null,"AP-1",null,{"$f":"IF(B51=\"\",SUMIF($C$8:$C$49,\"AP-1\",$Z$8:$Z$49),MAX(IF(C8:C49=\"AP-1\",Z8:Z49)))","v":0},{"$f":"SUMIF($C$8:$C$49,\"AP-1\",$AA$8:$AA$49)","v":0},{"$f":"SUMIF($C$8:$C$49,\"AP-1\",$AE$8:$AE$49)","v":0},{"$f":"IF(B51=\"\",SUMIF($C$8:$C$49,\"AP-1\",$AD$8:$AD$49),MAX(IF($C$8:$C$49=\"AP-1\",$AD$8:$AD$49)))","v":0},{"$f":"IF(B51=\"\",SUMIF($C$8:$C$49,\"AP-1\",$AH$8:$AH$49),MAX(IF($C$8:$C$49=\"AP-1\",$AH$8:$AH$49)))","v":0},{"$f":"SUMIF($C$8:$C$49,\"AP-1\",$AI$8:$AI$49)","v":0},{"$f":"SUMIF($C$8:$C$49,\"AP-1\",$AM$8:$AM$49)","v":0},{"$f":"IF(B51=\"\",SUMIF($C$8:$C$49,\"AP-1\",$AL$8:$AL$49),MAX(IF($C$8:$C$49=\"AP-1\",$AL$8:$AL$49)))","v":0},{"$f":"IF(B51=\"\",SUMIF($C$8:$C$49,\"AP-1\",$AP$8:$AP$49),MAX(IF($C$8:$C$49=\"AP-1\",$AP$8:$AP$49)))","v":0},{"$f":"SUMIF($C$8:$C$49,\"AP-1\",$AQ$8:$AQ$49)","v":0},{"$f":"SUMIF($C$8:$C$49,\"AP-1\",$AU$8:$AU$49)","v":0},{"$f":"IF(B51=\"\",SUMIF($C$8:$C$49,\"AP-1\",$AT$8:$AT$49),MAX(IF($C$8:$C$49=\"AP-1\",$AT$8:$AT$49)))","v":0},{"$f":"IF(B51=\"\",SUMIF($C$8:$C$49,\"AP-1\",$AX$8:$AX$49),MAX(IF($C$8:$C$49=\"AP-1\",$AX$8:$AX$49)))","v":0},{"$f":"SUMIF($C$8:$C$49,\"AP-1\",$AY$8:$AY$49)","v":0},{"$f":"SUMIF($C$8:$C$49,\"AP-1\",$BC$8:$BC$49)","v":0},{"$f":"IF(B51=\"\",SUMIF($C$8:$C$49,\"AP-1\",$BB$8:$BB$49),MAX(IF($C$8:$C$49=\"AP-1\",$BB$8:$BB$49)))","v":0}]
["AP-5",{"$f":"MAX(IF($C$8:$C$49=\"AP-5\",$I$8:$I$49))","v":0},null,null,null,null,null,null,null,null,null,null,null,null,null,null,null,null,null,null,null,null,null,"AP-2",null,{"$f":"IF(B52=\"\",SUMIF($C$8:$C$49,\"AP-2\",$Z$8:$Z$49),MAX(IF($C$8:$C$49=\"AP-2\",$Z$8:$Z$49)))","v":0},{"$f":"SUMIF($C$8:$C$49,\"AP-2\",$AA$8:$AA$49)","v":0},{"$f":"SUMIF($C$8:$C$49,\"AP-2\",$AE$8:$AE$49)","v":0},{"$f":"IF(B52=\"\",SUMIF($C$8:$C$49,\"AP-2\",$AD$8:$AD$49),MAX(IF($C$8:$C$49=\"AP-2\",$AD$8:$AD$49)))","v":0},{"$f":"IF(B52=\"\",SUMIF($C$8:$C$49,\"AP-2\",$AH$8:$AH$49),MAX(IF($C$8:$C$49=\"AP-2\",$AH$8:$AH$49)))","v":0},{"$f":"SUMIF($C$8:$C$49,\"AP-2\",$AI$8:$AI$49)","v":0},{"$f":"SUMIF($C$8:$C$49,\"AP-2\",$AM$8:$AM$49)","v":0},{"$f":"IF(B52=\"\",SUMIF($C$8:$C$49,\"AP-2\",$AL$8:$AL$49),MAX(IF($C$8:$C$49=\"AP-2\",$AL$8:$AL$49)))","v":0},{"$f":"IF(B52=\"\",SUMIF($C$8:$C$49,\"AP-2\",$AP$8:$AP$49),MAX(IF($C$8:$C$49=\"AP-2\",$AP$8:$AP$49)))","v":0},{"$f":"SUMIF($C$8:$C$49,\"AP-2\",$AQ$8:$AQ$49)","v":0},{"$f":"SUMIF($C$8:$C$49,\"AP-2\",$AU$8:$AU$49)","v":0},{"$f":"IF(B52=\"\",SUMIF($C$8:$C$49,\"AP-2\",$AT$8:$AT$49),MAX(IF($C$8:$C$49=\"AP-2\",$AT$8:$AT$49)))","v":0},{"$f":"IF(B52=\"\",SUMIF($C$8:$C$49,\"AP-2\",$AX$8:$AX$49),MAX(IF($C$8:$C$49=\"AP-2\",$AX$8:$AX$49)))","v":0},{"$f":"SUMIF($C$8:$C$49,\"AP-2\",$AY$8:$AY$49)","v":0},{"$f":"SUMIF($C$8:$C$49,\"AP-2\",$BC$8:$BC$49)","v":0},{"$f":"IF(B52=\"\",SUMIF($C$8:$C$49,\"AP-2\",$BB$8:$BB$49),MAX(IF($C$8:$C$49=\"AP-2\",$BB$8:$BB$49)))","v":0}]
["AP-6",{"$f":"MAX(IF($C$8:$C$49=\"AP-6\",$I$8:$I$49))","v":0},null,null,null,null,null,null,null,null,null,null,null,null,null,null,null,null,null,null,null,null,null,"AP-3",null,{"$f":"IF(B53=\"\",SUMIF($C$8:$C$49,\"AP-3\",$Z$8:$Z$49),MAX(IF($C$8:$C$49=\"AP-3\",$Z$8:$Z$49)))","v":0},{"$f":"SUMIF($C$8:$C$49,\"AP-3\",$AA$8:$AA$49)","v":0},{"$f":"SUMIF($C$8:$C$49,\"AP-3\",$AE$8:$AE$49)","v":0},{"$f":"IF(B53=\"\",SUMIF($C$8:$C$49,\"AP-3\",$AD$8:$AD$49),MAX(IF($C$8:$C$49=\"AP-3\",$AD$8:$AD$49)))","v":0},{"$f":"IF(B53=\"\",SUMIF($C$8:$C$49,\"AP-3\",$AH$8:$AH$49),MAX(IF($C$8:$C$49=\"AP-3\",$AH$8:$AH$49)))","v":0},{"$f":"SUMIF($C$8:$C$49,\"AP-3\",$AI$8:$AI$49)","v":0},{"$f":"SUMIF($C$8:$C$49,\"AP-3\",$AM$8:$AM$49)","v":0},{"$f":"IF(B53=\"\",SUMIF($C$8:$C$49,\"AP-3\",$AL$8:$AL$49),MAX(IF($C$8:$C$49=\"AP-3\",$AL$8:$AL$49)))","v":0},{"$f":"IF(B53=\"\",SUMIF($C$8:$C$49,\"AP-3\",$AP$8:$AP$49),MAX(IF($C$8:$C$49=\"AP-3\",$AP$8:$AP$49)))","v":0},{"$f":"SUMIF($C$8:$C$49,\"AP-3\",$AQ$8:$AQ$49)","v":0},{"$f":"SUMIF($C$8:$C$49,\"AP-3\",$AU$8:$AU$49)","v":0},{"$f":"IF(B53=\"\",SUMIF($C$8:$C$49,\"AP-3\",$AT$8:$AT$49),MAX(IF($C$8:$C$49=\"AP-3\",$AT$8:$AT$49)))","v":0},{"$f":"IF(B53=\"\",SUMIF($C$8:$C$49,\"AP-3\",$AX$8:$AX$49),MAX(IF($C$8:$C$49=\"AP-3\",$AX$8:$AX$49)))","v":0},{"$f":"SUMIF($C$8:$C$49,\"AP-3\",$AY$8:$AY$49)","v":0},{"$f":"SUMIF($C$8:$C$49,\"AP-3\",$BC$8:$BC$49)","v":0},{"$f":"IF(B53=\"\",SUMIF($C$8:$C$49,\"AP-3\",$BB$8:$BB$49),MAX(IF($C$8:$C$49=\"AP-3\",$BB$8:$BB$49)))","v":0}]
["AP-7",{"$f":"MAX(IF($C$8:$C$49=\"AP-7\",$I$8:$I$49))","v":0},null,null,null,null,null,null,null,null,null,null,null,null,null,null,null,null,null,null,null,null,null,"AP-4",null,{"$f":"IF(B54=\"\",SUMIF($C$8:$C$49,\"AP-4\",$Z$8:$Z$49),MAX(IF($C$8:$C$49=\"AP-4\",$Z$8:$Z$49)))","v":0},{"$f":"SUMIF($C$8:$C$49,\"AP-4\",$AA$8:$AA$49)","v":0},{"$f":"SUMIF($C$8:$C$49,\"AP-4\",$AE$8:$AE$49)","v":0},{"$f":"IF(B54=\"\",SUMIF($C$8:$C$49,\"AP-4\",$AD$8:$AD$49),MAX(IF($C$8:$C$49=\"AP-4\",$AD$8:$AD$49)))","v":0},{"$f":"IF(B54=\"\",SUMIF($C$8:$C$49,\"AP-4\",$AH$8:$AH$49),MAX(IF($C$8:$C$49=\"AP-4\",$AH$8:$AH$49)))","v":0},{"$f":"SUMIF($C$8:$C$49,\"AP-4\",$AI$8:$AI$49)","v":0},{"$f":"SUMIF($C$8:$C$49,\"AP-4\",$AM$8:$AM$49)","v":0},{"$f":"IF(B54=\"\",SUMIF($C$8:$C$49,\"AP-4\",$AL$8:$AL$49),MAX(IF($C$8:$C$49=\"AP-4\",$AL$8:$AL$49)))","v":0},{"$f":"IF(B54=\"\",SUMIF($C$8:$C$49,\"AP-4\",$AP$8:$AP$49),MAX(IF($C$8:$C$49=\"AP-4\",$AP$8:$AP$49)))","v":0},{"$f":"SUMIF($C$8:$C$49,\"AP-4\",$AQ$8:$AQ$49)","v":0},{"$f":"SUMIF($C$8:$C$49,\"AP-4\",$AU$8:$AU$49)","v":0},{"$f":"IF(B54=\"\",SUMIF($C$8:$C$49,\"AP-4\",$AT$8:$AT$49),MAX(IF($C$8:$C$49=\"AP-4\",$AT$8:$AT$49)))","v":0},{"$f":"IF(B54=\"\",SUMIF($C$8:$C$49,\"AP-4\",$AX$8:$AX$49),MAX(IF($C$8:$C$49=\"AP-4\",$AX$8:$AX$49)))","v":0},{"$f":"SUMIF($C$8:$C$49,\"AP-4\",$AY$8:$AY$49)","v":0},{"$f":"SUMIF($C$8:$C$49,\"AP-4\",$BC$8:$BC$49)","v":0},{"$f":"IF(B54=\"\",SUMIF($C$8:$C$49,\"AP-4\",$BB$8:$BB$49),MAX(IF($C$8:$C$49=\"AP-4\",$BB$8:$BB$49)))","v":0}]
["AP-8",{"$f":"MAX(IF($C$8:$C$49=\"AP-8\",$I$8:$I$49))","v":0},null,null,null,null,null,null,null,null,null,null,null,null,null,null,null,null,null,null,null,null,null,"AP-5",null,{"$f":"IF(B55=\"\",SUMIF($C$8:$C$49,\"AP-5\",$Z$8:$Z$49),MAX(IF($C$8:$C$49=\"AP-5\",$Z$8:$Z$49)))","v":0},{"$f":"SUMIF($C$8:$C$49,\"AP-5\",$AA$8:$AA$49)","v":0},{"$f":"SUMIF($C$8:$C$49,\"AP-5\",$AE$8:$AE$49)","v":0},{"$f":"IF(B55=\"\",SUMIF($C$8:$C$49,\"AP-5\",$AD$8:$AD$49),MAX(IF($C$8:$C$49=\"AP-5\",$AD$8:$AD$49)))","v":0},{"$f":"IF(B55=\"\",SUMIF($C$8:$C$49,\"AP-5\",$AH$8:$AH$49),MAX(IF($C$8:$C$49=\"AP-5\",$AH$8:$AH$49)))","v":0},{"$f":"SUMIF($C$8:$C$49,\"AP-5\",$AI$8:$AI$49)","v":0},{"$f":"SUMIF($C$8:$C$49,\"AP-5\",$AM$8:$AM$49)","v":0},{"$f":"IF(B55=\"\",SUMIF($C$8:$C$49,\"AP-5\",$AL$8:$AL$49),MAX(IF($C$8:$C$49=\"AP-5\",$AL$8:$AL$49)))","v":0},{"$f":"IF(B55=\"\",SUMIF($C$8:$C$49,\"AP-5\",$AP$8:$AP$49),MAX(IF($C$8:$C$49=\"AP-5\",$AP$8:$AP$49)))","v":0},{"$f":"SUMIF($C$8:$C$49,\"AP-5\",$AQ$8:$AQ$49)","v":0},{"$f":"SUMIF($C$8:$C$49,\"AP-5\",$AU$8:$AU$49)","v":0},{"$f":"IF(B55=\"\",SUMIF($C$8:$C$49,\"AP-5\",$AT$8:$AT$49),MAX(IF($C$8:$C$49=\"AP-5\",$AT$8:$AT$49)))","v":0},{"$f":"IF(B55=\"\",SUMIF($C$8:$C$49,\"AP-5\",$AX$8:$AX$49),MAX(IF($C$8:$C$49=\"AP-5\",$AX$8:$AX$49)))","v":0},{"$f":"SUMIF($C$8:$C$49,\"AP-5\",$AY$8:$AY$49)","v":0},{"$f":"SUMIF($C$8:$C$49,\"AP-5\",$BC$8:$BC$49)","v":0},{"$f":"IF(B55=\"\",SUMIF($C$8:$C$49,\"AP-5\",$BB$8:$BB$49),MAX(IF($C$8:$C$49=\"AP-5\",$BB$8:$BB$49)))","v":0}]
["AP-9",{"$f":"MAX(IF($C$8:$C$49=\"AP-9\",$I$8:$I$49))","v":0},null,null,null,null,null,null,null,null,null,null,null,null,null,null,null,null,null,null,null,null,null,"AP-6",null,{"$f":"IF(B56=\"\",SUMIF($C$8:$C$49,\"AP-6\",$Z$8:$Z$49),MAX(IF($C$8:$C$49=\"AP-6\",$Z$8:$Z$49)))","v":0},{"$f":"SUMIF($C$8:$C$49,\"AP-6\",$AA$8:$AA$49)","v":0},{"$f":"SUMIF($C$8:$C$49,\"AP-6\",$AE$8:$AE$49)","v":0},{"$f":"IF(B56=\"\",SUMIF($C$8:$C$49,\"AP-6\",$AD$8:$AD$49),MAX(IF($C$8:$C$49=\"AP-6\",$AD$8:$AD$49)))","v":0},{"$f":"IF(B56=\"\",SUMIF($C$8:$C$49,\"AP-6\",$AH$8:$AH$49),MAX(IF($C$8:$C$49=\"AP-6\",$AH$8:$AH$49)))","v":0},{"$f":"SUMIF($C$8:$C$49,\"AP-6\",$AI$8:$AI$49)","v":0},{"$f":"SUMIF($C$8:$C$49,\"AP-6\",$AM$8:$AM$49)","v":0},{"$f":"IF(B56=\"\",SUMIF($C$8:$C$49,\"AP-6\",$AL$8:$AL$49),MAX(IF($C$8:$C$49=\"AP-6\",$AL$8:$AL$49)))","v":0},{"$f":"IF(B56=\"\",SUMIF($C$8:$C$49,\"AP-6\",$AP$8:$AP$49),MAX(IF($C$8:$C$49=\"AP-6\",$AP$8:$AP$49)))","v":0},{"$f":"SUMIF($C$8:$C$49,\"AP-6\",$AQ$8:$AQ$49)","v":0},{"$f":"SUMIF($C$8:$C$49,\"AP-6\",$AU$8:$AU$49)","v":0},{"$f":"IF(B56=\"\",SUMIF($C$8:$C$49,\"AP-6\",$AT$8:$AT$49),MAX(IF($C$8:$C$49=\"AP-6\",$AT$8:$AT$49)))","v":0},{"$f":"IF(B56=\"\",SUMIF($C$8:$C$49,\"AP-6\",$AX$8:$AX$49),MAX(IF($C$8:$C$49=\"AP-6\",$AX$8:$AX$49)))","v":0},{"$f":"SUMIF($C$8:$C$49,\"AP-6\",$AY$8:$AY$49)","v":0},{"$f":"SUMIF($C$8:$C$49,\"AP-6\",$BC$8:$BC$49)","v":0},{"$f":"IF(B56=\"\",SUMIF($C$8:$C$49,\"AP-6\",$BB$8:$BB$49),MAX(IF($C$8:$C$49=\"AP-6\",$BB$8:$BB$49)))","v":0}]
["AP-10",{"$f":"MAX(IF($C$8:$C$49=\"AP-10\",$I$8:$I$49))","v":0},null,null,null,null,null,null,null,null,null,null,null,null,null,null,null,null,null,null,null,null,null,"AP-7",null,{"$f":"IF(B57=\"\",SUMIF($C$8:$C$49,\"AP-7\",$Z$8:$Z$49),MAX(IF($C$8:$C$49=\"AP-7\",$Z$8:$Z$49)))","v":0},{"$f":"SUMIF($C$8:$C$49,\"AP-7\",$AA$8:$AA$49)","v":0},{"$f":"SUMIF($C$8:$C$49,\"AP-7\",$AE$8:$AE$49)","v":0},{"$f":"IF(B57=\"\",SUMIF($C$8:$C$49,\"AP-7\",$AD$8:$AD$49),MAX(IF($C$8:$C$49=\"AP-7\",$AD$8:$AD$49)))","v":0},{"$f":"IF(B57=\"\",SUMIF($C$8:$C$49,\"AP-7\",$AH$8:$AH$49),MAX(IF($C$8:$C$49=\"AP-7\",$AH$8:$AH$49)))","v":0},{"$f":"SUMIF($C$8:$C$49,\"AP-7\",$AI$8:$AI$49)","v":0},{"$f":"SUMIF($C$8:$C$49,\"AP-7\",$AM$8:$AM$49)","v":0},{"$f":"IF(B57=\"\",SUMIF($C$8:$C$49,\"AP-7\",$AL$8:$AL$49),MAX(IF($C$8:$C$49=\"AP-7\",$AL$8:$AL$49)))","v":0},{"$f":"IF(B57=\"\",SUMIF($C$8:$C$49,\"AP-7\",$AP$8:$AP$49),MAX(IF($C$8:$C$49=\"AP-7\",$AP$8:$AP$49)))","v":0},{"$f":"SUMIF($C$8:$C$49,\"AP-7\",$AQ$8:$AQ$49)","v":0},{"$f":"SUMIF($C$8:$C$49,\"AP-7\",$AU$8:$AU$49)","v":0},{"$f":"IF(B57=\"\",SUMIF($C$8:$C$49,\"AP-7\",$AT$8:$AT$49),MAX(IF($C$8:$C$49=\"AP-7\",$AT$8:$AT$49)))","v":0},{"$f":"IF(B57=\"\",SUMIF($C$8:$C$49,\"AP-7\",$AX$8:$AX$49),MAX(IF($C$8:$C$49=\"AP-7\",$AX$8:$AX$49)))","v":0},{"$f":"SUMIF($C$8:$C$49,\"AP-7\",$AY$8:$AY$49)","v":0},{"$f":"SUMIF($C$8:$C$49,\"AP-7\",$BC$8:$BC$49)","v":0},{"$f":"IF(B57=\"\",SUMIF($C$8:$C$49,\"AP-7\",$BB$8:$BB$49),MAX(IF($C$8:$C$49=\"AP-7\",$BB$8:$BB$49)))","v":0}]
[null,null,null,null,null,null,null,null,null,null,null,null,null,null,null,null,null,null,null,null,null,null,null,"AP-8",null,{"$f":"IF(B58=\"\",SUMIF($C$8:$C$49,\"AP-8\",$Z$8:$Z$49),MAX(IF($C$8:$C$49=\"AP-8\",$Z$8:$Z$49)))","v":0},{"$f":"SUMIF($C$8:$C$49,\"AP-8\",$AA$8:$AA$49)","v":0},{"$f":"SUMIF($C$8:$C$49,\"AP-8\",$AE$8:$AE$49)","v":0},{"$f":"IF(B58=\"\",SUMIF($C$8:$C$49,\"AP-8\",$AD$8:$AD$49),MAX(IF($C$8:$C$49=\"AP-8\",$AD$8:$AD$49)))","v":0},{"$f":"IF(B58=\"\",SUMIF($C$8:$C$49,\"AP-8\",$AH$8:$AH$49),MAX(IF($C$8:$C$49=\"AP-8\",$AH$8:$AH$49)))","v":0},{"$f":"SUMIF($C$8:$C$49,\"AP-8\",$AI$8:$AI$49)","v":0},{"$f":"SUMIF($C$8:$C$49,\"AP-8\",$AM$8:$AM$49)","v":0},{"$f":"IF(B58=\"\",SUMIF($C$8:$C$49,\"AP-8\",$AL$8:$AL$49),MAX(IF($C$8:$C$49=\"AP-8\",$AL$8:$AL$49)))","v":0},{"$f":"IF(B58=\"\",SUMIF($C$8:$C$49,\"AP-8\",$AP$8:$AP$49),MAX(IF($C$8:$C$49=\"AP-8\",$AP$8:$AP$49)))","v":0},{"$f":"SUMIF($C$8:$C$49,\"AP-8\",$AQ$8:$AQ$49)","v":0},{"$f":"SUMIF($C$8:$C$49,\"AP-8\",$AU$8:$AU$49)","v":0},{"$f":"IF(B58=\"\",SUMIF($C$8:$C$49,\"AP-8\",$AT$8:$AT$49),MAX(IF($C$8:$C$49=\"AP-8\",$AT$8:$AT$49)))","v":0},{"$f":"IF(B58=\"\",SUMIF($C$8:$C$49,\"AP-8\",$AX$8:$AX$49),MAX(IF($C$8:$C$49=\"AP-8\",$AX$8:$AX$49)))","v":0},{"$f":"SUMIF($C$8:$C$49,\"AP-8\",$AY$8:$AY$49)","v":0},{"$f":"SUMIF($C$8:$C$49,\"AP-8\",$BC$8:$BC$49)","v":0},{"$f":"IF(B58=\"\",SUMIF($C$8:$C$49,\"AP-8\",$BB$8:$BB$49),MAX(IF($C$8:$C$49=\"AP-8\",$BB$8:$BB$49)))","v":0}]
["Vertical w/o obstruction",null,null,null,null,null,null,null,null,null,null,null,null,null,null,null,null,null,null,null,null,null,null,"AP-9",null,{"$f":"IF(B59=\"\",SUMIF($C$8:$C$49,\"AP-9\",$Z$8:$Z$49),MAX(IF($C$8:$C$49=\"AP-9\",$Z$8:$Z$49)))","v":0},{"$f":"SUMIF($C$8:$C$49,\"AP-9\",$AA$8:$AA$49)","v":0},{"$f":"SUMIF($C$8:$C$49,\"AP-9\",$AE$8:$AE$49)","v":0},{"$f":"IF(B59=\"\",SUMIF($C$8:$C$49,\"AP-9\",$AD$8:$AD$49),MAX(IF($C$8:$C$49=\"AP-9\",$AD$8:$AD$49)))","v":0},{"$f":"IF(B59=\"\",SUMIF($C$8:$C$49,\"AP-9\",$AH$8:$AH$49),MAX(IF($C$8:$C$49=\"AP-9\",$AH$8:$AH$49)))","v":0},{"$f":"SUMIF($C$8:$C$49,\"AP-9\",$AI$8:$AI$49)","v":0},{"$f":"SUMIF($C$8:$C$49,\"AP-9\",$AM$8:$AM$49)","v":0},{"$f":"IF(B59=\"\",SUMIF($C$8:$C$49,\"AP-9\",$AL$8:$AL$49),MAX(IF($C$8:$C$49=\"AP-9\",$AL$8:$AL$49)))","v":0},{"$f":"IF(B59=\"\",SUMIF($C$8:$C$49,\"AP-9\",$AP$8:$AP$49),MAX(IF($C$8:$C$49=\"AP-9\",$AP$8:$AP$49)))","v":0},{"$f":"SUMIF($C$8:$C$49,\"AP-9\",$AQ$8:$AQ$49)","v":0},{"$f":"SUMIF($C$8:$C$49,\"AP-9\",$AU$8:$AU$49)","v":0},{"$f":"IF(B59=\"\",SUMIF($C$8:$C$49,\"AP-9\",$AT$8:$AT$49),MAX(IF($C$8:$C$49=\"AP-9\",$AT$8:$AT$49)))","v":0},{"$f":"IF(B59=\"\",SUMIF($C$8:$C$49,\"AP-9\",$AX$8:$AX$49),MAX(IF($C$8:$C$49=\"AP-9\",$AX$8:$AX$49)))","v":0},{"$f":"SUMIF($C$8:$C$49,\"AP-9\",$AY$8:$AY$49)","v":0},{"$f":"SUMIF($C$8:$C$49,\"AP-9\",$BC$8:$BC$49)","v":0},{"$f":"IF(B59=\"\",SUMIF($C$8:$C$49,\"AP-9\",$BB$8:$BB$49),MAX(IF($C$8:$C$49=\"AP-9\",$BB$8:$BB$49)))","v":0}]
["Vertical w/ obstruction",null,null,null,null,null,null,null,null,null,null,null,null,null,null,null,null,null,null,null,null,null,null,"AP-10",null,{"$f":"IF(B60=\"\",SUMIF($C$8:$C$49,\"AP-10\",$Z$8:$Z$49),MAX(IF($C$8:$C$49=\"AP-10\",$Z$8:$Z$49)))","v":0},{"$f":"SUMIF($C$8:$C$49,\"AP-10\",$AA$8:$AA$49)","v":0},{"$f":"SUMIF($C$8:$C$49,\"AP-10\",$AE$8:$AE$49)","v":0},{"$f":"IF(B60=\"\",SUMIF($C$8:$C$49,\"AP-10\",$AD$8:$AD$49),MAX(IF($C$8:$C$49=\"AP-10\",$AD$8:$AD$49)))","v":0},{"$f":"IF(B60=\"\",SUMIF($C$8:$C$49,\"AP-10\",$AH$8:$AH$49),MAX(IF($C$8:$C$49=\"AP-10\",$AH$8:$AH$49)))","v":0},{"$f":"SUMIF($C$8:$C$49,\"AP-10\",$AI$8:$AI$49)","v":0},{"$f":"SUMIF($C$8:$C$49,\"AP-10\",$AM$8:$AM$49)","v":0},{"$f":"IF(B60=\"\",SUMIF($C$8:$C$49,\"AP-10\",$AL$8:$AL$49),MAX(IF($C$8:$C$49=\"AP-10\",$AL$8:$AL$49)))","v":0},{"$f":"IF(B60=\"\",SUMIF($C$8:$C$49,\"AP-10\",$AP$8:$AP$49),MAX(IF($C$8:$C$49=\"AP-10\",$AP$8:$AP$49)))","v":0},{"$f":"SUMIF($C$8:$C$49,\"AP-10\",$AQ$8:$AQ$49)","v":0},{"$f":"SUMIF($C$8:$C$49,\"AP-10\",$AU$8:$AU$49)","v":0},{"$f":"IF(B60=\"\",SUMIF($C$8:$C$49,\"AP-10\",$AT$8:$AT$49),MAX(IF($C$8:$C$49=\"AP-10\",$AT$8:$AT$49)))","v":0},{"$f":"IF(B60=\"\",SUMIF($C$8:$C$49,\"AP-10\",$AX$8:$AX$49),MAX(IF($C$8:$C$49=\"AP-10\",$AX$8:$AX$49)))","v":0},{"$f":"SUMIF($C$8:$C$49,\"AP-10\",$AY$8:$AY$49)","v":0},{"$f":"SUMIF($C$8:$C$49,\"AP-10\",$BC$8:$BC$49)","v":0},{"$f":"IF(B60=\"\",SUMIF($C$8:$C$49,\"AP-10\",$BB$8:$BB$49),MAX(IF($C$8:$C$49=\"AP-10\",$BB$8:$BB$49)))","v":0}]
["Downward"]
["Horizontal",null,null,null,null,null,null,null,null,null,null,null,null,null,null,null,null,null,null,null,null,null,null,null,null,"≤ 600 BHP","> 600 BHP","≤ 600 BHP","> 600 BHP","≤ 600 BHP","> 600 BHP","≤ 600 BHP","> 600 BHP","≤ 600 BHP","> 600 BHP","≤ 600 BHP","> 600 BHP","≤ 600 BHP","> 600 BHP","≤ 600 BHP","> 600 BHP"]
[null,null,null,null,null,null,null,null,null,null,null,null,null,null,null,null,null,null,null,null,null,null,null,null,"AP-1",{"$f":"IF(B51=\"\",SUMIFS($Z$8:$Z$49,$C$8:C49,\"AP-1\",$B$8:$B$49,\"no\"),MAX(IF($C$8:$C$49=\"AP-1\",IF($B$8:$B$49=\"no\",$Z$8:$Z$49))))","v":0},{"$f":"IF(B51=\"\",SUMIFS($Z$8:$Z$49,$C$8:D49,\"AP-1\",$B$8:$B$49,\"yes\"),MAX(IF($C$8:$C$49=\"AP-1\",IF($B$8:$B$49=\"yes\",$Z$8:$Z$49))))","v":0},{"$f":"IF($B$51=\"\",SUMIFS($AD$8:$AD$49,$C$8:E49,\"AP-1\",$B$8:$B$49,\"no\"),MAX(IF($C$8:$C$49=\"AP-1\",IF($B$8:$B$49=\"no\",$AD$8:$AD$49))))","v":0},{"$f":"IF($B$51=\"\",SUMIFS($AD$8:$AD$49,$C$8:E49,\"AP-1\",$B$8:$B$49,\"yes\"),MAX(IF($C$8:$C$49=\"AP-1\",IF($B$8:$B$49=\"yes\",$AD$8:$AD$49))))","v":0},{"$f":"IF($B$51=\"\",SUMIFS($AH$8:$AH$49,$C$8:E49,\"AP-1\",$B$8:$B$49,\"no\"),MAX(IF($C$8:$C$49=\"AP-1\",IF($B$8:$B$49=\"no\",$AH$8:$AH$49))))","v":0},{"$f":"IF($B$51=\"\",SUMIFS($AH$8:$AH$49,$C$8:G49,\"AP-1\",$B$8:$B$49,\"yes\"),MAX(IF($C$8:$C$49=\"AP-1\",IF($B$8:$B$49=\"yes\",$AH$8:$AH$49))))","v":0},{"$f":"IF($B$51=\"\",SUMIFS($AL$8:$AL$49,$C$8:E49,\"AP-1\",$B$8:$B$49,\"no\"),MAX(IF($C$8:$C$49=\"AP-1\",IF($B$8:$B$49=\"no\",$AL$8:$AL$49))))","v":0},{"$f":"IF($B$51=\"\",SUMIFS($AL$8:$AL$49,$C$8:I49,\"AP-1\",$B$8:$B$49,\"yes\"),MAX(IF($C$8:$C$49=\"AP-1\",IF($B$8:$B$49=\"yes\",$AL$8:$AL$49))))","v":0},{"$f":"IF($B$51=\"\",SUMIFS($AP$8:$AP$49,$C$8:E49,\"AP-1\",$B$8:$B$49,\"no\"),MAX(IF($C$8:$C$49=\"AP-1\",IF($B$8:$B$49=\"no\",$AP$8:$AP$49))))","v":0},{"$f":"IF($B$51=\"\",SUMIFS($AP$8:$AP$49,$C$8:K49,\"AP-1\",$B$8:$B$49,\"yes\"),MAX(IF($C$8:$C$49=\"AP-1\",IF($B$8:$B$49=\"yes\",$AP$8:$AP$49))))","v":0},{"$f":"IF($B$51=\"\",SUMIFS($AT$8:$AT$49,$C$8:E49,\"AP-1\",$B$8:$B$49,\"no\"),MAX(IF($C$8:$C$49=\"AP-1\",IF($B$8:$B$49=\"no\",$AT$8:$AT$49))))","v":0},{"$f":"IF($B$51=\"\",SUMIFS($AT$8:$AT$49,$C$8:M49,\"AP-1\",$B$8:$B$49,\"yes\"),MAX(IF($C$8:$C$49=\"AP-1\",IF($B$8:$B$49=\"yes\",$AT$8:$AT$49))))","v":0},{"$f":"IF($B$51=\"\",SUMIFS($AX$8:$AX$49,$C$8:E49,\"AP-1\",$B$8:$B$49,\"no\"),MAX(IF($C$8:$C$49=\"AP-1\",IF($B$8:$B$49=\"no\",$AX$8:$AX$49))))","v":0},{"$f":"IF($B$51=\"\",SUMIFS($AX$8:$AX$49,$C$8:O49,\"AP-1\",$B$8:$B$49,\"yes\"),MAX(IF($C$8:$C$49=\"AP-1\",IF($B$8:$B$49=\"yes\",$AX$8:$AX$49))))","v":0},{"$f":"IF($B$51=\"\",SUMIFS($BB$8:$BB$49,$C$8:E49,\"AP-1\",$B$8:$B$49,\"no\"),MAX(IF($C$8:$C$49=\"AP-1\",IF($B$8:$B$49=\"no\",$BB$8:$BB$49))))","v":0},{"$f":"IF($B$51=\"\",SUMIFS($BB$8:$BB$49,$C$8:Q49,\"AP-1\",$B$8:$B$49,\"yes\"),MAX(IF($C$8:$C$49=\"AP-1\",IF($B$8:$B$49=\"yes\",$BB$8:$BB$49))))","v":0}]
[null,null,null,null,null,null,null,null,null,null,null,null,null,null,null,null,null,null,null,null,null,null,null,null,"AP-2",{"$f":"IF(B52=\"\",SUMIFS($Z$8:$Z$49,$C$8:C50,\"AP-2\",$B$8:$B$49,\"no\"),MAX(IF($C$8:$C$49=\"AP-2\",IF($B$8:$B$49=\"no\",$Z$8:$Z$49))))","v":0},{"$f":"IF(B52=\"\",SUMIFS($Z$8:$Z$49,$C$8:D50,\"AP-2\",$B$8:$B$49,\"yes\"),MAX(IF($C$8:$C$49=\"AP-2\",IF($B$8:$B$49=\"yes\",$Z$8:$Z$49))))","v":0},{"$f":"IF($B$51=\"\",SUMIFS($AD$8:$AD$49,$C$8:E50,\"AP-2\",$B$8:$B$49,\"no\"),MAX(IF($C$8:$C$49=\"AP-2\",IF($B$8:$B$49=\"no\",$AD$8:$AD$49))))","v":0},{"$f":"IF($B$51=\"\",SUMIFS($AD$8:$AD$49,$C$8:E50,\"AP-2\",$B$8:$B$49,\"yes\"),MAX(IF($C$8:$C$49=\"AP-2\",IF($B$8:$B$49=\"yes\",$AD$8:$AD$49))))","v":0},{"$f":"IF($B$51=\"\",SUMIFS($AH$8:$AH$49,$C$8:E50,\"AP-2\",$B$8:$B$49,\"no\"),MAX(IF($C$8:$C$49=\"AP-2\",IF($B$8:$B$49=\"no\",$AH$8:$AH$49))))","v":0},{"$f":"IF($B$51=\"\",SUMIFS($AH$8:$AH$49,$C$8:G50,\"AP-2\",$B$8:$B$49,\"yes\"),MAX(IF($C$8:$C$49=\"AP-2\",IF($B$8:$B$49=\"yes\",$AH$8:$AH$49))))","v":0},{"$f":"IF($B$51=\"\",SUMIFS($AL$8:$AL$49,$C$8:E50,\"AP-2\",$B$8:$B$49,\"no\"),MAX(IF($C$8:$C$49=\"AP-2\",IF($B$8:$B$49=\"no\",$AL$8:$AL$49))))","v":0},{"$f":"IF($B$51=\"\",SUMIFS($AL$8:$AL$49,$C$8:I50,\"AP-2\",$B$8:$B$49,\"yes\"),MAX(IF($C$8:$C$49=\"AP-2\",IF($B$8:$B$49=\"yes\",$AL$8:$AL$49))))","v":0},{"$f":"IF($B$51=\"\",SUMIFS($AP$8:$AP$49,$C$8:E50,\"AP-2\",$B$8:$B$49,\"no\"),MAX(IF($C$8:$C$49=\"AP-2\",IF($B$8:$B$49=\"no\",$AP$8:$AP$49))))","v":0},{"$f":"IF($B$51=\"\",SUMIFS($AP$8:$AP$49,$C$8:K50,\"AP-2\",$B$8:$B$49,\"yes\"),MAX(IF($C$8:$C$49=\"AP-2\",IF($B$8:$B$49=\"yes\",$AP$8:$AP$49))))","v":0},{"$f":"IF($B$51=\"\",SUMIFS($AT$8:$AT$49,$C$8:E50,\"AP-2\",$B$8:$B$49,\"no\"),MAX(IF($C$8:$C$49=\"AP-2\",IF($B$8:$B$49=\"no\",$AT$8:$AT$49))))","v":0},{"$f":"IF($B$51=\"\",SUMIFS($AT$8:$AT$49,$C$8:M50,\"AP-2\",$B$8:$B$49,\"yes\"),MAX(IF($C$8:$C$49=\"AP-2\",IF($B$8:$B$49=\"yes\",$AT$8:$AT$49))))","v":0},{"$f":"IF($B$51=\"\",SUMIFS($AX$8:$AX$49,$C$8:E50,\"AP-2\",$B$8:$B$49,\"no\"),MAX(IF($C$8:$C$49=\"AP-2\",IF($B$8:$B$49=\"no\",$AX$8:$AX$49))))","v":0},{"$f":"IF($B$51=\"\",SUMIFS($AX$8:$AX$49,$C$8:O50,\"AP-2\",$B$8:$B$49,\"yes\"),MAX(IF($C$8:$C$49=\"AP-2\",IF($B$8:$B$49=\"yes\",$AX$8:$AX$49))))","v":0},{"$f":"IF($B$51=\"\",SUMIFS($BB$8:$BB$49,$C$8:E50,\"AP-2\",$B$8:$B$49,\"no\"),MAX(IF($C$8:$C$49=\"AP-2\",IF($B$8:$B$49=\"no\",$BB$8:$BB$49))))","v":0},{"$f":"IF($B$51=\"\",SUMIFS($BB$8:$BB$49,$C$8:Q50,\"AP-2\",$B$8:$B$49,\"yes\"),MAX(IF($C$8:$C$49=\"AP-2\",IF($B$8:$B$49=\"yes\",$BB$8:$BB$49))))","v":0}]
[null,null,null,null,null,null,null,null,null,null,null,null,null,null,null,null,null,null,null,null,null,null,null,null,"AP-3",{"$f":"IF(B53=\"\",SUMIFS($Z$8:$Z$49,$C$8:C51,\"AP-3\",$B$8:$B$49,\"no\"),MAX(IF($C$8:$C$49=\"AP-3\",IF($B$8:$B$49=\"no\",$Z$8:$Z$49))))","v":0},{"$f":"IF(B53=\"\",SUMIFS($Z$8:$Z$49,$C$8:D51,\"AP-3\",$B$8:$B$49,\"yes\"),MAX(IF($C$8:$C$49=\"AP-3\",IF($B$8:$B$49=\"yes\",$Z$8:$Z$49))))","v":0},{"$f":"IF($B$51=\"\",SUMIFS($AD$8:$AD$49,$C$8:E51,\"AP-3\",$B$8:$B$49,\"no\"),MAX(IF($C$8:$C$49=\"AP-3\",IF($B$8:$B$49=\"no\",$AD$8:$AD$49))))","v":0},{"$f":"IF($B$51=\"\",SUMIFS($AD$8:$AD$49,$C$8:E51,\"AP-3\",$B$8:$B$49,\"yes\"),MAX(IF($C$8:$C$49=\"AP-3\",IF($B$8:$B$49=\"yes\",$AD$8:$AD$49))))","v":0},{"$f":"IF($B$51=\"\",SUMIFS($AH$8:$AH$49,$C$8:E51,\"AP-3\",$B$8:$B$49,\"no\"),MAX(IF($C$8:$C$49=\"AP-3\",IF($B$8:$B$49=\"no\",$AH$8:$AH$49))))","v":0},{"$f":"IF($B$51=\"\",SUMIFS($AH$8:$AH$49,$C$8:G51,\"AP-3\",$B$8:$B$49,\"yes\"),MAX(IF($C$8:$C$49=\"AP-3\",IF($B$8:$B$49=\"yes\",$AH$8:$AH$49))))","v":0},{"$f":"IF($B$51=\"\",SUMIFS($AL$8:$AL$49,$C$8:E51,\"AP-3\",$B$8:$B$49,\"no\"),MAX(IF($C$8:$C$49=\"AP-3\",IF($B$8:$B$49=\"no\",$AL$8:$AL$49))))","v":0},{"$f":"IF($B$51=\"\",SUMIFS($AL$8:$AL$49,$C$8:I51,\"AP-3\",$B$8:$B$49,\"yes\"),MAX(IF($C$8:$C$49=\"AP-3\",IF($B$8:$B$49=\"yes\",$AL$8:$AL$49))))","v":0},{"$f":"IF($B$51=\"\",SUMIFS($AP$8:$AP$49,$C$8:E51,\"AP-3\",$B$8:$B$49,\"no\"),MAX(IF($C$8:$C$49=\"AP-3\",IF($B$8:$B$49=\"no\",$AP$8:$AP$49))))","v":0},{"$f":"IF($B$51=\"\",SUMIFS($AP$8:$AP$49,$C$8:K51,\"AP-3\",$B$8:$B$49,\"yes\"),MAX(IF($C$8:$C$49=\"AP-3\",IF($B$8:$B$49=\"yes\",$AP$8:$AP$49))))","v":0},{"$f":"IF($B$51=\"\",SUMIFS($AT$8:$AT$49,$C$8:E51,\"AP-3\",$B$8:$B$49,\"no\"),MAX(IF($C$8:$C$49=\"AP-3\",IF($B$8:$B$49=\"no\",$AT$8:$AT$49))))","v":0},{"$f":"IF($B$51=\"\",SUMIFS($AT$8:$AT$49,$C$8:M51,\"AP-3\",$B$8:$B$49,\"yes\"),MAX(IF($C$8:$C$49=\"AP-3\",IF($B$8:$B$49=\"yes\",$AT$8:$AT$49))))","v":0},{"$f":"IF($B$51=\"\",SUMIFS($AX$8:$AX$49,$C$8:E51,\"AP-3\",$B$8:$B$49,\"no\"),MAX(IF($C$8:$C$49=\"AP-3\",IF($B$8:$B$49=\"no\",$AX$8:$AX$49))))","v":0},{"$f":"IF($B$51=\"\",SUMIFS($AX$8:$AX$49,$C$8:O51,\"AP-3\",$B$8:$B$49,\"yes\"),MAX(IF($C$8:$C$49=\"AP-3\",IF($B$8:$B$49=\"yes\",$AX$8:$AX$49))))","v":0},{"$f":"IF($B$51=\"\",SUMIFS($BB$8:$BB$49,$C$8:E51,\"AP-3\",$B$8:$B$49,\"no\"),MAX(IF($C$8:$C$49=\"AP-3\",IF($B$8:$B$49=\"no\",$BB$8:$BB$49))))","v":0},{"$f":"IF($B$51=\"\",SUMIFS($BB$8:$BB$49,$C$8:Q51,\"AP-3\",$B$8:$B$49,\"yes\"),MAX(IF($C$8:$C$49=\"AP-3\",IF($B$8:$B$49=\"yes\",$BB$8:$BB$49))))","v":0}]
[null,null,null,null,null,null,null,null,null,null,null,null,null,null,null,null,null,null,null,null,null,null,null,null,"AP-4",{"$f":"IF(B54=\"\",SUMIFS($Z$8:$Z$49,$C$8:C52,\"AP-4\",$B$8:$B$49,\"no\"),MAX(IF($C$8:$C$49=\"AP-4\",IF($B$8:$B$49=\"no\",$Z$8:$Z$49))))","v":0},{"$f":"IF(B54=\"\",SUMIFS($Z$8:$Z$49,$C$8:D52,\"AP-4\",$B$8:$B$49,\"yes\"),MAX(IF($C$8:$C$49=\"AP-4\",IF($B$8:$B$49=\"yes\",$Z$8:$Z$49))))","v":0},{"$f":"IF($B$51=\"\",SUMIFS($AD$8:$AD$49,$C$8:E52,\"AP-4\",$B$8:$B$49,\"no\"),MAX(IF($C$8:$C$49=\"AP-4\",IF($B$8:$B$49=\"no\",$AD$8:$AD$49))))","v":0},{"$f":"IF($B$51=\"\",SUMIFS($AD$8:$AD$49,$C$8:E52,\"AP-4\",$B$8:$B$49,\"yes\"),MAX(IF($C$8:$C$49=\"AP-4\",IF($B$8:$B$49=\"yes\",$AD$8:$AD$49))))","v":0},{"$f":"IF($B$51=\"\",SUMIFS($AH$8:$AH$49,$C$8:E52,\"AP-4\",$B$8:$B$49,\"no\"),MAX(IF($C$8:$C$49=\"AP-4\",IF($B$8:$B$49=\"no\",$AH$8:$AH$49))))","v":0},{"$f":"IF($B$51=\"\",SUMIFS($AH$8:$AH$49,$C$8:G52,\"AP-4\",$B$8:$B$49,\"yes\"),MAX(IF($C$8:$C$49=\"AP-4\",IF($B$8:$B$49=\"yes\",$AH$8:$AH$49))))","v":0},{"$f":"IF($B$51=\"\",SUMIFS($AL$8:$AL$49,$C$8:E52,\"AP-4\",$B$8:$B$49,\"no\"),MAX(IF($C$8:$C$49=\"AP-4\",IF($B$8:$B$49=\"no\",$AL$8:$AL$49))))","v":0},{"$f":"IF($B$51=\"\",SUMIFS($AL$8:$AL$49,$C$8:I52,\"AP-4\",$B$8:$B$49,\"yes\"),MAX(IF($C$8:$C$49=\"AP-4\",IF($B$8:$B$49=\"yes\",$AL$8:$AL$49))))","v":0},{"$f":"IF($B$51=\"\",SUMIFS($AP$8:$AP$49,$C$8:E52,\"AP-4\",$B$8:$B$49,\"no\"),MAX(IF($C$8:$C$49=\"AP-4\",IF($B$8:$B$49=\"no\",$AP$8:$AP$49))))","v":0},{"$f":"IF($B$51=\"\",SUMIFS($AP$8:$AP$49,$C$8:K52,\"AP-4\",$B$8:$B$49,\"yes\"),MAX(IF($C$8:$C$49=\"AP-4\",IF($B$8:$B$49=\"yes\",$AP$8:$AP$49))))","v":0},{"$f":"IF($B$51=\"\",SUMIFS($AT$8:$AT$49,$C$8:E52,\"AP-4\",$B$8:$B$49,\"no\"),MAX(IF($C$8:$C$49=\"AP-4\",IF($B$8:$B$49=\"no\",$AT$8:$AT$49))))","v":0},{"$f":"IF($B$51=\"\",SUMIFS($AT$8:$AT$49,$C$8:M52,\"AP-4\",$B$8:$B$49,\"yes\"),MAX(IF($C$8:$C$49=\"AP-4\",IF($B$8:$B$49=\"yes\",$AT$8:$AT$49))))","v":0},{"$f":"IF($B$51=\"\",SUMIFS($AX$8:$AX$49,$C$8:E52,\"AP-4\",$B$8:$B$49,\"no\"),MAX(IF($C$8:$C$49=\"AP-4\",IF($B$8:$B$49=\"no\",$AX$8:$AX$49))))","v":0},{"$f":"IF($B$51=\"\",SUMIFS($AX$8:$AX$49,$C$8:O52,\"AP-4\",$B$8:$B$49,\"yes\"),MAX(IF($C$8:$C$49=\"AP-4\",IF($B$8:$B$49=\"yes\",$AX$8:$AX$49))))","v":0},{"$f":"IF($B$51=\"\",SUMIFS($BB$8:$BB$49,$C$8:E52,\"AP-4\",$B$8:$B$49,\"no\"),MAX(IF($C$8:$C$49=\"AP-4\",IF($B$8:$B$49=\"no\",$BB$8:$BB$49))))","v":0},{"$f":"IF($B$51=\"\",SUMIFS($BB$8:$BB$49,$C$8:Q52,\"AP-4\",$B$8:$B$49,\"yes\"),MAX(IF($C$8:$C$49=\"AP-4\",IF($B$8:$B$49=\"yes\",$BB$8:$BB$49))))","v":0}]
[null,null,null,null,null,null,null,null,null,null,null,null,null,null,null,null,null,null,null,null,null,null,null,null,"AP-5",{"$f":"IF(B55=\"\",SUMIFS($Z$8:$Z$49,$C$8:C53,\"AP-5\",$B$8:$B$49,\"no\"),MAX(IF($C$8:$C$49=\"AP-5\",IF($B$8:$B$49=\"no\",$Z$8:$Z$49))))","v":0},{"$f":"IF(B55=\"\",SUMIFS($Z$8:$Z$49,$C$8:D53,\"AP-5\",$B$8:$B$49,\"yes\"),MAX(IF($C$8:$C$49=\"AP-5\",IF($B$8:$B$49=\"yes\",$Z$8:$Z$49))))","v":0},{"$f":"IF($B$51=\"\",SUMIFS($AD$8:$AD$49,$C$8:E53,\"AP-5\",$B$8:$B$49,\"no\"),MAX(IF($C$8:$C$49=\"AP-5\",IF($B$8:$B$49=\"no\",$AD$8:$AD$49))))","v":0},{"$f":"IF($B$51=\"\",SUMIFS($AD$8:$AD$49,$C$8:E53,\"AP-5\",$B$8:$B$49,\"yes\"),MAX(IF($C$8:$C$49=\"AP-5\",IF($B$8:$B$49=\"yes\",$AD$8:$AD$49))))","v":0},{"$f":"IF($B$51=\"\",SUMIFS($AH$8:$AH$49,$C$8:E53,\"AP-5\",$B$8:$B$49,\"no\"),MAX(IF($C$8:$C$49=\"AP-5\",IF($B$8:$B$49=\"no\",$AH$8:$AH$49))))","v":0},{"$f":"IF($B$51=\"\",SUMIFS($AH$8:$AH$49,$C$8:G53,\"AP-5\",$B$8:$B$49,\"yes\"),MAX(IF($C$8:$C$49=\"AP-5\",IF($B$8:$B$49=\"yes\",$AH$8:$AH$49))))","v":0},{"$f":"IF($B$51=\"\",SUMIFS($AL$8:$AL$49,$C$8:E53,\"AP-5\",$B$8:$B$49,\"no\"),MAX(IF($C$8:$C$49=\"AP-5\",IF($B$8:$B$49=\"no\",$AL$8:$AL$49))))","v":0},{"$f":"IF($B$51=\"\",SUMIFS($AL$8:$AL$49,$C$8:I53,\"AP-5\",$B$8:$B$49,\"yes\"),MAX(IF($C$8:$C$49=\"AP-5\",IF($B$8:$B$49=\"yes\",$AL$8:$AL$49))))","v":0},{"$f":"IF($B$51=\"\",SUMIFS($AP$8:$AP$49,$C$8:E53,\"AP-5\",$B$8:$B$49,\"no\"),MAX(IF($C$8:$C$49=\"AP-5\",IF($B$8:$B$49=\"no\",$AP$8:$AP$49))))","v":0},{"$f":"IF($B$51=\"\",SUMIFS($AP$8:$AP$49,$C$8:K53,\"AP-5\",$B$8:$B$49,\"yes\"),MAX(IF($C$8:$C$49=\"AP-5\",IF($B$8:$B$49=\"yes\",$AP$8:$AP$49))))","v":0},{"$f":"IF($B$51=\"\",SUMIFS($AT$8:$AT$49,$C$8:E53,\"AP-5\",$B$8:$B$49,\"no\"),MAX(IF($C$8:$C$49=\"AP-5\",IF($B$8:$B$49=\"no\",$AT$8:$AT$49))))","v":0},{"$f":"IF($B$51=\"\",SUMIFS($AT$8:$AT$49,$C$8:M53,\"AP-5\",$B$8:$B$49,\"yes\"),MAX(IF($C$8:$C$49=\"AP-5\",IF($B$8:$B$49=\"yes\",$AT$8:$AT$49))))","v":0},{"$f":"IF($B$51=\"\",SUMIFS($AX$8:$AX$49,$C$8:E53,\"AP-5\",$B$8:$B$49,\"no\"),MAX(IF($C$8:$C$49=\"AP-5\",IF($B$8:$B$49=\"no\",$AX$8:$AX$49))))","v":0},{"$f":"IF($B$51=\"\",SUMIFS($AX$8:$AX$49,$C$8:O53,\"AP-5\",$B$8:$B$49,\"yes\"),MAX(IF($C$8:$C$49=\"AP-5\",IF($B$8:$B$49=\"yes\",$AX$8:$AX$49))))","v":0},{"$f":"IF($B$51=\"\",SUMIFS($BB$8:$BB$49,$C$8:E53,\"AP-5\",$B$8:$B$49,\"no\"),MAX(IF($C$8:$C$49=\"AP-5\",IF($B$8:$B$49=\"no\",$BB$8:$BB$49))))","v":0},{"$f":"IF($B$51=\"\",SUMIFS($BB$8:$BB$49,$C$8:Q53,\"AP-5\",$B$8:$B$49,\"yes\"),MAX(IF($C$8:$C$49=\"AP-5\",IF($B$8:$B$49=\"yes\",$BB$8:$BB$49))))","v":0}]
[null,null,null,null,null,null,null,null,null,null,null,null,null,null,null,null,null,null,null,null,null,null,null,null,"AP-6",{"$f":"IF(B56=\"\",SUMIFS($Z$8:$Z$49,$C$8:C54,\"AP-6\",$B$8:$B$49,\"no\"),MAX(IF($C$8:$C$49=\"AP-6\",IF($B$8:$B$49=\"no\",$Z$8:$Z$49))))","v":0},{"$f":"IF(B56=\"\",SUMIFS($Z$8:$Z$49,$C$8:D54,\"AP-6\",$B$8:$B$49,\"yes\"),MAX(IF($C$8:$C$49=\"AP-6\",IF($B$8:$B$49=\"yes\",$Z$8:$Z$49))))","v":0},{"$f":"IF($B$51=\"\",SUMIFS($AD$8:$AD$49,$C$8:E54,\"AP-6\",$B$8:$B$49,\"no\"),MAX(IF($C$8:$C$49=\"AP-6\",IF($B$8:$B$49=\"no\",$AD$8:$AD$49))))","v":0},{"$f":"IF($B$51=\"\",SUMIFS($AD$8:$AD$49,$C$8:E54,\"AP-6\",$B$8:$B$49,\"yes\"),MAX(IF($C$8:$C$49=\"AP-6\",IF($B$8:$B$49=\"yes\",$AD$8:$AD$49))))","v":0},{"$f":"IF($B$51=\"\",SUMIFS($AH$8:$AH$49,$C$8:E54,\"AP-6\",$B$8:$B$49,\"no\"),MAX(IF($C$8:$C$49=\"AP-6\",IF($B$8:$B$49=\"no\",$AH$8:$AH$49))))","v":0},{"$f":"IF($B$51=\"\",SUMIFS($AH$8:$AH$49,$C$8:G54,\"AP-6\",$B$8:$B$49,\"yes\"),MAX(IF($C$8:$C$49=\"AP-6\",IF($B$8:$B$49=\"yes\",$AH$8:$AH$49))))","v":0},{"$f":"IF($B$51=\"\",SUMIFS($AL$8:$AL$49,$C$8:E54,\"AP-6\",$B$8:$B$49,\"no\"),MAX(IF($C$8:$C$49=\"AP-6\",IF($B$8:$B$49=\"no\",$AL$8:$AL$49))))","v":0},{"$f":"IF($B$51=\"\",SUMIFS($AL$8:$AL$49,$C$8:I54,\"AP-6\",$B$8:$B$49,\"yes\"),MAX(IF($C$8:$C$49=\"AP-6\",IF($B$8:$B$49=\"yes\",$AL$8:$AL$49))))","v":0},{"$f":"IF($B$51=\"\",SUMIFS($AP$8:$AP$49,$C$8:E54,\"AP-6\",$B$8:$B$49,\"no\"),MAX(IF($C$8:$C$49=\"AP-6\",IF($B$8:$B$49=\"no\",$AP$8:$AP$49))))","v":0},{"$f":"IF($B$51=\"\",SUMIFS($AP$8:$AP$49,$C$8:K54,\"AP-6\",$B$8:$B$49,\"yes\"),MAX(IF($C$8:$C$49=\"AP-6\",IF($B$8:$B$49=\"yes\",$AP$8:$AP$49))))","v":0},{"$f":"IF($B$51=\"\",SUMIFS($AT$8:$AT$49,$C$8:E54,\"AP-6\",$B$8:$B$49,\"no\"),MAX(IF($C$8:$C$49=\"AP-6\",IF($B$8:$B$49=\"no\",$AT$8:$AT$49))))","v":0},{"$f":"IF($B$51=\"\",SUMIFS($AT$8:$AT$49,$C$8:M54,\"AP-6\",$B$8:$B$49,\"yes\"),MAX(IF($C$8:$C$49=\"AP-6\",IF($B$8:$B$49=\"yes\",$AT$8:$AT$49))))","v":0},{"$f":"IF($B$51=\"\",SUMIFS($AX$8:$AX$49,$C$8:E54,\"AP-6\",$B$8:$B$49,\"no\"),MAX(IF($C$8:$C$49=\"AP-6\",IF($B$8:$B$49=\"no\",$AX$8:$AX$49))))","v":0},{"$f":"IF($B$51=\"\",SUMIFS($AX$8:$AX$49,$C$8:O54,\"AP-6\",$B$8:$B$49,\"yes\"),MAX(IF($C$8:$C$49=\"AP-6\",IF($B$8:$B$49=\"yes\",$AX$8:$AX$49))))","v":0},{"$f":"IF($B$51=\"\",SUMIFS($BB$8:$BB$49,$C$8:E54,\"AP-6\",$B$8:$B$49,\"no\"),MAX(IF($C$8:$C$49=\"AP-6\",IF($B$8:$B$49=\"no\",$BB$8:$BB$49))))","v":0},{"$f":"IF($B$51=\"\",SUMIFS($BB$8:$BB$49,$C$8:Q54,\"AP-6\",$B$8:$B$49,\"yes\"),MAX(IF($C$8:$C$49=\"AP-6\",IF($B$8:$B$49=\"yes\",$BB$8:$BB$49))))","v":0}]
[null,null,null,null,null,null,null,null,null,null,null,null,null,null,null,null,null,null,null,null,null,null,null,null,"AP-7",{"$f":"IF(B57=\"\",SUMIFS($Z$8:$Z$49,$C$8:C55,\"AP-7\",$B$8:$B$49,\"no\"),MAX(IF($C$8:$C$49=\"AP-7\",IF($B$8:$B$49=\"no\",$Z$8:$Z$49))))","v":0},{"$f":"IF(B57=\"\",SUMIFS($Z$8:$Z$49,$C$8:D55,\"AP-7\",$B$8:$B$49,\"yes\"),MAX(IF($C$8:$C$49=\"AP-7\",IF($B$8:$B$49=\"yes\",$Z$8:$Z$49))))","v":0},{"$f":"IF($B$51=\"\",SUMIFS($AD$8:$AD$49,$C$8:E55,\"AP-7\",$B$8:$B$49,\"no\"),MAX(IF($C$8:$C$49=\"AP-7\",IF($B$8:$B$49=\"no\",$AD$8:$AD$49))))","v":0},{"$f":"IF($B$51=\"\",SUMIFS($AD$8:$AD$49,$C$8:E55,\"AP-7\",$B$8:$B$49,\"yes\"),MAX(IF($C$8:$C$49=\"AP-7\",IF($B$8:$B$49=\"yes\",$AD$8:$AD$49))))","v":0},{"$f":"IF($B$51=\"\",SUMIFS($AH$8:$AH$49,$C$8:E55,\"AP-7\",$B$8:$B$49,\"no\"),MAX(IF($C$8:$C$49=\"AP-7\",IF($B$8:$B$49=\"no\",$AH$8:$AH$49))))","v":0},{"$f":"IF($B$51=\"\",SUMIFS($AH$8:$AH$49,$C$8:G55,\"AP-7\",$B$8:$B$49,\"yes\"),MAX(IF($C$8:$C$49=\"AP-7\",IF($B$8:$B$49=\"yes\",$AH$8:$AH$49))))","v":0},{"$f":"IF($B$51=\"\",SUMIFS($AL$8:$AL$49,$C$8:E55,\"AP-7\",$B$8:$B$49,\"no\"),MAX(IF($C$8:$C$49=\"AP-7\",IF($B$8:$B$49=\"no\",$AL$8:$AL$49))))","v":0},{"$f":"IF($B$51=\"\",SUMIFS($AL$8:$AL$49,$C$8:I55,\"AP-7\",$B$8:$B$49,\"yes\"),MAX(IF($C$8:$C$49=\"AP-7\",IF($B$8:$B$49=\"yes\",$AL$8:$AL$49))))","v":0},{"$f":"IF($B$51=\"\",SUMIFS($AP$8:$AP$49,$C$8:E55,\"AP-7\",$B$8:$B$49,\"no\"),MAX(IF($C$8:$C$49=\"AP-7\",IF($B$8:$B$49=\"no\",$AP$8:$AP$49))))","v":0},{"$f":"IF($B$51=\"\",SUMIFS($AP$8:$AP$49,$C$8:K55,\"AP-7\",$B$8:$B$49,\"yes\"),MAX(IF($C$8:$C$49=\"AP-7\",IF($B$8:$B$49=\"yes\",$AP$8:$AP$49))))","v":0},{"$f":"IF($B$51=\"\",SUMIFS($AT$8:$AT$49,$C$8:E55,\"AP-7\",$B$8:$B$49,\"no\"),MAX(IF($C$8:$C$49=\"AP-7\",IF($B$8:$B$49=\"no\",$AT$8:$AT$49))))","v":0},{"$f":"IF($B$51=\"\",SUMIFS($AT$8:$AT$49,$C$8:M55,\"AP-7\",$B$8:$B$49,\"yes\"),MAX(IF($C$8:$C$49=\"AP-7\",IF($B$8:$B$49=\"yes\",$AT$8:$AT$49))))","v":0},{"$f":"IF($B$51=\"\",SUMIFS($AX$8:$AX$49,$C$8:E55,\"AP-7\",$B$8:$B$49,\"no\"),MAX(IF($C$8:$C$49=\"AP-7\",IF($B$8:$B$49=\"no\",$AX$8:$AX$49))))","v":0},{"$f":"IF($B$51=\"\",SUMIFS($AX$8:$AX$49,$C$8:O55,\"AP-7\",$B$8:$B$49,\"yes\"),MAX(IF($C$8:$C$49=\"AP-7\",IF($B$8:$B$49=\"yes\",$AX$8:$AX$49))))","v":0},{"$f":"IF($B$51=\"\",SUMIFS($BB$8:$BB$49,$C$8:E55,\"AP-7\",$B$8:$B$49,\"no\"),MAX(IF($C$8:$C$49=\"AP-7\",IF($B$8:$B$49=\"no\",$BB$8:$BB$49))))","v":0},{"$f":"IF($B$51=\"\",SUMIFS($BB$8:$BB$49,$C$8:Q55,\"AP-7\",$B$8:$B$49,\"yes\"),MAX(IF($C$8:$C$49=\"AP-7\",IF($B$8:$B$49=\"yes\",$BB$8:$BB$49))))","v":0}]
[null,null,null,null,null,null,null,null,null,null,null,null,null,null,null,null,null,null,null,null,null,null,null,null,"AP-8",{"$f":"IF(B58=\"\",SUMIFS($Z$8:$Z$49,$C$8:C56,\"AP-8\",$B$8:$B$49,\"no\"),MAX(IF($C$8:$C$49=\"AP-8\",IF($B$8:$B$49=\"no\",$Z$8:$Z$49))))","v":0},{"$f":"IF(B58=\"\",SUMIFS($Z$8:$Z$49,$C$8:D56,\"AP-8\",$B$8:$B$49,\"yes\"),MAX(IF($C$8:$C$49=\"AP-8\",IF($B$8:$B$49=\"yes\",$Z$8:$Z$49))))","v":0},{"$f":"IF($B$51=\"\",SUMIFS($AD$8:$AD$49,$C$8:E56,\"AP-8\",$B$8:$B$49,\"no\"),MAX(IF($C$8:$C$49=\"AP-8\",IF($B$8:$B$49=\"no\",$AD$8:$AD$49))))","v":0},{"$f":"IF($B$51=\"\",SUMIFS($AD$8:$AD$49,$C$8:E56,\"AP-8\",$B$8:$B$49,\"yes\"),MAX(IF($C$8:$C$49=\"AP-8\",IF($B$8:$B$49=\"yes\",$AD$8:$AD$49))))","v":0},{"$f":"IF($B$51=\"\",SUMIFS($AH$8:$AH$49,$C$8:E56,\"AP-8\",$B$8:$B$49,\"no\"),MAX(IF($C$8:$C$49=\"AP-8\",IF($B$8:$B$49=\"no\",$AH$8:$AH$49))))","v":0},{"$f":"IF($B$51=\"\",SUMIFS($AH$8:$AH$49,$C$8:G56,\"AP-8\",$B$8:$B$49,\"yes\"),MAX(IF($C$8:$C$49=\"AP-8\",IF($B$8:$B$49=\"yes\",$AH$8:$AH$49))))","v":0},{"$f":"IF($B$51=\"\",SUMIFS($AL$8:$AL$49,$C$8:E56,\"AP-8\",$B$8:$B$49,\"no\"),MAX(IF($C$8:$C$49=\"AP-8\",IF($B$8:$B$49=\"no\",$AL$8:$AL$49))))","v":0},{"$f":"IF($B$51=\"\",SUMIFS($AL$8:$AL$49,$C$8:I56,\"AP-8\",$B$8:$B$49,\"yes\"),MAX(IF($C$8:$C$49=\"AP-8\",IF($B$8:$B$49=\"yes\",$AL$8:$AL$49))))","v":0},{"$f":"IF($B$51=\"\",SUMIFS($AP$8:$AP$49,$C$8:E56,\"AP-8\",$B$8:$B$49,\"no\"),MAX(IF($C$8:$C$49=\"AP-8\",IF($B$8:$B$49=\"no\",$AP$8:$AP$49))))","v":0},{"$f":"IF($B$51=\"\",SUMIFS($AP$8:$AP$49,$C$8:K56,\"AP-8\",$B$8:$B$49,\"yes\"),MAX(IF($C$8:$C$49=\"AP-8\",IF($B$8:$B$49=\"yes\",$AP$8:$AP$49))))","v":0},{"$f":"IF($B$51=\"\",SUMIFS($AT$8:$AT$49,$C$8:E56,\"AP-8\",$B$8:$B$49,\"no\"),MAX(IF($C$8:$C$49=\"AP-8\",IF($B$8:$B$49=\"no\",$AT$8:$AT$49))))","v":0},{"$f":"IF($B$51=\"\",SUMIFS($AT$8:$AT$49,$C$8:M56,\"AP-8\",$B$8:$B$49,\"yes\"),MAX(IF($C$8:$C$49=\"AP-8\",IF($B$8:$B$49=\"yes\",$AT$8:$AT$49))))","v":0},{"$f":"IF($B$51=\"\",SUMIFS($AX$8:$AX$49,$C$8:E56,\"AP-8\",$B$8:$B$49,\"no\"),MAX(IF($C$8:$C$49=\"AP-8\",IF($B$8:$B$49=\"no\",$AX$8:$AX$49))))","v":0},{"$f":"IF($B$51=\"\",SUMIFS($AX$8:$AX$49,$C$8:O56,\"AP-8\",$B$8:$B$49,\"yes\"),MAX(IF($C$8:$C$49=\"AP-8\",IF($B$8:$B$49=\"yes\",$AX$8:$AX$49))))","v":0},{"$f":"IF($B$51=\"\",SUMIFS($BB$8:$BB$49,$C$8:E56,\"AP-8\",$B$8:$B$49,\"no\"),MAX(IF($C$8:$C$49=\"AP-8\",IF($B$8:$B$49=\"no\",$BB$8:$BB$49))))","v":0},{"$f":"IF($B$51=\"\",SUMIFS($BB$8:$BB$49,$C$8:Q56,\"AP-8\",$B$8:$B$49,\"yes\"),MAX(IF($C$8:$C$49=\"AP-8\",IF($B$8:$B$49=\"yes\",$BB$8:$BB$49))))","v":0}]
[null,null,null,null,null,null,null,null,null,null,null,null,null,null,null,null,null,null,null,null,null,null,null,null,"AP-9",{"$f":"IF(B59=\"\",SUMIFS($Z$8:$Z$49,$C$8:C57,\"AP-9\",$B$8:$B$49,\"no\"),MAX(IF($C$8:$C$49=\"AP-9\",IF($B$8:$B$49=\"no\",$Z$8:$Z$49))))","v":0},{"$f":"IF(B59=\"\",SUMIFS($Z$8:$Z$49,$C$8:D57,\"AP-9\",$B$8:$B$49,\"yes\"),MAX(IF($C$8:$C$49=\"AP-9\",IF($B$8:$B$49=\"yes\",$Z$8:$Z$49))))","v":0},{"$f":"IF($B$51=\"\",SUMIFS($AD$8:$AD$49,$C$8:E57,\"AP-9\",$B$8:$B$49,\"no\"),MAX(IF($C$8:$C$49=\"AP-9\",IF($B$8:$B$49=\"no\",$AD$8:$AD$49))))","v":0},{"$f":"IF($B$51=\"\",SUMIFS($AD$8:$AD$49,$C$8:E57,\"AP-9\",$B$8:$B$49,\"yes\"),MAX(IF($C$8:$C$49=\"AP-9\",IF($B$8:$B$49=\"yes\",$AD$8:$AD$49))))","v":0},{"$f":"IF($B$51=\"\",SUMIFS($AH$8:$AH$49,$C$8:E57,\"AP-9\",$B$8:$B$49,\"no\"),MAX(IF($C$8:$C$49=\"AP-9\",IF($B$8:$B$49=\"no\",$AH$8:$AH$49))))","v":0},{"$f":"IF($B$51=\"\",SUMIFS($AH$8:$AH$49,$C$8:G57,\"AP-9\",$B$8:$B$49,\"yes\"),MAX(IF($C$8:$C$49=\"AP-9\",IF($B$8:$B$49=\"yes\",$AH$8:$AH$49))))","v":0},{"$f":"IF($B$51=\"\",SUMIFS($AL$8:$AL$49,$C$8:E57,\"AP-9\",$B$8:$B$49,\"no\"),MAX(IF($C$8:$C$49=\"AP-9\",IF($B$8:$B$49=\"no\",$AL$8:$AL$49))))","v":0},{"$f":"IF($B$51=\"\",SUMIFS($AL$8:$AL$49,$C$8:I57,\"AP-9\",$B$8:$B$49,\"yes\"),MAX(IF($C$8:$C$49=\"AP-9\",IF($B$8:$B$49=\"yes\",$AL$8:$AL$49))))","v":0},{"$f":"IF($B$51=\"\",SUMIFS($AP$8:$AP$49,$C$8:E57,\"AP-9\",$B$8:$B$49,\"no\"),MAX(IF($C$8:$C$49=\"AP-9\",IF($B$8:$B$49=\"no\",$AP$8:$AP$49))))","v":0},{"$f":"IF($B$51=\"\",SUMIFS($AP$8:$AP$49,$C$8:K57,\"AP-9\",$B$8:$B$49,\"yes\"),MAX(IF($C$8:$C$49=\"AP-9\",IF($B$8:$B$49=\"yes\",$AP$8:$AP$49))))","v":0},{"$f":"IF($B$51=\"\",SUMIFS($AT$8:$AT$49,$C$8:E57,\"AP-9\",$B$8:$B$49,\"no\"),MAX(IF($C$8:$C$49=\"AP-9\",IF($B$8:$B$49=\"no\",$AT$8:$AT$49))))","v":0},{"$f":"IF($B$51=\"\",SUMIFS($AT$8:$AT$49,$C$8:M57,\"AP-9\",$B$8:$B$49,\"yes\"),MAX(IF($C$8:$C$49=\"AP-9\",IF($B$8:$B$49=\"yes\",$AT$8:$AT$49))))","v":0},{"$f":"IF($B$51=\"\",SUMIFS($AX$8:$AX$49,$C$8:E57,\"AP-9\",$B$8:$B$49,\"no\"),MAX(IF($C$8:$C$49=\"AP-9\",IF($B$8:$B$49=\"no\",$AX$8:$AX$49))))","v":0},{"$f":"IF($B$51=\"\",SUMIFS($AX$8:$AX$49,$C$8:O57,\"AP-9\",$B$8:$B$49,\"yes\"),MAX(IF($C$8:$C$49=\"AP-9\",IF($B$8:$B$49=\"yes\",$AX$8:$AX$49))))","v":0},{"$f":"IF($B$51=\"\",SUMIFS($BB$8:$BB$49,$C$8:E57,\"AP-9\",$B$8:$B$49,\"no\"),MAX(IF($C$8:$C$49=\"AP-9\",IF($B$8:$B$49=\"no\",$BB$8:$BB$49))))","v":0},{"$f":"IF($B$51=\"\",SUMIFS($BB$8:$BB$49,$C$8:Q57,\"AP-9\",$B$8:$B$49,\"yes\"),MAX(IF($C$8:$C$49=\"AP-9\",IF($B$8:$B$49=\"yes\",$BB$8:$BB$49))))","v":0}]
[null,null,null,null,null,null,null,null,null,null,null,null,null,null,null,null,null,null,null,null,null,null,null,null,"AP-10",{"$f":"IF(B60=\"\",SUMIFS($Z$8:$Z$49,$C$8:C58,\"AP-10\",$B$8:$B$49,\"no\"),MAX(IF($C$8:$C$49=\"AP-10\",IF($B$8:$B$49=\"no\",$Z$8:$Z$49))))","v":0},{"$f":"IF(B60=\"\",SUMIFS($Z$8:$Z$49,$C$8:D58,\"AP-10\",$B$8:$B$49,\"yes\"),MAX(IF($C$8:$C$49=\"AP-10\",IF($B$8:$B$49=\"yes\",$Z$8:$Z$49))))","v":0},{"$f":"IF($B$51=\"\",SUMIFS($AD$8:$AD$49,$C$8:E58,\"AP-10\",$B$8:$B$49,\"no\"),MAX(IF($C$8:$C$49=\"AP-10\",IF($B$8:$B$49=\"no\",$AD$8:$AD$49))))","v":0},{"$f":"IF($B$51=\"\",SUMIFS($AD$8:$AD$49,$C$8:E58,\"AP-10\",$B$8:$B$49,\"yes\"),MAX(IF($C$8:$C$49=\"AP-10\",IF($B$8:$B$49=\"yes\",$AD$8:$AD$49))))","v":0},{"$f":"IF($B$51=\"\",SUMIFS($AH$8:$AH$49,$C$8:E58,\"AP-10\",$B$8:$B$49,\"no\"),MAX(IF($C$8:$C$49=\"AP-10\",IF($B$8:$B$49=\"no\",$AH$8:$AH$49))))","v":0},{"$f":"IF($B$51=\"\",SUMIFS($AH$8:$AH$49,$C$8:G58,\"AP-10\",$B$8:$B$49,\"yes\"),MAX(IF($C$8:$C$49=\"AP-10\",IF($B$8:$B$49=\"yes\",$AH$8:$AH$49))))","v":0},{"$f":"IF($B$51=\"\",SUMIFS($AL$8:$AL$49,$C$8:E58,\"AP-10\",$B$8:$B$49,\"no\"),MAX(IF($C$8:$C$49=\"AP-10\",IF($B$8:$B$49=\"no\",$AL$8:$AL$49))))","v":0},{"$f":"IF($B$51=\"\",SUMIFS($AL$8:$AL$49,$C$8:I58,\"AP-10\",$B$8:$B$49,\"yes\"),MAX(IF($C$8:$C$49=\"AP-10\",IF($B$8:$B$49=\"yes\",$AL$8:$AL$49))))","v":0},{"$f":"IF($B$51=\"\",SUMIFS($AP$8:$AP$49,$C$8:E58,\"AP-10\",$B$8:$B$49,\"no\"),MAX(IF($C$8:$C$49=\"AP-10\",IF($B$8:$B$49=\"no\",$AP$8:$AP$49))))","v":0},{"$f":"IF($B$51=\"\",SUMIFS($AP$8:$AP$49,$C$8:K58,\"AP-10\",$B$8:$B$49,\"yes\"),MAX(IF($C$8:$C$49=\"AP-10\",IF($B$8:$B$49=\"yes\",$AP$8:$AP$49))))","v":0},{"$f":"IF($B$51=\"\",SUMIFS($AT$8:$AT$49,$C$8:E58,\"AP-10\",$B$8:$B$49,\"no\"),MAX(IF($C$8:$C$49=\"AP-10\",IF($B$8:$B$49=\"no\",$AT$8:$AT$49))))","v":0},{"$f":"IF($B$51=\"\",SUMIFS($AT$8:$AT$49,$C$8:M58,\"AP-10\",$B$8:$B$49,\"yes\"),MAX(IF($C$8:$C$49=\"AP-10\",IF($B$8:$B$49=\"yes\",$AT$8:$AT$49))))","v":0},{"$f":"IF($B$51=\"\",SUMIFS($AX$8:$AX$49,$C$8:E58,\"AP-10\",$B$8:$B$49,\"no\"),MAX(IF($C$8:$C$49=\"AP-10\",IF($B$8:$B$49=\"no\",$AX$8:$AX$49))))","v":0},{"$f":"IF($B$51=\"\",SUMIFS($AX$8:$AX$49,$C$8:O58,\"AP-10\",$B$8:$B$49,\"yes\"),MAX(IF($C$8:$C$49=\"AP-10\",IF($B$8:$B$49=\"yes\",$AX$8:$AX$49))))","v":0},{"$f":"IF($B$51=\"\",SUMIFS($BB$8:$BB$49,$C$8:E58,\"AP-10\",$B$8:$B$49,\"no\"),MAX(IF($C$8:$C$49=\"AP-10\",IF($B$8:$B$49=\"no\",$BB$8:$BB$49))))","v":0},{"$f":"IF($B$51=\"\",SUMIFS($BB$8:$BB$49,$C$8:Q58,\"AP-10\",$B$8:$B$49,\"yes\"),MAX(IF($C$8:$C$49=\"AP-10\",IF($B$8:$B$49=\"yes\",$BB$8:$BB$49))))","v":0}]
[]
[null,null,null,null,null,null,null,null,null,null,null,null,null,null,null,null,null,null,null,null,null,null,null,null,null,{"$f":"SUM(IF($B$51>0,IF(Z66>AA66,Z66,0),SUM(Z66,AA66)),IF($B$52>0,IF(Z67>AA67,Z67,0),SUM(Z67,AA67)),IF($B$53>0,IF(Z68>AA68,Z68,0),SUM(Z68,AA68)),IF($B$54>0,IF(Z69>AA69,Z69,0),SUM(Z69,AA69)),IF($B$54>0,IF(Z70>AA70,Z70,0),SUM(Z70,AA70)),IF($B$55>0,IF(Z71>AA71,Z71,0),SUM(Z71,AA71)),IF($B$56>0,IF(Z72>AA72,Z72,0),SUM(Z72,AA72)),IF($B$57>0,IF(Z73>AA73,Z73,0),SUM(Z73,AA73)),IF($B$58>0,IF(Z74>AA74,Z74,0),SUM(Z74,AA74)),IF($B$59>0,IF(Z75>AA75,Z75,0),SUM(Z75,AA75)))","v":0},{"$f":"SUM(IF($B$51>0,IF(Z66<AA66,AA66,0),SUM(Z66,AA66)),IF($B$52>0,IF(Z67<AA67,AA67,0),SUM(Z67,AA67)),IF($B$53>0,IF(Z68<AA68,AA68,0),SUM(Z68,AA68)),IF($B$54>0,IF(Z69<AA69,AA69,0),SUM(Z69,AA69)),IF($B$54>0,IF(Z70<AA70,AA70,0),SUM(Z70,AA70)),IF($B$55>0,IF(Z71<AA71,AA71,0),SUM(Z71,AA71)),IF($B$56>0,IF(Z72<AA72,AA72,0),SUM(Z72,AA72)),IF($B$57>0,IF(Z73<AA73,AA73,0),SUM(Z73,AA73)),IF($B$58>0,IF(Z74<AA74,AA74,0),SUM(Z74,AA74)),IF($B$59>0,IF(Z75<AA75,AA75,0),SUM(Z75,AA75)))","v":0},{"$f":"SUM(IF($B$51>0,IF(AB66>AC66,AB66,0),SUM(AB66,AC66)),IF($B$52>0,IF(AB67>AC67,AB67,0),SUM(AB67,AC67)),IF($B$53>0,IF(AB68>AC68,AB68,0),SUM(AB68,AC68)),IF($B$54>0,IF(AB69>AC69,AB69,0),SUM(AB69,AC69)),IF($B$54>0,IF(AB70>AC70,AB70,0),SUM(AB70,AC70)),IF($B$55>0,IF(AB71>AC71,AB71,0),SUM(AB71,AC71)),IF($B$56>0,IF(AB72>AC72,AB72,0),SUM(AB72,AC72)),IF($B$57>0,IF(AB73>AC73,AB73,0),SUM(AB73,AC73)),IF($B$58>0,IF(AB74>AC74,AB74,0),SUM(AB74,AC74)),IF($B$59>0,IF(AB75>AC75,AB75,0),SUM(AB75,AC75)))","v":0},{"$f":"SUM(IF($B$51>0,IF(AB66<AC66,AC66,0),SUM(AB66,AC66)),IF($B$52>0,IF(AB67<AC67,AC67,0),SUM(AB67,AC67)),IF($B$53>0,IF(AB68<AC68,AC68,0),SUM(AB68,AC68)),IF($B$54>0,IF(AB69<AC69,AC69,0),SUM(AB69,AC69)),IF($B$54>0,IF(AB70<AC70,AC70,0),SUM(AB70,AC70)),IF($B$55>0,IF(AB71<AC71,AC71,0),SUM(AB71,AC71)),IF($B$56>0,IF(AB72<AC72,AC72,0),SUM(AB72,AC72)),IF($B$57>0,IF(AB73<AC73,AC73,0),SUM(AB73,AC73)),IF($B$58>0,IF(AB74<AC74,AC74,0),SUM(AB74,AC74)),IF($B$59>0,IF(AB75<AC75,AC75,0),SUM(AB75,AC75)))","v":0},{"$f":"SUM(IF($B$51>0,IF(AD66>AE66,AD66,0),SUM(AD66,AE66)),IF($B$52>0,IF(AD67>AE67,AD67,0),SUM(AD67,AE67)),IF($B$53>0,IF(AD68>AE68,AD68,0),SUM(AD68,AE68)),IF($B$54>0,IF(AD69>AE69,AD69,0),SUM(AD69,AE69)),IF($B$54>0,IF(AD70>AE70,AD70,0),SUM(AD70,AE70)),IF($B$55>0,IF(AD71>AE71,AD71,0),SUM(AD71,AE71)),IF($B$56>0,IF(AD72>AE72,AD72,0),SUM(AD72,AE72)),IF($B$57>0,IF(AD73>AE73,AD73,0),SUM(AD73,AE73)),IF($B$58>0,IF(AD74>AE74,AD74,0),SUM(AD74,AE74)),IF($B$59>0,IF(AD75>AE75,AD75,0),SUM(AD75,AE75)))","v":0},{"$f":"SUM(IF($B$51>0,IF(AD66<AE66,AE66,0),SUM(AD66,AE66)),IF($B$52>0,IF(AD67<AE67,AE67,0),SUM(AD67,AE67)),IF($B$53>0,IF(AD68<AE68,AE68,0),SUM(AD68,AE68)),IF($B$54>0,IF(AD69<AE69,AE69,0),SUM(AD69,AE69)),IF($B$54>0,IF(AD70<AE70,AE70,0),SUM(AD70,AE70)),IF($B$55>0,IF(AD71<AE71,AE71,0),SUM(AD71,AE71)),IF($B$56>0,IF(AD72<AE72,AE72,0),SUM(AD72,AE72)),IF($B$57>0,IF(AD73<AE73,AE73,0),SUM(AD73,AE73)),IF($B$58>0,IF(AD74<AE74,AE74,0),SUM(AD74,AE74)),IF($B$59>0,IF(AD75<AE75,AE75,0),SUM(AD75,AE75)))","v":0},0,{"$f":"SUM(IF($B$51>0,IF(AF66<AG66,AG66,0),SUM(AF66,AG66)),IF($B$52>0,IF(AF67<AG67,AG67,0),SUM(AF67,AG67)),IF($B$53>0,IF(AF68<AG68,AG68,0),SUM(AF68,AG68)),IF($B$54>0,IF(AF69<AG69,AG69,0),SUM(AF69,AG69)),IF($B$54>0,IF(AF70<AG70,AG70,0),SUM(AF70,AG70)),IF($B$55>0,IF(AF71<AG71,AG71,0),SUM(AF71,AG71)),IF($B$56>0,IF(AF72<AG72,AG72,0),SUM(AF72,AG72)),IF($B$57>0,IF(AF73<AG73,AG73,0),SUM(AF73,AG73)),IF($B$58>0,IF(AF74<AG74,AG74,0),SUM(AF74,AG74)),IF($B$59>0,IF(AF75<AG75,AG75,0),SUM(AF75,AG75)))","v":0},0,{"$f":"SUM(IF($B$51>0,IF(AH66<AI66,AI66,0),SUM(AH66,AI66)),IF($B$52>0,IF(AH67<AI67,AI67,0),SUM(AH67,AI67)),IF($B$53>0,IF(AH68<AI68,AI68,0),SUM(AH68,AI68)),IF($B$54>0,IF(AH69<AI69,AI69,0),SUM(AH69,AI69)),IF($B$54>0,IF(AH70<AI70,AI70,0),SUM(AH70,AI70)),IF($B$55>0,IF(AH71<AI71,AI71,0),SUM(AH71,AI71)),IF($B$56>0,IF(AH72<AI72,AI72,0),SUM(AH72,AI72)),IF($B$57>0,IF(AH73<AI73,AI73,0),SUM(AH73,AI73)),IF($B$58>0,IF(AH74<AI74,AI74,0),SUM(AH74,AI74)),IF($B$59>0,IF(AH75<AI75,AI75,0),SUM(AH75,AI75)))","v":0},0,{"$f":"SUM(IF($B$51>0,IF(AJ66<AK66,AK66,0),SUM(AJ66,AK66)),IF($B$52>0,IF(AJ67<AK67,AK67,0),SUM(AJ67,AK67)),IF($B$53>0,IF(AJ68<AK68,AK68,0),SUM(AJ68,AK68)),IF($B$54>0,IF(AJ69<AK69,AK69,0),SUM(AJ69,AK69)),IF($B$54>0,IF(AJ70<AK70,AK70,0),SUM(AJ70,AK70)),IF($B$55>0,IF(AJ71<AK71,AK71,0),SUM(AJ71,AK71)),IF($B$56>0,IF(AJ72<AK72,AK72,0),SUM(AJ72,AK72)),IF($B$57>0,IF(AJ73<AK73,AK73,0),SUM(AJ73,AK73)),IF($B$58>0,IF(AJ74<AK74,AK74,0),SUM(AJ74,AK74)),IF($B$59>0,IF(AJ75<AK75,AK75,0),SUM(AJ75,AK75)))","v":0},0,{"$f":"SUM(IF($B$51>0,IF(AL66<AM66,AM66,0),SUM(AL66,AM66)),IF($B$52>0,IF(AL67<AM67,AM67,0),SUM(AL67,AM67)),IF($B$53>0,IF(AL68<AM68,AM68,0),SUM(AL68,AM68)),IF($B$54>0,IF(AL69<AM69,AM69,0),SUM(AL69,AM69)),IF($B$54>0,IF(AL70<AM70,AM70,0),SUM(AL70,AM70)),IF($B$55>0,IF(AL71<AM71,AM71,0),SUM(AL71,AM71)),IF($B$56>0,IF(AL72<AM72,AM72,0),SUM(AL72,AM72)),IF($B$57>0,IF(AL73<AM73,AM73,0),SUM(AL73,AM73)),IF($B$58>0,IF(AL74<AM74,AM74,0),SUM(AL74,AM74)),IF($B$59>0,IF(AL75<AM75,AM75,0),SUM(AL75,AM75)))","v":0},0,{"$f":"SUM(IF($B$51>0,IF(AN66<AO66,AO66,0),SUM(AN66,AO66)),IF($B$52>0,IF(AN67<AO67,AO67,0),SUM(AN67,AO67)),IF($B$53>0,IF(AN68<AO68,AO68,0),SUM(AN68,AO68)),IF($B$54>0,IF(AN69<AO69,AO69,0),SUM(AN69,AO69)),IF($B$54>0,IF(AN70<AO70,AO70,0),SUM(AN70,AO70)),IF($B$55>0,IF(AN71<AO71,AO71,0),SUM(AN71,AO71)),IF($B$56>0,IF(AN72<AO72,AO72,0),SUM(AN72,AO72)),IF($B$57>0,IF(AN73<AO73,AO73,0),SUM(AN73,AO73)),IF($B$58>0,IF(AN74<AO74,AO74,0),SUM(AN74,AO74)),IF($B$59>0,IF(AN75<AO75,AO75,0),SUM(AN75,AO75)))","v":0}]

{"sheet":"Haul Roads","index":12,"n_rows":47,"n_cols":41,"rows_kept":47,"cut":false,"hidden":false,"merged":[]}
[null,"HAUL ROADS"]
[null,"Please fill in the yellow boxes as applicable for your facility. "]
["** As of 2016 Potential Emissions are no longer required to be reported in the Minor Source Emissions Inventory**","** As of 2016 Potential Emissions are no longer required to be reported in the Minor Source Emissions Inventory**"]
[]
[null,"Paved or Unpaved Haul Road","Emission Point Number","Emission Unit Number","Asphalt Plant Number              (i.e., AP-1)","Site Name","Avg Vehicle Wt. Empty (unloaded) (tons)","Avg. Vehicle Wt Full (loaded) (tons)","Percent of Miles Vehicles Travel While Empty (%)","Average Vehicle Weight (tons) W","Average Load Weight (tons)","Round Trip Length of Haul Road (miles)","Annual Throughput Permit Limit (tons/yr)","Maximum Annual Throughput (tons/yr)","Actual Annual Throughput (tons/yr)","Potential One-Way Trips Taken","Actual One-Way Trips Taken","Road Surface Silt Loading (g/m2) S/sL","Days/Year with at least 0.01 inches of Precipitation P","Is dust supressant used to control emissions?","PM2.5 Emission Factor (lb/vmt)","Potential Emissions (lb/hr)","Potential Controlled Emissions (lb/hr)","Potential Emissions (tons/yr)","Actual Emissions (tons/yr)","PM10 Emission Factor (lb/vmt)","Potential Emissions (lb/hr)","Potential Controlled Emissions (lb/hr)","Potential Emissions (tons/yr)","Actual Emissions (tons/yr)"]
["Paved Haul Road",null,null,null,null,null,null,null,null,{"$f":"IF(G6=\"\",\"\",(G6*(I6/100)+H6*(1-(I6/100))))","v":""},{"$f":"IF(G6=\"\",\"\",H6-G6)","v":""},null,{"$f":"IF(E6=\"\",\"\",IF(E6=\"AP-1\",IF('Asphalt Plant (AP-1)'!$C$10>0,'Asphalt Plant (AP-1)'!$C$10,IF('Asphalt Plant (AP-1)'!$C$11>0,'Asphalt Plant (AP-1)'!$C$11*365,\"\")),IF(E6=\"AP-2\",IF(E6=\"AP-2\",IF('Asphalt Plant (AP-2)'!$C$10>0,'Asphalt Plant (AP-2)'!$C$10,IF('Asphalt Plant (AP-2)'!$C$11>0,'Asphalt Plant (AP-2)'!$C$11*365,\"\"))),IF(E6=\"AP-3\",IF(E6=\"AP-3\",IF('Asphalt Plant (AP-3)'!$C$10>0,'Asphalt Plant (AP-3)'!$C$10,IF('Asphalt Plant (AP-3)'!$C$11>0,'Asphalt Plant (AP-3)'!$C$11*365,\"\"))),IF(E6=\"AP-4\",IF(E6=\"AP-4\",IF('Asphalt Plant (AP-4)'!$C$10>0,'Asphalt Plant (AP-4)'!$C$10,IF('Asphalt Plant (AP-4)'!$C$11>0,'Asphalt Plant (AP-4)'!$C$11*365,\"\"))),IF(E6=\"AP-5\",IF(E6=\"AP-5\",IF('Asphalt Plant (AP-5)'!$C$10>0,'Asphalt Plant (AP-5)'!$C$10,IF('Asphalt Plant (AP-5)'!$C$11>0,'Asphalt Plant (AP-5)'!$C$11*365,\"\"))),IF(E6=\"AP-6\",IF(E6=\"AP-6\",IF('Asphalt Plant (AP-6)'!$C$10>0,'Asphalt Plant (AP-6)'!$C$10,IF('Asphalt Plant (AP-6)'!$C$11>0,'Asphalt Plant (AP-6)'!$C$11*365,\"\"))),IF(E6=\"AP-7\",IF(E6=\"AP-7\",IF('Asphalt Plant (AP-7)'!$C$10>0,'Asphalt Plant (AP-7)'!$C$10,IF('Asphalt Plant (AP-7)'!$C$11>0,'Asphalt Plant (AP-7)'!$C$11*365,\"\"))),IF(E6=\"AP-8\",IF(E6=\"AP-8\",IF('Asphalt Plant (AP-8)'!$C$10>0,'Asphalt Plant (AP-8)'!$C$10,IF('Asphalt Plant (AP-8)'!$C$11>0,'Asphalt Plant (AP-8)'!$C$11*365,\"\"))),IF(E6=\"AP-9\",IF(E6=\"AP-9\",IF('Asphalt Plant (AP-9)'!$C$10>0,'Asphalt Plant (AP-9)'!$C$10,IF('Asphalt Plant (AP-9)'!$C$11>0,'Asphalt Plant (AP-9)'!$C$11*365,\"\"))),IF(E6=\"AP-10\",IF(E6=\"AP-10\",IF('Asphalt Plant (AP-10)'!$C$10>0,'Asphalt Plant (AP-10)'!$C$10,IF('Asphalt Plant (AP-10)'!$C$11>0,'Asphalt Plant (AP-10)'!$C$11*365,\"\"))))))))))))))","v":""},null,null,{"$f":"IF(B6=\"\",\"\",IF(M6=\"\",N6/K6,M6/K6))","v":""},{"$f":"IF(O6=\"\",\"\",O6/K6)","v":""},{"$f":"IF(B6=\"\",\"\",IF(B6=\"Unpaved Haul Road\",10,8.2))","v":""},{"$f":"IF(B6=\"\",\"\",100)","v":""},null,{"$f":"IF(B6=\"\",\"\",IF(B6=\"unpaved haul road\",(0.15*((R6/12)^0.9)*((J6/3)^0.45)*((365-S6)/365)),((0.00054*(R6^0.91)*(J6^1.02))*(1-S6/1460))))","v":""},{"$f":"IF(B6=\"\",\"\",U6*P6*L6/8760)","v":""},{"$f":"IF(B6=\"\",\"\",IF(T6=\"yes\",V6*((100-40)/100),\"\"))","v":""},{"$f":"IF(B6=\"\",\"\",IF(W6=\"\",V6*8760/2000,W6*8760/2000))","v":""},{"$f":"IF(B6=\"\",\"\",IF(T6=\"yes\",Q6*L6*U6/2000*((100-40)/100),Q6*L6*U6/2000))","v":""},{"$f":"IF(B6=\"\",\"\",IF(B6=\"unpaved haul road\",(1.5*((R6/12)^0.9)*((J6/3)^0.45)*((365-S6)/365)),((0.0022*(R6^0.91)*(J6^1.02))*(1-S6/1460))))","v":""},{"$f":"IF(B6=\"\",\"\",Z6*P6*L6/8760)","v":""},{"$f":"IF(B6=\"\",\"\",IF(T6=\"yes\",AA6*((100-40)/100),\"\"))","v":""},{"$f":"IF(B6=\"\",\"\",IF(AB6=\"\",AA6*8760/2000,AB6*8760/2000))","v":""},{"$f":"IF(B6=\"\",\"\",IF(T6=\"yes\",Q6*L6*Z6/2000*((100-40)/100),Q6*L6*Z6/2000))","v":""},{"$f":"IF(B6=\"unpaved haul road\",\"x\",\"\")","v":""},"PM2.5",null,"PM10",null,null,null,null,"PM2.5",null,"PM10"]
["Unpaved Haul Road",null,null,null,null,null,null,null,null,{"$f":"IF(G7=\"\",\"\",(G7*(I7/100)+H7*(1-(I7/100))))","v":""},{"$f":"IF(G7=\"\",\"\",H7-G7)","v":""},null,{"$f":"IF(E7=\"\",\"\",IF(E7=\"AP-1\",IF('Asphalt Plant (AP-1)'!$C$10>0,'Asphalt Plant (AP-1)'!$C$10,IF('Asphalt Plant (AP-1)'!$C$11>0,'Asphalt Plant (AP-1)'!$C$11*365,\"\")),IF(E7=\"AP-2\",IF(E7=\"AP-2\",IF('Asphalt Plant (AP-2)'!$C$10>0,'Asphalt Plant (AP-2)'!$C$10,IF('Asphalt Plant (AP-2)'!$C$11>0,'Asphalt Plant (AP-2)'!$C$11*365,\"\"))),IF(E7=\"AP-3\",IF(E7=\"AP-3\",IF('Asphalt Plant (AP-3)'!$C$10>0,'Asphalt Plant (AP-3)'!$C$10,IF('Asphalt Plant (AP-3)'!$C$11>0,'Asphalt Plant (AP-3)'!$C$11*365,\"\"))),IF(E7=\"AP-4\",IF(E7=\"AP-4\",IF('Asphalt Plant (AP-4)'!$C$10>0,'Asphalt Plant (AP-4)'!$C$10,IF('Asphalt Plant (AP-4)'!$C$11>0,'Asphalt Plant (AP-4)'!$C$11*365,\"\"))),IF(E7=\"AP-5\",IF(E7=\"AP-5\",IF('Asphalt Plant (AP-5)'!$C$10>0,'Asphalt Plant (AP-5)'!$C$10,IF('Asphalt Plant (AP-5)'!$C$11>0,'Asphalt Plant (AP-5)'!$C$11*365,\"\"))),IF(E7=\"AP-6\",IF(E7=\"AP-6\",IF('Asphalt Plant (AP-6)'!$C$10>0,'Asphalt Plant (AP-6)'!$C$10,IF('Asphalt Plant (AP-6)'!$C$11>0,'Asphalt Plant (AP-6)'!$C$11*365,\"\"))),IF(E7=\"AP-7\",IF(E7=\"AP-7\",IF('Asphalt Plant (AP-7)'!$C$10>0,'Asphalt Plant (AP-7)'!$C$10,IF('Asphalt Plant (AP-7)'!$C$11>0,'Asphalt Plant (AP-7)'!$C$11*365,\"\"))),IF(E7=\"AP-8\",IF(E7=\"AP-8\",IF('Asphalt Plant (AP-8)'!$C$10>0,'Asphalt Plant (AP-8)'!$C$10,IF('Asphalt Plant (AP-8)'!$C$11>0,'Asphalt Plant (AP-8)'!$C$11*365,\"\"))),IF(E7=\"AP-9\",IF(E7=\"AP-9\",IF('Asphalt Plant (AP-9)'!$C$10>0,'Asphalt Plant (AP-9)'!$C$10,IF('Asphalt Plant (AP-9)'!$C$11>0,'Asphalt Plant (AP-9)'!$C$11*365,\"\"))),IF(E7=\"AP-10\",IF(E7=\"AP-10\",IF('Asphalt Plant (AP-10)'!$C$10>0,'Asphalt Plant (AP-10)'!$C$10,IF('Asphalt Plant (AP-10)'!$C$11>0,'Asphalt Plant (AP-10)'!$C$11*365,\"\"))))))))))))))","v":""},null,null,"",{"$f":"IF(O7=\"\",\"\",O7/K7)","v":""},{"$f":"IF(B7=\"\",\"\",IF(B7=\"Unpaved Haul Road\",10,8.2))","v":""},"",null,"","","","","","","","","","","","Unpaved","Paved","Unpaved","Paved",null,null,"Potential tpy","Actual tpy","Potential tpy","Actual tpy"]
[null,null,null,null,null,null,null,null,null,"","",null,{"$f":"IF(E8=\"\",\"\",IF(E8=\"AP-1\",IF('Asphalt Plant (AP-1)'!$C$10>0,'Asphalt Plant (AP-1)'!$C$10,IF('Asphalt Plant (AP-1)'!$C$11>0,'Asphalt Plant (AP-1)'!$C$11*365,\"\")),IF(E8=\"AP-2\",IF(E8=\"AP-2\",IF('Asphalt Plant (AP-2)'!$C$10>0,'Asphalt Plant (AP-2)'!$C$10,IF('Asphalt Plant (AP-2)'!$C$11>0,'Asphalt Plant (AP-2)'!$C$11*365,\"\"))),IF(E8=\"AP-3\",IF(E8=\"AP-3\",IF('Asphalt Plant (AP-3)'!$C$10>0,'Asphalt Plant (AP-3)'!$C$10,IF('Asphalt Plant (AP-3)'!$C$11>0,'Asphalt Plant (AP-3)'!$C$11*365,\"\"))),IF(E8=\"AP-4\",IF(E8=\"AP-4\",IF('Asphalt Plant (AP-4)'!$C$10>0,'Asphalt Plant (AP-4)'!$C$10,IF('Asphalt Plant (AP-4)'!$C$11>0,'Asphalt Plant (AP-4)'!$C$11*365,\"\"))),IF(E8=\"AP-5\",IF(E8=\"AP-5\",IF('Asphalt Plant (AP-5)'!$C$10>0,'Asphalt Plant (AP-5)'!$C$10,IF('Asphalt Plant (AP-5)'!$C$11>0,'Asphalt Plant (AP-5)'!$C$11*365,\"\"))),IF(E8=\"AP-6\",IF(E8=\"AP-6\",IF('Asphalt Plant (AP-6)'!$C$10>0,'Asphalt Plant (AP-6)'!$C$10,IF('Asphalt Plant (AP-6)'!$C$11>0,'Asphalt Plant (AP-6)'!$C$11*365,\"\"))),IF(E8=\"AP-7\",IF(E8=\"AP-7\",IF('Asphalt Plant (AP-7)'!$C$10>0,'Asphalt Plant (AP-7)'!$C$10,IF('Asphalt Plant (AP-7)'!$C$11>0,'Asphalt Plant (AP-7)'!$C$11*365,\"\"))),IF(E8=\"AP-8\",IF(E8=\"AP-8\",IF('Asphalt Plant (AP-8)'!$C$10>0,'Asphalt Plant (AP-8)'!$C$10,IF('Asphalt Plant (AP-8)'!$C$11>0,'Asphalt Plant (AP-8)'!$C$11*365,\"\"))),IF(E8=\"AP-9\",IF(E8=\"AP-9\",IF('Asphalt Plant (AP-9)'!$C$10>0,'Asphalt Plant (AP-9)'!$C$10,IF('Asphalt Plant (AP-9)'!$C$11>0,'Asphalt Plant (AP-9)'!$C$11*365,\"\"))),IF(E8=\"AP-10\",IF(E8=\"AP-10\",IF('Asphalt Plant (AP-10)'!$C$10>0,'Asphalt Plant (AP-10)'!$C$10,IF('Asphalt Plant (AP-10)'!$C$11>0,'Asphalt Plant (AP-10)'!$C$11*365,\"\"))))))))))))))","v":""},null,null,"","","","",null,"","","","","","","","","","","",{"$f":"IF(AND('Asphalt Plant (AP-1)'!$C$11=\"\",'Asphalt Plant (AP-1)'!$C$10=\"\"),SUMIFS($X$6:$X$35,$E$6:$E$35,\"AP-1\",$AE$6:$AE$35,\"x\"),MAX(IF($E$6:$E$35=\"AP-1\",IF($AE$6:$AE$35=\"x\",$X$6:$X$35))))","v":0},{"$f":"IF(AND('Asphalt Plant (AP-1)'!$C$11=\"\",'Asphalt Plant (AP-1)'!$C$10=\"\"),SUMIFS($X$6:$X$35,$E$6:$E$35,\"AP-1\",AE6:AE35,\"\"),MAX(IF($E$6:$E$35=\"AP-1\",IF($AE$6:$AE$35=\"\",$X$6:$X$35))))","v":0},{"$f":"IF(AND('Asphalt Plant (AP-1)'!$C$11=\"\",'Asphalt Plant (AP-1)'!$C$10=\"\"),SUMIFS($AC$6:$AC$35,$E$6:$E$35,\"AP-1\",$AE$6:$AE$35,\"x\"),MAX(IF($E$6:$E$35=\"AP-1\",IF($AE$6:$AE$35=\"x\",$AC$6:$AC$35))))","v":0},{"$f":"IF(AND('Asphalt Plant (AP-1)'!$C$11=\"\",'Asphalt Plant (AP-1)'!$C$10=\"\"),SUMIFS($AC$6:$AC$35,$E$6:$E$35,\"AP-1\",$AE$6:$AE$35,\"\"),MAX(IF($E$6:$E$35=\"AP-1\",IF($AE$6:$AE$35=\"\",$AC$6:$AC$35))))","v":0},null,"AP-1",{"$f":"IF(AND('Asphalt Plant (AP-1)'!$C$11=\"\",'Asphalt Plant (AP-1)'!$C$10=\"\"),SUMIF($E$6:$E$35,\"AP-1\",$X$6:$X$35),MAX(IF($E$6:$E$35=\"AP-1\",$X$6:$X$35)))","v":0},{"$f":"SUMIF($E$6:$E$35,\"AP-1\",$Y$6:$Y$35)","v":0},{"$f":"IF(AND('Asphalt Plant (AP-1)'!$C$11=\"\",'Asphalt Plant (AP-1)'!$C$10=\"\"),SUMIF($E$6:$E$35,\"AP-1\",$AC$6:$AC$35),MAX(IF($E$6:$E$35=\"AP-1\",$AC$6:$AC$35)))","v":0},{"$f":"SUMIF($E$6:$E435,\"AP-1\",$AD$6:$AD$35)","v":0}]
["yes",null,null,null,null,null,null,null,null,"","",null,{"$f":"IF(E9=\"\",\"\",IF(E9=\"AP-1\",IF('Asphalt Plant (AP-1)'!$C$10>0,'Asphalt Plant (AP-1)'!$C$10,IF('Asphalt Plant (AP-1)'!$C$11>0,'Asphalt Plant (AP-1)'!$C$11*365,\"\")),IF(E9=\"AP-2\",IF(E9=\"AP-2\",IF('Asphalt Plant (AP-2)'!$C$10>0,'Asphalt Plant (AP-2)'!$C$10,IF('Asphalt Plant (AP-2)'!$C$11>0,'Asphalt Plant (AP-2)'!$C$11*365,\"\"))),IF(E9=\"AP-3\",IF(E9=\"AP-3\",IF('Asphalt Plant (AP-3)'!$C$10>0,'Asphalt Plant (AP-3)'!$C$10,IF('Asphalt Plant (AP-3)'!$C$11>0,'Asphalt Plant (AP-3)'!$C$11*365,\"\"))),IF(E9=\"AP-4\",IF(E9=\"AP-4\",IF('Asphalt Plant (AP-4)'!$C$10>0,'Asphalt Plant (AP-4)'!$C$10,IF('Asphalt Plant (AP-4)'!$C$11>0,'Asphalt Plant (AP-4)'!$C$11*365,\"\"))),IF(E9=\"AP-5\",IF(E9=\"AP-5\",IF('Asphalt Plant (AP-5)'!$C$10>0,'Asphalt Plant (AP-5)'!$C$10,IF('Asphalt Plant (AP-5)'!$C$11>0,'Asphalt Plant (AP-5)'!$C$11*365,\"\"))),IF(E9=\"AP-6\",IF(E9=\"AP-6\",IF('Asphalt Plant (AP-6)'!$C$10>0,'Asphalt Plant (AP-6)'!$C$10,IF('Asphalt Plant (AP-6)'!$C$11>0,'Asphalt Plant (AP-6)'!$C$11*365,\"\"))),IF(E9=\"AP-7\",IF(E9=\"AP-7\",IF('Asphalt Plant (AP-7)'!$C$10>0,'Asphalt Plant (AP-7)'!$C$10,IF('Asphalt Plant (AP-7)'!$C$11>0,'Asphalt Plant (AP-7)'!$C$11*365,\"\"))),IF(E9=\"AP-8\",IF(E9=\"AP-8\",IF('Asphalt Plant (AP-8)'!$C$10>0,'Asphalt Plant (AP-8)'!$C$10,IF('Asphalt Plant (AP-8)'!$C$11>0,'Asphalt Plant (AP-8)'!$C$11*365,\"\"))),IF(E9=\"AP-9\",IF(E9=\"AP-9\",IF('Asphalt Plant (AP-9)'!$C$10>0,'Asphalt Plant (AP-9)'!$C$10,IF('Asphalt Plant (AP-9)'!$C$11>0,'Asphalt Plant (AP-9)'!$C$11*365,\"\"))),IF(E9=\"AP-10\",IF(E9=\"AP-10\",IF('Asphalt Plant (AP-10)'!$C$10>0,'Asphalt Plant (AP-10)'!$C$10,IF('Asphalt Plant (AP-10)'!$C$11>0,'Asphalt Plant (AP-10)'!$C$11*365,\"\"))))))))))))))","v":""},null,null,"","","","",null,"","","","","","","","","","","",{"$f":"IF(AND('Asphalt Plant (AP-2)'!$C$11=\"\",'Asphalt Plant (AP-2)'!$C$10=\"\"),SUMIFS($X$6:$X$35,$E$6:$E$35,\"AP-2\",$AE$6:$AE$35,\"x\"),MAX(IF($E$6:$E$35=\"AP-2\",IF($AE$6:$AE$35=\"x\",$X$6:$X$35))))","v":0},{"$f":"IF(AND('Asphalt Plant (AP-2)'!$C$11=\"\",'Asphalt Plant (AP-2)'!$C$10=\"\"),SUMIFS($X$6:$X$35,$E$6:$E$35,\"AP-2\",AE7:AE36,\"\"),MAX(IF($E$6:$E$35=\"AP-2\",IF($AE$6:$AE$35=\"\",$X$6:$X$35))))","v":0},{"$f":"IF(AND('Asphalt Plant (AP-2)'!$C$11=\"\",'Asphalt Plant (AP-2)'!$C$10=\"\"),SUMIFS($AC$6:$AC$35,$E$6:$E$35,\"AP-2\",$AE$6:$AE$35,\"x\"),MAX(IF($E$6:$E$35=\"AP-2\",IF($AE$6:$AE$35=\"x\",$AC$6:$AC$35))))","v":0},{"$f":"IF(AND('Asphalt Plant (AP-2)'!$C$11=\"\",'Asphalt Plant (AP-2)'!$C$10=\"\"),SUMIFS($AC$6:$AC$35,$E$6:$E$35,\"AP-2\",$AE$6:$AE$35,\"\"),MAX(IF($E$6:$E$35=\"AP-2\",IF($AE$6:$AE$35=\"\",$AC$6:$AC$35))))","v":0},null,"AP-2",{"$f":"IF(AND('Asphalt Plant (AP-2)'!$C$11=\"\",'Asphalt Plant (AP-2)'!$C$10=\"\"),SUMIF($E$6:$E$35,\"AP-2\",$X$6:$X$35),MAX(IF($E$6:$E$35=\"AP-2\",$X$6:$X$35)))","v":0},{"$f":"SUMIF($E$6:$E$35,\"AP-2\",$Y$6:$Y$35)","v":0},{"$f":"IF(AND('Asphalt Plant (AP-2)'!$C$11=\"\",'Asphalt Plant (AP-2)'!$C$10=\"\"),SUMIF($E$6:$E$35,\"AP-2\",$AC$6:$AC$35),MAX(IF($E$6:$E$35=\"AP-2\",$AC$6:$AC$35)))","v":0},{"$f":"SUMIF($E$6:$E436,\"AP-2\",$AD$6:$AD$35)","v":0}]
["no",null,null,null,null,null,null,null,null,"","",null,{"$f":"IF(E10=\"\",\"\",IF(E10=\"AP-1\",IF('Asphalt Plant (AP-1)'!$C$10>0,'Asphalt Plant (AP-1)'!$C$10,IF('Asphalt Plant (AP-1)'!$C$11>0,'Asphalt Plant (AP-1)'!$C$11*365,\"\")),IF(E10=\"AP-2\",IF(E10=\"AP-2\",IF('Asphalt Plant (AP-2)'!$C$10>0,'Asphalt Plant (AP-2)'!$C$10,IF('Asphalt Plant (AP-2)'!$C$11>0,'Asphalt Plant (AP-2)'!$C$11*365,\"\"))),IF(E10=\"AP-3\",IF(E10=\"AP-3\",IF('Asphalt Plant (AP-3)'!$C$10>0,'Asphalt Plant (AP-3)'!$C$10,IF('Asphalt Plant (AP-3)'!$C$11>0,'Asphalt Plant (AP-3)'!$C$11*365,\"\"))),IF(E10=\"AP-4\",IF(E10=\"AP-4\",IF('Asphalt Plant (AP-4)'!$C$10>0,'Asphalt Plant (AP-4)'!$C$10,IF('Asphalt Plant (AP-4)'!$C$11>0,'Asphalt Plant (AP-4)'!$C$11*365,\"\"))),IF(E10=\"AP-5\",IF(E10=\"AP-5\",IF('Asphalt Plant (AP-5)'!$C$10>0,'Asphalt Plant (AP-5)'!$C$10,IF('Asphalt Plant (AP-5)'!$C$11>0,'Asphalt Plant (AP-5)'!$C$11*365,\"\"))),IF(E10=\"AP-6\",IF(E10=\"AP-6\",IF('Asphalt Plant (AP-6)'!$C$10>0,'Asphalt Plant (AP-6)'!$C$10,IF('Asphalt Plant (AP-6)'!$C$11>0,'Asphalt Plant (AP-6)'!$C$11*365,\"\"))),IF(E10=\"AP-7\",IF(E10=\"AP-7\",IF('Asphalt Plant (AP-7)'!$C$10>0,'Asphalt Plant (AP-7)'!$C$10,IF('Asphalt Plant (AP-7)'!$C$11>0,'Asphalt Plant (AP-7)'!$C$11*365,\"\"))),IF(E10=\"AP-8\",IF(E10=\"AP-8\",IF('Asphalt Plant (AP-8)'!$C$10>0,'Asphalt Plant (AP-8)'!$C$10,IF('Asphalt Plant (AP-8)'!$C$11>0,'Asphalt Plant (AP-8)'!$C$11*365,\"\"))),IF(E10=\"AP-9\",IF(E10=\"AP-9\",IF('Asphalt Plant (AP-9)'!$C$10>0,'Asphalt Plant (AP-9)'!$C$10,IF('Asphalt Plant (AP-9)'!$C$11>0,'Asphalt Plant (AP-9)'!$C$11*365,\"\"))),IF(E10=\"AP-10\",IF(E10=\"AP-10\",IF('Asphalt Plant (AP-10)'!$C$10>0,'Asphalt Plant (AP-10)'!$C$10,IF('Asphalt Plant (AP-10)'!$C$11>0,'Asphalt Plant (AP-10)'!$C$11*365,\"\"))))))))))))))","v":""},null,null,"","","","",null,"","","","","","","","","","","",{"$f":"IF(AND('Asphalt Plant (AP-3)'!$C$11=\"\",'Asphalt Plant (AP-3)'!$C$10=\"\"),SUMIFS($X$6:$X$35,$E$6:$E$35,\"AP-3\",$AE$6:$AE$35,\"x\"),MAX(IF($E$6:$E$35=\"AP-3\",IF($AE$6:$AE$35=\"x\",$X$6:$X$35))))","v":0},{"$f":"IF(AND('Asphalt Plant (AP-3)'!$C$11=\"\",'Asphalt Plant (AP-3)'!$C$10=\"\"),SUMIFS($X$6:$X$35,$E$6:$E$35,\"AP-3\",AE8:AE37,\"\"),MAX(IF($E$6:$E$35=\"AP-3\",IF($AE$6:$AE$35=\"\",$X$6:$X$35))))","v":0},{"$f":"IF(AND('Asphalt Plant (AP-3)'!$C$11=\"\",'Asphalt Plant (AP-3)'!$C$10=\"\"),SUMIFS($AC$6:$AC$35,$E$6:$E$35,\"AP-3\",$AE$6:$AE$35,\"x\"),MAX(IF($E$6:$E$35=\"AP-3\",IF($AE$6:$AE$35=\"x\",$AC$6:$AC$35))))","v":0},{"$f":"IF(AND('Asphalt Plant (AP-3)'!$C$11=\"\",'Asphalt Plant (AP-3)'!$C$10=\"\"),SUMIFS($AC$6:$AC$35,$E$6:$E$35,\"AP-3\",$AE$6:$AE$35,\"\"),MAX(IF($E$6:$E$35=\"AP-3\",IF($AE$6:$AE$35=\"\",$AC$6:$AC$35))))","v":0},null,"AP-3",{"$f":"IF(AND('Asphalt Plant (AP-3)'!$C$11=\"\",'Asphalt Plant (AP-3)'!$C$10=\"\"),SUMIF($E$6:$E$35,\"AP-3\",$X$6:$X$35),MAX(IF($E$6:$E$35=\"AP-3\",$X$6:$X$35)))","v":0},{"$f":"SUMIF($E$6:$E$35,\"AP-3\",$Y$6:$Y$35)","v":0},{"$f":"IF(AND('Asphalt Plant (AP-3)'!$C$11=\"\",'Asphalt Plant (AP-3)'!$C$10=\"\"),SUMIF($E$6:$E$35,\"AP-3\",$AC$6:$AC$35),MAX(IF($E$6:$E$35=\"AP-3\",$AC$6:$AC$35)))","v":0},{"$f":"SUMIF($E$6:$E437,\"AP-3\",$AD$6:$AD$35)","v":0}]
[null,null,null,null,null,null,null,null,null,"","",null,{"$f":"IF(E11=\"\",\"\",IF(E11=\"AP-1\",IF('Asphalt Plant (AP-1)'!$C$10>0,'Asphalt Plant (AP-1)'!$C$10,IF('Asphalt Plant (AP-1)'!$C$11>0,'Asphalt Plant (AP-1)'!$C$11*365,\"\")),IF(E11=\"AP-2\",IF(E11=\"AP-2\",IF('Asphalt Plant (AP-2)'!$C$10>0,'Asphalt Plant (AP-2)'!$C$10,IF('Asphalt Plant (AP-2)'!$C$11>0,'Asphalt Plant (AP-2)'!$C$11*365,\"\"))),IF(E11=\"AP-3\",IF(E11=\"AP-3\",IF('Asphalt Plant (AP-3)'!$C$10>0,'Asphalt Plant (AP-3)'!$C$10,IF('Asphalt Plant (AP-3)'!$C$11>0,'Asphalt Plant (AP-3)'!$C$11*365,\"\"))),IF(E11=\"AP-4\",IF(E11=\"AP-4\",IF('Asphalt Plant (AP-4)'!$C$10>0,'Asphalt Plant (AP-4)'!$C$10,IF('Asphalt Plant (AP-4)'!$C$11>0,'Asphalt Plant (AP-4)'!$C$11*365,\"\"))),IF(E11=\"AP-5\",IF(E11=\"AP-5\",IF('Asphalt Plant (AP-5)'!$C$10>0,'Asphalt Plant (AP-5)'!$C$10,IF('Asphalt Plant (AP-5)'!$C$11>0,'Asphalt Plant (AP-5)'!$C$11*365,\"\"))),IF(E11=\"AP-6\",IF(E11=\"AP-6\",IF('Asphalt Plant (AP-6)'!$C$10>0,'Asphalt Plant (AP-6)'!$C$10,IF('Asphalt Plant (AP-6)'!$C$11>0,'Asphalt Plant (AP-6)'!$C$11*365,\"\"))),IF(E11=\"AP-7\",IF(E11=\"AP-7\",IF('Asphalt Plant (AP-7)'!$C$10>0,'Asphalt Plant (AP-7)'!$C$10,IF('Asphalt Plant (AP-7)'!$C$11>0,'Asphalt Plant (AP-7)'!$C$11*365,\"\"))),IF(E11=\"AP-8\",IF(E11=\"AP-8\",IF('Asphalt Plant (AP-8)'!$C$10>0,'Asphalt Plant (AP-8)'!$C$10,IF('Asphalt Plant (AP-8)'!$C$11>0,'Asphalt Plant (AP-8)'!$C$11*365,\"\"))),IF(E11=\"AP-9\",IF(E11=\"AP-9\",IF('Asphalt Plant (AP-9)'!$C$10>0,'Asphalt Plant (AP-9)'!$C$10,IF('Asphalt Plant (AP-9)'!$C$11>0,'Asphalt Plant (AP-9)'!$C$11*365,\"\"))),IF(E11=\"AP-10\",IF(E11=\"AP-10\",IF('Asphalt Plant (AP-10)'!$C$10>0,'Asphalt Plant (AP-10)'!$C$10,IF('Asphalt Plant (AP-10)'!$C$11>0,'Asphalt Plant (AP-10)'!$C$11*365,\"\"))))))))))))))","v":""},null,null,"","","","",null,"","","","","","","","","","","",{"$f":"IF(AND('Asphalt Plant (AP-4)'!$C$11=\"\",'Asphalt Plant (AP-4)'!$C$10=\"\"),SUMIFS($X$6:$X$35,$E$6:$E$35,\"AP-4\",$AE$6:$AE$35,\"x\"),MAX(IF($E$6:$E$35=\"AP-4\",IF($AE$6:$AE$35=\"x\",$X$6:$X$35))))","v":0},{"$f":"IF(AND('Asphalt Plant (AP-4)'!$C$11=\"\",'Asphalt Plant (AP-4)'!$C$10=\"\"),SUMIFS($X$6:$X$35,$E$6:$E$35,\"AP-4\",AE9:AE38,\"\"),MAX(IF($E$6:$E$35=\"AP-4\",IF($AE$6:$AE$35=\"\",$X$6:$X$35))))","v":0},{"$f":"IF(AND('Asphalt Plant (AP-4)'!$C$11=\"\",'Asphalt Plant (AP-4)'!$C$10=\"\"),SUMIFS($AC$6:$AC$35,$E$6:$E$35,\"AP-4\",$AE$6:$AE$35,\"x\"),MAX(IF($E$6:$E$35=\"AP-4\",IF($AE$6:$AE$35=\"x\",$AC$6:$AC$35))))","v":0},{"$f":"IF(AND('Asphalt Plant (AP-4)'!$C$11=\"\",'Asphalt Plant (AP-4)'!$C$10=\"\"),SUMIFS($AC$6:$AC$35,$E$6:$E$35,\"AP-4\",$AE$6:$AE$35,\"\"),MAX(IF($E$6:$E$35=\"AP-4\",IF($AE$6:$AE$35=\"\",$AC$6:$AC$35))))","v":0},null,"AP-4",{"$f":"IF(AND('Asphalt Plant (AP-4)'!$C$11=\"\",'Asphalt Plant (AP-4)'!$C$10=\"\"),SUMIF($E$6:$E$35,\"AP-4\",$X$6:$X$35),MAX(IF($E$6:$E$35=\"AP-4\",$X$6:$X$35)))","v":0},{"$f":"SUMIF($E$6:$E$35,\"AP-4\",$Y$6:$Y$35)","v":0},{"$f":"IF(AND('Asphalt Plant (AP-4)'!$C$11=\"\",'Asphalt Plant (AP-4)'!$C$10=\"\"),SUMIF($E$6:$E$35,\"AP-4\",$AC$6:$AC$35),MAX(IF($E$6:$E$35=\"AP-4\",$AC$6:$AC$35)))","v":0},{"$f":"SUMIF($E$6:$E438,\"AP-4\",$AD$6:$AD$35)","v":0}]
[{"$f":"IF('Facility Information'!$C$21>0,\"AP-1\",\"\")","v":""},null,null,null,null,null,null,null,null,"","",null,{"$f":"IF(E12=\"\",\"\",IF(E12=\"AP-1\",IF('Asphalt Plant (AP-1)'!$C$10>0,'Asphalt Plant (AP-1)'!$C$10,IF('Asphalt Plant (AP-1)'!$C$11>0,'Asphalt Plant (AP-1)'!$C$11*365,\"\")),IF(E12=\"AP-2\",IF(E12=\"AP-2\",IF('Asphalt Plant (AP-2)'!$C$10>0,'Asphalt Plant (AP-2)'!$C$10,IF('Asphalt Plant (AP-2)'!$C$11>0,'Asphalt Plant (AP-2)'!$C$11*365,\"\"))),IF(E12=\"AP-3\",IF(E12=\"AP-3\",IF('Asphalt Plant (AP-3)'!$C$10>0,'Asphalt Plant (AP-3)'!$C$10,IF('Asphalt Plant (AP-3)'!$C$11>0,'Asphalt Plant (AP-3)'!$C$11*365,\"\"))),IF(E12=\"AP-4\",IF(E12=\"AP-4\",IF('Asphalt Plant (AP-4)'!$C$10>0,'Asphalt Plant (AP-4)'!$C$10,IF('Asphalt Plant (AP-4)'!$C$11>0,'Asphalt Plant (AP-4)'!$C$11*365,\"\"))),IF(E12=\"AP-5\",IF(E12=\"AP-5\",IF('Asphalt Plant (AP-5)'!$C$10>0,'Asphalt Plant (AP-5)'!$C$10,IF('Asphalt Plant (AP-5)'!$C$11>0,'Asphalt Plant (AP-5)'!$C$11*365,\"\"))),IF(E12=\"AP-6\",IF(E12=\"AP-6\",IF('Asphalt Plant (AP-6)'!$C$10>0,'Asphalt Plant (AP-6)'!$C$10,IF('Asphalt Plant (AP-6)'!$C$11>0,'Asphalt Plant (AP-6)'!$C$11*365,\"\"))),IF(E12=\"AP-7\",IF(E12=\"AP-7\",IF('Asphalt Plant (AP-7)'!$C$10>0,'Asphalt Plant (AP-7)'!$C$10,IF('Asphalt Plant (AP-7)'!$C$11>0,'Asphalt Plant (AP-7)'!$C$11*365,\"\"))),IF(E12=\"AP-8\",IF(E12=\"AP-8\",IF('Asphalt Plant (AP-8)'!$C$10>0,'Asphalt Plant (AP-8)'!$C$10,IF('Asphalt Plant (AP-8)'!$C$11>0,'Asphalt Plant (AP-8)'!$C$11*365,\"\"))),IF(E12=\"AP-9\",IF(E12=\"AP-9\",IF('Asphalt Plant (AP-9)'!$C$10>0,'Asphalt Plant (AP-9)'!$C$10,IF('Asphalt Plant (AP-9)'!$C$11>0,'Asphalt Plant (AP-9)'!$C$11*365,\"\"))),IF(E12=\"AP-10\",IF(E12=\"AP-10\",IF('Asphalt Plant (AP-10)'!$C$10>0,'Asphalt Plant (AP-10)'!$C$10,IF('Asphalt Plant (AP-10)'!$C$11>0,'Asphalt Plant (AP-10)'!$C$11*365,\"\"))))))))))))))","v":""},null,null,"","","","",null,"","","","","","","","","","","",{"$f":"IF(AND('Asphalt Plant (AP-5)'!$C$11=\"\",'Asphalt Plant (AP-5)'!$C$10=\"\"),SUMIFS($X$6:$X$35,$E$6:$E$35,\"AP-5\",$AE$6:$AE$35,\"x\"),MAX(IF($E$6:$E$35=\"AP-5\",IF($AE$6:$AE$35=\"x\",$X$6:$X$35))))","v":0},{"$f":"IF(AND('Asphalt Plant (AP-5)'!$C$11=\"\",'Asphalt Plant (AP-5)'!$C$10=\"\"),SUMIFS($X$6:$X$35,$E$6:$E$35,\"AP-5\",AE10:AE39,\"\"),MAX(IF($E$6:$E$35=\"AP-5\",IF($AE$6:$AE$35=\"\",$X$6:$X$35))))","v":0},{"$f":"IF(AND('Asphalt Plant (AP-5)'!$C$11=\"\",'Asphalt Plant (AP-5)'!$C$10=\"\"),SUMIFS($AC$6:$AC$35,$E$6:$E$35,\"AP-5\",$AE$6:$AE$35,\"x\"),MAX(IF($E$6:$E$35=\"AP-5\",IF($AE$6:$AE$35=\"x\",$AC$6:$AC$35))))","v":0},{"$f":"IF(AND('Asphalt Plant (AP-5)'!$C$11=\"\",'Asphalt Plant (AP-5)'!$C$10=\"\"),SUMIFS($AC$6:$AC$35,$E$6:$E$35,\"AP-5\",$AE$6:$AE$35,\"\"),MAX(IF($E$6:$E$35=\"AP-5\",IF($AE$6:$AE$35=\"\",$AC$6:$AC$35))))","v":0},null,"AP-5",{"$f":"IF(AND('Asphalt Plant (AP-5)'!$C$11=\"\",'Asphalt Plant (AP-5)'!$C$10=\"\"),SUMIF($E$6:$E$35,\"AP-5\",$X$6:$X$35),MAX(IF($E$6:$E$35=\"AP-5\",$X$6:$X$35)))","v":0},{"$f":"SUMIF($E$6:$E$35,\"AP-5\",$Y$6:$Y$35)","v":0},{"$f":"IF(AND('Asphalt Plant (AP-5)'!$C$11=\"\",'Asphalt Plant (AP-5)'!$C$10=\"\"),SUMIF($E$6:$E$35,\"AP-5\",$AC$6:$AC$35),MAX(IF($E$6:$E$35=\"AP-5\",$AC$6:$AC$35)))","v":0},{"$f":"SUMIF($E$6:$E439,\"AP-5\",$AD$6:$AD$35)","v":0}]
[{"$f":"IF('Facility Information'!$C$21>1,\"AP-2\",\"\")","v":""},null,null,null,null,null,null,null,null,"","",null,{"$f":"IF(E13=\"\",\"\",IF(E13=\"AP-1\",IF('Asphalt Plant (AP-1)'!$C$10>0,'Asphalt Plant (AP-1)'!$C$10,IF('Asphalt Plant (AP-1)'!$C$11>0,'Asphalt Plant (AP-1)'!$C$11*365,\"\")),IF(E13=\"AP-2\",IF(E13=\"AP-2\",IF('Asphalt Plant (AP-2)'!$C$10>0,'Asphalt Plant (AP-2)'!$C$10,IF('Asphalt Plant (AP-2)'!$C$11>0,'Asphalt Plant (AP-2)'!$C$11*365,\"\"))),IF(E13=\"AP-3\",IF(E13=\"AP-3\",IF('Asphalt Plant (AP-3)'!$C$10>0,'Asphalt Plant (AP-3)'!$C$10,IF('Asphalt Plant (AP-3)'!$C$11>0,'Asphalt Plant (AP-3)'!$C$11*365,\"\"))),IF(E13=\"AP-4\",IF(E13=\"AP-4\",IF('Asphalt Plant (AP-4)'!$C$10>0,'Asphalt Plant (AP-4)'!$C$10,IF('Asphalt Plant (AP-4)'!$C$11>0,'Asphalt Plant (AP-4)'!$C$11*365,\"\"))),IF(E13=\"AP-5\",IF(E13=\"AP-5\",IF('Asphalt Plant (AP-5)'!$C$10>0,'Asphalt Plant (AP-5)'!$C$10,IF('Asphalt Plant (AP-5)'!$C$11>0,'Asphalt Plant (AP-5)'!$C$11*365,\"\"))),IF(E13=\"AP-6\",IF(E13=\"AP-6\",IF('Asphalt Plant (AP-6)'!$C$10>0,'Asphalt Plant (AP-6)'!$C$10,IF('Asphalt Plant (AP-6)'!$C$11>0,'Asphalt Plant (AP-6)'!$C$11*365,\"\"))),IF(E13=\"AP-7\",IF(E13=\"AP-7\",IF('Asphalt Plant (AP-7)'!$C$10>0,'Asphalt Plant (AP-7)'!$C$10,IF('Asphalt Plant (AP-7)'!$C$11>0,'Asphalt Plant (AP-7)'!$C$11*365,\"\"))),IF(E13=\"AP-8\",IF(E13=\"AP-8\",IF('Asphalt Plant (AP-8)'!$C$10>0,'Asphalt Plant (AP-8)'!$C$10,IF('Asphalt Plant (AP-8)'!$C$11>0,'Asphalt Plant (AP-8)'!$C$11*365,\"\"))),IF(E13=\"AP-9\",IF(E13=\"AP-9\",IF('Asphalt Plant (AP-9)'!$C$10>0,'Asphalt Plant (AP-9)'!$C$10,IF('Asphalt Plant (AP-9)'!$C$11>0,'Asphalt Plant (AP-9)'!$C$11*365,\"\"))),IF(E13=\"AP-10\",IF(E13=\"AP-10\",IF('Asphalt Plant (AP-10)'!$C$10>0,'Asphalt Plant (AP-10)'!$C$10,IF('Asphalt Plant (AP-10)'!$C$11>0,'Asphalt Plant (AP-10)'!$C$11*365,\"\"))))))))))))))","v":""},null,null,"","","","",null,"","","","","","","","","","","",{"$f":"IF(AND('Asphalt Plant (AP-6)'!$C$11=\"\",'Asphalt Plant (AP-6)'!$C$10=\"\"),SUMIFS($X$6:$X$35,$E$6:$E$35,\"AP-6\",$AE$6:$AE$35,\"x\"),MAX(IF($E$6:$E$35=\"AP-6\",IF($AE$6:$AE$35=\"x\",$X$6:$X$35))))","v":0},{"$f":"IF(AND('Asphalt Plant (AP-6)'!$C$11=\"\",'Asphalt Plant (AP-6)'!$C$10=\"\"),SUMIFS($X$6:$X$35,$E$6:$E$35,\"AP-6\",AE11:AE40,\"\"),MAX(IF($E$6:$E$35=\"AP-6\",IF($AE$6:$AE$35=\"\",$X$6:$X$35))))","v":0},{"$f":"IF(AND('Asphalt Plant (AP-6)'!$C$11=\"\",'Asphalt Plant (AP-6)'!$C$10=\"\"),SUMIFS($AC$6:$AC$35,$E$6:$E$35,\"AP-6\",$AE$6:$AE$35,\"x\"),MAX(IF($E$6:$E$35=\"AP-6\",IF($AE$6:$AE$35=\"x\",$AC$6:$AC$35))))","v":0},{"$f":"IF(AND('Asphalt Plant (AP-6)'!$C$11=\"\",'Asphalt Plant (AP-6)'!$C$10=\"\"),SUMIFS($AC$6:$AC$35,$E$6:$E$35,\"AP-6\",$AE$6:$AE$35,\"\"),MAX(IF($E$6:$E$35=\"AP-6\",IF($AE$6:$AE$35=\"\",$AC$6:$AC$35))))","v":0},null,"AP-6",{"$f":"IF(AND('Asphalt Plant (AP-6)'!$C$11=\"\",'Asphalt Plant (AP-6)'!$C$10=\"\"),SUMIF($E$6:$E$35,\"AP-6\",$X$6:$X$35),MAX(IF($E$6:$E$35=\"AP-6\",$X$6:$X$35)))","v":0},{"$f":"SUMIF($E$6:$E$35,\"AP-6\",$Y$6:$Y$35)","v":0},{"$f":"IF(AND('Asphalt Plant (AP-6)'!$C$11=\"\",'Asphalt Plant (AP-6)'!$C$10=\"\"),SUMIF($E$6:$E$35,\"AP-6\",$AC$6:$AC$35),MAX(IF($E$6:$E$35=\"AP-6\",$AC$6:$AC$35)))","v":0},{"$f":"SUMIF($E$6:$E440,\"AP-6\",$AD$6:$AD$35)","v":0}]
[{"$f":"IF('Facility Information'!$C$21>2,\"AP-3\",\"\")","v":""},null,null,null,null,null,null,null,null,"","",null,{"$f":"IF(E14=\"\",\"\",IF(E14=\"AP-1\",IF('Asphalt Plant (AP-1)'!$C$10>0,'Asphalt Plant (AP-1)'!$C$10,IF('Asphalt Plant (AP-1)'!$C$11>0,'Asphalt Plant (AP-1)'!$C$11*365,\"\")),IF(E14=\"AP-2\",IF(E14=\"AP-2\",IF('Asphalt Plant (AP-2)'!$C$10>0,'Asphalt Plant (AP-2)'!$C$10,IF('Asphalt Plant (AP-2)'!$C$11>0,'Asphalt Plant (AP-2)'!$C$11*365,\"\"))),IF(E14=\"AP-3\",IF(E14=\"AP-3\",IF('Asphalt Plant (AP-3)'!$C$10>0,'Asphalt Plant (AP-3)'!$C$10,IF('Asphalt Plant (AP-3)'!$C$11>0,'Asphalt Plant (AP-3)'!$C$11*365,\"\"))),IF(E14=\"AP-4\",IF(E14=\"AP-4\",IF('Asphalt Plant (AP-4)'!$C$10>0,'Asphalt Plant (AP-4)'!$C$10,IF('Asphalt Plant (AP-4)'!$C$11>0,'Asphalt Plant (AP-4)'!$C$11*365,\"\"))),IF(E14=\"AP-5\",IF(E14=\"AP-5\",IF('Asphalt Plant (AP-5)'!$C$10>0,'Asphalt Plant (AP-5)'!$C$10,IF('Asphalt Plant (AP-5)'!$C$11>0,'Asphalt Plant (AP-5)'!$C$11*365,\"\"))),IF(E14=\"AP-6\",IF(E14=\"AP-6\",IF('Asphalt Plant (AP-6)'!$C$10>0,'Asphalt Plant (AP-6)'!$C$10,IF('Asphalt Plant (AP-6)'!$C$11>0,'Asphalt Plant (AP-6)'!$C$11*365,\"\"))),IF(E14=\"AP-7\",IF(E14=\"AP-7\",IF('Asphalt Plant (AP-7)'!$C$10>0,'Asphalt Plant (AP-7)'!$C$10,IF('Asphalt Plant (AP-7)'!$C$11>0,'Asphalt Plant (AP-7)'!$C$11*365,\"\"))),IF(E14=\"AP-8\",IF(E14=\"AP-8\",IF('Asphalt Plant (AP-8)'!$C$10>0,'Asphalt Plant (AP-8)'!$C$10,IF('Asphalt Plant (AP-8)'!$C$11>0,'Asphalt Plant (AP-8)'!$C$11*365,\"\"))),IF(E14=\"AP-9\",IF(E14=\"AP-9\",IF('Asphalt Plant (AP-9)'!$C$10>0,'Asphalt Plant (AP-9)'!$C$10,IF('Asphalt Plant (AP-9)'!$C$11>0,'Asphalt Plant (AP-9)'!$C$11*365,\"\"))),IF(E14=\"AP-10\",IF(E14=\"AP-10\",IF('Asphalt Plant (AP-10)'!$C$10>0,'Asphalt Plant (AP-10)'!$C$10,IF('Asphalt Plant (AP-10)'!$C$11>0,'Asphalt Plant (AP-10)'!$C$11*365,\"\"))))))))))))))","v":""},null,null,"","","","",null,"","","","","","","","","","","",{"$f":"IF(AND('Asphalt Plant (AP-7)'!$C$11=\"\",'Asphalt Plant (AP-7)'!$C$10=\"\"),SUMIFS($X$6:$X$35,$E$6:$E$35,\"AP-7\",$AE$6:$AE$35,\"x\"),MAX(IF($E$6:$E$35=\"AP-7\",IF($AE$6:$AE$35=\"x\",$X$6:$X$35))))","v":0},{"$f":"IF(AND('Asphalt Plant (AP-7)'!$C$11=\"\",'Asphalt Plant (AP-7)'!$C$10=\"\"),SUMIFS($X$6:$X$35,$E$6:$E$35,\"AP-7\",AE12:AE41,\"\"),MAX(IF($E$6:$E$35=\"AP-7\",IF($AE$6:$AE$35=\"\",$X$6:$X$35))))","v":0},{"$f":"IF(AND('Asphalt Plant (AP-7)'!$C$11=\"\",'Asphalt Plant (AP-7)'!$C$10=\"\"),SUMIFS($AC$6:$AC$35,$E$6:$E$35,\"AP-7\",$AE$6:$AE$35,\"x\"),MAX(IF($E$6:$E$35=\"AP-7\",IF($AE$6:$AE$35=\"x\",$AC$6:$AC$35))))","v":0},{"$f":"IF(AND('Asphalt Plant (AP-7)'!$C$11=\"\",'Asphalt Plant (AP-7)'!$C$10=\"\"),SUMIFS($AC$6:$AC$35,$E$6:$E$35,\"AP-7\",$AE$6:$AE$35,\"\"),MAX(IF($E$6:$E$35=\"AP-7\",IF($AE$6:$AE$35=\"\",$AC$6:$AC$35))))","v":0},null,"AP-7",{"$f":"IF(AND('Asphalt Plant (AP-7)'!$C$11=\"\",'Asphalt Plant (AP-7)'!$C$10=\"\"),SUMIF($E$6:$E$35,\"AP-7\",$X$6:$X$35),MAX(IF($E$6:$E$35=\"AP-7\",$X$6:$X$35)))","v":0},{"$f":"SUMIF($E$6:$E$35,\"AP-7\",$Y$6:$Y$35)","v":0},{"$f":"IF(AND('Asphalt Plant (AP-7)'!$C$11=\"\",'Asphalt Plant (AP-7)'!$C$10=\"\"),SUMIF($E$6:$E$35,\"AP-7\",$AC$6:$AC$35),MAX(IF($E$6:$E$35=\"AP-7\",$AC$6:$AC$35)))","v":0},{"$f":"SUMIF($E$6:$E441,\"AP-7\",$AD$6:$AD$35)","v":0}]
[{"$f":"IF('Facility Information'!$C$21>3,\"AP-4\",\"\")","v":""},null,null,null,null,null,null,null,null,"","",null,{"$f":"IF(E15=\"\",\"\",IF(E15=\"AP-1\",IF('Asphalt Plant (AP-1)'!$C$10>0,'Asphalt Plant (AP-1)'!$C$10,IF('Asphalt Plant (AP-1)'!$C$11>0,'Asphalt Plant (AP-1)'!$C$11*365,\"\")),IF(E15=\"AP-2\",IF(E15=\"AP-2\",IF('Asphalt Plant (AP-2)'!$C$10>0,'Asphalt Plant (AP-2)'!$C$10,IF('Asphalt Plant (AP-2)'!$C$11>0,'Asphalt Plant (AP-2)'!$C$11*365,\"\"))),IF(E15=\"AP-3\",IF(E15=\"AP-3\",IF('Asphalt Plant (AP-3)'!$C$10>0,'Asphalt Plant (AP-3)'!$C$10,IF('Asphalt Plant (AP-3)'!$C$11>0,'Asphalt Plant (AP-3)'!$C$11*365,\"\"))),IF(E15=\"AP-4\",IF(E15=\"AP-4\",IF('Asphalt Plant (AP-4)'!$C$10>0,'Asphalt Plant (AP-4)'!$C$10,IF('Asphalt Plant (AP-4)'!$C$11>0,'Asphalt Plant (AP-4)'!$C$11*365,\"\"))),IF(E15=\"AP-5\",IF(E15=\"AP-5\",IF('Asphalt Plant (AP-5)'!$C$10>0,'Asphalt Plant (AP-5)'!$C$10,IF('Asphalt Plant (AP-5)'!$C$11>0,'Asphalt Plant (AP-5)'!$C$11*365,\"\"))),IF(E15=\"AP-6\",IF(E15=\"AP-6\",IF('Asphalt Plant (AP-6)'!$C$10>0,'Asphalt Plant (AP-6)'!$C$10,IF('Asphalt Plant (AP-6)'!$C$11>0,'Asphalt Plant (AP-6)'!$C$11*365,\"\"))),IF(E15=\"AP-7\",IF(E15=\"AP-7\",IF('Asphalt Plant (AP-7)'!$C$10>0,'Asphalt Plant (AP-7)'!$C$10,IF('Asphalt Plant (AP-7)'!$C$11>0,'Asphalt Plant (AP-7)'!$C$11*365,\"\"))),IF(E15=\"AP-8\",IF(E15=\"AP-8\",IF('Asphalt Plant (AP-8)'!$C$10>0,'Asphalt Plant (AP-8)'!$C$10,IF('Asphalt Plant (AP-8)'!$C$11>0,'Asphalt Plant (AP-8)'!$C$11*365,\"\"))),IF(E15=\"AP-9\",IF(E15=\"AP-9\",IF('Asphalt Plant (AP-9)'!$C$10>0,'Asphalt Plant (AP-9)'!$C$10,IF('Asphalt Plant (AP-9)'!$C$11>0,'Asphalt Plant (AP-9)'!$C$11*365,\"\"))),IF(E15=\"AP-10\",IF(E15=\"AP-10\",IF('Asphalt Plant (AP-10)'!$C$10>0,'Asphalt Plant (AP-10)'!$C$10,IF('Asphalt Plant (AP-10)'!$C$11>0,'Asphalt Plant (AP-10)'!$C$11*365,\"\"))))))))))))))","v":""},null,null,"","","","",null,"","","","","","","","","","","",{"$f":"IF(AND('Asphalt Plant (AP-8)'!$C$11=\"\",'Asphalt Plant (AP-8)'!$C$10=\"\"),SUMIFS($X$6:$X$35,$E$6:$E$35,\"AP-8\",$AE$6:$AE$35,\"x\"),MAX(IF($E$6:$E$35=\"AP-8\",IF($AE$6:$AE$35=\"x\",$X$6:$X$35))))","v":0},{"$f":"IF(AND('Asphalt Plant (AP-8)'!$C$11=\"\",'Asphalt Plant (AP-8)'!$C$10=\"\"),SUMIFS($X$6:$X$35,$E$6:$E$35,\"AP-8\",AE13:AE42,\"\"),MAX(IF($E$6:$E$35=\"AP-8\",IF($AE$6:$AE$35=\"\",$X$6:$X$35))))","v":0},{"$f":"IF(AND('Asphalt Plant (AP-8)'!$C$11=\"\",'Asphalt Plant (AP-8)'!$C$10=\"\"),SUMIFS($AC$6:$AC$35,$E$6:$E$35,\"AP-8\",$AE$6:$AE$35,\"x\"),MAX(IF($E$6:$E$35=\"AP-8\",IF($AE$6:$AE$35=\"x\",$AC$6:$AC$35))))","v":0},{"$f":"IF(AND('Asphalt Plant (AP-8)'!$C$11=\"\",'Asphalt Plant (AP-8)'!$C$10=\"\"),SUMIFS($AC$6:$AC$35,$E$6:$E$35,\"AP-8\",$AE$6:$AE$35,\"\"),MAX(IF($E$6:$E$35=\"AP-8\",IF($AE$6:$AE$35=\"\",$AC$6:$AC$35))))","v":0},null,"AP-8",{"$f":"IF(AND('Asphalt Plant (AP-8)'!$C$11=\"\",'Asphalt Plant (AP-8)'!$C$10=\"\"),SUMIF($E$6:$E$35,\"AP-8\",$X$6:$X$35),MAX(IF($E$6:$E$35=\"AP-8\",$X$6:$X$35)))","v":0},{"$f":"SUMIF($E$6:$E$35,\"AP-8\",$Y$6:$Y$35)","v":0},{"$f":"IF(AND('Asphalt Plant (AP-8)'!$C$11=\"\",'Asphalt Plant (AP-8)'!$C$10=\"\"),SUMIF($E$6:$E$35,\"AP-8\",$AC$6:$AC$35),MAX(IF($E$6:$E$35=\"AP-8\",$AC$6:$AC$35)))","v":0},{"$f":"SUMIF($E$6:$E442,\"AP-8\",$AD$6:$AD$35)","v":0}]
[{"$f":"IF('Facility Information'!$C$21>4,\"AP-5\",\"\")","v":""},null,null,null,null,null,null,null,null,{"$f":"IF(G16=\"\",\"\",(G16*(I16/100)+H16*(1-(I16/100))))","v":""},{"$f":"IF(G16=\"\",\"\",H16-G16)","v":""},null,{"$f":"IF(E16=\"\",\"\",IF(E16=\"AP-1\",IF('Asphalt Plant (AP-1)'!$C$10>0,'Asphalt Plant (AP-1)'!$C$10,IF('Asphalt Plant (AP-1)'!$C$11>0,'Asphalt Plant (AP-1)'!$C$11*365,\"\")),IF(E16=\"AP-2\",IF(E16=\"AP-2\",IF('Asphalt Plant (AP-2)'!$C$10>0,'Asphalt Plant (AP-2)'!$C$10,IF('Asphalt Plant (AP-2)'!$C$11>0,'Asphalt Plant (AP-2)'!$C$11*365,\"\"))),IF(E16=\"AP-3\",IF(E16=\"AP-3\",IF('Asphalt Plant (AP-3)'!$C$10>0,'Asphalt Plant (AP-3)'!$C$10,IF('Asphalt Plant (AP-3)'!$C$11>0,'Asphalt Plant (AP-3)'!$C$11*365,\"\"))),IF(E16=\"AP-4\",IF(E16=\"AP-4\",IF('Asphalt Plant (AP-4)'!$C$10>0,'Asphalt Plant (AP-4)'!$C$10,IF('Asphalt Plant (AP-4)'!$C$11>0,'Asphalt Plant (AP-4)'!$C$11*365,\"\"))),IF(E16=\"AP-5\",IF(E16=\"AP-5\",IF('Asphalt Plant (AP-5)'!$C$10>0,'Asphalt Plant (AP-5)'!$C$10,IF('Asphalt Plant (AP-5)'!$C$11>0,'Asphalt Plant (AP-5)'!$C$11*365,\"\"))),IF(E16=\"AP-6\",IF(E16=\"AP-6\",IF('Asphalt Plant (AP-6)'!$C$10>0,'Asphalt Plant (AP-6)'!$C$10,IF('Asphalt Plant (AP-6)'!$C$11>0,'Asphalt Plant (AP-6)'!$C$11*365,\"\"))),IF(E16=\"AP-7\",IF(E16=\"AP-7\",IF('Asphalt Plant (AP-7)'!$C$10>0,'Asphalt Plant (AP-7)'!$C$10,IF('Asphalt Plant (AP-7)'!$C$11>0,'Asphalt Plant (AP-7)'!$C$11*365,\"\"))),IF(E16=\"AP-8\",IF(E16=\"AP-8\",IF('Asphalt Plant (AP-8)'!$C$10>0,'Asphalt Plant (AP-8)'!$C$10,IF('Asphalt Plant (AP-8)'!$C$11>0,'Asphalt Plant (AP-8)'!$C$11*365,\"\"))),IF(E16=\"AP-9\",IF(E16=\"AP-9\",IF('Asphalt Plant (AP-9)'!$C$10>0,'Asphalt Plant (AP-9)'!$C$10,IF('Asphalt Plant (AP-9)'!$C$11>0,'Asphalt Plant (AP-9)'!$C$11*365,\"\"))),IF(E16=\"AP-10\",IF(E16=\"AP-10\",IF('Asphalt Plant (AP-10)'!$C$10>0,'Asphalt Plant (AP-10)'!$C$10,IF('Asphalt Plant (AP-10)'!$C$11>0,'Asphalt Plant (AP-10)'!$C$11*365,\"\"))))))))))))))","v":""},null,null,"",{"$f":"IF(O16=\"\",\"\",O16/K16)","v":""},"","",null,"","","","","","","","","","",{"$f":"IF(B16=\"unpaved haul road\",\"x\",\"\")","v":""},{"$f":"IF(AND('Asphalt Plant (AP-9)'!$C$11=\"\",'Asphalt Plant (AP-9)'!$C$10=\"\"),SUMIFS($X$6:$X$35,$E$6:$E$35,\"AP-9\",$AE$6:$AE$35,\"x\"),MAX(IF($E$6:$E$35=\"AP-9\",IF($AE$6:$AE$35=\"x\",$X$6:$X$35))))","v":0},{"$f":"IF(AND('Asphalt Plant (AP-9)'!$C$11=\"\",'Asphalt Plant (AP-9)'!$C$10=\"\"),SUMIFS($X$6:$X$35,$E$6:$E$35,\"AP-9\",AE14:AE43,\"\"),MAX(IF($E$6:$E$35=\"AP-9\",IF($AE$6:$AE$35=\"\",$X$6:$X$35))))","v":0},{"$f":"IF(AND('Asphalt Plant (AP-9)'!$C$11=\"\",'Asphalt Plant (AP-9)'!$C$10=\"\"),SUMIFS($AC$6:$AC$35,$E$6:$E$35,\"AP-9\",$AE$6:$AE$35,\"x\"),MAX(IF($E$6:$E$35=\"AP-9\",IF($AE$6:$AE$35=\"x\",$AC$6:$AC$35))))","v":0},{"$f":"IF(AND('Asphalt Plant (AP-9)'!$C$11=\"\",'Asphalt Plant (AP-9)'!$C$10=\"\"),SUMIFS($AC$6:$AC$35,$E$6:$E$35,\"AP-9\",$AE$6:$AE$35,\"\"),MAX(IF($E$6:$E$35=\"AP-9\",IF($AE$6:$AE$35=\"\",$AC$6:$AC$35))))","v":0},null,"AP-9",{"$f":"IF(AND('Asphalt Plant (AP-9)'!$C$11=\"\",'Asphalt Plant (AP-9)'!$C$10=\"\"),SUMIF($E$6:$E$35,\"AP-9\",$X$6:$X$35),MAX(IF($E$6:$E$35=\"AP-9\",$X$6:$X$35)))","v":0},{"$f":"SUMIF($E$6:$E$35,\"AP-9\",$Y$6:$Y$35)","v":0},{"$f":"IF(AND('Asphalt Plant (AP-9)'!$C$11=\"\",'Asphalt Plant (AP-9)'!$C$10=\"\"),SUMIF($E$6:$E$35,\"AP-9\",$AC$6:$AC$35),MAX(IF($E$6:$E$35=\"AP-9\",$AC$6:$AC$35)))","v":0},{"$f":"SUMIF($E$6:$E443,\"AP-9\",$AD$6:$AD$35)","v":0}]
[{"$f":"IF('Facility Information'!$C$21>5,\"AP-6\",\"\")","v":""},null,null,null,null,null,null,null,null,"","",null,{"$f":"IF(E17=\"\",\"\",IF(E17=\"AP-1\",IF('Asphalt Plant (AP-1)'!$C$10>0,'Asphalt Plant (AP-1)'!$C$10,IF('Asphalt Plant (AP-1)'!$C$11>0,'Asphalt Plant (AP-1)'!$C$11*365,\"\")),IF(E17=\"AP-2\",IF(E17=\"AP-2\",IF('Asphalt Plant (AP-2)'!$C$10>0,'Asphalt Plant (AP-2)'!$C$10,IF('Asphalt Plant (AP-2)'!$C$11>0,'Asphalt Plant (AP-2)'!$C$11*365,\"\"))),IF(E17=\"AP-3\",IF(E17=\"AP-3\",IF('Asphalt Plant (AP-3)'!$C$10>0,'Asphalt Plant (AP-3)'!$C$10,IF('Asphalt Plant (AP-3)'!$C$11>0,'Asphalt Plant (AP-3)'!$C$11*365,\"\"))),IF(E17=\"AP-4\",IF(E17=\"AP-4\",IF('Asphalt Plant (AP-4)'!$C$10>0,'Asphalt Plant (AP-4)'!$C$10,IF('Asphalt Plant (AP-4)'!$C$11>0,'Asphalt Plant (AP-4)'!$C$11*365,\"\"))),IF(E17=\"AP-5\",IF(E17=\"AP-5\",IF('Asphalt Plant (AP-5)'!$C$10>0,'Asphalt Plant (AP-5)'!$C$10,IF('Asphalt Plant (AP-5)'!$C$11>0,'Asphalt Plant (AP-5)'!$C$11*365,\"\"))),IF(E17=\"AP-6\",IF(E17=\"AP-6\",IF('Asphalt Plant (AP-6)'!$C$10>0,'Asphalt Plant (AP-6)'!$C$10,IF('Asphalt Plant (AP-6)'!$C$11>0,'Asphalt Plant (AP-6)'!$C$11*365,\"\"))),IF(E17=\"AP-7\",IF(E17=\"AP-7\",IF('Asphalt Plant (AP-7)'!$C$10>0,'Asphalt Plant (AP-7)'!$C$10,IF('Asphalt Plant (AP-7)'!$C$11>0,'Asphalt Plant (AP-7)'!$C$11*365,\"\"))),IF(E17=\"AP-8\",IF(E17=\"AP-8\",IF('Asphalt Plant (AP-8)'!$C$10>0,'Asphalt Plant (AP-8)'!$C$10,IF('Asphalt Plant (AP-8)'!$C$11>0,'Asphalt Plant (AP-8)'!$C$11*365,\"\"))),IF(E17=\"AP-9\",IF(E17=\"AP-9\",IF('Asphalt Plant (AP-9)'!$C$10>0,'Asphalt Plant (AP-9)'!$C$10,IF('Asphalt Plant (AP-9)'!$C$11>0,'Asphalt Plant (AP-9)'!$C$11*365,\"\"))),IF(E17=\"AP-10\",IF(E17=\"AP-10\",IF('Asphalt Plant (AP-10)'!$C$10>0,'Asphalt Plant (AP-10)'!$C$10,IF('Asphalt Plant (AP-10)'!$C$11>0,'Asphalt Plant (AP-10)'!$C$11*365,\"\"))))))))))))))","v":""},null,null,"","","","",null,"","","","","","","","","","","",{"$f":"IF(AND('Asphalt Plant (AP-10)'!$C$11=\"\",'Asphalt Plant (AP-10)'!$C$10=\"\"),SUMIFS($X$6:$X$35,$E$6:$E$35,\"AP-10\",$AE$6:$AE$35,\"x\"),MAX(IF($E$6:$E$35=\"AP-10\",IF($AE$6:$AE$35=\"x\",$X$6:$X$35))))","v":0},{"$f":"IF(AND('Asphalt Plant (AP-10)'!$C$11=\"\",'Asphalt Plant (AP-10)'!$C$10=\"\"),SUMIFS($X$6:$X$35,$E$6:$E$35,\"AP-10\",AE15:AE44,\"\"),MAX(IF($E$6:$E$35=\"AP-10\",IF($AE$6:$AE$35=\"\",$X$6:$X$35))))","v":0},{"$f":"IF(AND('Asphalt Plant (AP-10)'!$C$11=\"\",'Asphalt Plant (AP-10)'!$C$10=\"\"),SUMIFS($AC$6:$AC$35,$E$6:$E$35,\"AP-10\",$AE$6:$AE$35,\"x\"),MAX(IF($E$6:$E$35=\"AP-10\",IF($AE$6:$AE$35=\"x\",$AC$6:$AC$35))))","v":0},{"$f":"IF(AND('Asphalt Plant (AP-10)'!$C$11=\"\",'Asphalt Plant (AP-10)'!$C$10=\"\"),SUMIFS($AC$6:$AC$35,$E$6:$E$35,\"AP-10\",$AE$6:$AE$35,\"\"),MAX(IF($E$6:$E$35=\"AP-10\",IF($AE$6:$AE$35=\"\",$AC$6:$AC$35))))","v":0},null,"AP-10",{"$f":"IF(AND('Asphalt Plant (AP-10)'!$C$11=\"\",'Asphalt Plant (AP-10)'!$C$10=\"\"),SUMIF($E$6:$E$35,\"AP-10\",$X$6:$X$35),MAX(IF($E$6:$E$35=\"AP-10\",$X$6:$X$35)))","v":0},{"$f":"SUMIF($E$6:$E$35,\"AP-10\",$Y$6:$Y$35)","v":0},{"$f":"IF(AND('Asphalt Plant (AP-10)'!$C$11=\"\",'Asphalt Plant (AP-10)'!$C$10=\"\"),SUMIF($E$6:$E$35,\"AP-10\",$AC$6:$AC$35),MAX(IF($E$6:$E$35=\"AP-10\",$AC$6:$AC$35)))","v":0},{"$f":"SUMIF($E$6:$E444,\"AP-10\",$AD$6:$AD$35)","v":0}]
[{"$f":"IF('Facility Information'!$C$21>6,\"AP-7\",\"\")","v":""},null,null,null,null,null,null,null,null,"","",null,{"$f":"IF(E18=\"\",\"\",IF(E18=\"AP-1\",IF('Asphalt Plant (AP-1)'!$C$10>0,'Asphalt Plant (AP-1)'!$C$10,IF('Asphalt Plant (AP-1)'!$C$11>0,'Asphalt Plant (AP-1)'!$C$11*365,\"\")),IF(E18=\"AP-2\",IF(E18=\"AP-2\",IF('Asphalt Plant (AP-2)'!$C$10>0,'Asphalt Plant (AP-2)'!$C$10,IF('Asphalt Plant (AP-2)'!$C$11>0,'Asphalt Plant (AP-2)'!$C$11*365,\"\"))),IF(E18=\"AP-3\",IF(E18=\"AP-3\",IF('Asphalt Plant (AP-3)'!$C$10>0,'Asphalt Plant (AP-3)'!$C$10,IF('Asphalt Plant (AP-3)'!$C$11>0,'Asphalt Plant (AP-3)'!$C$11*365,\"\"))),IF(E18=\"AP-4\",IF(E18=\"AP-4\",IF('Asphalt Plant (AP-4)'!$C$10>0,'Asphalt Plant (AP-4)'!$C$10,IF('Asphalt Plant (AP-4)'!$C$11>0,'Asphalt Plant (AP-4)'!$C$11*365,\"\"))),IF(E18=\"AP-5\",IF(E18=\"AP-5\",IF('Asphalt Plant (AP-5)'!$C$10>0,'Asphalt Plant (AP-5)'!$C$10,IF('Asphalt Plant (AP-5)'!$C$11>0,'Asphalt Plant (AP-5)'!$C$11*365,\"\"))),IF(E18=\"AP-6\",IF(E18=\"AP-6\",IF('Asphalt Plant (AP-6)'!$C$10>0,'Asphalt Plant (AP-6)'!$C$10,IF('Asphalt Plant (AP-6)'!$C$11>0,'Asphalt Plant (AP-6)'!$C$11*365,\"\"))),IF(E18=\"AP-7\",IF(E18=\"AP-7\",IF('Asphalt Plant (AP-7)'!$C$10>0,'Asphalt Plant (AP-7)'!$C$10,IF('Asphalt Plant (AP-7)'!$C$11>0,'Asphalt Plant (AP-7)'!$C$11*365,\"\"))),IF(E18=\"AP-8\",IF(E18=\"AP-8\",IF('Asphalt Plant (AP-8)'!$C$10>0,'Asphalt Plant (AP-8)'!$C$10,IF('Asphalt Plant (AP-8)'!$C$11>0,'Asphalt Plant (AP-8)'!$C$11*365,\"\"))),IF(E18=\"AP-9\",IF(E18=\"AP-9\",IF('Asphalt Plant (AP-9)'!$C$10>0,'Asphalt Plant (AP-9)'!$C$10,IF('Asphalt Plant (AP-9)'!$C$11>0,'Asphalt Plant (AP-9)'!$C$11*365,\"\"))),IF(E18=\"AP-10\",IF(E18=\"AP-10\",IF('Asphalt Plant (AP-10)'!$C$10>0,'Asphalt Plant (AP-10)'!$C$10,IF('Asphalt Plant (AP-10)'!$C$11>0,'Asphalt Plant (AP-10)'!$C$11*365,\"\"))))))))))))))","v":""},null,null,"","","","",null,"","","","","","","","","","",""]
[{"$f":"IF('Facility Information'!$C$21>7,\"AP-8\",\"\")","v":""},null,null,null,null,null,null,null,null,"","",null,{"$f":"IF(E19=\"\",\"\",IF(E19=\"AP-1\",IF('Asphalt Plant (AP-1)'!$C$10>0,'Asphalt Plant (AP-1)'!$C$10,IF('Asphalt Plant (AP-1)'!$C$11>0,'Asphalt Plant (AP-1)'!$C$11*365,\"\")),IF(E19=\"AP-2\",IF(E19=\"AP-2\",IF('Asphalt Plant (AP-2)'!$C$10>0,'Asphalt Plant (AP-2)'!$C$10,IF('Asphalt Plant (AP-2)'!$C$11>0,'Asphalt Plant (AP-2)'!$C$11*365,\"\"))),IF(E19=\"AP-3\",IF(E19=\"AP-3\",IF('Asphalt Plant (AP-3)'!$C$10>0,'Asphalt Plant (AP-3)'!$C$10,IF('Asphalt Plant (AP-3)'!$C$11>0,'Asphalt Plant (AP-3)'!$C$11*365,\"\"))),IF(E19=\"AP-4\",IF(E19=\"AP-4\",IF('Asphalt Plant (AP-4)'!$C$10>0,'Asphalt Plant (AP-4)'!$C$10,IF('Asphalt Plant (AP-4)'!$C$11>0,'Asphalt Plant (AP-4)'!$C$11*365,\"\"))),IF(E19=\"AP-5\",IF(E19=\"AP-5\",IF('Asphalt Plant (AP-5)'!$C$10>0,'Asphalt Plant (AP-5)'!$C$10,IF('Asphalt Plant (AP-5)'!$C$11>0,'Asphalt Plant (AP-5)'!$C$11*365,\"\"))),IF(E19=\"AP-6\",IF(E19=\"AP-6\",IF('Asphalt Plant (AP-6)'!$C$10>0,'Asphalt Plant (AP-6)'!$C$10,IF('Asphalt Plant (AP-6)'!$C$11>0,'Asphalt Plant (AP-6)'!$C$11*365,\"\"))),IF(E19=\"AP-7\",IF(E19=\"AP-7\",IF('Asphalt Plant (AP-7)'!$C$10>0,'Asphalt Plant (AP-7)'!$C$10,IF('Asphalt Plant (AP-7)'!$C$11>0,'Asphalt Plant (AP-7)'!$C$11*365,\"\"))),IF(E19=\"AP-8\",IF(E19=\"AP-8\",IF('Asphalt Plant (AP-8)'!$C$10>0,'Asphalt Plant (AP-8)'!$C$10,IF('Asphalt Plant (AP-8)'!$C$11>0,'Asphalt Plant (AP-8)'!$C$11*365,\"\"))),IF(E19=\"AP-9\",IF(E19=\"AP-9\",IF('Asphalt Plant (AP-9)'!$C$10>0,'Asphalt Plant (AP-9)'!$C$10,IF('Asphalt Plant (AP-9)'!$C$11>0,'Asphalt Plant (AP-9)'!$C$11*365,\"\"))),IF(E19=\"AP-10\",IF(E19=\"AP-10\",IF('Asphalt Plant (AP-10)'!$C$10>0,'Asphalt Plant (AP-10)'!$C$10,IF('Asphalt Plant (AP-10)'!$C$11>0,'Asphalt Plant (AP-10)'!$C$11*365,\"\"))))))))))))))","v":""},null,null,"","","","",null,"","","","","","","","","","","","AP-1",{"$f":"IF('Asphalt Plant (AP-1)'!$C$10>0,'Asphalt Plant (AP-1)'!$C$10,IF('Asphalt Plant (AP-1)'!$C$11>0,'Asphalt Plant (AP-1)'!$C$11*365,\"\"))","v":""}]
[{"$f":"IF('Facility Information'!$C$21>8,\"AP-9\",\"\")","v":""},null,null,null,null,null,null,null,null,"","",null,{"$f":"IF(E20=\"\",\"\",IF(E20=\"AP-1\",IF('Asphalt Plant (AP-1)'!$C$10>0,'Asphalt Plant (AP-1)'!$C$10,IF('Asphalt Plant (AP-1)'!$C$11>0,'Asphalt Plant (AP-1)'!$C$11*365,\"\")),IF(E20=\"AP-2\",IF(E20=\"AP-2\",IF('Asphalt Plant (AP-2)'!$C$10>0,'Asphalt Plant (AP-2)'!$C$10,IF('Asphalt Plant (AP-2)'!$C$11>0,'Asphalt Plant (AP-2)'!$C$11*365,\"\"))),IF(E20=\"AP-3\",IF(E20=\"AP-3\",IF('Asphalt Plant (AP-3)'!$C$10>0,'Asphalt Plant (AP-3)'!$C$10,IF('Asphalt Plant (AP-3)'!$C$11>0,'Asphalt Plant (AP-3)'!$C$11*365,\"\"))),IF(E20=\"AP-4\",IF(E20=\"AP-4\",IF('Asphalt Plant (AP-4)'!$C$10>0,'Asphalt Plant (AP-4)'!$C$10,IF('Asphalt Plant (AP-4)'!$C$11>0,'Asphalt Plant (AP-4)'!$C$11*365,\"\"))),IF(E20=\"AP-5\",IF(E20=\"AP-5\",IF('Asphalt Plant (AP-5)'!$C$10>0,'Asphalt Plant (AP-5)'!$C$10,IF('Asphalt Plant (AP-5)'!$C$11>0,'Asphalt Plant (AP-5)'!$C$11*365,\"\"))),IF(E20=\"AP-6\",IF(E20=\"AP-6\",IF('Asphalt Plant (AP-6)'!$C$10>0,'Asphalt Plant (AP-6)'!$C$10,IF('Asphalt Plant (AP-6)'!$C$11>0,'Asphalt Plant (AP-6)'!$C$11*365,\"\"))),IF(E20=\"AP-7\",IF(E20=\"AP-7\",IF('Asphalt Plant (AP-7)'!$C$10>0,'Asphalt Plant (AP-7)'!$C$10,IF('Asphalt Plant (AP-7)'!$C$11>0,'Asphalt Plant (AP-7)'!$C$11*365,\"\"))),IF(E20=\"AP-8\",IF(E20=\"AP-8\",IF('Asphalt Plant (AP-8)'!$C$10>0,'Asphalt Plant (AP-8)'!$C$10,IF('Asphalt Plant (AP-8)'!$C$11>0,'Asphalt Plant (AP-8)'!$C$11*365,\"\"))),IF(E20=\"AP-9\",IF(E20=\"AP-9\",IF('Asphalt Plant (AP-9)'!$C$10>0,'Asphalt Plant (AP-9)'!$C$10,IF('Asphalt Plant (AP-9)'!$C$11>0,'Asphalt Plant (AP-9)'!$C$11*365,\"\"))),IF(E20=\"AP-10\",IF(E20=\"AP-10\",IF('Asphalt Plant (AP-10)'!$C$10>0,'Asphalt Plant (AP-10)'!$C$10,IF('Asphalt Plant (AP-10)'!$C$11>0,'Asphalt Plant (AP-10)'!$C$11*365,\"\"))))))))))))))","v":""},null,null,"","","","",null,"","","","","","","","","","","","AP-2",{"$f":"IF('Asphalt Plant (AP-2)'!$C$10>0,'Asphalt Plant (AP-2)'!$C$10,IF('Asphalt Plant (AP-2)'!$C$11>0,'Asphalt Plant (AP-2)'!$C$11*365,\"\"))","v":""}]
[{"$f":"IF('Facility Information'!$C$21>9,\"AP-10\",\"\")","v":""},null,null,null,null,null,null,null,null,"","",null,{"$f":"IF(E21=\"\",\"\",IF(E21=\"AP-1\",IF('Asphalt Plant (AP-1)'!$C$10>0,'Asphalt Plant (AP-1)'!$C$10,IF('Asphalt Plant (AP-1)'!$C$11>0,'Asphalt Plant (AP-1)'!$C$11*365,\"\")),IF(E21=\"AP-2\",IF(E21=\"AP-2\",IF('Asphalt Plant (AP-2)'!$C$10>0,'Asphalt Plant (AP-2)'!$C$10,IF('Asphalt Plant (AP-2)'!$C$11>0,'Asphalt Plant (AP-2)'!$C$11*365,\"\"))),IF(E21=\"AP-3\",IF(E21=\"AP-3\",IF('Asphalt Plant (AP-3)'!$C$10>0,'Asphalt Plant (AP-3)'!$C$10,IF('Asphalt Plant (AP-3)'!$C$11>0,'Asphalt Plant (AP-3)'!$C$11*365,\"\"))),IF(E21=\"AP-4\",IF(E21=\"AP-4\",IF('Asphalt Plant (AP-4)'!$C$10>0,'Asphalt Plant (AP-4)'!$C$10,IF('Asphalt Plant (AP-4)'!$C$11>0,'Asphalt Plant (AP-4)'!$C$11*365,\"\"))),IF(E21=\"AP-5\",IF(E21=\"AP-5\",IF('Asphalt Plant (AP-5)'!$C$10>0,'Asphalt Plant (AP-5)'!$C$10,IF('Asphalt Plant (AP-5)'!$C$11>0,'Asphalt Plant (AP-5)'!$C$11*365,\"\"))),IF(E21=\"AP-6\",IF(E21=\"AP-6\",IF('Asphalt Plant (AP-6)'!$C$10>0,'Asphalt Plant (AP-6)'!$C$10,IF('Asphalt Plant (AP-6)'!$C$11>0,'Asphalt Plant (AP-6)'!$C$11*365,\"\"))),IF(E21=\"AP-7\",IF(E21=\"AP-7\",IF('Asphalt Plant (AP-7)'!$C$10>0,'Asphalt Plant (AP-7)'!$C$10,IF('Asphalt Plant (AP-7)'!$C$11>0,'Asphalt Plant (AP-7)'!$C$11*365,\"\"))),IF(E21=\"AP-8\",IF(E21=\"AP-8\",IF('Asphalt Plant (AP-8)'!$C$10>0,'Asphalt Plant (AP-8)'!$C$10,IF('Asphalt Plant (AP-8)'!$C$11>0,'Asphalt Plant (AP-8)'!$C$11*365,\"\"))),IF(E21=\"AP-9\",IF(E21=\"AP-9\",IF('Asphalt Plant (AP-9)'!$C$10>0,'Asphalt Plant (AP-9)'!$C$10,IF('Asphalt Plant (AP-9)'!$C$11>0,'Asphalt Plant (AP-9)'!$C$11*365,\"\"))),IF(E21=\"AP-10\",IF(E21=\"AP-10\",IF('Asphalt Plant (AP-10)'!$C$10>0,'Asphalt Plant (AP-10)'!$C$10,IF('Asphalt Plant (AP-10)'!$C$11>0,'Asphalt Plant (AP-10)'!$C$11*365,\"\"))))))))))))))","v":""},null,null,"","","","",null,"","","","","","","","","","","","AP-3",{"$f":"IF('Asphalt Plant (AP-3)'!$C$10>0,'Asphalt Plant (AP-3)'!$C$10,IF('Asphalt Plant (AP-3)'!$C$11>0,'Asphalt Plant (AP-3)'!$C$11*365,\"\"))","v":""}]
[null,null,null,null,null,null,null,null,null,"","",null,{"$f":"IF(E22=\"\",\"\",IF(E22=\"AP-1\",IF('Asphalt Plant (AP-1)'!$C$10>0,'Asphalt Plant (AP-1)'!$C$10,IF('Asphalt Plant (AP-1)'!$C$11>0,'Asphalt Plant (AP-1)'!$C$11*365,\"\")),IF(E22=\"AP-2\",IF(E22=\"AP-2\",IF('Asphalt Plant (AP-2)'!$C$10>0,'Asphalt Plant (AP-2)'!$C$10,IF('Asphalt Plant (AP-2)'!$C$11>0,'Asphalt Plant (AP-2)'!$C$11*365,\"\"))),IF(E22=\"AP-3\",IF(E22=\"AP-3\",IF('Asphalt Plant (AP-3)'!$C$10>0,'Asphalt Plant (AP-3)'!$C$10,IF('Asphalt Plant (AP-3)'!$C$11>0,'Asphalt Plant (AP-3)'!$C$11*365,\"\"))),IF(E22=\"AP-4\",IF(E22=\"AP-4\",IF('Asphalt Plant (AP-4)'!$C$10>0,'Asphalt Plant (AP-4)'!$C$10,IF('Asphalt Plant (AP-4)'!$C$11>0,'Asphalt Plant (AP-4)'!$C$11*365,\"\"))),IF(E22=\"AP-5\",IF(E22=\"AP-5\",IF('Asphalt Plant (AP-5)'!$C$10>0,'Asphalt Plant (AP-5)'!$C$10,IF('Asphalt Plant (AP-5)'!$C$11>0,'Asphalt Plant (AP-5)'!$C$11*365,\"\"))),IF(E22=\"AP-6\",IF(E22=\"AP-6\",IF('Asphalt Plant (AP-6)'!$C$10>0,'Asphalt Plant (AP-6)'!$C$10,IF('Asphalt Plant (AP-6)'!$C$11>0,'Asphalt Plant (AP-6)'!$C$11*365,\"\"))),IF(E22=\"AP-7\",IF(E22=\"AP-7\",IF('Asphalt Plant (AP-7)'!$C$10>0,'Asphalt Plant (AP-7)'!$C$10,IF('Asphalt Plant (AP-7)'!$C$11>0,'Asphalt Plant (AP-7)'!$C$11*365,\"\"))),IF(E22=\"AP-8\",IF(E22=\"AP-8\",IF('Asphalt Plant (AP-8)'!$C$10>0,'Asphalt Plant (AP-8)'!$C$10,IF('Asphalt Plant (AP-8)'!$C$11>0,'Asphalt Plant (AP-8)'!$C$11*365,\"\"))),IF(E22=\"AP-9\",IF(E22=\"AP-9\",IF('Asphalt Plant (AP-9)'!$C$10>0,'Asphalt Plant (AP-9)'!$C$10,IF('Asphalt Plant (AP-9)'!$C$11>0,'Asphalt Plant (AP-9)'!$C$11*365,\"\"))),IF(E22=\"AP-10\",IF(E22=\"AP-10\",IF('Asphalt Plant (AP-10)'!$C$10>0,'Asphalt Plant (AP-10)'!$C$10,IF('Asphalt Plant (AP-10)'!$C$11>0,'Asphalt Plant (AP-10)'!$C$11*365,\"\"))))))))))))))","v":""},null,null,"","","","",null,"","","","","","","","","","","","AP-4",{"$f":"IF('Asphalt Plant (AP-4)'!$C$10>0,'Asphalt Plant (AP-4)'!$C$10,IF('Asphalt Plant (AP-4)'!$C$11>0,'Asphalt Plant (AP-4)'!$C$11*365,\"\"))","v":""}]
[null,null,null,null,null,null,null,null,null,"","",null,{"$f":"IF(E23=\"\",\"\",IF(E23=\"AP-1\",IF('Asphalt Plant (AP-1)'!$C$10>0,'Asphalt Plant (AP-1)'!$C$10,IF('Asphalt Plant (AP-1)'!$C$11>0,'Asphalt Plant (AP-1)'!$C$11*365,\"\")),IF(E23=\"AP-2\",IF(E23=\"AP-2\",IF('Asphalt Plant (AP-2)'!$C$10>0,'Asphalt Plant (AP-2)'!$C$10,IF('Asphalt Plant (AP-2)'!$C$11>0,'Asphalt Plant (AP-2)'!$C$11*365,\"\"))),IF(E23=\"AP-3\",IF(E23=\"AP-3\",IF('Asphalt Plant (AP-3)'!$C$10>0,'Asphalt Plant (AP-3)'!$C$10,IF('Asphalt Plant (AP-3)'!$C$11>0,'Asphalt Plant (AP-3)'!$C$11*365,\"\"))),IF(E23=\"AP-4\",IF(E23=\"AP-4\",IF('Asphalt Plant (AP-4)'!$C$10>0,'Asphalt Plant (AP-4)'!$C$10,IF('Asphalt Plant (AP-4)'!$C$11>0,'Asphalt Plant (AP-4)'!$C$11*365,\"\"))),IF(E23=\"AP-5\",IF(E23=\"AP-5\",IF('Asphalt Plant (AP-5)'!$C$10>0,'Asphalt Plant (AP-5)'!$C$10,IF('Asphalt Plant (AP-5)'!$C$11>0,'Asphalt Plant (AP-5)'!$C$11*365,\"\"))),IF(E23=\"AP-6\",IF(E23=\"AP-6\",IF('Asphalt Plant (AP-6)'!$C$10>0,'Asphalt Plant (AP-6)'!$C$10,IF('Asphalt Plant (AP-6)'!$C$11>0,'Asphalt Plant (AP-6)'!$C$11*365,\"\"))),IF(E23=\"AP-7\",IF(E23=\"AP-7\",IF('Asphalt Plant (AP-7)'!$C$10>0,'Asphalt Plant (AP-7)'!$C$10,IF('Asphalt Plant (AP-7)'!$C$11>0,'Asphalt Plant (AP-7)'!$C$11*365,\"\"))),IF(E23=\"AP-8\",IF(E23=\"AP-8\",IF('Asphalt Plant (AP-8)'!$C$10>0,'Asphalt Plant (AP-8)'!$C$10,IF('Asphalt Plant (AP-8)'!$C$11>0,'Asphalt Plant (AP-8)'!$C$11*365,\"\"))),IF(E23=\"AP-9\",IF(E23=\"AP-9\",IF('Asphalt Plant (AP-9)'!$C$10>0,'Asphalt Plant (AP-9)'!$C$10,IF('Asphalt Plant (AP-9)'!$C$11>0,'Asphalt Plant (AP-9)'!$C$11*365,\"\"))),IF(E23=\"AP-10\",IF(E23=\"AP-10\",IF('Asphalt Plant (AP-10)'!$C$10>0,'Asphalt Plant (AP-10)'!$C$10,IF('Asphalt Plant (AP-10)'!$C$11>0,'Asphalt Plant (AP-10)'!$C$11*365,\"\"))))))))))))))","v":""},null,null,"","","","",null,"","","","","","","","","","","","AP-5",{"$f":"IF('Asphalt Plant (AP-5)'!$C$10>0,'Asphalt Plant (AP-5)'!$C$10,IF('Asphalt Plant (AP-5)'!$C$11>0,'Asphalt Plant (AP-5)'!$C$11*365,\"\"))","v":""}]
[null,null,null,null,null,null,null,null,null,"","",null,{"$f":"IF(E24=\"\",\"\",IF(E24=\"AP-1\",IF('Asphalt Plant (AP-1)'!$C$10>0,'Asphalt Plant (AP-1)'!$C$10,IF('Asphalt Plant (AP-1)'!$C$11>0,'Asphalt Plant (AP-1)'!$C$11*365,\"\")),IF(E24=\"AP-2\",IF(E24=\"AP-2\",IF('Asphalt Plant (AP-2)'!$C$10>0,'Asphalt Plant (AP-2)'!$C$10,IF('Asphalt Plant (AP-2)'!$C$11>0,'Asphalt Plant (AP-2)'!$C$11*365,\"\"))),IF(E24=\"AP-3\",IF(E24=\"AP-3\",IF('Asphalt Plant (AP-3)'!$C$10>0,'Asphalt Plant (AP-3)'!$C$10,IF('Asphalt Plant (AP-3)'!$C$11>0,'Asphalt Plant (AP-3)'!$C$11*365,\"\"))),IF(E24=\"AP-4\",IF(E24=\"AP-4\",IF('Asphalt Plant (AP-4)'!$C$10>0,'Asphalt Plant (AP-4)'!$C$10,IF('Asphalt Plant (AP-4)'!$C$11>0,'Asphalt Plant (AP-4)'!$C$11*365,\"\"))),IF(E24=\"AP-5\",IF(E24=\"AP-5\",IF('Asphalt Plant (AP-5)'!$C$10>0,'Asphalt Plant (AP-5)'!$C$10,IF('Asphalt Plant (AP-5)'!$C$11>0,'Asphalt Plant (AP-5)'!$C$11*365,\"\"))),IF(E24=\"AP-6\",IF(E24=\"AP-6\",IF('Asphalt Plant (AP-6)'!$C$10>0,'Asphalt Plant (AP-6)'!$C$10,IF('Asphalt Plant (AP-6)'!$C$11>0,'Asphalt Plant (AP-6)'!$C$11*365,\"\"))),IF(E24=\"AP-7\",IF(E24=\"AP-7\",IF('Asphalt Plant (AP-7)'!$C$10>0,'Asphalt Plant (AP-7)'!$C$10,IF('Asphalt Plant (AP-7)'!$C$11>0,'Asphalt Plant (AP-7)'!$C$11*365,\"\"))),IF(E24=\"AP-8\",IF(E24=\"AP-8\",IF('Asphalt Plant (AP-8)'!$C$10>0,'Asphalt Plant (AP-8)'!$C$10,IF('Asphalt Plant (AP-8)'!$C$11>0,'Asphalt Plant (AP-8)'!$C$11*365,\"\"))),IF(E24=\"AP-9\",IF(E24=\"AP-9\",IF('Asphalt Plant (AP-9)'!$C$10>0,'Asphalt Plant (AP-9)'!$C$10,IF('Asphalt Plant (AP-9)'!$C$11>0,'Asphalt Plant (AP-9)'!$C$11*365,\"\"))),IF(E24=\"AP-10\",IF(E24=\"AP-10\",IF('Asphalt Plant (AP-10)'!$C$10>0,'Asphalt Plant (AP-10)'!$C$10,IF('Asphalt Plant (AP-10)'!$C$11>0,'Asphalt Plant (AP-10)'!$C$11*365,\"\"))))))))))))))","v":""},null,null,"","","","",null,"","","","","","","","","","","","AP-6",{"$f":"IF('Asphalt Plant (AP-6)'!$C$10>0,'Asphalt Plant (AP-6)'!$C$10,IF('Asphalt Plant (AP-6)'!$C$11>0,'Asphalt Plant (AP-6)'!$C$11*365,\"\"))","v":""}]
[null,null,null,null,null,null,null,null,null,"","",null,{"$f":"IF(E25=\"\",\"\",IF(E25=\"AP-1\",IF('Asphalt Plant (AP-1)'!$C$10>0,'Asphalt Plant (AP-1)'!$C$10,IF('Asphalt Plant (AP-1)'!$C$11>0,'Asphalt Plant (AP-1)'!$C$11*365,\"\")),IF(E25=\"AP-2\",IF(E25=\"AP-2\",IF('Asphalt Plant (AP-2)'!$C$10>0,'Asphalt Plant (AP-2)'!$C$10,IF('Asphalt Plant (AP-2)'!$C$11>0,'Asphalt Plant (AP-2)'!$C$11*365,\"\"))),IF(E25=\"AP-3\",IF(E25=\"AP-3\",IF('Asphalt Plant (AP-3)'!$C$10>0,'Asphalt Plant (AP-3)'!$C$10,IF('Asphalt Plant (AP-3)'!$C$11>0,'Asphalt Plant (AP-3)'!$C$11*365,\"\"))),IF(E25=\"AP-4\",IF(E25=\"AP-4\",IF('Asphalt Plant (AP-4)'!$C$10>0,'Asphalt Plant (AP-4)'!$C$10,IF('Asphalt Plant (AP-4)'!$C$11>0,'Asphalt Plant (AP-4)'!$C$11*365,\"\"))),IF(E25=\"AP-5\",IF(E25=\"AP-5\",IF('Asphalt Plant (AP-5)'!$C$10>0,'Asphalt Plant (AP-5)'!$C$10,IF('Asphalt Plant (AP-5)'!$C$11>0,'Asphalt Plant (AP-5)'!$C$11*365,\"\"))),IF(E25=\"AP-6\",IF(E25=\"AP-6\",IF('Asphalt Plant (AP-6)'!$C$10>0,'Asphalt Plant (AP-6)'!$C$10,IF('Asphalt Plant (AP-6)'!$C$11>0,'Asphalt Plant (AP-6)'!$C$11*365,\"\"))),IF(E25=\"AP-7\",IF(E25=\"AP-7\",IF('Asphalt Plant (AP-7)'!$C$10>0,'Asphalt Plant (AP-7)'!$C$10,IF('Asphalt Plant (AP-7)'!$C$11>0,'Asphalt Plant (AP-7)'!$C$11*365,\"\"))),IF(E25=\"AP-8\",IF(E25=\"AP-8\",IF('Asphalt Plant (AP-8)'!$C$10>0,'Asphalt Plant (AP-8)'!$C$10,IF('Asphalt Plant (AP-8)'!$C$11>0,'Asphalt Plant (AP-8)'!$C$11*365,\"\"))),IF(E25=\"AP-9\",IF(E25=\"AP-9\",IF('Asphalt Plant (AP-9)'!$C$10>0,'Asphalt Plant (AP-9)'!$C$10,IF('Asphalt Plant (AP-9)'!$C$11>0,'Asphalt Plant (AP-9)'!$C$11*365,\"\"))),IF(E25=\"AP-10\",IF(E25=\"AP-10\",IF('Asphalt Plant (AP-10)'!$C$10>0,'Asphalt Plant (AP-10)'!$C$10,IF('Asphalt Plant (AP-10)'!$C$11>0,'Asphalt Plant (AP-10)'!$C$11*365,\"\"))))))))))))))","v":""},null,null,"","","","",null,"","","","","","","","","","","","AP-7",{"$f":"IF('Asphalt Plant (AP-7)'!$C$10>0,'Asphalt Plant (AP-7)'!$C$10,IF('Asphalt Plant (AP-7)'!$C$11>0,'Asphalt Plant (AP-7)'!$C$11*365,\"\"))","v":""}]
[null,null,null,null,null,null,null,null,null,"","",null,{"$f":"IF(E26=\"\",\"\",IF(E26=\"AP-1\",IF('Asphalt Plant (AP-1)'!$C$10>0,'Asphalt Plant (AP-1)'!$C$10,IF('Asphalt Plant (AP-1)'!$C$11>0,'Asphalt Plant (AP-1)'!$C$11*365,\"\")),IF(E26=\"AP-2\",IF(E26=\"AP-2\",IF('Asphalt Plant (AP-2)'!$C$10>0,'Asphalt Plant (AP-2)'!$C$10,IF('Asphalt Plant (AP-2)'!$C$11>0,'Asphalt Plant (AP-2)'!$C$11*365,\"\"))),IF(E26=\"AP-3\",IF(E26=\"AP-3\",IF('Asphalt Plant (AP-3)'!$C$10>0,'Asphalt Plant (AP-3)'!$C$10,IF('Asphalt Plant (AP-3)'!$C$11>0,'Asphalt Plant (AP-3)'!$C$11*365,\"\"))),IF(E26=\"AP-4\",IF(E26=\"AP-4\",IF('Asphalt Plant (AP-4)'!$C$10>0,'Asphalt Plant (AP-4)'!$C$10,IF('Asphalt Plant (AP-4)'!$C$11>0,'Asphalt Plant (AP-4)'!$C$11*365,\"\"))),IF(E26=\"AP-5\",IF(E26=\"AP-5\",IF('Asphalt Plant (AP-5)'!$C$10>0,'Asphalt Plant (AP-5)'!$C$10,IF('Asphalt Plant (AP-5)'!$C$11>0,'Asphalt Plant (AP-5)'!$C$11*365,\"\"))),IF(E26=\"AP-6\",IF(E26=\"AP-6\",IF('Asphalt Plant (AP-6)'!$C$10>0,'Asphalt Plant (AP-6)'!$C$10,IF('Asphalt Plant (AP-6)'!$C$11>0,'Asphalt Plant (AP-6)'!$C$11*365,\"\"))),IF(E26=\"AP-7\",IF(E26=\"AP-7\",IF('Asphalt Plant (AP-7)'!$C$10>0,'Asphalt Plant (AP-7)'!$C$10,IF('Asphalt Plant (AP-7)'!$C$11>0,'Asphalt Plant (AP-7)'!$C$11*365,\"\"))),IF(E26=\"AP-8\",IF(E26=\"AP-8\",IF('Asphalt Plant (AP-8)'!$C$10>0,'Asphalt Plant (AP-8)'!$C$10,IF('Asphalt Plant (AP-8)'!$C$11>0,'Asphalt Plant (AP-8)'!$C$11*365,\"\"))),IF(E26=\"AP-9\",IF(E26=\"AP-9\",IF('Asphalt Plant (AP-9)'!$C$10>0,'Asphalt Plant (AP-9)'!$C$10,IF('Asphalt Plant (AP-9)'!$C$11>0,'Asphalt Plant (AP-9)'!$C$11*365,\"\"))),IF(E26=\"AP-10\",IF(E26=\"AP-10\",IF('Asphalt Plant (AP-10)'!$C$10>0,'Asphalt Plant (AP-10)'!$C$10,IF('Asphalt Plant (AP-10)'!$C$11>0,'Asphalt Plant (AP-10)'!$C$11*365,\"\"))))))))))))))","v":""},null,null,"","","","",null,"","","","","","","","","","",{"$f":"IF(B26=\"unpaved haul road\",\"x\",\"\")","v":""},"AP-8",{"$f":"IF('Asphalt Plant (AP-8)'!$C$10>0,'Asphalt Plant (AP-8)'!$C$10,IF('Asphalt Plant (AP-8)'!$C$11>0,'Asphalt Plant (AP-8)'!$C$11*365,\"\"))","v":""}]
[null,null,null,null,null,null,null,null,null,"","",null,{"$f":"IF(E27=\"\",\"\",IF(E27=\"AP-1\",IF('Asphalt Plant (AP-1)'!$C$10>0,'Asphalt Plant (AP-1)'!$C$10,IF('Asphalt Plant (AP-1)'!$C$11>0,'Asphalt Plant (AP-1)'!$C$11*365,\"\")),IF(E27=\"AP-2\",IF(E27=\"AP-2\",IF('Asphalt Plant (AP-2)'!$C$10>0,'Asphalt Plant (AP-2)'!$C$10,IF('Asphalt Plant (AP-2)'!$C$11>0,'Asphalt Plant (AP-2)'!$C$11*365,\"\"))),IF(E27=\"AP-3\",IF(E27=\"AP-3\",IF('Asphalt Plant (AP-3)'!$C$10>0,'Asphalt Plant (AP-3)'!$C$10,IF('Asphalt Plant (AP-3)'!$C$11>0,'Asphalt Plant (AP-3)'!$C$11*365,\"\"))),IF(E27=\"AP-4\",IF(E27=\"AP-4\",IF('Asphalt Plant (AP-4)'!$C$10>0,'Asphalt Plant (AP-4)'!$C$10,IF('Asphalt Plant (AP-4)'!$C$11>0,'Asphalt Plant (AP-4)'!$C$11*365,\"\"))),IF(E27=\"AP-5\",IF(E27=\"AP-5\",IF('Asphalt Plant (AP-5)'!$C$10>0,'Asphalt Plant (AP-5)'!$C$10,IF('Asphalt Plant (AP-5)'!$C$11>0,'Asphalt Plant (AP-5)'!$C$11*365,\"\"))),IF(E27=\"AP-6\",IF(E27=\"AP-6\",IF('Asphalt Plant (AP-6)'!$C$10>0,'Asphalt Plant (AP-6)'!$C$10,IF('Asphalt Plant (AP-6)'!$C$11>0,'Asphalt Plant (AP-6)'!$C$11*365,\"\"))),IF(E27=\"AP-7\",IF(E27=\"AP-7\",IF('Asphalt Plant (AP-7)'!$C$10>0,'Asphalt Plant (AP-7)'!$C$10,IF('Asphalt Plant (AP-7)'!$C$11>0,'Asphalt Plant (AP-7)'!$C$11*365,\"\"))),IF(E27=\"AP-8\",IF(E27=\"AP-8\",IF('Asphalt Plant (AP-8)'!$C$10>0,'Asphalt Plant (AP-8)'!$C$10,IF('Asphalt Plant (AP-8)'!$C$11>0,'Asphalt Plant (AP-8)'!$C$11*365,\"\"))),IF(E27=\"AP-9\",IF(E27=\"AP-9\",IF('Asphalt Plant (AP-9)'!$C$10>0,'Asphalt Plant (AP-9)'!$C$10,IF('Asphalt Plant (AP-9)'!$C$11>0,'Asphalt Plant (AP-9)'!$C$11*365,\"\"))),IF(E27=\"AP-10\",IF(E27=\"AP-10\",IF('Asphalt Plant (AP-10)'!$C$10>0,'Asphalt Plant (AP-10)'!$C$10,IF('Asphalt Plant (AP-10)'!$C$11>0,'Asphalt Plant (AP-10)'!$C$11*365,\"\"))))))))))))))","v":""},null,null,"","","","",null,"","","","","","","","","","","","AP-9",{"$f":"IF('Asphalt Plant (AP-9)'!$C$10>0,'Asphalt Plant (AP-9)'!$C$10,IF('Asphalt Plant (AP-9)'!$C$11>0,'Asphalt Plant (AP-9)'!$C$11*365,\"\"))","v":""}]
[null,null,null,null,null,null,null,null,null,"","",null,{"$f":"IF(E28=\"\",\"\",IF(E28=\"AP-1\",IF('Asphalt Plant (AP-1)'!$C$10>0,'Asphalt Plant (AP-1)'!$C$10,IF('Asphalt Plant (AP-1)'!$C$11>0,'Asphalt Plant (AP-1)'!$C$11*365,\"\")),IF(E28=\"AP-2\",IF(E28=\"AP-2\",IF('Asphalt Plant (AP-2)'!$C$10>0,'Asphalt Plant (AP-2)'!$C$10,IF('Asphalt Plant (AP-2)'!$C$11>0,'Asphalt Plant (AP-2)'!$C$11*365,\"\"))),IF(E28=\"AP-3\",IF(E28=\"AP-3\",IF('Asphalt Plant (AP-3)'!$C$10>0,'Asphalt Plant (AP-3)'!$C$10,IF('Asphalt Plant (AP-3)'!$C$11>0,'Asphalt Plant (AP-3)'!$C$11*365,\"\"))),IF(E28=\"AP-4\",IF(E28=\"AP-4\",IF('Asphalt Plant (AP-4)'!$C$10>0,'Asphalt Plant (AP-4)'!$C$10,IF('Asphalt Plant (AP-4)'!$C$11>0,'Asphalt Plant (AP-4)'!$C$11*365,\"\"))),IF(E28=\"AP-5\",IF(E28=\"AP-5\",IF('Asphalt Plant (AP-5)'!$C$10>0,'Asphalt Plant (AP-5)'!$C$10,IF('Asphalt Plant (AP-5)'!$C$11>0,'Asphalt Plant (AP-5)'!$C$11*365,\"\"))),IF(E28=\"AP-6\",IF(E28=\"AP-6\",IF('Asphalt Plant (AP-6)'!$C$10>0,'Asphalt Plant (AP-6)'!$C$10,IF('Asphalt Plant (AP-6)'!$C$11>0,'Asphalt Plant (AP-6)'!$C$11*365,\"\"))),IF(E28=\"AP-7\",IF(E28=\"AP-7\",IF('Asphalt Plant (AP-7)'!$C$10>0,'Asphalt Plant (AP-7)'!$C$10,IF('Asphalt Plant (AP-7)'!$C$11>0,'Asphalt Plant (AP-7)'!$C$11*365,\"\"))),IF(E28=\"AP-8\",IF(E28=\"AP-8\",IF('Asphalt Plant (AP-8)'!$C$10>0,'Asphalt Plant (AP-8)'!$C$10,IF('Asphalt Plant (AP-8)'!$C$11>0,'Asphalt Plant (AP-8)'!$C$11*365,\"\"))),IF(E28=\"AP-9\",IF(E28=\"AP-9\",IF('Asphalt Plant (AP-9)'!$C$10>0,'Asphalt Plant (AP-9)'!$C$10,IF('Asphalt Plant (AP-9)'!$C$11>0,'Asphalt Plant (AP-9)'!$C$11*365,\"\"))),IF(E28=\"AP-10\",IF(E28=\"AP-10\",IF('Asphalt Plant (AP-10)'!$C$10>0,'Asphalt Plant (AP-10)'!$C$10,IF('Asphalt Plant (AP-10)'!$C$11>0,'Asphalt Plant (AP-10)'!$C$11*365,\"\"))))))))))))))","v":""},null,null,"","","","",null,"","","","","","","","","","","","AP-10",{"$f":"IF('Asphalt Plant (AP-10)'!$C$10>0,'Asphalt Plant (AP-10)'!$C$10,IF('Asphalt Plant (AP-10)'!$C$11>0,'Asphalt Plant (AP-10)'!$C$11*365,\"\"))","v":""}]
[null,null,null,null,null,null,null,null,null,"","",null,{"$f":"IF(E29=\"\",\"\",IF(E29=\"AP-1\",IF('Asphalt Plant (AP-1)'!$C$10>0,'Asphalt Plant (AP-1)'!$C$10,IF('Asphalt Plant (AP-1)'!$C$11>0,'Asphalt Plant (AP-1)'!$C$11*365,\"\")),IF(E29=\"AP-2\",IF(E29=\"AP-2\",IF('Asphalt Plant (AP-2)'!$C$10>0,'Asphalt Plant (AP-2)'!$C$10,IF('Asphalt Plant (AP-2)'!$C$11>0,'Asphalt Plant (AP-2)'!$C$11*365,\"\"))),IF(E29=\"AP-3\",IF(E29=\"AP-3\",IF('Asphalt Plant (AP-3)'!$C$10>0,'Asphalt Plant (AP-3)'!$C$10,IF('Asphalt Plant (AP-3)'!$C$11>0,'Asphalt Plant (AP-3)'!$C$11*365,\"\"))),IF(E29=\"AP-4\",IF(E29=\"AP-4\",IF('Asphalt Plant (AP-4)'!$C$10>0,'Asphalt Plant (AP-4)'!$C$10,IF('Asphalt Plant (AP-4)'!$C$11>0,'Asphalt Plant (AP-4)'!$C$11*365,\"\"))),IF(E29=\"AP-5\",IF(E29=\"AP-5\",IF('Asphalt Plant (AP-5)'!$C$10>0,'Asphalt Plant (AP-5)'!$C$10,IF('Asphalt Plant (AP-5)'!$C$11>0,'Asphalt Plant (AP-5)'!$C$11*365,\"\"))),IF(E29=\"AP-6\",IF(E29=\"AP-6\",IF('Asphalt Plant (AP-6)'!$C$10>0,'Asphalt Plant (AP-6)'!$C$10,IF('Asphalt Plant (AP-6)'!$C$11>0,'Asphalt Plant (AP-6)'!$C$11*365,\"\"))),IF(E29=\"AP-7\",IF(E29=\"AP-7\",IF('Asphalt Plant (AP-7)'!$C$10>0,'Asphalt Plant (AP-7)'!$C$10,IF('Asphalt Plant (AP-7)'!$C$11>0,'Asphalt Plant (AP-7)'!$C$11*365,\"\"))),IF(E29=\"AP-8\",IF(E29=\"AP-8\",IF('Asphalt Plant (AP-8)'!$C$10>0,'Asphalt Plant (AP-8)'!$C$10,IF('Asphalt Plant (AP-8)'!$C$11>0,'Asphalt Plant (AP-8)'!$C$11*365,\"\"))),IF(E29=\"AP-9\",IF(E29=\"AP-9\",IF('Asphalt Plant (AP-9)'!$C$10>0,'Asphalt Plant (AP-9)'!$C$10,IF('Asphalt Plant (AP-9)'!$C$11>0,'Asphalt Plant (AP-9)'!$C$11*365,\"\"))),IF(E29=\"AP-10\",IF(E29=\"AP-10\",IF('Asphalt Plant (AP-10)'!$C$10>0,'Asphalt Plant (AP-10)'!$C$10,IF('Asphalt Plant (AP-10)'!$C$11>0,'Asphalt Plant (AP-10)'!$C$11*365,\"\"))))))))))))))","v":""},null,null,"","","","",null,"","","","","","","","","","",""]
[null,null,null,null,null,null,null,null,null,"","",null,{"$f":"IF(E30=\"\",\"\",IF(E30=\"AP-1\",IF('Asphalt Plant (AP-1)'!$C$10>0,'Asphalt Plant (AP-1)'!$C$10,IF('Asphalt Plant (AP-1)'!$C$11>0,'Asphalt Plant (AP-1)'!$C$11*365,\"\")),IF(E30=\"AP-2\",IF(E30=\"AP-2\",IF('Asphalt Plant (AP-2)'!$C$10>0,'Asphalt Plant (AP-2)'!$C$10,IF('Asphalt Plant (AP-2)'!$C$11>0,'Asphalt Plant (AP-2)'!$C$11*365,\"\"))),IF(E30=\"AP-3\",IF(E30=\"AP-3\",IF('Asphalt Plant (AP-3)'!$C$10>0,'Asphalt Plant (AP-3)'!$C$10,IF('Asphalt Plant (AP-3)'!$C$11>0,'Asphalt Plant (AP-3)'!$C$11*365,\"\"))),IF(E30=\"AP-4\",IF(E30=\"AP-4\",IF('Asphalt Plant (AP-4)'!$C$10>0,'Asphalt Plant (AP-4)'!$C$10,IF('Asphalt Plant (AP-4)'!$C$11>0,'Asphalt Plant (AP-4)'!$C$11*365,\"\"))),IF(E30=\"AP-5\",IF(E30=\"AP-5\",IF('Asphalt Plant (AP-5)'!$C$10>0,'Asphalt Plant (AP-5)'!$C$10,IF('Asphalt Plant (AP-5)'!$C$11>0,'Asphalt Plant (AP-5)'!$C$11*365,\"\"))),IF(E30=\"AP-6\",IF(E30=\"AP-6\",IF('Asphalt Plant (AP-6)'!$C$10>0,'Asphalt Plant (AP-6)'!$C$10,IF('Asphalt Plant (AP-6)'!$C$11>0,'Asphalt Plant (AP-6)'!$C$11*365,\"\"))),IF(E30=\"AP-7\",IF(E30=\"AP-7\",IF('Asphalt Plant (AP-7)'!$C$10>0,'Asphalt Plant (AP-7)'!$C$10,IF('Asphalt Plant (AP-7)'!$C$11>0,'Asphalt Plant (AP-7)'!$C$11*365,\"\"))),IF(E30=\"AP-8\",IF(E30=\"AP-8\",IF('Asphalt Plant (AP-8)'!$C$10>0,'Asphalt Plant (AP-8)'!$C$10,IF('Asphalt Plant (AP-8)'!$C$11>0,'Asphalt Plant (AP-8)'!$C$11*365,\"\"))),IF(E30=\"AP-9\",IF(E30=\"AP-9\",IF('Asphalt Plant (AP-9)'!$C$10>0,'Asphalt Plant (AP-9)'!$C$10,IF('Asphalt Plant (AP-9)'!$C$11>0,'Asphalt Plant (AP-9)'!$C$11*365,\"\"))),IF(E30=\"AP-10\",IF(E30=\"AP-10\",IF('Asphalt Plant (AP-10)'!$C$10>0,'Asphalt Plant (AP-10)'!$C$10,IF('Asphalt Plant (AP-10)'!$C$11>0,'Asphalt Plant (AP-10)'!$C$11*365,\"\"))))))))))))))","v":""},null,null,"","","","",null,"","","","","","","","","","",""]
[null,null,null,null,null,null,null,null,null,"","",null,{"$f":"IF(E31=\"\",\"\",IF(E31=\"AP-1\",IF('Asphalt Plant (AP-1)'!$C$10>0,'Asphalt Plant (AP-1)'!$C$10,IF('Asphalt Plant (AP-1)'!$C$11>0,'Asphalt Plant (AP-1)'!$C$11*365,\"\")),IF(E31=\"AP-2\",IF(E31=\"AP-2\",IF('Asphalt Plant (AP-2)'!$C$10>0,'Asphalt Plant (AP-2)'!$C$10,IF('Asphalt Plant (AP-2)'!$C$11>0,'Asphalt Plant (AP-2)'!$C$11*365,\"\"))),IF(E31=\"AP-3\",IF(E31=\"AP-3\",IF('Asphalt Plant (AP-3)'!$C$10>0,'Asphalt Plant (AP-3)'!$C$10,IF('Asphalt Plant (AP-3)'!$C$11>0,'Asphalt Plant (AP-3)'!$C$11*365,\"\"))),IF(E31=\"AP-4\",IF(E31=\"AP-4\",IF('Asphalt Plant (AP-4)'!$C$10>0,'Asphalt Plant (AP-4)'!$C$10,IF('Asphalt Plant (AP-4)'!$C$11>0,'Asphalt Plant (AP-4)'!$C$11*365,\"\"))),IF(E31=\"AP-5\",IF(E31=\"AP-5\",IF('Asphalt Plant (AP-5)'!$C$10>0,'Asphalt Plant (AP-5)'!$C$10,IF('Asphalt Plant (AP-5)'!$C$11>0,'Asphalt Plant (AP-5)'!$C$11*365,\"\"))),IF(E31=\"AP-6\",IF(E31=\"AP-6\",IF('Asphalt Plant (AP-6)'!$C$10>0,'Asphalt Plant (AP-6)'!$C$10,IF('Asphalt Plant (AP-6)'!$C$11>0,'Asphalt Plant (AP-6)'!$C$11*365,\"\"))),IF(E31=\"AP-7\",IF(E31=\"AP-7\",IF('Asphalt Plant (AP-7)'!$C$10>0,'Asphalt Plant (AP-7)'!$C$10,IF('Asphalt Plant (AP-7)'!$C$11>0,'Asphalt Plant (AP-7)'!$C$11*365,\"\"))),IF(E31=\"AP-8\",IF(E31=\"AP-8\",IF('Asphalt Plant (AP-8)'!$C$10>0,'Asphalt Plant (AP-8)'!$C$10,IF('Asphalt Plant (AP-8)'!$C$11>0,'Asphalt Plant (AP-8)'!$C$11*365,\"\"))),IF(E31=\"AP-9\",IF(E31=\"AP-9\",IF('Asphalt Plant (AP-9)'!$C$10>0,'Asphalt Plant (AP-9)'!$C$10,IF('Asphalt Plant (AP-9)'!$C$11>0,'Asphalt Plant (AP-9)'!$C$11*365,\"\"))),IF(E31=\"AP-10\",IF(E31=\"AP-10\",IF('Asphalt Plant (AP-10)'!$C$10>0,'Asphalt Plant (AP-10)'!$C$10,IF('Asphalt Plant (AP-10)'!$C$11>0,'Asphalt Plant (AP-10)'!$C$11*365,\"\"))))))))))))))","v":""},null,null,"","","","",null,"","","","","","","","","","",""]
[null,null,null,null,null,null,null,null,null,"","",null,{"$f":"IF(E32=\"\",\"\",IF(E32=\"AP-1\",IF('Asphalt Plant (AP-1)'!$C$10>0,'Asphalt Plant (AP-1)'!$C$10,IF('Asphalt Plant (AP-1)'!$C$11>0,'Asphalt Plant (AP-1)'!$C$11*365,\"\")),IF(E32=\"AP-2\",IF(E32=\"AP-2\",IF('Asphalt Plant (AP-2)'!$C$10>0,'Asphalt Plant (AP-2)'!$C$10,IF('Asphalt Plant (AP-2)'!$C$11>0,'Asphalt Plant (AP-2)'!$C$11*365,\"\"))),IF(E32=\"AP-3\",IF(E32=\"AP-3\",IF('Asphalt Plant (AP-3)'!$C$10>0,'Asphalt Plant (AP-3)'!$C$10,IF('Asphalt Plant (AP-3)'!$C$11>0,'Asphalt Plant (AP-3)'!$C$11*365,\"\"))),IF(E32=\"AP-4\",IF(E32=\"AP-4\",IF('Asphalt Plant (AP-4)'!$C$10>0,'Asphalt Plant (AP-4)'!$C$10,IF('Asphalt Plant (AP-4)'!$C$11>0,'Asphalt Plant (AP-4)'!$C$11*365,\"\"))),IF(E32=\"AP-5\",IF(E32=\"AP-5\",IF('Asphalt Plant (AP-5)'!$C$10>0,'Asphalt Plant (AP-5)'!$C$10,IF('Asphalt Plant (AP-5)'!$C$11>0,'Asphalt Plant (AP-5)'!$C$11*365,\"\"))),IF(E32=\"AP-6\",IF(E32=\"AP-6\",IF('Asphalt Plant (AP-6)'!$C$10>0,'Asphalt Plant (AP-6)'!$C$10,IF('Asphalt Plant (AP-6)'!$C$11>0,'Asphalt Plant (AP-6)'!$C$11*365,\"\"))),IF(E32=\"AP-7\",IF(E32=\"AP-7\",IF('Asphalt Plant (AP-7)'!$C$10>0,'Asphalt Plant (AP-7)'!$C$10,IF('Asphalt Plant (AP-7)'!$C$11>0,'Asphalt Plant (AP-7)'!$C$11*365,\"\"))),IF(E32=\"AP-8\",IF(E32=\"AP-8\",IF('Asphalt Plant (AP-8)'!$C$10>0,'Asphalt Plant (AP-8)'!$C$10,IF('Asphalt Plant (AP-8)'!$C$11>0,'Asphalt Plant (AP-8)'!$C$11*365,\"\"))),IF(E32=\"AP-9\",IF(E32=\"AP-9\",IF('Asphalt Plant (AP-9)'!$C$10>0,'Asphalt Plant (AP-9)'!$C$10,IF('Asphalt Plant (AP-9)'!$C$11>0,'Asphalt Plant (AP-9)'!$C$11*365,\"\"))),IF(E32=\"AP-10\",IF(E32=\"AP-10\",IF('Asphalt Plant (AP-10)'!$C$10>0,'Asphalt Plant (AP-10)'!$C$10,IF('Asphalt Plant (AP-10)'!$C$11>0,'Asphalt Plant (AP-10)'!$C$11*365,\"\"))))))))))))))","v":""},null,null,"","","","",null,"","","","","","","","","","",""]
[null,null,null,null,null,null,null,null,null,"","",null,{"$f":"IF(E33=\"\",\"\",IF(E33=\"AP-1\",IF('Asphalt Plant (AP-1)'!$C$10>0,'Asphalt Plant (AP-1)'!$C$10,IF('Asphalt Plant (AP-1)'!$C$11>0,'Asphalt Plant (AP-1)'!$C$11*365,\"\")),IF(E33=\"AP-2\",IF(E33=\"AP-2\",IF('Asphalt Plant (AP-2)'!$C$10>0,'Asphalt Plant (AP-2)'!$C$10,IF('Asphalt Plant (AP-2)'!$C$11>0,'Asphalt Plant (AP-2)'!$C$11*365,\"\"))),IF(E33=\"AP-3\",IF(E33=\"AP-3\",IF('Asphalt Plant (AP-3)'!$C$10>0,'Asphalt Plant (AP-3)'!$C$10,IF('Asphalt Plant (AP-3)'!$C$11>0,'Asphalt Plant (AP-3)'!$C$11*365,\"\"))),IF(E33=\"AP-4\",IF(E33=\"AP-4\",IF('Asphalt Plant (AP-4)'!$C$10>0,'Asphalt Plant (AP-4)'!$C$10,IF('Asphalt Plant (AP-4)'!$C$11>0,'Asphalt Plant (AP-4)'!$C$11*365,\"\"))),IF(E33=\"AP-5\",IF(E33=\"AP-5\",IF('Asphalt Plant (AP-5)'!$C$10>0,'Asphalt Plant (AP-5)'!$C$10,IF('Asphalt Plant (AP-5)'!$C$11>0,'Asphalt Plant (AP-5)'!$C$11*365,\"\"))),IF(E33=\"AP-6\",IF(E33=\"AP-6\",IF('Asphalt Plant (AP-6)'!$C$10>0,'Asphalt Plant (AP-6)'!$C$10,IF('Asphalt Plant (AP-6)'!$C$11>0,'Asphalt Plant (AP-6)'!$C$11*365,\"\"))),IF(E33=\"AP-7\",IF(E33=\"AP-7\",IF('Asphalt Plant (AP-7)'!$C$10>0,'Asphalt Plant (AP-7)'!$C$10,IF('Asphalt Plant (AP-7)'!$C$11>0,'Asphalt Plant (AP-7)'!$C$11*365,\"\"))),IF(E33=\"AP-8\",IF(E33=\"AP-8\",IF('Asphalt Plant (AP-8)'!$C$10>0,'Asphalt Plant (AP-8)'!$C$10,IF('Asphalt Plant (AP-8)'!$C$11>0,'Asphalt Plant (AP-8)'!$C$11*365,\"\"))),IF(E33=\"AP-9\",IF(E33=\"AP-9\",IF('Asphalt Plant (AP-9)'!$C$10>0,'Asphalt Plant (AP-9)'!$C$10,IF('Asphalt Plant (AP-9)'!$C$11>0,'Asphalt Plant (AP-9)'!$C$11*365,\"\"))),IF(E33=\"AP-10\",IF(E33=\"AP-10\",IF('Asphalt Plant (AP-10)'!$C$10>0,'Asphalt Plant (AP-10)'!$C$10,IF('Asphalt Plant (AP-10)'!$C$11>0,'Asphalt Plant (AP-10)'!$C$11*365,\"\"))))))))))))))","v":""},null,null,"","","","",null,"","","","","","","","","","",""]
[null,null,null,null,null,null,null,null,null,"","",null,{"$f":"IF(E34=\"\",\"\",IF(E34=\"AP-1\",IF('Asphalt Plant (AP-1)'!$C$10>0,'Asphalt Plant (AP-1)'!$C$10,IF('Asphalt Plant (AP-1)'!$C$11>0,'Asphalt Plant (AP-1)'!$C$11*365,\"\")),IF(E34=\"AP-2\",IF(E34=\"AP-2\",IF('Asphalt Plant (AP-2)'!$C$10>0,'Asphalt Plant (AP-2)'!$C$10,IF('Asphalt Plant (AP-2)'!$C$11>0,'Asphalt Plant (AP-2)'!$C$11*365,\"\"))),IF(E34=\"AP-3\",IF(E34=\"AP-3\",IF('Asphalt Plant (AP-3)'!$C$10>0,'Asphalt Plant (AP-3)'!$C$10,IF('Asphalt Plant (AP-3)'!$C$11>0,'Asphalt Plant (AP-3)'!$C$11*365,\"\"))),IF(E34=\"AP-4\",IF(E34=\"AP-4\",IF('Asphalt Plant (AP-4)'!$C$10>0,'Asphalt Plant (AP-4)'!$C$10,IF('Asphalt Plant (AP-4)'!$C$11>0,'Asphalt Plant (AP-4)'!$C$11*365,\"\"))),IF(E34=\"AP-5\",IF(E34=\"AP-5\",IF('Asphalt Plant (AP-5)'!$C$10>0,'Asphalt Plant (AP-5)'!$C$10,IF('Asphalt Plant (AP-5)'!$C$11>0,'Asphalt Plant (AP-5)'!$C$11*365,\"\"))),IF(E34=\"AP-6\",IF(E34=\"AP-6\",IF('Asphalt Plant (AP-6)'!$C$10>0,'Asphalt Plant (AP-6)'!$C$10,IF('Asphalt Plant (AP-6)'!$C$11>0,'Asphalt Plant (AP-6)'!$C$11*365,\"\"))),IF(E34=\"AP-7\",IF(E34=\"AP-7\",IF('Asphalt Plant (AP-7)'!$C$10>0,'Asphalt Plant (AP-7)'!$C$10,IF('Asphalt Plant (AP-7)'!$C$11>0,'Asphalt Plant (AP-7)'!$C$11*365,\"\"))),IF(E34=\"AP-8\",IF(E34=\"AP-8\",IF('Asphalt Plant (AP-8)'!$C$10>0,'Asphalt Plant (AP-8)'!$C$10,IF('Asphalt Plant (AP-8)'!$C$11>0,'Asphalt Plant (AP-8)'!$C$11*365,\"\"))),IF(E34=\"AP-9\",IF(E34=\"AP-9\",IF('Asphalt Plant (AP-9)'!$C$10>0,'Asphalt Plant (AP-9)'!$C$10,IF('Asphalt Plant (AP-9)'!$C$11>0,'Asphalt Plant (AP-9)'!$C$11*365,\"\"))),IF(E34=\"AP-10\",IF(E34=\"AP-10\",IF('Asphalt Plant (AP-10)'!$C$10>0,'Asphalt Plant (AP-10)'!$C$10,IF('Asphalt Plant (AP-10)'!$C$11>0,'Asphalt Plant (AP-10)'!$C$11*365,\"\"))))))))))))))","v":""},null,null,"","","","",null,"","","","","","","","","","",""]
[null,null,null,null,null,null,null,null,null,"","",null,{"$f":"IF(E35=\"\",\"\",IF(E35=\"AP-1\",IF('Asphalt Plant (AP-1)'!$C$10>0,'Asphalt Plant (AP-1)'!$C$10,IF('Asphalt Plant (AP-1)'!$C$11>0,'Asphalt Plant (AP-1)'!$C$11*365,\"\")),IF(E35=\"AP-2\",IF(E35=\"AP-2\",IF('Asphalt Plant (AP-2)'!$C$10>0,'Asphalt Plant (AP-2)'!$C$10,IF('Asphalt Plant (AP-2)'!$C$11>0,'Asphalt Plant (AP-2)'!$C$11*365,\"\"))),IF(E35=\"AP-3\",IF(E35=\"AP-3\",IF('Asphalt Plant (AP-3)'!$C$10>0,'Asphalt Plant (AP-3)'!$C$10,IF('Asphalt Plant (AP-3)'!$C$11>0,'Asphalt Plant (AP-3)'!$C$11*365,\"\"))),IF(E35=\"AP-4\",IF(E35=\"AP-4\",IF('Asphalt Plant (AP-4)'!$C$10>0,'Asphalt Plant (AP-4)'!$C$10,IF('Asphalt Plant (AP-4)'!$C$11>0,'Asphalt Plant (AP-4)'!$C$11*365,\"\"))),IF(E35=\"AP-5\",IF(E35=\"AP-5\",IF('Asphalt Plant (AP-5)'!$C$10>0,'Asphalt Plant (AP-5)'!$C$10,IF('Asphalt Plant (AP-5)'!$C$11>0,'Asphalt Plant (AP-5)'!$C$11*365,\"\"))),IF(E35=\"AP-6\",IF(E35=\"AP-6\",IF('Asphalt Plant (AP-6)'!$C$10>0,'Asphalt Plant (AP-6)'!$C$10,IF('Asphalt Plant (AP-6)'!$C$11>0,'Asphalt Plant (AP-6)'!$C$11*365,\"\"))),IF(E35=\"AP-7\",IF(E35=\"AP-7\",IF('Asphalt Plant (AP-7)'!$C$10>0,'Asphalt Plant (AP-7)'!$C$10,IF('Asphalt Plant (AP-7)'!$C$11>0,'Asphalt Plant (AP-7)'!$C$11*365,\"\"))),IF(E35=\"AP-8\",IF(E35=\"AP-8\",IF('Asphalt Plant (AP-8)'!$C$10>0,'Asphalt Plant (AP-8)'!$C$10,IF('Asphalt Plant (AP-8)'!$C$11>0,'Asphalt Plant (AP-8)'!$C$11*365,\"\"))),IF(E35=\"AP-9\",IF(E35=\"AP-9\",IF('Asphalt Plant (AP-9)'!$C$10>0,'Asphalt Plant (AP-9)'!$C$10,IF('Asphalt Plant (AP-9)'!$C$11>0,'Asphalt Plant (AP-9)'!$C$11*365,\"\"))),IF(E35=\"AP-10\",IF(E35=\"AP-10\",IF('Asphalt Plant (AP-10)'!$C$10>0,'Asphalt Plant (AP-10)'!$C$10,IF('Asphalt Plant (AP-10)'!$C$11>0,'Asphalt Plant (AP-10)'!$C$11*365,\"\"))))))))))))))","v":""},null,null,"","","","",null,"","","","","","","","","","",""]
[null,null,null,null,null,null,null,null,null,null,null,{"$f":"(SUM(IF(AE6=\"x\",L6,0),IF(AE7=\"x\",L7,0),IF(AE8=\"x\",L8,0),IF(AE9=\"x\",L9,0),IF(AE10=\"x\",L10,0),IF(AE11=\"x\",L11,0),IF(AE12=\"x\",L12,0),IF(AE13=\"x\",L13,0),IF(AE14=\"x\",L14,0),IF(AE15=\"x\",L15,0),IF(AE16=\"x\",L16,0),IF(AE17=\"x\",L17,0),IF(AE18=\"x\",L18,0),IF(AE19=\"x\",L19,0),IF(AE20=\"x\",L20,0),IF(AE21=\"x\",L21,0),IF(AE22=\"x\",L22,0),IF(AE23=\"x\",L23,0),IF(AE24=\"x\",L24,0),IF(AE25=\"x\",L25,0),IF(AE26=\"x\",L26,0),IF(AE27=\"x\",L27,0),IF(AE28=\"x\",L28,0),IF(AE29=\"x\",L29,0),IF(AE30=\"x\",L30,0),IF(AE31=\"x\",L31,0),IF(AE32=\"x\",L32,0),IF(AE33=\"x\",L33,0),IF(AE34=\"x\",L34,0),IF(AE35=\"x\",L35,0)))","v":0},null,null,null,{"$f":"(SUM(IF(AE6=\"x\",P6,0),IF(AE7=\"x\",P7,0),IF(AE8=\"x\",P8,0),IF(AE9=\"x\",P9,0),IF(AE10=\"x\",P10,0),IF(AE11=\"x\",P11,0),IF(AE12=\"x\",P12,0),IF(AE13=\"x\",P13,0),IF(AE14=\"x\",P14,0),IF(AE15=\"x\",P15,0),IF(AE16=\"x\",P16,0),IF(AE17=\"x\",P17,0),IF(AE18=\"x\",P18,0),IF(AE19=\"x\",P19,0),IF(AE20=\"x\",P20,0),IF(AE21=\"x\",P21,0),IF(AE22=\"x\",P22,0),IF(AE23=\"x\",P23,0),IF(AE24=\"x\",P24,0),IF(AE25=\"x\",P25,0),IF(AE26=\"x\",P26,0),IF(AE27=\"x\",P27,0),IF(AE28=\"x\",P28,0),IF(AE29=\"x\",P29,0),IF(AE30=\"x\",P30,0),IF(AE31=\"x\",P31,0),IF(AE32=\"x\",P32,0),IF(AE33=\"x\",P33,0),IF(AE34=\"x\",P34,0),IF(AE35=\"x\",P35,0)))","v":0},null,null,null,"Unpaved",{"$f":"(MAX(IF(AE6=\"x\",U6,0),IF(AE7=\"x\",U7,0),IF(AE8=\"x\",U8,0),IF(AE9=\"x\",U9,0),IF(AE10=\"x\",U10,0),IF(AE11=\"x\",U11,0),IF(AE12=\"x\",U12,0),IF(AE13=\"x\",U13,0),IF(AE14=\"x\",U14,0),IF(AE15=\"x\",U15,0),IF(AE26=\"x\",U26,0),IF(AE27=\"x\",U27,0),IF(AE28=\"x\",U28,0),IF(AE29=\"x\",U29,0),IF(AE30=\"x\",U30,0),IF(AE31=\"x\",U31,0),IF(AE32=\"x\",U32,0),IF(AE33=\"x\",U33,0),IF(AE34=\"x\",U34,0),IF(AE35=\"x\",U35,0)))","v":0},{"$f":"(SUM(IF(AE6=\"x\",V6,0),IF(AE7=\"x\",V7,0),IF(AE8=\"x\",V8,0),IF(AE9=\"x\",V9,0),IF(AE10=\"x\",V10,0),IF(AE11=\"x\",V11,0),IF(AE12=\"x\",V12,0),IF(AE13=\"x\",V13,0),IF(AE14=\"x\",V14,0),IF(AE15=\"x\",V15,0),IF(AE26=\"x\",V26,0),IF(AE27=\"x\",V27,0),IF(AE28=\"x\",V28,0),IF(AE29=\"x\",V29,0),IF(AE30=\"x\",V30,0),IF(AE31=\"x\",V31,0),IF(AE32=\"x\",V32,0),IF(AE33=\"x\",V33,0),IF(AE34=\"x\",V34,0),IF(AE35=\"x\",V35,0)))","v":0},{"$f":"SUM(W6:W35)","v":0},"",null,{"$f":"(MAX(IF(AE6=\"x\",Z6,0),IF(AE7=\"x\",Z7,0),IF(AE8=\"x\",Z8,0),IF(AE9=\"x\",Z9,0),IF(AE10=\"x\",Z10,0),IF(AE11=\"x\",Z11,0),IF(AE12=\"x\",Z12,0),IF(AE13=\"x\",Z13,0),IF(AE14=\"x\",Z14,0),IF(AE15=\"x\",Z15,0),IF(AE26=\"x\",Z26,0),IF(AE27=\"x\",Z27,0),IF(AE28=\"x\",Z28,0),IF(AE29=\"x\",Z29,0),IF(AE30=\"x\",Z30,0),IF(AE31=\"x\",Z31,0),IF(AE32=\"x\",Z32,0),IF(AE33=\"x\",Z33,0),IF(AE34=\"x\",Z34,0),IF(AE35=\"x\",Z35,0)))","v":0},{"$f":"(SUM(IF(AE6=\"x\",AA6,0),IF(AE7=\"x\",AA7,0),IF(AE8=\"x\",AA8,0),IF(AE9=\"x\",AA9,0),IF(AE10=\"x\",AA10,0),IF(AE11=\"x\",AA11,0),IF(AE12=\"x\",AA12,0),IF(AE13=\"x\",AA13,0),IF(AE14=\"x\",AA14,0),IF(AE15=\"x\",AA15,0),IF(AE26=\"x\",AA26,0),IF(AE27=\"x\",AA27,0),IF(AE28=\"x\",AA28,0),IF(AE29=\"x\",AA29,0),IF(AE30=\"x\",AA30,0),IF(AE31=\"x\",AA31,0),IF(AE32=\"x\",AA32,0),IF(AE33=\"x\",AA33,0),IF(AE34=\"x\",AA34,0),IF(AE35=\"x\",AA35,0)))","v":0},{"$f":"SUM(AB6:AB35)","v":0},""]
[null,null,null,null,null,null,null,null,null,null,null,{"$f":"(SUM(IF(AE6=\"x\",0,L6),IF(AE7=\"x\",0,L7),IF(AE8=\"x\",0,L8),IF(AE9=\"x\",0,L9),IF(AE10=\"x\",0,L10),IF(AE11=\"x\",0,L11),IF(AE12=\"x\",0,L12),IF(AE13=\"x\",0,L13),IF(AE14=\"x\",0,L14),IF(AE15=\"x\",0,L15),IF(AE16=\"x\",0,L16),IF(AE17=\"x\",0,L17),IF(AE18=\"x\",0,L18),IF(AE19=\"x\",0,L19),IF(AE20=\"x\",0,L20),IF(AE21=\"x\",0,L21),IF(AE22=\"x\",0,L22),IF(AE23=\"x\",0,L23),IF(AE24=\"x\",0,L24),IF(AE25=\"x\",0,L25),IF(AE26=\"x\",0,L26),IF(AE27=\"x\",0,L27),IF(AE28=\"x\",0,L28),IF(AE29=\"x\",0,L29),IF(AE30=\"x\",0,L30),IF(AE31=\"x\",0,L31),IF(AE32=\"x\",0,L32),IF(AE33=\"x\",0,L33),IF(AE34=\"x\",0,L34),IF(AE35=\"x\",0,L35)))","v":0},null,null,null,{"$f":"(SUM(IF(AE6=\"x\",0,P6),IF(AE7=\"x\",0,P7),IF(AE8=\"x\",0,P8),IF(AE9=\"x\",0,P9),IF(AE10=\"x\",0,P10),IF(AE11=\"x\",0,P11),IF(AE12=\"x\",0,P12),IF(AE13=\"x\",0,P13),IF(AE14=\"x\",0,P14),IF(AE15=\"x\",0,P15),IF(AE16=\"x\",0,P16),IF(AE17=\"x\",0,P17),IF(AE18=\"x\",0,P18),IF(AE19=\"x\",0,P19),IF(AE20=\"x\",0,P20),IF(AE21=\"x\",0,P21),IF(AE22=\"x\",0,P22),IF(AE23=\"x\",0,P23),IF(AE24=\"x\",0,P24),IF(AE25=\"x\",0,P25),IF(AE26=\"x\",0,P26),IF(AE27=\"x\",0,P27),IF(AE28=\"x\",0,P28),IF(AE29=\"x\",0,P29),IF(AE30=\"x\",0,P30),IF(AE31=\"x\",0,P31),IF(AE32=\"x\",0,P32),IF(AE33=\"x\",0,P33),IF(AE34=\"x\",0,P34),IF(AE35=\"x\",0,P35)))","v":0},null,null,null,"Paved",{"$f":"(SUM(IF(AE6=\"x\",0,U6),IF(AE7=\"x\",0,U7),IF(AE8=\"x\",0,U8),IF(AE9=\"x\",0,U9),IF(AE10=\"x\",0,U10),IF(AE11=\"x\",0,U11),IF(AE12=\"x\",0,U12),IF(AE13=\"x\",0,U13),IF(AE14=\"x\",0,U14),IF(AE15=\"x\",0,U15),IF(AE26=\"x\",0,U26),IF(AE27=\"x\",0,U27),IF(AE28=\"x\",0,U28),IF(AE29=\"x\",0,U29),IF(AE30=\"x\",0,U30),IF(AE31=\"x\",0,U31),IF(AE32=\"x\",0,U32),IF(AE33=\"x\",0,U33),IF(AE34=\"x\",0,U34),IF(AE35=\"x\",0,U35)))","v":0},{"$f":"(SUM(IF(AE6=\"x\",0,V6),IF(AE7=\"x\",0,V7),IF(AE8=\"x\",0,V8),IF(AE9=\"x\",0,V9),IF(AE10=\"x\",0,V10),IF(AE11=\"x\",0,V11),IF(AE12=\"x\",0,V12),IF(AE13=\"x\",0,V13),IF(AE14=\"x\",0,V14),IF(AE15=\"x\",0,V15),IF(AE26=\"x\",0,V26),IF(AE27=\"x\",0,V27),IF(AE28=\"x\",0,V28),IF(AE29=\"x\",0,V29),IF(AE30=\"x\",0,V30),IF(AE31=\"x\",0,V31),IF(AE32=\"x\",0,V32),IF(AE33=\"x\",0,V33),IF(AE34=\"x\",0,V34),IF(AE35=\"x\",0,V35)))","v":0},null,null,null,{"$f":"(SUM(IF(AE6=\"x\",0,Z6),IF(AE7=\"x\",0,Z7),IF(AE8=\"x\",0,Z8),IF(AE9=\"x\",0,Z9),IF(AE10=\"x\",0,Z10),IF(AE11=\"x\",0,Z11),IF(AE12=\"x\",0,Z12),IF(AE13=\"x\",0,Z13),IF(AE14=\"x\",0,Z14),IF(AE15=\"x\",0,Z15),IF(AE26=\"x\",0,Z26),IF(AE27=\"x\",0,Z27),IF(AE28=\"x\",0,Z28),IF(AE29=\"x\",0,Z29),IF(AE30=\"x\",0,Z30),IF(AE31=\"x\",0,Z31),IF(AE32=\"x\",0,Z32),IF(AE33=\"x\",0,Z33),IF(AE34=\"x\",0,Z34),IF(AE35=\"x\",0,Z35)))","v":0},{"$f":"(SUM(IF(AE6=\"x\",0,AA6),IF(AE7=\"x\",0,AA7),IF(AE8=\"x\",0,AA8),IF(AE9=\"x\",0,AA9),IF(AE10=\"x\",0,AA10),IF(AE11=\"x\",0,AA11),IF(AE12=\"x\",0,AA12),IF(AE13=\"x\",0,AA13),IF(AE14=\"x\",0,AA14),IF(AE15=\"x\",0,AA15),IF(AE26=\"x\",0,AA26),IF(AE27=\"x\",0,AA27),IF(AE28=\"x\",0,AA28),IF(AE29=\"x\",0,AA29),IF(AE30=\"x\",0,AA30),IF(AE31=\"x\",0,AA31),IF(AE32=\"x\",0,AA32),IF(AE33=\"x\",0,AA33),IF(AE34=\"x\",0,AA34),IF(AE35=\"x\",0,AA35)))","v":0}]
[]
[null,null,null,"Total potential PM2.5 emissions (tons/yr) from all unpaved haul roads used by the facility:",null,null,null,null,null,null,null,{"$f":"(SUM(IF(AE7=\"x\",X7,0),IF(AE8=\"x\",X8,0),IF(AE9=\"x\",X9,0),IF(AE10=\"x\",X10,0),IF(AE11=\"x\",X11,0),IF(AE12=\"x\",X12,0),IF(AE13=\"x\",X13,0),IF(AE14=\"x\",X14,0),IF(AE15=\"x\",X15,0),IF(AE16=\"x\",X16,0),IF(AE17=\"x\",X17,0),IF(AE18=\"x\",X18,0),IF(AE19=\"x\",X19,0),IF(AE20=\"x\",X20,0),IF(AE21=\"x\",X21,0),IF(AE22=\"x\",X22,0),IF(AE23=\"x\",X23,0),IF(AE24=\"x\",X24,0),IF(AE25=\"x\",X25,0),IF(AE26=\"x\",X26,0),IF(AE27=\"x\",X27,0),IF(AE28=\"x\",X28,0),IF(AE29=\"x\",X29,0),IF(AE30=\"x\",X30,0),IF(AE31=\"x\",X31,0),IF(AE32=\"x\",X32,0),IF(AE33=\"x\",X33,0),IF(AE34=\"x\",X34,0),IF(AE35=\"x\",X35,0),IF(AE6=\"x\",X6,0)))","v":0}]
[null,null,null,"Total potential PM2.5 emissions (tons/yr) from all paved haul roads used by the facility:",null,null,null,null,null,null,null,{"$f":"(SUM(IF(AE7=\"x\",0,X7),IF(AE8=\"x\",0,X8),IF(AE9=\"x\",0,X9),IF(AE10=\"x\",0,X10),IF(AE11=\"x\",0,X11),IF(AE12=\"x\",0,X12),IF(AE13=\"x\",0,X13),IF(AE14=\"x\",0,X14),IF(AE15=\"x\",0,X15),IF(AE16=\"x\",0,X16),IF(AE17=\"x\",0,X17),IF(AE18=\"x\",0,X18),IF(AE19=\"x\",0,X19),IF(AE20=\"x\",0,X20),IF(AE21=\"x\",0,X21),IF(AE22=\"x\",0,X22),IF(AE23=\"x\",0,X23),IF(AE24=\"x\",0,X24),IF(AE25=\"x\",0,X25),IF(AE26=\"x\",0,X26),IF(AE27=\"x\",0,X27),IF(AE28=\"x\",0,X28),IF(AE29=\"x\",0,X29),IF(AE30=\"x\",0,X30),IF(AE31=\"x\",0,X31),IF(AE32=\"x\",0,X32),IF(AE33=\"x\",0,X33),IF(AE34=\"x\",0,X34),IF(AE35=\"x\",0,X35),IF(AE6=\"x\",0,X6)))","v":0}]
[null,null,null,"Total potential PM10 emissions (tons/yr) from all unpaved haul roads used by the facility:",null,null,null,null,null,null,null,{"$f":"(SUM(IF(AE7=\"x\",AC7,0),IF(AE8=\"x\",AC8,0),IF(AE9=\"x\",AC9,0),IF(AE10=\"x\",AC10,0),IF(AE11=\"x\",AC11,0),IF(AE12=\"x\",AC12,0),IF(AE13=\"x\",AC13,0),IF(AE14=\"x\",AC14,0),IF(AE15=\"x\",AC15,0),IF(AE16=\"x\",AC16,0),IF(AE17=\"x\",AC17,0),IF(AE18=\"x\",AC18,0),IF(AE19=\"x\",AC19,0),IF(AE20=\"x\",AC20,0),IF(AE21=\"x\",AC21,0),IF(AE22=\"x\",AC22,0),IF(AE23=\"x\",AC23,0),IF(AE24=\"x\",AC24,0),IF(AE25=\"x\",AC25,0),IF(AE26=\"x\",AC26,0),IF(AE27=\"x\",AC27,0),IF(AE28=\"x\",AC28,0),IF(AE29=\"x\",AC29,0),IF(AE30=\"x\",AC30,0),IF(AE31=\"x\",AC31,0),IF(AE32=\"x\",AC32,0),IF(AE33=\"x\",AC33,0),IF(AE34=\"x\",AC34,0),IF(AE35=\"x\",AC35,0),IF(AE6=\"x\",AC6,0)))","v":0}]
[null,null,null,"Total potential PM10 emissions (tons/yr) from all paved haul roads used by the facility:",null,null,null,null,null,null,null,{"$f":"(SUM(IF(AE7=\"x\",0,AC7),IF(AE8=\"x\",0,AC8),IF(AE9=\"x\",0,AC9),IF(AE10=\"x\",0,AC10),IF(AE11=\"x\",0,AC11),IF(AE12=\"x\",0,AC12),IF(AE13=\"x\",0,AC13),IF(AE14=\"x\",0,AC14),IF(AE15=\"x\",0,AC15),IF(AE16=\"x\",0,AC16),IF(AE17=\"x\",0,AC17),IF(AE18=\"x\",0,AC18),IF(AE19=\"x\",0,AC19),IF(AE20=\"x\",0,AC20),IF(AE21=\"x\",0,AC21),IF(AE22=\"x\",0,AC22),IF(AE23=\"x\",0,AC23),IF(AE24=\"x\",0,AC24),IF(AE25=\"x\",0,AC25),IF(AE26=\"x\",0,AC26),IF(AE27=\"x\",0,AC27),IF(AE28=\"x\",0,AC28),IF(AE29=\"x\",0,AC29),IF(AE30=\"x\",0,AC30),IF(AE31=\"x\",0,AC31),IF(AE32=\"x\",0,AC32),IF(AE33=\"x\",0,AC33),IF(AE34=\"x\",0,AC34),IF(AE35=\"x\",0,AC35),IF(AE6=\"x\",0,AC6)))","v":0}]
[]
[null,null,null,"Total actual PM2.5 emissions (tons/yr) from all unpaved haul roads used by the facility:",null,null,null,null,null,null,null,{"$f":"(SUM(IF(AE7=\"x\",Y7,0),IF(AE8=\"x\",Y8,0),IF(AE9=\"x\",Y9,0),IF(AE10=\"x\",Y10,0),IF(AE11=\"x\",Y11,0),IF(AE12=\"x\",Y12,0),IF(AE13=\"x\",Y13,0),IF(AE14=\"x\",Y14,0),IF(AE15=\"x\",Y15,0),IF(AE16=\"x\",Y16,0),IF(AE17=\"x\",Y17,0),IF(AE18=\"x\",Y18,0),IF(AE19=\"x\",Y19,0),IF(AE20=\"x\",Y20,0),IF(AE21=\"x\",Y21,0),IF(AE22=\"x\",Y22,0),IF(AE23=\"x\",Y23,0),IF(AE24=\"x\",Y24,0),IF(AE25=\"x\",Y25,0),IF(AE26=\"x\",Y26,0),IF(AE27=\"x\",Y27,0),IF(AE28=\"x\",Y28,0),IF(AE29=\"x\",Y29,0),IF(AE30=\"x\",Y30,0),IF(AE31=\"x\",Y31,0),IF(AE32=\"x\",Y32,0),IF(AE33=\"x\",Y33,0),IF(AE34=\"x\",Y34,0),IF(AE35=\"x\",Y35,0),IF(AE6=\"x\",Y6,0)))","v":0}]
[null,null,null,"Total actual PM2.5 emissions (tons/yr) from all paved haul roads used by the facility:",null,null,null,null,null,null,null,{"$f":"(SUM(IF(AE7=\"x\",0,Y7),IF(AE8=\"x\",0,Y8),IF(AE9=\"x\",0,Y9),IF(AE10=\"x\",0,Y10),IF(AE11=\"x\",0,Y11),IF(AE12=\"x\",0,Y12),IF(AE13=\"x\",0,Y13),IF(AE14=\"x\",0,Y14),IF(AE15=\"x\",0,Y15),IF(AE16=\"x\",0,Y16),IF(AE17=\"x\",0,Y17),IF(AE18=\"x\",0,Y18),IF(AE19=\"x\",0,Y19),IF(AE20=\"x\",0,Y20),IF(AE21=\"x\",0,Y21),IF(AE22=\"x\",0,Y22),IF(AE23=\"x\",0,Y23),IF(AE24=\"x\",0,Y24),IF(AE25=\"x\",0,Y25),IF(AE26=\"x\",0,Y26),IF(AE27=\"x\",0,Y27),IF(AE28=\"x\",0,Y28),IF(AE29=\"x\",0,Y29),IF(AE30=\"x\",0,Y30),IF(AE31=\"x\",0,Y31),IF(AE32=\"x\",0,Y32),IF(AE33=\"x\",0,Y33),IF(AE34=\"x\",0,Y34),IF(AE35=\"x\",0,Y35),IF(AE6=\"x\",0,Y6)))","v":0}]
[null,null,null,"Total actual PM10 emissions (tons/yr) from all unpaved haul roads used by the facility:",null,null,null,null,null,null,null,{"$f":"(SUM(IF(AE7=\"x\",AD7,0),IF(AE8=\"x\",AD8,0),IF(AE9=\"x\",AD9,0),IF(AE10=\"x\",AD10,0),IF(AE11=\"x\",AD11,0),IF(AE12=\"x\",AD12,0),IF(AE13=\"x\",AD13,0),IF(AE14=\"x\",AD14,0),IF(AE15=\"x\",AD15,0),IF(AE16=\"x\",AD16,0),IF(AE17=\"x\",AD17,0),IF(AE18=\"x\",AD18,0),IF(AE19=\"x\",AD19,0),IF(AE20=\"x\",AD20,0),IF(AE21=\"x\",AD21,0),IF(AE22=\"x\",AD22,0),IF(AE23=\"x\",AD23,0),IF(AE24=\"x\",AD24,0),IF(AE25=\"x\",AD25,0),IF(AE26=\"x\",AD26,0),IF(AE27=\"x\",AD27,0),IF(AE28=\"x\",AD28,0),IF(AE29=\"x\",AD29,0),IF(AE30=\"x\",AD30,0),IF(AE31=\"x\",AD31,0),IF(AE32=\"x\",AD32,0),IF(AE33=\"x\",AD33,0),IF(AE34=\"x\",AD34,0),IF(AE35=\"x\",AD35,0),IF(AE6=\"x\",AD6,0)))","v":0}]
[null,null,null,"Total actual PM10 emissions (tons/yr) from all paved haul roads used by the facility:",null,null,null,null,null,null,null,{"$f":"(SUM(IF(AE7=\"x\",0,AD7),IF(AE8=\"x\",0,AD8),IF(AE9=\"x\",0,AD9),IF(AE10=\"x\",0,AD10),IF(AE11=\"x\",0,AD11),IF(AE12=\"x\",0,AD12),IF(AE13=\"x\",0,AD13),IF(AE14=\"x\",0,AD14),IF(AE15=\"x\",0,AD15),IF(AE16=\"x\",0,AD16),IF(AE17=\"x\",0,AD17),IF(AE18=\"x\",0,AD18),IF(AE19=\"x\",0,AD19),IF(AE20=\"x\",0,AD20),IF(AE21=\"x\",0,AD21),IF(AE22=\"x\",0,AD22),IF(AE23=\"x\",0,AD23),IF(AE24=\"x\",0,AD24),IF(AE25=\"x\",0,AD25),IF(AE26=\"x\",0,AD26),IF(AE27=\"x\",0,AD27),IF(AE28=\"x\",0,AD28),IF(AE29=\"x\",0,AD29),IF(AE30=\"x\",0,AD30),IF(AE31=\"x\",0,AD31),IF(AE32=\"x\",0,AD32),IF(AE33=\"x\",0,AD33),IF(AE34=\"x\",0,AD34),IF(AE35=\"x\",0,AD35),IF(AE6=\"x\",0,AD6)))","v":0}]

{"sheet":"Emission Calculations","index":13,"n_rows":144,"n_cols":13,"rows_kept":144,"cut":false,"hidden":false,"merged":[]}
["FACILITY-WIDE EMISSION CALCULATIONS"]
["** As of 2016 Potential Emissions are no longer required to be reported in the Minor Source Emissions Inventory**"]
[]
["PM2. 5",null,null,null,null,null,null,null,"Potential Hourly ",null,"Potential Hourly","Potential Annual ","Actual "]
["EP","Description of Process","SCC #","Max Design Rate","Units of Measure","Emission Factor","Units of Measure","Source of Emission Factor","Uncontrolled Emissions(lb/hr)","Control Efficiency","Controlled Emissions (lb/hr)","Emissions (tons/yr)","Emissions (tons/yr)"]
[{"$f":"IF(D6=\"\",\"\",\"ALL\")","v":""},{"$f":"IF(D6=\"\",\"\",\"Batch Mix Plant - Fuel Oil\")","v":""},{"$f":"IF(B6=\"\",\"\",\"30500246\")","v":""},{"$f":"IF(SUM(IF('Asphalt Plant (AP-1)'!$C$5=\"batch mix plant\",'Asphalt Plant (AP-1)'!N5,0),IF('Asphalt Plant (AP-2)'!$C$5=\"batch mix plant\",'Asphalt Plant (AP-2)'!N5,0),IF('Asphalt Plant (AP-3)'!$C$5=\"batch mix plant\",'Asphalt Plant (AP-3)'!N5,0),IF('Asphalt Plant (AP-4)'!$C$5=\"batch mix plant\",'Asphalt Plant (AP-4)'!N5,0),IF('Asphalt Plant (AP-5)'!$C$5=\"batch mix plant\",'Asphalt Plant (AP-5)'!N5,0),IF('Asphalt Plant (AP-6)'!$C$5=\"batch mix plant\",'Asphalt Plant (AP-6)'!N5,0),IF('Asphalt Plant (AP-7)'!$C$5=\"batch mix plant\",'Asphalt Plant (AP-7)'!N5,0),IF('Asphalt Plant (AP-8)'!$C$5=\"batch mix plant\",'Asphalt Plant (AP-8)'!N5,0),IF('Asphalt Plant (AP-9)'!$C$5=\"batch mix plant\",'Asphalt Plant (AP-9)'!N5,0),IF('Asphalt Plant (AP-10)'!$C$5=\"batch mix plant\",'Asphalt Plant (AP-10)'!N5,0))>0,SUM(IF('Asphalt Plant (AP-1)'!$C$5=\"batch mix plant\",'Asphalt Plant (AP-1)'!N5,0),IF('Asphalt Plant (AP-2)'!$C$5=\"batch mix plant\",'Asphalt Plant (AP-2)'!N5,0),IF('Asphalt Plant (AP-3)'!$C$5=\"batch mix plant\",'Asphalt Plant (AP-3)'!N5,0),IF('Asphalt Plant (AP-4)'!$C$5=\"batch mix plant\",'Asphalt Plant (AP-4)'!N5,0),IF('Asphalt Plant (AP-5)'!$C$5=\"batch mix plant\",'Asphalt Plant (AP-5)'!N5,0),IF('Asphalt Plant (AP-6)'!$C$5=\"batch mix plant\",'Asphalt Plant (AP-6)'!N5,0),IF('Asphalt Plant (AP-7)'!$C$5=\"batch mix plant\",'Asphalt Plant (AP-7)'!N5,0),IF('Asphalt Plant (AP-8)'!$C$5=\"batch mix plant\",'Asphalt Plant (AP-8)'!N5,0),IF('Asphalt Plant (AP-9)'!$C$5=\"batch mix plant\",'Asphalt Plant (AP-9)'!N5,0),IF('Asphalt Plant (AP-10)'!$C$5=\"batch mix plant\",'Asphalt Plant (AP-10)'!N5,0)),\"\")","v":""},{"$f":"IF(B6=\"\",\"\",\"tons/hr\")","v":""},{"$f":"IF(B6=\"\",\"\",MAX(IF('Asphalt Plant (AP-1)'!$C$5=\"batch mix plant\",'Asphalt Plant (AP-1)'!O20,0),IF('Asphalt Plant (AP-2)'!$C$5=\"batch mix plant\",'Asphalt Plant (AP-2)'!O20,0),IF('Asphalt Plant (AP-3)'!$C$5=\"batch mix plant\",'Asphalt Plant (AP-3)'!O20,0),IF('Asphalt Plant (AP-4)'!$C$5=\"batch mix plant\",'Asphalt Plant (AP-4)'!O20,0),IF('Asphalt Plant (AP-5)'!$C$5=\"batch mix plant\",'Asphalt Plant (AP-5)'!O20,0),IF('Asphalt Plant (AP-6)'!$C$5=\"batch mix plant\",'Asphalt Plant (AP-6)'!O20,0),IF('Asphalt Plant (AP-7)'!$C$5=\"batch mix plant\",'Asphalt Plant (AP-7)'!O20,0),IF('Asphalt Plant (AP-8)'!$C$5=\"batch mix plant\",'Asphalt Plant (AP-8)'!O20,0),IF('Asphalt Plant (AP-9)'!$C$5=\"batch mix plant\",'Asphalt Plant (AP-9)'!O20,0),IF('Asphalt Plant (AP-10)'!$C$5=\"batch mix plant\",'Asphalt Plant (AP-10)'!O20,0)))","v":""},{"$f":"IF(B6=\"\",\"\",\"lb/ton\")","v":""},{"$f":"IF(B6=\"\",\"\",\"AP-42 Table 11.1-2,5,6,9\")","v":""},{"$f":"IF(B6=\"\",\"\",SUM(IF('Asphalt Plant (AP-1)'!$C$5=\"batch mix plant\",'Asphalt Plant (AP-1)'!Q20,0),IF('Asphalt Plant (AP-2)'!$C$5=\"batch mix plant\",'Asphalt Plant (AP-2)'!Q20,0),IF('Asphalt Plant (AP-3)'!$C$5=\"batch mix plant\",'Asphalt Plant (AP-3)'!Q20,0),IF('Asphalt Plant (AP-4)'!$C$5=\"batch mix plant\",'Asphalt Plant (AP-4)'!Q20,0),IF('Asphalt Plant (AP-5)'!$C$5=\"batch mix plant\",'Asphalt Plant (AP-5)'!Q20,0),IF('Asphalt Plant (AP-6)'!$C$5=\"batch mix plant\",'Asphalt Plant (AP-6)'!Q20,0),IF('Asphalt Plant (AP-7)'!$C$5=\"batch mix plant\",'Asphalt Plant (AP-7)'!Q20,0),IF('Asphalt Plant (AP-8)'!$C$5=\"batch mix plant\",'Asphalt Plant (AP-8)'!Q20,0),IF('Asphalt Plant (AP-9)'!$C$5=\"batch mix plant\",'Asphalt Plant (AP-9)'!Q20,0),IF('Asphalt Plant (AP-10)'!$C$5=\"batch mix plant\",'Asphalt Plant (AP-10)'!Q20,0)))","v":""},null,{"$f":"IF(B6=\"\",\"\",SUM(IF('Asphalt Plant (AP-1)'!$C$5=\"batch mix plant\",'Asphalt Plant (AP-1)'!R20,0),IF('Asphalt Plant (AP-2)'!$C$5=\"batch mix plant\",'Asphalt Plant (AP-2)'!R20,0),IF('Asphalt Plant (AP-3)'!$C$5=\"batch mix plant\",'Asphalt Plant (AP-3)'!R20,0),IF('Asphalt Plant (AP-4)'!$C$5=\"batch mix plant\",'Asphalt Plant (AP-4)'!R20,0),IF('Asphalt Plant (AP-5)'!$C$5=\"batch mix plant\",'Asphalt Plant (AP-5)'!R20,0),IF('Asphalt Plant (AP-6)'!$C$5=\"batch mix plant\",'Asphalt Plant (AP-6)'!R20,0),IF('Asphalt Plant (AP-7)'!$C$5=\"batch mix plant\",'Asphalt Plant (AP-7)'!R20,0),IF('Asphalt Plant (AP-8)'!$C$5=\"batch mix plant\",'Asphalt Plant (AP-8)'!R20,0),IF('Asphalt Plant (AP-9)'!$C$5=\"batch mix plant\",'Asphalt Plant (AP-9)'!R20,0),IF('Asphalt Plant (AP-10)'!$C$5=\"batch mix plant\",'Asphalt Plant (AP-10)'!R20,0)))","v":""},{"$f":"IF(B6=\"\",\"\",SUM(IF('Asphalt Plant (AP-1)'!$C$5=\"batch mix plant\",'Asphalt Plant (AP-1)'!S20,0),IF('Asphalt Plant (AP-2)'!$C$5=\"batch mix plant\",'Asphalt Plant (AP-2)'!S20,0),IF('Asphalt Plant (AP-3)'!$C$5=\"batch mix plant\",'Asphalt Plant (AP-3)'!S20,0),IF('Asphalt Plant (AP-4)'!$C$5=\"batch mix plant\",'Asphalt Plant (AP-4)'!S20,0),IF('Asphalt Plant (AP-5)'!$C$5=\"batch mix plant\",'Asphalt Plant (AP-5)'!S20,0),IF('Asphalt Plant (AP-6)'!$C$5=\"batch mix plant\",'Asphalt Plant (AP-6)'!S20,0),IF('Asphalt Plant (AP-7)'!$C$5=\"batch mix plant\",'Asphalt Plant (AP-7)'!S20,0),IF('Asphalt Plant (AP-8)'!$C$5=\"batch mix plant\",'Asphalt Plant (AP-8)'!S20,0),IF('Asphalt Plant (AP-9)'!$C$5=\"batch mix plant\",'Asphalt Plant (AP-9)'!S20,0),IF('Asphalt Plant (AP-10)'!$C$5=\"batch mix plant\",'Asphalt Plant (AP-10)'!S20,0)))","v":""},{"$f":"IF(B6=\"\",\"\",SUM(IF('Asphalt Plant (AP-1)'!$C$5=\"batch mix plant\",'Asphalt Plant (AP-1)'!T20,0),IF('Asphalt Plant (AP-2)'!$C$5=\"batch mix plant\",'Asphalt Plant (AP-2)'!T20,0),IF('Asphalt Plant (AP-3)'!$C$5=\"batch mix plant\",'Asphalt Plant (AP-3)'!T20,0),IF('Asphalt Plant (AP-4)'!$C$5=\"batch mix plant\",'Asphalt Plant (AP-4)'!T20,0),IF('Asphalt Plant (AP-5)'!$C$5=\"batch mix plant\",'Asphalt Plant (AP-5)'!T20,0),IF('Asphalt Plant (AP-6)'!$C$5=\"batch mix plant\",'Asphalt Plant (AP-6)'!T20,0),IF('Asphalt Plant (AP-7)'!$C$5=\"batch mix plant\",'Asphalt Plant (AP-7)'!T20,0),IF('Asphalt Plant (AP-8)'!$C$5=\"batch mix plant\",'Asphalt Plant (AP-8)'!T20,0),IF('Asphalt Plant (AP-9)'!$C$5=\"batch mix plant\",'Asphalt Plant (AP-9)'!T20,0),IF('Asphalt Plant (AP-10)'!$C$5=\"batch mix plant\",'Asphalt Plant (AP-10)'!T20,0)))","v":""}]
["",{"$f":"IF(D7=\"\",\"\",\"Batch Mix Plant - Waste Oil\")","v":""},{"$f":"IF(B7=\"\",\"\",\"30500245\")","v":""},{"$f":"IF(SUM(IF('Asphalt Plant (AP-1)'!$C$5=\"batch mix plant\",'Asphalt Plant (AP-1)'!N6,0),IF('Asphalt Plant (AP-2)'!$C$5=\"batch mix plant\",'Asphalt Plant (AP-2)'!N6,0),IF('Asphalt Plant (AP-3)'!$C$5=\"batch mix plant\",'Asphalt Plant (AP-3)'!N6,0),IF('Asphalt Plant (AP-4)'!$C$5=\"batch mix plant\",'Asphalt Plant (AP-4)'!N6,0),IF('Asphalt Plant (AP-5)'!$C$5=\"batch mix plant\",'Asphalt Plant (AP-5)'!N6,0),IF('Asphalt Plant (AP-6)'!$C$5=\"batch mix plant\",'Asphalt Plant (AP-6)'!N6,0),IF('Asphalt Plant (AP-7)'!$C$5=\"batch mix plant\",'Asphalt Plant (AP-7)'!N6,0),IF('Asphalt Plant (AP-8)'!$C$5=\"batch mix plant\",'Asphalt Plant (AP-8)'!N6,0),IF('Asphalt Plant (AP-9)'!$C$5=\"batch mix plant\",'Asphalt Plant (AP-9)'!N6,0),IF('Asphalt Plant (AP-10)'!$C$5=\"batch mix plant\",'Asphalt Plant (AP-10)'!N6,0))>0,SUM(IF('Asphalt Plant (AP-1)'!$C$5=\"batch mix plant\",'Asphalt Plant (AP-1)'!N6,0),IF('Asphalt Plant (AP-2)'!$C$5=\"batch mix plant\",'Asphalt Plant (AP-2)'!N6,0),IF('Asphalt Plant (AP-3)'!$C$5=\"batch mix plant\",'Asphalt Plant (AP-3)'!N6,0),IF('Asphalt Plant (AP-4)'!$C$5=\"batch mix plant\",'Asphalt Plant (AP-4)'!N6,0),IF('Asphalt Plant (AP-5)'!$C$5=\"batch mix plant\",'Asphalt Plant (AP-5)'!N6,0),IF('Asphalt Plant (AP-6)'!$C$5=\"batch mix plant\",'Asphalt Plant (AP-6)'!N6,0),IF('Asphalt Plant (AP-7)'!$C$5=\"batch mix plant\",'Asphalt Plant (AP-7)'!N6,0),IF('Asphalt Plant (AP-8)'!$C$5=\"batch mix plant\",'Asphalt Plant (AP-8)'!N6,0),IF('Asphalt Plant (AP-9)'!$C$5=\"batch mix plant\",'Asphalt Plant (AP-9)'!N6,0),IF('Asphalt Plant (AP-10)'!$C$5=\"batch mix plant\",'Asphalt Plant (AP-10)'!N6,0)),\"\")","v":""},"",{"$f":"IF(B7=\"\",\"\",MAX(IF('Asphalt Plant (AP-1)'!$C$5=\"batch mix plant\",'Asphalt Plant (AP-1)'!O21,0),IF('Asphalt Plant (AP-2)'!$C$5=\"batch mix plant\",'Asphalt Plant (AP-2)'!O21,0),IF('Asphalt Plant (AP-3)'!$C$5=\"batch mix plant\",'Asphalt Plant (AP-3)'!O21,0),IF('Asphalt Plant (AP-4)'!$C$5=\"batch mix plant\",'Asphalt Plant (AP-4)'!O21,0),IF('Asphalt Plant (AP-5)'!$C$5=\"batch mix plant\",'Asphalt Plant (AP-5)'!O21,0),IF('Asphalt Plant (AP-6)'!$C$5=\"batch mix plant\",'Asphalt Plant (AP-6)'!O21,0),IF('Asphalt Plant (AP-7)'!$C$5=\"batch mix plant\",'Asphalt Plant (AP-7)'!O21,0),IF('Asphalt Plant (AP-8)'!$C$5=\"batch mix plant\",'Asphalt Plant (AP-8)'!O21,0),IF('Asphalt Plant (AP-9)'!$C$5=\"batch mix plant\",'Asphalt Plant (AP-9)'!O21,0),IF('Asphalt Plant (AP-10)'!$C$5=\"batch mix plant\",'Asphalt Plant (AP-10)'!O21,0)))","v":""},"",{"$f":"IF(B7=\"\",\"\",\"AP-42 Table 11.1-2,5,6,9\")","v":""},{"$f":"IF(B7=\"\",\"\",SUM(IF('Asphalt Plant (AP-1)'!$C$5=\"batch mix plant\",'Asphalt Plant (AP-1)'!Q21,0),IF('Asphalt Plant (AP-2)'!$C$5=\"batch mix plant\",'Asphalt Plant (AP-2)'!Q21,0),IF('Asphalt Plant (AP-3)'!$C$5=\"batch mix plant\",'Asphalt Plant (AP-3)'!Q21,0),IF('Asphalt Plant (AP-4)'!$C$5=\"batch mix plant\",'Asphalt Plant (AP-4)'!Q21,0),IF('Asphalt Plant (AP-5)'!$C$5=\"batch mix plant\",'Asphalt Plant (AP-5)'!Q21,0),IF('Asphalt Plant (AP-6)'!$C$5=\"batch mix plant\",'Asphalt Plant (AP-6)'!Q21,0),IF('Asphalt Plant (AP-7)'!$C$5=\"batch mix plant\",'Asphalt Plant (AP-7)'!Q21,0),IF('Asphalt Plant (AP-8)'!$C$5=\"batch mix plant\",'Asphalt Plant (AP-8)'!Q21,0),IF('Asphalt Plant (AP-9)'!$C$5=\"batch mix plant\",'Asphalt Plant (AP-9)'!Q21,0),IF('Asphalt Plant (AP-10)'!$C$5=\"batch mix plant\",'Asphalt Plant (AP-10)'!Q21,0)))","v":""},null,{"$f":"IF(B7=\"\",\"\",SUM(IF('Asphalt Plant (AP-1)'!$C$5=\"batch mix plant\",'Asphalt Plant (AP-1)'!R21,0),IF('Asphalt Plant (AP-2)'!$C$5=\"batch mix plant\",'Asphalt Plant (AP-2)'!R21,0),IF('Asphalt Plant (AP-3)'!$C$5=\"batch mix plant\",'Asphalt Plant (AP-3)'!R21,0),IF('Asphalt Plant (AP-4)'!$C$5=\"batch mix plant\",'Asphalt Plant (AP-4)'!R21,0),IF('Asphalt Plant (AP-5)'!$C$5=\"batch mix plant\",'Asphalt Plant (AP-5)'!R21,0),IF('Asphalt Plant (AP-6)'!$C$5=\"batch mix plant\",'Asphalt Plant (AP-6)'!R21,0),IF('Asphalt Plant (AP-7)'!$C$5=\"batch mix plant\",'Asphalt Plant (AP-7)'!R21,0),IF('Asphalt Plant (AP-8)'!$C$5=\"batch mix plant\",'Asphalt Plant (AP-8)'!R21,0),IF('Asphalt Plant (AP-9)'!$C$5=\"batch mix plant\",'Asphalt Plant (AP-9)'!R21,0),IF('Asphalt Plant (AP-10)'!$C$5=\"batch mix plant\",'Asphalt Plant (AP-10)'!R21,0)))","v":""},{"$f":"IF(B7=\"\",\"\",SUM(IF('Asphalt Plant (AP-1)'!$C$5=\"batch mix plant\",'Asphalt Plant (AP-1)'!S21,0),IF('Asphalt Plant (AP-2)'!$C$5=\"batch mix plant\",'Asphalt Plant (AP-2)'!S21,0),IF('Asphalt Plant (AP-3)'!$C$5=\"batch mix plant\",'Asphalt Plant (AP-3)'!S21,0),IF('Asphalt Plant (AP-4)'!$C$5=\"batch mix plant\",'Asphalt Plant (AP-4)'!S21,0),IF('Asphalt Plant (AP-5)'!$C$5=\"batch mix plant\",'Asphalt Plant (AP-5)'!S21,0),IF('Asphalt Plant (AP-6)'!$C$5=\"batch mix plant\",'Asphalt Plant (AP-6)'!S21,0),IF('Asphalt Plant (AP-7)'!$C$5=\"batch mix plant\",'Asphalt Plant (AP-7)'!S21,0),IF('Asphalt Plant (AP-8)'!$C$5=\"batch mix plant\",'Asphalt Plant (AP-8)'!S21,0),IF('Asphalt Plant (AP-9)'!$C$5=\"batch mix plant\",'Asphalt Plant (AP-9)'!S21,0),IF('Asphalt Plant (AP-10)'!$C$5=\"batch mix plant\",'Asphalt Plant (AP-10)'!S21,0)))","v":""},{"$f":"IF(B7=\"\",\"\",SUM(IF('Asphalt Plant (AP-1)'!$C$5=\"batch mix plant\",'Asphalt Plant (AP-1)'!T21,0),IF('Asphalt Plant (AP-2)'!$C$5=\"batch mix plant\",'Asphalt Plant (AP-2)'!T21,0),IF('Asphalt Plant (AP-3)'!$C$5=\"batch mix plant\",'Asphalt Plant (AP-3)'!T21,0),IF('Asphalt Plant (AP-4)'!$C$5=\"batch mix plant\",'Asphalt Plant (AP-4)'!T21,0),IF('Asphalt Plant (AP-5)'!$C$5=\"batch mix plant\",'Asphalt Plant (AP-5)'!T21,0),IF('Asphalt Plant (AP-6)'!$C$5=\"batch mix plant\",'Asphalt Plant (AP-6)'!T21,0),IF('Asphalt Plant (AP-7)'!$C$5=\"batch mix plant\",'Asphalt Plant (AP-7)'!T21,0),IF('Asphalt Plant (AP-8)'!$C$5=\"batch mix plant\",'Asphalt Plant (AP-8)'!T21,0),IF('Asphalt Plant (AP-9)'!$C$5=\"batch mix plant\",'Asphalt Plant (AP-9)'!T21,0),IF('Asphalt Plant (AP-10)'!$C$5=\"batch mix plant\",'Asphalt Plant (AP-10)'!T21,0)))","v":""}]
["",{"$f":"IF(D8=\"\",\"\",\"Batch Mix Plant - Natural Gas\")","v":""},{"$f":"IF(B8=\"\",\"\",\"30500247\")","v":""},{"$f":"IF(SUM(IF('Asphalt Plant (AP-1)'!$C$5=\"batch mix plant\",'Asphalt Plant (AP-1)'!N7,0),IF('Asphalt Plant (AP-2)'!$C$5=\"batch mix plant\",'Asphalt Plant (AP-2)'!N7,0),IF('Asphalt Plant (AP-3)'!$C$5=\"batch mix plant\",'Asphalt Plant (AP-3)'!N7,0),IF('Asphalt Plant (AP-4)'!$C$5=\"batch mix plant\",'Asphalt Plant (AP-4)'!N7,0),IF('Asphalt Plant (AP-5)'!$C$5=\"batch mix plant\",'Asphalt Plant (AP-5)'!N7,0),IF('Asphalt Plant (AP-6)'!$C$5=\"batch mix plant\",'Asphalt Plant (AP-6)'!N7,0),IF('Asphalt Plant (AP-7)'!$C$5=\"batch mix plant\",'Asphalt Plant (AP-7)'!N7,0),IF('Asphalt Plant (AP-8)'!$C$5=\"batch mix plant\",'Asphalt Plant (AP-8)'!N7,0),IF('Asphalt Plant (AP-9)'!$C$5=\"batch mix plant\",'Asphalt Plant (AP-9)'!N7,0),IF('Asphalt Plant (AP-10)'!$C$5=\"batch mix plant\",'Asphalt Plant (AP-10)'!N7,0))>0,SUM(IF('Asphalt Plant (AP-1)'!$C$5=\"batch mix plant\",'Asphalt Plant (AP-1)'!N7,0),IF('Asphalt Plant (AP-2)'!$C$5=\"batch mix plant\",'Asphalt Plant (AP-2)'!N7,0),IF('Asphalt Plant (AP-3)'!$C$5=\"batch mix plant\",'Asphalt Plant (AP-3)'!N7,0),IF('Asphalt Plant (AP-4)'!$C$5=\"batch mix plant\",'Asphalt Plant (AP-4)'!N7,0),IF('Asphalt Plant (AP-5)'!$C$5=\"batch mix plant\",'Asphalt Plant (AP-5)'!N7,0),IF('Asphalt Plant (AP-6)'!$C$5=\"batch mix plant\",'Asphalt Plant (AP-6)'!N7,0),IF('Asphalt Plant (AP-7)'!$C$5=\"batch mix plant\",'Asphalt Plant (AP-7)'!N7,0),IF('Asphalt Plant (AP-8)'!$C$5=\"batch mix plant\",'Asphalt Plant (AP-8)'!N7,0),IF('Asphalt Plant (AP-9)'!$C$5=\"batch mix plant\",'Asphalt Plant (AP-9)'!N7,0),IF('Asphalt Plant (AP-10)'!$C$5=\"batch mix plant\",'Asphalt Plant (AP-10)'!N7,0)),\"\")","v":""},"",{"$f":"IF(B8=\"\",\"\",MAX(IF('Asphalt Plant (AP-1)'!$C$5=\"batch mix plant\",'Asphalt Plant (AP-1)'!O22,0),IF('Asphalt Plant (AP-2)'!$C$5=\"batch mix plant\",'Asphalt Plant (AP-2)'!O22,0),IF('Asphalt Plant (AP-3)'!$C$5=\"batch mix plant\",'Asphalt Plant (AP-3)'!O22,0),IF('Asphalt Plant (AP-4)'!$C$5=\"batch mix plant\",'Asphalt Plant (AP-4)'!O22,0),IF('Asphalt Plant (AP-5)'!$C$5=\"batch mix plant\",'Asphalt Plant (AP-5)'!O22,0),IF('Asphalt Plant (AP-6)'!$C$5=\"batch mix plant\",'Asphalt Plant (AP-6)'!O22,0),IF('Asphalt Plant (AP-7)'!$C$5=\"batch mix plant\",'Asphalt Plant (AP-7)'!O22,0),IF('Asphalt Plant (AP-8)'!$C$5=\"batch mix plant\",'Asphalt Plant (AP-8)'!O22,0),IF('Asphalt Plant (AP-9)'!$C$5=\"batch mix plant\",'Asphalt Plant (AP-9)'!O22,0),IF('Asphalt Plant (AP-10)'!$C$5=\"batch mix plant\",'Asphalt Plant (AP-10)'!O22,0)))","v":""},"",{"$f":"IF(B8=\"\",\"\",\"AP-42 Table 11.1-2,5,6,9\")","v":""},{"$f":"IF(B8=\"\",\"\",SUM(IF('Asphalt Plant (AP-1)'!$C$5=\"batch mix plant\",'Asphalt Plant (AP-1)'!Q22,0),IF('Asphalt Plant (AP-2)'!$C$5=\"batch mix plant\",'Asphalt Plant (AP-2)'!Q22,0),IF('Asphalt Plant (AP-3)'!$C$5=\"batch mix plant\",'Asphalt Plant (AP-3)'!Q22,0),IF('Asphalt Plant (AP-4)'!$C$5=\"batch mix plant\",'Asphalt Plant (AP-4)'!Q22,0),IF('Asphalt Plant (AP-5)'!$C$5=\"batch mix plant\",'Asphalt Plant (AP-5)'!Q22,0),IF('Asphalt Plant (AP-6)'!$C$5=\"batch mix plant\",'Asphalt Plant (AP-6)'!Q22,0),IF('Asphalt Plant (AP-7)'!$C$5=\"batch mix plant\",'Asphalt Plant (AP-7)'!Q22,0),IF('Asphalt Plant (AP-8)'!$C$5=\"batch mix plant\",'Asphalt Plant (AP-8)'!Q22,0),IF('Asphalt Plant (AP-9)'!$C$5=\"batch mix plant\",'Asphalt Plant (AP-9)'!Q22,0),IF('Asphalt Plant (AP-10)'!$C$5=\"batch mix plant\",'Asphalt Plant (AP-10)'!Q22,0)))","v":""},null,{"$f":"IF(B8=\"\",\"\",SUM(IF('Asphalt Plant (AP-1)'!$C$5=\"batch mix plant\",'Asphalt Plant (AP-1)'!R22,0),IF('Asphalt Plant (AP-2)'!$C$5=\"batch mix plant\",'Asphalt Plant (AP-2)'!R22,0),IF('Asphalt Plant (AP-3)'!$C$5=\"batch mix plant\",'Asphalt Plant (AP-3)'!R22,0),IF('Asphalt Plant (AP-4)'!$C$5=\"batch mix plant\",'Asphalt Plant (AP-4)'!R22,0),IF('Asphalt Plant (AP-5)'!$C$5=\"batch mix plant\",'Asphalt Plant (AP-5)'!R22,0),IF('Asphalt Plant (AP-6)'!$C$5=\"batch mix plant\",'Asphalt Plant (AP-6)'!R22,0),IF('Asphalt Plant (AP-7)'!$C$5=\"batch mix plant\",'Asphalt Plant (AP-7)'!R22,0),IF('Asphalt Plant (AP-8)'!$C$5=\"batch mix plant\",'Asphalt Plant (AP-8)'!R22,0),IF('Asphalt Plant (AP-9)'!$C$5=\"batch mix plant\",'Asphalt Plant (AP-9)'!R22,0),IF('Asphalt Plant (AP-10)'!$C$5=\"batch mix plant\",'Asphalt Plant (AP-10)'!R22,0)))","v":""},{"$f":"IF(B8=\"\",\"\",SUM(IF('Asphalt Plant (AP-1)'!$C$5=\"batch mix plant\",'Asphalt Plant (AP-1)'!S22,0),IF('Asphalt Plant (AP-2)'!$C$5=\"batch mix plant\",'Asphalt Plant (AP-2)'!S22,0),IF('Asphalt Plant (AP-3)'!$C$5=\"batch mix plant\",'Asphalt Plant (AP-3)'!S22,0),IF('Asphalt Plant (AP-4)'!$C$5=\"batch mix plant\",'Asphalt Plant (AP-4)'!S22,0),IF('Asphalt Plant (AP-5)'!$C$5=\"batch mix plant\",'Asphalt Plant (AP-5)'!S22,0),IF('Asphalt Plant (AP-6)'!$C$5=\"batch mix plant\",'Asphalt Plant (AP-6)'!S22,0),IF('Asphalt Plant (AP-7)'!$C$5=\"batch mix plant\",'Asphalt Plant (AP-7)'!S22,0),IF('Asphalt Plant (AP-8)'!$C$5=\"batch mix plant\",'Asphalt Plant (AP-8)'!S22,0),IF('Asphalt Plant (AP-9)'!$C$5=\"batch mix plant\",'Asphalt Plant (AP-9)'!S22,0),IF('Asphalt Plant (AP-10)'!$C$5=\"batch mix plant\",'Asphalt Plant (AP-10)'!S22,0)))","v":""},{"$f":"IF(B8=\"\",\"\",SUM(IF('Asphalt Plant (AP-1)'!$C$5=\"batch mix plant\",'Asphalt Plant (AP-1)'!T22,0),IF('Asphalt Plant (AP-2)'!$C$5=\"batch mix plant\",'Asphalt Plant (AP-2)'!T22,0),IF('Asphalt Plant (AP-3)'!$C$5=\"batch mix plant\",'Asphalt Plant (AP-3)'!T22,0),IF('Asphalt Plant (AP-4)'!$C$5=\"batch mix plant\",'Asphalt Plant (AP-4)'!T22,0),IF('Asphalt Plant (AP-5)'!$C$5=\"batch mix plant\",'Asphalt Plant (AP-5)'!T22,0),IF('Asphalt Plant (AP-6)'!$C$5=\"batch mix plant\",'Asphalt Plant (AP-6)'!T22,0),IF('Asphalt Plant (AP-7)'!$C$5=\"batch mix plant\",'Asphalt Plant (AP-7)'!T22,0),IF('Asphalt Plant (AP-8)'!$C$5=\"batch mix plant\",'Asphalt Plant (AP-8)'!T22,0),IF('Asphalt Plant (AP-9)'!$C$5=\"batch mix plant\",'Asphalt Plant (AP-9)'!T22,0),IF('Asphalt Plant (AP-10)'!$C$5=\"batch mix plant\",'Asphalt Plant (AP-10)'!T22,0)))","v":""}]
["",{"$f":"IF(D9=\"\",\"\",\"Drum Mix Plant - Fuel Oil\")","v":""},{"$f":"IF(B9=\"\",\"\",\"30500258\")","v":""},{"$f":"IF(SUM(IF('Asphalt Plant (AP-1)'!$C$5=\"drum mix plant\",'Asphalt Plant (AP-1)'!N5,0),IF('Asphalt Plant (AP-2)'!$C$5=\"drum mix plant\",'Asphalt Plant (AP-2)'!N5,0),IF('Asphalt Plant (AP-3)'!$C$5=\"drum mix plant\",'Asphalt Plant (AP-3)'!N5,0),IF('Asphalt Plant (AP-4)'!$C$5=\"drum mix plant\",'Asphalt Plant (AP-4)'!N5,0),IF('Asphalt Plant (AP-5)'!$C$5=\"drum mix plant\",'Asphalt Plant (AP-5)'!N5,0),IF('Asphalt Plant (AP-6)'!$C$5=\"drum mix plant\",'Asphalt Plant (AP-6)'!N5,0),IF('Asphalt Plant (AP-7)'!$C$5=\"drum mix plant\",'Asphalt Plant (AP-7)'!N5,0),IF('Asphalt Plant (AP-8)'!$C$5=\"drum mix plant\",'Asphalt Plant (AP-8)'!N5,0),IF('Asphalt Plant (AP-9)'!$C$5=\"drum mix plant\",'Asphalt Plant (AP-9)'!N5,0),IF('Asphalt Plant (AP-10)'!$C$5=\"drum mix plant\",'Asphalt Plant (AP-10)'!N5,0))>0,SUM(IF('Asphalt Plant (AP-1)'!$C$5=\"drum mix plant\",'Asphalt Plant (AP-1)'!N5,0),IF('Asphalt Plant (AP-2)'!$C$5=\"drum mix plant\",'Asphalt Plant (AP-2)'!N5,0),IF('Asphalt Plant (AP-3)'!$C$5=\"drum mix plant\",'Asphalt Plant (AP-3)'!N5,0),IF('Asphalt Plant (AP-4)'!$C$5=\"drum mix plant\",'Asphalt Plant (AP-4)'!N5,0),IF('Asphalt Plant (AP-5)'!$C$5=\"drum mix plant\",'Asphalt Plant (AP-5)'!N5,0),IF('Asphalt Plant (AP-6)'!$C$5=\"drum mix plant\",'Asphalt Plant (AP-6)'!N5,0),IF('Asphalt Plant (AP-7)'!$C$5=\"drum mix plant\",'Asphalt Plant (AP-7)'!N5,0),IF('Asphalt Plant (AP-8)'!$C$5=\"drum mix plant\",'Asphalt Plant (AP-8)'!N5,0),IF('Asphalt Plant (AP-9)'!$C$5=\"drum mix plant\",'Asphalt Plant (AP-9)'!N5,0),IF('Asphalt Plant (AP-10)'!$C$5=\"drum mix plant\",'Asphalt Plant (AP-10)'!N5,0)),\"\")","v":""},"",{"$f":"IF(B9=\"\",\"\",MAX(IF('Asphalt Plant (AP-1)'!$C$5=\"drum mix plant\",'Asphalt Plant (AP-1)'!O20,0),IF('Asphalt Plant (AP-2)'!$C$5=\"drum mix plant\",'Asphalt Plant (AP-2)'!O20,0),IF('Asphalt Plant (AP-3)'!$C$5=\"drum mix plant\",'Asphalt Plant (AP-3)'!O20,0),IF('Asphalt Plant (AP-4)'!$C$5=\"drum mix plant\",'Asphalt Plant (AP-4)'!O20,0),IF('Asphalt Plant (AP-5)'!$C$5=\"drum mix plant\",'Asphalt Plant (AP-5)'!O20,0),IF('Asphalt Plant (AP-6)'!$C$5=\"drum mix plant\",'Asphalt Plant (AP-6)'!O20,0),IF('Asphalt Plant (AP-7)'!$C$5=\"drum mix plant\",'Asphalt Plant (AP-7)'!O20,0),IF('Asphalt Plant (AP-8)'!$C$5=\"drum mix plant\",'Asphalt Plant (AP-8)'!O20,0),IF('Asphalt Plant (AP-9)'!$C$5=\"drum mix plant\",'Asphalt Plant (AP-9)'!O20,0),IF('Asphalt Plant (AP-10)'!$C$5=\"drum mix plant\",'Asphalt Plant (AP-10)'!O20,0)))","v":""},"",{"$f":"IF(B9=\"\",\"\",\"AP-42 Table 11.1-4,7,8,10\")","v":""},{"$f":"IF(B9=\"\",\"\",SUM(IF('Asphalt Plant (AP-1)'!$C$5=\"drum mix plant\",'Asphalt Plant (AP-1)'!Q20,0),IF('Asphalt Plant (AP-2)'!$C$5=\"drum mix plant\",'Asphalt Plant (AP-2)'!Q20,0),IF('Asphalt Plant (AP-3)'!$C$5=\"drum mix plant\",'Asphalt Plant (AP-3)'!Q20,0),IF('Asphalt Plant (AP-4)'!$C$5=\"drum mix plant\",'Asphalt Plant (AP-4)'!Q20,0),IF('Asphalt Plant (AP-5)'!$C$5=\"drum mix plant\",'Asphalt Plant (AP-5)'!Q20,0),IF('Asphalt Plant (AP-6)'!$C$5=\"drum mix plant\",'Asphalt Plant (AP-6)'!Q20,0),IF('Asphalt Plant (AP-7)'!$C$5=\"drum mix plant\",'Asphalt Plant (AP-7)'!Q20,0),IF('Asphalt Plant (AP-8)'!$C$5=\"drum mix plant\",'Asphalt Plant (AP-8)'!Q20,0),IF('Asphalt Plant (AP-9)'!$C$5=\"drum mix plant\",'Asphalt Plant (AP-9)'!Q20,0),IF('Asphalt Plant (AP-10)'!$C$5=\"drum mix plant\",'Asphalt Plant (AP-10)'!Q20,0)))","v":""},null,{"$f":"IF(B9=\"\",\"\",SUM(IF('Asphalt Plant (AP-1)'!$C$5=\"drum mix plant\",'Asphalt Plant (AP-1)'!R20,0),IF('Asphalt Plant (AP-2)'!$C$5=\"drum mix plant\",'Asphalt Plant (AP-2)'!R20,0),IF('Asphalt Plant (AP-3)'!$C$5=\"drum mix plant\",'Asphalt Plant (AP-3)'!R20,0),IF('Asphalt Plant (AP-4)'!$C$5=\"drum mix plant\",'Asphalt Plant (AP-4)'!R20,0),IF('Asphalt Plant (AP-5)'!$C$5=\"drum mix plant\",'Asphalt Plant (AP-5)'!R20,0),IF('Asphalt Plant (AP-6)'!$C$5=\"drum mix plant\",'Asphalt Plant (AP-6)'!R20,0),IF('Asphalt Plant (AP-7)'!$C$5=\"drum mix plant\",'Asphalt Plant (AP-7)'!R20,0),IF('Asphalt Plant (AP-8)'!$C$5=\"drum mix plant\",'Asphalt Plant (AP-8)'!R20,0),IF('Asphalt Plant (AP-9)'!$C$5=\"drum mix plant\",'Asphalt Plant (AP-9)'!R20,0),IF('Asphalt Plant (AP-10)'!$C$5=\"drum mix plant\",'Asphalt Plant (AP-10)'!R20,0)))","v":""},{"$f":"IF(B9=\"\",\"\",SUM(IF('Asphalt Plant (AP-1)'!$C$5=\"drum mix plant\",'Asphalt Plant (AP-1)'!S20,0),IF('Asphalt Plant (AP-2)'!$C$5=\"drum mix plant\",'Asphalt Plant (AP-2)'!S20,0),IF('Asphalt Plant (AP-3)'!$C$5=\"drum mix plant\",'Asphalt Plant (AP-3)'!S20,0),IF('Asphalt Plant (AP-4)'!$C$5=\"drum mix plant\",'Asphalt Plant (AP-4)'!S20,0),IF('Asphalt Plant (AP-5)'!$C$5=\"drum mix plant\",'Asphalt Plant (AP-5)'!S20,0),IF('Asphalt Plant (AP-6)'!$C$5=\"drum mix plant\",'Asphalt Plant (AP-6)'!S20,0),IF('Asphalt Plant (AP-7)'!$C$5=\"drum mix plant\",'Asphalt Plant (AP-7)'!S20,0),IF('Asphalt Plant (AP-8)'!$C$5=\"drum mix plant\",'Asphalt Plant (AP-8)'!S20,0),IF('Asphalt Plant (AP-9)'!$C$5=\"drum mix plant\",'Asphalt Plant (AP-9)'!S20,0),IF('Asphalt Plant (AP-10)'!$C$5=\"drum mix plant\",'Asphalt Plant (AP-10)'!S20,0)))","v":""},{"$f":"IF(B9=\"\",\"\",SUM(IF('Asphalt Plant (AP-1)'!$C$5=\"drum mix plant\",'Asphalt Plant (AP-1)'!T20,0),IF('Asphalt Plant (AP-2)'!$C$5=\"drum mix plant\",'Asphalt Plant (AP-2)'!T20,0),IF('Asphalt Plant (AP-3)'!$C$5=\"drum mix plant\",'Asphalt Plant (AP-3)'!T20,0),IF('Asphalt Plant (AP-4)'!$C$5=\"drum mix plant\",'Asphalt Plant (AP-4)'!T20,0),IF('Asphalt Plant (AP-5)'!$C$5=\"drum mix plant\",'Asphalt Plant (AP-5)'!T20,0),IF('Asphalt Plant (AP-6)'!$C$5=\"drum mix plant\",'Asphalt Plant (AP-6)'!T20,0),IF('Asphalt Plant (AP-7)'!$C$5=\"drum mix plant\",'Asphalt Plant (AP-7)'!T20,0),IF('Asphalt Plant (AP-8)'!$C$5=\"drum mix plant\",'Asphalt Plant (AP-8)'!T20,0),IF('Asphalt Plant (AP-9)'!$C$5=\"drum mix plant\",'Asphalt Plant (AP-9)'!T20,0),IF('Asphalt Plant (AP-10)'!$C$5=\"drum mix plant\",'Asphalt Plant (AP-10)'!T20,0)))","v":""}]
["",{"$f":"IF(D10=\"\",\"\",\"Drum Mix Plant - Fuel Oil\")","v":""},{"$f":"IF(B10=\"\",\"\",\"30500255\")","v":""},{"$f":"IF(SUM(IF('Asphalt Plant (AP-1)'!$C$5=\"drum mix plant\",'Asphalt Plant (AP-1)'!N6,0),IF('Asphalt Plant (AP-2)'!$C$5=\"drum mix plant\",'Asphalt Plant (AP-2)'!N6,0),IF('Asphalt Plant (AP-3)'!$C$5=\"drum mix plant\",'Asphalt Plant (AP-3)'!N6,0),IF('Asphalt Plant (AP-4)'!$C$5=\"drum mix plant\",'Asphalt Plant (AP-4)'!N6,0),IF('Asphalt Plant (AP-5)'!$C$5=\"drum mix plant\",'Asphalt Plant (AP-5)'!N6,0),IF('Asphalt Plant (AP-6)'!$C$5=\"drum mix plant\",'Asphalt Plant (AP-6)'!N6,0),IF('Asphalt Plant (AP-7)'!$C$5=\"drum mix plant\",'Asphalt Plant (AP-7)'!N6,0),IF('Asphalt Plant (AP-8)'!$C$5=\"drum mix plant\",'Asphalt Plant (AP-8)'!N6,0),IF('Asphalt Plant (AP-9)'!$C$5=\"drum mix plant\",'Asphalt Plant (AP-9)'!N6,0),IF('Asphalt Plant (AP-10)'!$C$5=\"drum mix plant\",'Asphalt Plant (AP-10)'!N6,0))>0,SUM(IF('Asphalt Plant (AP-1)'!$C$5=\"drum mix plant\",'Asphalt Plant (AP-1)'!N6,0),IF('Asphalt Plant (AP-2)'!$C$5=\"drum mix plant\",'Asphalt Plant (AP-2)'!N6,0),IF('Asphalt Plant (AP-3)'!$C$5=\"drum mix plant\",'Asphalt Plant (AP-3)'!N6,0),IF('Asphalt Plant (AP-4)'!$C$5=\"drum mix plant\",'Asphalt Plant (AP-4)'!N6,0),IF('Asphalt Plant (AP-5)'!$C$5=\"drum mix plant\",'Asphalt Plant (AP-5)'!N6,0),IF('Asphalt Plant (AP-6)'!$C$5=\"drum mix plant\",'Asphalt Plant (AP-6)'!N6,0),IF('Asphalt Plant (AP-7)'!$C$5=\"drum mix plant\",'Asphalt Plant (AP-7)'!N6,0),IF('Asphalt Plant (AP-8)'!$C$5=\"drum mix plant\",'Asphalt Plant (AP-8)'!N6,0),IF('Asphalt Plant (AP-9)'!$C$5=\"drum mix plant\",'Asphalt Plant (AP-9)'!N6,0),IF('Asphalt Plant (AP-10)'!$C$5=\"drum mix plant\",'Asphalt Plant (AP-10)'!N6,0)),\"\")","v":""},"",{"$f":"IF(B10=\"\",\"\",MAX(IF('Asphalt Plant (AP-1)'!$C$5=\"drum mix plant\",'Asphalt Plant (AP-1)'!O21,0),IF('Asphalt Plant (AP-2)'!$C$5=\"drum mix plant\",'Asphalt Plant (AP-2)'!O21,0),IF('Asphalt Plant (AP-3)'!$C$5=\"drum mix plant\",'Asphalt Plant (AP-3)'!O21,0),IF('Asphalt Plant (AP-4)'!$C$5=\"drum mix plant\",'Asphalt Plant (AP-4)'!O21,0),IF('Asphalt Plant (AP-5)'!$C$5=\"drum mix plant\",'Asphalt Plant (AP-5)'!O21,0),IF('Asphalt Plant (AP-6)'!$C$5=\"drum mix plant\",'Asphalt Plant (AP-6)'!O21,0),IF('Asphalt Plant (AP-7)'!$C$5=\"drum mix plant\",'Asphalt Plant (AP-7)'!O21,0),IF('Asphalt Plant (AP-8)'!$C$5=\"drum mix plant\",'Asphalt Plant (AP-8)'!O21,0),IF('Asphalt Plant (AP-9)'!$C$5=\"drum mix plant\",'Asphalt Plant (AP-9)'!O21,0),IF('Asphalt Plant (AP-10)'!$C$5=\"drum mix plant\",'Asphalt Plant (AP-10)'!O21,0)))","v":""},"",{"$f":"IF(B10=\"\",\"\",\"AP-42 Table 11.1-4,7,8,10\")","v":""},{"$f":"IF(B10=\"\",\"\",SUM(IF('Asphalt Plant (AP-1)'!$C$5=\"drum mix plant\",'Asphalt Plant (AP-1)'!Q21,0),IF('Asphalt Plant (AP-2)'!$C$5=\"drum mix plant\",'Asphalt Plant (AP-2)'!Q21,0),IF('Asphalt Plant (AP-3)'!$C$5=\"drum mix plant\",'Asphalt Plant (AP-3)'!Q21,0),IF('Asphalt Plant (AP-4)'!$C$5=\"drum mix plant\",'Asphalt Plant (AP-4)'!Q21,0),IF('Asphalt Plant (AP-5)'!$C$5=\"drum mix plant\",'Asphalt Plant (AP-5)'!Q21,0),IF('Asphalt Plant (AP-6)'!$C$5=\"drum mix plant\",'Asphalt Plant (AP-6)'!Q21,0),IF('Asphalt Plant (AP-7)'!$C$5=\"drum mix plant\",'Asphalt Plant (AP-7)'!Q21,0),IF('Asphalt Plant (AP-8)'!$C$5=\"drum mix plant\",'Asphalt Plant (AP-8)'!Q21,0),IF('Asphalt Plant (AP-9)'!$C$5=\"drum mix plant\",'Asphalt Plant (AP-9)'!Q21,0),IF('Asphalt Plant (AP-10)'!$C$5=\"drum mix plant\",'Asphalt Plant (AP-10)'!Q21,0)))","v":""},null,{"$f":"IF(B10=\"\",\"\",SUM(IF('Asphalt Plant (AP-1)'!$C$5=\"drum mix plant\",'Asphalt Plant (AP-1)'!R21,0),IF('Asphalt Plant (AP-2)'!$C$5=\"drum mix plant\",'Asphalt Plant (AP-2)'!R21,0),IF('Asphalt Plant (AP-3)'!$C$5=\"drum mix plant\",'Asphalt Plant (AP-3)'!R21,0),IF('Asphalt Plant (AP-4)'!$C$5=\"drum mix plant\",'Asphalt Plant (AP-4)'!R21,0),IF('Asphalt Plant (AP-5)'!$C$5=\"drum mix plant\",'Asphalt Plant (AP-5)'!R21,0),IF('Asphalt Plant (AP-6)'!$C$5=\"drum mix plant\",'Asphalt Plant (AP-6)'!R21,0),IF('Asphalt Plant (AP-7)'!$C$5=\"drum mix plant\",'Asphalt Plant (AP-7)'!R21,0),IF('Asphalt Plant (AP-8)'!$C$5=\"drum mix plant\",'Asphalt Plant (AP-8)'!R21,0),IF('Asphalt Plant (AP-9)'!$C$5=\"drum mix plant\",'Asphalt Plant (AP-9)'!R21,0),IF('Asphalt Plant (AP-10)'!$C$5=\"drum mix plant\",'Asphalt Plant (AP-10)'!R21,0)))","v":""},{"$f":"IF(B10=\"\",\"\",SUM(IF('Asphalt Plant (AP-1)'!$C$5=\"drum mix plant\",'Asphalt Plant (AP-1)'!S21,0),IF('Asphalt Plant (AP-2)'!$C$5=\"drum mix plant\",'Asphalt Plant (AP-2)'!S21,0),IF('Asphalt Plant (AP-3)'!$C$5=\"drum mix plant\",'Asphalt Plant (AP-3)'!S21,0),IF('Asphalt Plant (AP-4)'!$C$5=\"drum mix plant\",'Asphalt Plant (AP-4)'!S21,0),IF('Asphalt Plant (AP-5)'!$C$5=\"drum mix plant\",'Asphalt Plant (AP-5)'!S21,0),IF('Asphalt Plant (AP-6)'!$C$5=\"drum mix plant\",'Asphalt Plant (AP-6)'!S21,0),IF('Asphalt Plant (AP-7)'!$C$5=\"drum mix plant\",'Asphalt Plant (AP-7)'!S21,0),IF('Asphalt Plant (AP-8)'!$C$5=\"drum mix plant\",'Asphalt Plant (AP-8)'!S21,0),IF('Asphalt Plant (AP-9)'!$C$5=\"drum mix plant\",'Asphalt Plant (AP-9)'!S21,0),IF('Asphalt Plant (AP-10)'!$C$5=\"drum mix plant\",'Asphalt Plant (AP-10)'!S21,0)))","v":""},{"$f":"IF(B10=\"\",\"\",SUM(IF('Asphalt Plant (AP-1)'!$C$5=\"drum mix plant\",'Asphalt Plant (AP-1)'!T21,0),IF('Asphalt Plant (AP-2)'!$C$5=\"drum mix plant\",'Asphalt Plant (AP-2)'!T21,0),IF('Asphalt Plant (AP-3)'!$C$5=\"drum mix plant\",'Asphalt Plant (AP-3)'!T21,0),IF('Asphalt Plant (AP-4)'!$C$5=\"drum mix plant\",'Asphalt Plant (AP-4)'!T21,0),IF('Asphalt Plant (AP-5)'!$C$5=\"drum mix plant\",'Asphalt Plant (AP-5)'!T21,0),IF('Asphalt Plant (AP-6)'!$C$5=\"drum mix plant\",'Asphalt Plant (AP-6)'!T21,0),IF('Asphalt Plant (AP-7)'!$C$5=\"drum mix plant\",'Asphalt Plant (AP-7)'!T21,0),IF('Asphalt Plant (AP-8)'!$C$5=\"drum mix plant\",'Asphalt Plant (AP-8)'!T21,0),IF('Asphalt Plant (AP-9)'!$C$5=\"drum mix plant\",'Asphalt Plant (AP-9)'!T21,0),IF('Asphalt Plant (AP-10)'!$C$5=\"drum mix plant\",'Asphalt Plant (AP-10)'!T21,0)))","v":""}]
["",{"$f":"IF(D11=\"\",\"\",\"Drum Mix Plant - Fuel Oil\")","v":""},{"$f":"IF(B11=\"\",\"\",\"30500261\")","v":""},{"$f":"IF(SUM(IF('Asphalt Plant (AP-1)'!$C$5=\"drum mix plant\",'Asphalt Plant (AP-1)'!N7,0),IF('Asphalt Plant (AP-2)'!$C$5=\"drum mix plant\",'Asphalt Plant (AP-2)'!N7,0),IF('Asphalt Plant (AP-3)'!$C$5=\"drum mix plant\",'Asphalt Plant (AP-3)'!N7,0),IF('Asphalt Plant (AP-4)'!$C$5=\"drum mix plant\",'Asphalt Plant (AP-4)'!N7,0),IF('Asphalt Plant (AP-5)'!$C$5=\"drum mix plant\",'Asphalt Plant (AP-5)'!N7,0),IF('Asphalt Plant (AP-6)'!$C$5=\"drum mix plant\",'Asphalt Plant (AP-6)'!N7,0),IF('Asphalt Plant (AP-7)'!$C$5=\"drum mix plant\",'Asphalt Plant (AP-7)'!N7,0),IF('Asphalt Plant (AP-8)'!$C$5=\"drum mix plant\",'Asphalt Plant (AP-8)'!N7,0),IF('Asphalt Plant (AP-9)'!$C$5=\"drum mix plant\",'Asphalt Plant (AP-9)'!N7,0),IF('Asphalt Plant (AP-10)'!$C$5=\"drum mix plant\",'Asphalt Plant (AP-10)'!N7,0))>0,SUM(IF('Asphalt Plant (AP-1)'!$C$5=\"drum mix plant\",'Asphalt Plant (AP-1)'!N7,0),IF('Asphalt Plant (AP-2)'!$C$5=\"drum mix plant\",'Asphalt Plant (AP-2)'!N7,0),IF('Asphalt Plant (AP-3)'!$C$5=\"drum mix plant\",'Asphalt Plant (AP-3)'!N7,0),IF('Asphalt Plant (AP-4)'!$C$5=\"drum mix plant\",'Asphalt Plant (AP-4)'!N7,0),IF('Asphalt Plant (AP-5)'!$C$5=\"drum mix plant\",'Asphalt Plant (AP-5)'!N7,0),IF('Asphalt Plant (AP-6)'!$C$5=\"drum mix plant\",'Asphalt Plant (AP-6)'!N7,0),IF('Asphalt Plant (AP-7)'!$C$5=\"drum mix plant\",'Asphalt Plant (AP-7)'!N7,0),IF('Asphalt Plant (AP-8)'!$C$5=\"drum mix plant\",'Asphalt Plant (AP-8)'!N7,0),IF('Asphalt Plant (AP-9)'!$C$5=\"drum mix plant\",'Asphalt Plant (AP-9)'!N7,0),IF('Asphalt Plant (AP-10)'!$C$5=\"drum mix plant\",'Asphalt Plant (AP-10)'!N7,0)),\"\")","v":""},"",{"$f":"IF(B11=\"\",\"\",MAX(IF('Asphalt Plant (AP-1)'!$C$5=\"drum mix plant\",'Asphalt Plant (AP-1)'!O22,0),IF('Asphalt Plant (AP-2)'!$C$5=\"drum mix plant\",'Asphalt Plant (AP-2)'!O22,0),IF('Asphalt Plant (AP-3)'!$C$5=\"drum mix plant\",'Asphalt Plant (AP-3)'!O22,0),IF('Asphalt Plant (AP-4)'!$C$5=\"drum mix plant\",'Asphalt Plant (AP-4)'!O22,0),IF('Asphalt Plant (AP-5)'!$C$5=\"drum mix plant\",'Asphalt Plant (AP-5)'!O22,0),IF('Asphalt Plant (AP-6)'!$C$5=\"drum mix plant\",'Asphalt Plant (AP-6)'!O22,0),IF('Asphalt Plant (AP-7)'!$C$5=\"drum mix plant\",'Asphalt Plant (AP-7)'!O22,0),IF('Asphalt Plant (AP-8)'!$C$5=\"drum mix plant\",'Asphalt Plant (AP-8)'!O22,0),IF('Asphalt Plant (AP-9)'!$C$5=\"drum mix plant\",'Asphalt Plant (AP-9)'!O22,0),IF('Asphalt Plant (AP-10)'!$C$5=\"drum mix plant\",'Asphalt Plant (AP-10)'!O22,0)))","v":""},"",{"$f":"IF(B11=\"\",\"\",\"AP-42 Table 11.1-4,7,8,10,12\")","v":""},{"$f":"IF(B11=\"\",\"\",SUM(IF('Asphalt Plant (AP-1)'!$C$5=\"drum mix plant\",'Asphalt Plant (AP-1)'!Q22,0),IF('Asphalt Plant (AP-2)'!$C$5=\"drum mix plant\",'Asphalt Plant (AP-2)'!Q22,0),IF('Asphalt Plant (AP-3)'!$C$5=\"drum mix plant\",'Asphalt Plant (AP-3)'!Q22,0),IF('Asphalt Plant (AP-4)'!$C$5=\"drum mix plant\",'Asphalt Plant (AP-4)'!Q22,0),IF('Asphalt Plant (AP-5)'!$C$5=\"drum mix plant\",'Asphalt Plant (AP-5)'!Q22,0),IF('Asphalt Plant (AP-6)'!$C$5=\"drum mix plant\",'Asphalt Plant (AP-6)'!Q22,0),IF('Asphalt Plant (AP-7)'!$C$5=\"drum mix plant\",'Asphalt Plant (AP-7)'!Q22,0),IF('Asphalt Plant (AP-8)'!$C$5=\"drum mix plant\",'Asphalt Plant (AP-8)'!Q22,0),IF('Asphalt Plant (AP-9)'!$C$5=\"drum mix plant\",'Asphalt Plant (AP-9)'!Q22,0),IF('Asphalt Plant (AP-10)'!$C$5=\"drum mix plant\",'Asphalt Plant (AP-10)'!Q22,0)))","v":""},null,{"$f":"IF(B11=\"\",\"\",SUM(IF('Asphalt Plant (AP-1)'!$C$5=\"drum mix plant\",'Asphalt Plant (AP-1)'!R22,0),IF('Asphalt Plant (AP-2)'!$C$5=\"drum mix plant\",'Asphalt Plant (AP-2)'!R22,0),IF('Asphalt Plant (AP-3)'!$C$5=\"drum mix plant\",'Asphalt Plant (AP-3)'!R22,0),IF('Asphalt Plant (AP-4)'!$C$5=\"drum mix plant\",'Asphalt Plant (AP-4)'!R22,0),IF('Asphalt Plant (AP-5)'!$C$5=\"drum mix plant\",'Asphalt Plant (AP-5)'!R22,0),IF('Asphalt Plant (AP-6)'!$C$5=\"drum mix plant\",'Asphalt Plant (AP-6)'!R22,0),IF('Asphalt Plant (AP-7)'!$C$5=\"drum mix plant\",'Asphalt Plant (AP-7)'!R22,0),IF('Asphalt Plant (AP-8)'!$C$5=\"drum mix plant\",'Asphalt Plant (AP-8)'!R22,0),IF('Asphalt Plant (AP-9)'!$C$5=\"drum mix plant\",'Asphalt Plant (AP-9)'!R22,0),IF('Asphalt Plant (AP-10)'!$C$5=\"drum mix plant\",'Asphalt Plant (AP-10)'!R22,0)))","v":""},{"$f":"IF(B11=\"\",\"\",SUM(IF('Asphalt Plant (AP-1)'!$C$5=\"drum mix plant\",'Asphalt Plant (AP-1)'!S22,0),IF('Asphalt Plant (AP-2)'!$C$5=\"drum mix plant\",'Asphalt Plant (AP-2)'!S22,0),IF('Asphalt Plant (AP-3)'!$C$5=\"drum mix plant\",'Asphalt Plant (AP-3)'!S22,0),IF('Asphalt Plant (AP-4)'!$C$5=\"drum mix plant\",'Asphalt Plant (AP-4)'!S22,0),IF('Asphalt Plant (AP-5)'!$C$5=\"drum mix plant\",'Asphalt Plant (AP-5)'!S22,0),IF('Asphalt Plant (AP-6)'!$C$5=\"drum mix plant\",'Asphalt Plant (AP-6)'!S22,0),IF('Asphalt Plant (AP-7)'!$C$5=\"drum mix plant\",'Asphalt Plant (AP-7)'!S22,0),IF('Asphalt Plant (AP-8)'!$C$5=\"drum mix plant\",'Asphalt Plant (AP-8)'!S22,0),IF('Asphalt Plant (AP-9)'!$C$5=\"drum mix plant\",'Asphalt Plant (AP-9)'!S22,0),IF('Asphalt Plant (AP-10)'!$C$5=\"drum mix plant\",'Asphalt Plant (AP-10)'!S22,0)))","v":""},{"$f":"IF(B11=\"\",\"\",SUM(IF('Asphalt Plant (AP-1)'!$C$5=\"drum mix plant\",'Asphalt Plant (AP-1)'!T22,0),IF('Asphalt Plant (AP-2)'!$C$5=\"drum mix plant\",'Asphalt Plant (AP-2)'!T22,0),IF('Asphalt Plant (AP-3)'!$C$5=\"drum mix plant\",'Asphalt Plant (AP-3)'!T22,0),IF('Asphalt Plant (AP-4)'!$C$5=\"drum mix plant\",'Asphalt Plant (AP-4)'!T22,0),IF('Asphalt Plant (AP-5)'!$C$5=\"drum mix plant\",'Asphalt Plant (AP-5)'!T22,0),IF('Asphalt Plant (AP-6)'!$C$5=\"drum mix plant\",'Asphalt Plant (AP-6)'!T22,0),IF('Asphalt Plant (AP-7)'!$C$5=\"drum mix plant\",'Asphalt Plant (AP-7)'!T22,0),IF('Asphalt Plant (AP-8)'!$C$5=\"drum mix plant\",'Asphalt Plant (AP-8)'!T22,0),IF('Asphalt Plant (AP-9)'!$C$5=\"drum mix plant\",'Asphalt Plant (AP-9)'!T22,0),IF('Asphalt Plant (AP-10)'!$C$5=\"drum mix plant\",'Asphalt Plant (AP-10)'!T22,0)))","v":""}]
[{"$f":"IF(SUM('Asphalt Plant (AP-1)'!N23,'Asphalt Plant (AP-2)'!N23,'Asphalt Plant (AP-3)'!N23,'Asphalt Plant (AP-4)'!N23,'Asphalt Plant (AP-5)'!N23,'Asphalt Plant (AP-6)'!N23,'Asphalt Plant (AP-7)'!N23,'Asphalt Plant (AP-8)'!N23,'Asphalt Plant (AP-9)'!N23,'Asphalt Plant (AP-10)'!N23)>0,\"ALL\",\"\")","v":""},{"$f":"IF(SUM('Asphalt Plant (AP-1)'!N23,'Asphalt Plant (AP-2)'!N23,'Asphalt Plant (AP-3)'!N23,'Asphalt Plant (AP-4)'!N23,'Asphalt Plant (AP-5)'!N23,'Asphalt Plant (AP-6)'!N23,'Asphalt Plant (AP-7)'!N23,'Asphalt Plant (AP-8)'!N23,'Asphalt Plant (AP-9)'!N23,'Asphalt Plant (AP-10)'!N23)>0,\"Silo Filling\",\"\")","v":""},{"$f":"IF(B12=\"\",\"\",\"30500213\")","v":""},{"$f":"IF(SUM('Asphalt Plant (AP-1)'!N11,'Asphalt Plant (AP-2)'!N11,'Asphalt Plant (AP-3)'!N11,'Asphalt Plant (AP-4)'!N11,'Asphalt Plant (AP-5)'!N11,'Asphalt Plant (AP-6)'!N11,'Asphalt Plant (AP-7)'!N11,'Asphalt Plant (AP-8)'!N11,'Asphalt Plant (AP-9)'!N11,'Asphalt Plant (AP-10)'!N11)>0,SUM('Asphalt Plant (AP-1)'!N11,'Asphalt Plant (AP-2)'!N11,'Asphalt Plant (AP-3)'!N11,'Asphalt Plant (AP-4)'!N11,'Asphalt Plant (AP-5)'!N11,'Asphalt Plant (AP-6)'!N11,'Asphalt Plant (AP-7)'!N11,'Asphalt Plant (AP-8)'!N11,'Asphalt Plant (AP-9)'!N11,'Asphalt Plant (AP-10)'!N11),\"\")","v":""},{"$f":"IF(B12=\"\",\"\",\"tons/hr\")","v":""},{"$f":"IF(B12=\"\",\"\",LOOKUP(B12,'Emission Factors'!$A$23:$A$25,'Emission Factors'!$D$23:$D$25))","v":""},{"$f":"IF(B12=\"\",\"\",\"lb/ton\")","v":""},{"$f":"IF(B12=\"\",\"\",LOOKUP(B12,'Emission Factors'!$A$23:$A$25,'Emission Factors'!$C$23:$C$25))","v":""},{"$f":"IF(D12=\"\",\"\",SUM('Asphalt Plant (AP-1)'!Q23,'Asphalt Plant (AP-2)'!Q23,'Asphalt Plant (AP-3)'!Q23,'Asphalt Plant (AP-4)'!Q23,'Asphalt Plant (AP-5)'!Q23,'Asphalt Plant (AP-6)'!Q23,'Asphalt Plant (AP-7)'!Q23,'Asphalt Plant (AP-8)'!Q23,'Asphalt Plant (AP-9)'!Q23,'Asphalt Plant (AP-10)'!Q23))","v":""},null,null,{"$f":"IF(B12=\"\",\"\",SUM('Asphalt Plant (AP-1)'!S23,'Asphalt Plant (AP-2)'!S23,'Asphalt Plant (AP-3)'!S23,'Asphalt Plant (AP-4)'!S23,'Asphalt Plant (AP-5)'!S23,'Asphalt Plant (AP-6)'!S23,'Asphalt Plant (AP-7)'!S23,'Asphalt Plant (AP-8)'!S23,'Asphalt Plant (AP-9)'!S23,'Asphalt Plant (AP-10)'!S23,))","v":""},{"$f":"IF(B12=\"\",\"\",SUM('Asphalt Plant (AP-1)'!T23,'Asphalt Plant (AP-2)'!T23,'Asphalt Plant (AP-3)'!T23,'Asphalt Plant (AP-4)'!T23,'Asphalt Plant (AP-5)'!T23,'Asphalt Plant (AP-6)'!T23,'Asphalt Plant (AP-7)'!T23,'Asphalt Plant (AP-8)'!T23,'Asphalt Plant (AP-9)'!T23,'Asphalt Plant (AP-10)'!T23,))","v":""}]
[{"$f":"IF(SUM('Asphalt Plant (AP-1)'!N24,'Asphalt Plant (AP-2)'!N24,'Asphalt Plant (AP-3)'!N24,'Asphalt Plant (AP-4)'!N24,'Asphalt Plant (AP-5)'!N24,'Asphalt Plant (AP-6)'!N24,'Asphalt Plant (AP-7)'!N24,'Asphalt Plant (AP-8)'!N24,'Asphalt Plant (AP-9)'!N24,'Asphalt Plant (AP-10)'!N24)>0,\"ALL\",\"\")","v":""},{"$f":"IF(SUM('Asphalt Plant (AP-1)'!N24,'Asphalt Plant (AP-2)'!N24,'Asphalt Plant (AP-3)'!N24,'Asphalt Plant (AP-4)'!N24,'Asphalt Plant (AP-5)'!N24,'Asphalt Plant (AP-6)'!N24,'Asphalt Plant (AP-7)'!N24,'Asphalt Plant (AP-8)'!N24,'Asphalt Plant (AP-9)'!N24,'Asphalt Plant (AP-10)'!N24)>0,\"Truck Loadout\",\"\")","v":""},{"$f":"IF(B13=\"\",\"\",\"30500214\")","v":""},{"$f":"IF(SUM('Asphalt Plant (AP-1)'!N12,'Asphalt Plant (AP-2)'!N12,'Asphalt Plant (AP-3)'!N12,'Asphalt Plant (AP-4)'!N12,'Asphalt Plant (AP-5)'!N12,'Asphalt Plant (AP-6)'!N12,'Asphalt Plant (AP-7)'!N12,'Asphalt Plant (AP-8)'!N12,'Asphalt Plant (AP-9)'!N12,'Asphalt Plant (AP-10)'!N12)>0,SUM('Asphalt Plant (AP-1)'!N12,'Asphalt Plant (AP-2)'!N12,'Asphalt Plant (AP-3)'!N12,'Asphalt Plant (AP-4)'!N12,'Asphalt Plant (AP-5)'!N12,'Asphalt Plant (AP-6)'!N12,'Asphalt Plant (AP-7)'!N12,'Asphalt Plant (AP-8)'!N12,'Asphalt Plant (AP-9)'!N12,'Asphalt Plant (AP-10)'!N12),\"\")","v":""},{"$f":"IF(B13=\"\",\"\",\"tons/hr\")","v":""},{"$f":"IF(B13=\"\",\"\",LOOKUP(B13,'Emission Factors'!$A$23:$A$25,'Emission Factors'!$D$23:$D$25))","v":""},{"$f":"IF(B13=\"\",\"\",\"lb/ton\")","v":""},{"$f":"IF(B13=\"\",\"\",LOOKUP(B13,'Emission Factors'!$A$23:$A$25,'Emission Factors'!$C$23:$C$25))","v":""},{"$f":"IF(D13=\"\",\"\",SUM('Asphalt Plant (AP-1)'!Q24,'Asphalt Plant (AP-2)'!Q24,'Asphalt Plant (AP-3)'!Q24,'Asphalt Plant (AP-4)'!Q24,'Asphalt Plant (AP-5)'!Q24,'Asphalt Plant (AP-6)'!Q24,'Asphalt Plant (AP-7)'!Q24,'Asphalt Plant (AP-8)'!Q24,'Asphalt Plant (AP-9)'!Q24,'Asphalt Plant (AP-10)'!Q24))","v":""},null,null,{"$f":"IF(B13=\"\",\"\",SUM('Asphalt Plant (AP-1)'!S24,'Asphalt Plant (AP-2)'!S24,'Asphalt Plant (AP-3)'!S24,'Asphalt Plant (AP-4)'!S24,'Asphalt Plant (AP-5)'!S24,'Asphalt Plant (AP-6)'!S24,'Asphalt Plant (AP-7)'!S24,'Asphalt Plant (AP-8)'!S24,'Asphalt Plant (AP-9)'!S24,'Asphalt Plant (AP-10)'!S24,))","v":""},{"$f":"IF(B13=\"\",\"\",SUM('Asphalt Plant (AP-1)'!T24,'Asphalt Plant (AP-2)'!T24,'Asphalt Plant (AP-3)'!T24,'Asphalt Plant (AP-4)'!T24,'Asphalt Plant (AP-5)'!T24,'Asphalt Plant (AP-6)'!T24,'Asphalt Plant (AP-7)'!T24,'Asphalt Plant (AP-8)'!T24,'Asphalt Plant (AP-9)'!T24,'Asphalt Plant (AP-10)'!T24,))","v":""}]
[{"$f":"IF(SUM('Asphalt Plant (AP-1)'!N25,'Asphalt Plant (AP-2)'!N25,'Asphalt Plant (AP-3)'!N25,'Asphalt Plant (AP-4)'!N25,'Asphalt Plant (AP-5)'!N25,'Asphalt Plant (AP-6)'!N25,'Asphalt Plant (AP-7)'!N25,'Asphalt Plant (AP-8)'!N25,'Asphalt Plant (AP-9)'!N25,'Asphalt Plant (AP-10)'!N25)>0,\"ALL\",\"\")","v":""},{"$f":"IF(SUM('Asphalt Plant (AP-1)'!N25,'Asphalt Plant (AP-2)'!N25,'Asphalt Plant (AP-3)'!N25,'Asphalt Plant (AP-4)'!N25,'Asphalt Plant (AP-5)'!N25,'Asphalt Plant (AP-6)'!N25,'Asphalt Plant (AP-7)'!N25,'Asphalt Plant (AP-8)'!N25,'Asphalt Plant (AP-9)'!N25,'Asphalt Plant (AP-10)'!N25)>0,\"Cold Aggregate Bins\",\"\")","v":""},{"$f":"IF(B14=\"\",\"\",\"30500204\")","v":""},{"$f":"IF(SUM('Asphalt Plant (AP-1)'!N13,'Asphalt Plant (AP-2)'!N13,'Asphalt Plant (AP-3)'!N13,'Asphalt Plant (AP-4)'!N13,'Asphalt Plant (AP-5)'!N13,'Asphalt Plant (AP-6)'!N13,'Asphalt Plant (AP-7)'!N13,'Asphalt Plant (AP-8)'!N13,'Asphalt Plant (AP-9)'!N13,'Asphalt Plant (AP-10)'!N13)>0,SUM('Asphalt Plant (AP-1)'!N13,'Asphalt Plant (AP-2)'!N13,'Asphalt Plant (AP-3)'!N13,'Asphalt Plant (AP-4)'!N13,'Asphalt Plant (AP-5)'!N13,'Asphalt Plant (AP-6)'!N13,'Asphalt Plant (AP-7)'!N13,'Asphalt Plant (AP-8)'!N13,'Asphalt Plant (AP-9)'!N13,'Asphalt Plant (AP-10)'!N13),\"\")","v":""},{"$f":"IF(B14=\"\",\"\",\"tons/hr\")","v":""},{"$f":"IF(B14=\"\",\"\",LOOKUP(B14,'Emission Factors'!$A$23:$A$25,'Emission Factors'!$D$23:$D$25))","v":""},{"$f":"IF(B14=\"\",\"\",\"lb/ton\")","v":""},{"$f":"IF(B14=\"\",\"\",LOOKUP(B14,'Emission Factors'!$A$23:$A$25,'Emission Factors'!$C$23:$C$25))","v":""},{"$f":"IF(D14=\"\",\"\",SUM('Asphalt Plant (AP-1)'!Q25,'Asphalt Plant (AP-2)'!Q25,'Asphalt Plant (AP-3)'!Q25,'Asphalt Plant (AP-4)'!Q25,'Asphalt Plant (AP-5)'!Q25,'Asphalt Plant (AP-6)'!Q25,'Asphalt Plant (AP-7)'!Q25,'Asphalt Plant (AP-8)'!Q25,'Asphalt Plant (AP-9)'!Q25,'Asphalt Plant (AP-10)'!Q25))","v":""},null,null,{"$f":"IF(B14=\"\",\"\",SUM('Asphalt Plant (AP-1)'!S25,'Asphalt Plant (AP-2)'!S25,'Asphalt Plant (AP-3)'!S25,'Asphalt Plant (AP-4)'!S25,'Asphalt Plant (AP-5)'!S25,'Asphalt Plant (AP-6)'!S25,'Asphalt Plant (AP-7)'!S25,'Asphalt Plant (AP-8)'!S25,'Asphalt Plant (AP-9)'!S25,'Asphalt Plant (AP-10)'!S25,))","v":""},{"$f":"IF(B14=\"\",\"\",SUM('Asphalt Plant (AP-1)'!T25,'Asphalt Plant (AP-2)'!T25,'Asphalt Plant (AP-3)'!T25,'Asphalt Plant (AP-4)'!T25,'Asphalt Plant (AP-5)'!T25,'Asphalt Plant (AP-6)'!T25,'Asphalt Plant (AP-7)'!T25,'Asphalt Plant (AP-8)'!T25,'Asphalt Plant (AP-9)'!T25,'Asphalt Plant (AP-10)'!T25,))","v":""}]
[{"$f":"IF(SUM('Asphalt Plant (AP-1)'!O35,'Asphalt Plant (AP-2)'!O35,'Asphalt Plant (AP-3)'!O35,'Asphalt Plant (AP-4)'!O35,'Asphalt Plant (AP-5)'!O35,'Asphalt Plant (AP-6)'!O35,'Asphalt Plant (AP-7)'!O35,'Asphalt Plant (AP-8)'!O35,'Asphalt Plant (AP-9)'!O35,'Asphalt Plant (AP-10)'!O35)>0,\"ALL\",\"\")","v":""},{"$f":"IF(SUM('Asphalt Plant (AP-1)'!O35,'Asphalt Plant (AP-2)'!O35,'Asphalt Plant (AP-3)'!O35,'Asphalt Plant (AP-4)'!O35,'Asphalt Plant (AP-5)'!O35,'Asphalt Plant (AP-6)'!O35,'Asphalt Plant (AP-7)'!O35,'Asphalt Plant (AP-8)'!O35,'Asphalt Plant (AP-9)'!O35,'Asphalt Plant (AP-10)'!O35)>0,\"Storage Piles\",\"\")","v":""},{"$f":"IF(B15=\"\",\"\",\"30500203\")","v":""},{"$f":"IF(B15=\"\",\"\",SUM('Asphalt Plant (AP-1)'!O35,'Asphalt Plant (AP-2)'!O35,'Asphalt Plant (AP-3)'!O35,'Asphalt Plant (AP-4)'!O35,'Asphalt Plant (AP-5)'!O35,'Asphalt Plant (AP-6)'!O35,'Asphalt Plant (AP-7)'!O35,'Asphalt Plant (AP-8)'!O35,'Asphalt Plant (AP-9)'!O35,'Asphalt Plant (AP-10)'!O35))","v":""},{"$f":"IF(B15=\"\",\"\",\"acre/day\")","v":""},{"$f":"IF(B15=\"\",\"\",3.64)","v":""},{"$f":"IF(B15=\"\",\"\",\"lb/acre-day\")","v":""},{"$f":"IF(B15=\"\",\"\",\"WebFIRE\")","v":""},{"$f":"IF(B15=\"\",\"\",SUM('Asphalt Plant (AP-1)'!Q35,'Asphalt Plant (AP-2)'!Q35,'Asphalt Plant (AP-3)'!Q35,'Asphalt Plant (AP-4)'!Q35,'Asphalt Plant (AP-5)'!Q35,'Asphalt Plant (AP-6)'!Q35,'Asphalt Plant (AP-7)'!Q35,'Asphalt Plant (AP-8)'!Q35,'Asphalt Plant (AP-9)'!Q35,'Asphalt Plant (AP-10)'!Q35))","v":""},null,null,{"$f":"IF(B15=\"\",\"\",SUM('Asphalt Plant (AP-1)'!S35,'Asphalt Plant (AP-2)'!S35,'Asphalt Plant (AP-3)'!S35,'Asphalt Plant (AP-4)'!S35,'Asphalt Plant (AP-5)'!S35,'Asphalt Plant (AP-6)'!S35,'Asphalt Plant (AP-7)'!S35,'Asphalt Plant (AP-8)'!S35,'Asphalt Plant (AP-9)'!S35,'Asphalt Plant (AP-10)'!S35))","v":""},{"$f":"IF(B15=\"\",\"\",SUM('Asphalt Plant (AP-1)'!T35,'Asphalt Plant (AP-2)'!T35,'Asphalt Plant (AP-3)'!T35,'Asphalt Plant (AP-4)'!T35,'Asphalt Plant (AP-5)'!T35,'Asphalt Plant (AP-6)'!T35,'Asphalt Plant (AP-7)'!T35,'Asphalt Plant (AP-8)'!T35,'Asphalt Plant (AP-9)'!T35,'Asphalt Plant (AP-10)'!T35))","v":""}]
[{"$f":"IF('Haul Roads'!L41=0,\"\",\"ALL\")","v":""},{"$f":"IF('Haul Roads'!L41=0,\"\",\"Unpaved Haul Roads\")","v":""},{"$f":"IF('Haul Roads'!L41=0,\"\",\"30205054\")","v":""},{"$f":"IF(F16=\"\",\"\",'Haul Roads'!P36*'Haul Roads'!L36/8760)","v":""},{"$f":"IF(B16=\"\",\"\",\"vmt/hr\")","v":""},{"$f":"IF(B16=\"\",\"\",'Haul Roads'!U36)","v":""},{"$f":"IF(F16=\"\",\"\",\"lb/vmt\")","v":""},{"$f":"IF(F16=\"\",\"\",\"AP-42 Ch 13.2.2\")","v":""},{"$f":"IF(F16=\"\",\"\",D16*F16)","v":""},{"$f":"IF(SUM('Haul Roads'!W6:W35)>0,40,\"\")","v":""},{"$f":"IF(SUM('Haul Roads'!W6:W35)>0,(SUM('Haul Roads'!W6:W35)),\"\")","v":""},{"$f":"IF(AND((SUM('Haul Roads'!$M$6:$M$35)>0),'Haul Roads'!L39>0),SUM('Haul Roads'!$AL$8:$AL$17),IF(B16=\"\",\"\",'Haul Roads'!L39))","v":""},{"$f":"IF(AND((SUM('Haul Roads'!$M$6:$M$35)>0),'Haul Roads'!L44>0),SUM('Haul Roads'!$AM$8:$AM$17),IF(B16=\"\",\"\",'Haul Roads'!L44))","v":""}]
[{"$f":"IF('Haul Roads'!L42=0,\"\",\"ALL\")","v":""},{"$f":"IF('Haul Roads'!L42=0,\"\",\"Paved Haul Roads\")","v":""},{"$f":"IF('Haul Roads'!L42=0,\"\",\"30205054\")","v":""},{"$f":"IF(F17=\"\",\"\",'Haul Roads'!P37*'Haul Roads'!L37/8760)","v":""},{"$f":"IF(B17=\"\",\"\",\"vmt/hr\")","v":""},{"$f":"IF(B17=\"\",\"\",'Haul Roads'!U37)","v":""},{"$f":"IF(F17=\"\",\"\",\"lb/vmt\")","v":""},{"$f":"IF(F17=\"\",\"\",\"AP-42 Ch 13.2.1\")","v":""},{"$f":"IF(F17=\"\",\"\",D17*F17)","v":""},null,null,{"$f":"IF(B17=\"\",\"\",IF(AND((SUM('Haul Roads'!$M$6:$M$35)>0),'Haul Roads'!L40>0,'Haul Roads'!L39>0),\"\",IF(AND((SUM('Haul Roads'!$M$6:$M$35)>0),'Haul Roads'!L40>0),SUM('Haul Roads'!$AL$8:$AL$17),'Haul Roads'!L40)))","v":""},{"$f":"IF(B17=\"\",\"\",IF(AND((SUM('Haul Roads'!$M$6:$M$35)>0),'Haul Roads'!L45>0,'Haul Roads'!L44>0),\"\",IF(AND((SUM('Haul Roads'!$M$6:$M$35)>0),'Haul Roads'!L45>0),SUM('Haul Roads'!$AM$8:$AM$17),'Haul Roads'!L45)))","v":""}]
[{"$f":"IF('Permitted Diesel Engines'!R50=0,\"\",\"ALL\")","v":""},{"$f":"IF('Permitted Diesel Engines'!R50=0,\"\",\"Diesel Generator ≤ 600 bhp\")","v":""},{"$f":"IF('Permitted Diesel Engines'!R50=0,\"\",LOOKUP(B18,'Emission Factors'!A43:A44,'Emission Factors'!B43:B44))","v":""},{"$f":"IF('Permitted Diesel Engines'!R50=0,\"\",'Permitted Diesel Engines'!R50)","v":""},{"$f":"IF(B18=\"\",\"\",\"MMBtu/hr\")","v":""},{"$f":"IF(B18=\"\",\"\",LOOKUP(B18,'Emission Factors'!$A$43:$A$44,'Emission Factors'!$D$43:$D$44))","v":""},{"$f":"IF(B18=\"\",\"\",LOOKUP(B18,'Emission Factors'!$A$43:$A$44,'Emission Factors'!$C$43:$C$44))","v":""},{"$f":"IF(B18=\"\",\"\",LOOKUP(B18,'Emission Factors'!$A$43:$A$44,'Emission Factors'!$E$43:$E$44))","v":""},{"$f":"IF(B18=\"\",\"\",'Emission Calculations'!D18*'Emission Calculations'!F18)","v":""},null,null,{"$f":"IF(F18=\"\",\"\",'Permitted Diesel Engines'!$Z$77)","v":""},{"$f":"IF(B18=\"\",\"\",'Permitted Diesel Engines'!$T$50*F18/2000)","v":""}]
[{"$f":"IF('Permitted Diesel Engines'!R51=0,\"\",\"ALL\")","v":""},{"$f":"IF('Permitted Diesel Engines'!R51=0,\"\",\"Diesel Generator> 600 bhp\")","v":""},{"$f":"IF('Permitted Diesel Engines'!R51=0,\"\",LOOKUP(B19,'Emission Factors'!$A$43:$A$44,'Emission Factors'!$B$43:$B$44))","v":""},{"$f":"IF('Permitted Diesel Engines'!R51=0,\"\",'Permitted Diesel Engines'!R51)","v":""},{"$f":"IF(B19=\"\",\"\",\"MMBtu/hr\")","v":""},{"$f":"IF(B19=\"\",\"\",LOOKUP(B19,'Emission Factors'!$A$43:$A$44,'Emission Factors'!$D$43:$D$44))","v":""},{"$f":"IF(B19=\"\",\"\",LOOKUP(B19,'Emission Factors'!$A$43:$A$44,'Emission Factors'!$C$43:$C$44))","v":""},{"$f":"IF(B19=\"\",\"\",LOOKUP(B19,'Emission Factors'!$A$43:$A$44,'Emission Factors'!$E$43:$E$44))","v":""},{"$f":"IF(B19=\"\",\"\",'Emission Calculations'!D19*'Emission Calculations'!F19)","v":""},null,null,{"$f":"IF(F19=\"\",\"\",'Permitted Diesel Engines'!$AA$77)","v":""},{"$f":"IF(B19=\"\",\"\",'Permitted Diesel Engines'!$T$51*F19/2000)","v":""}]
[null,null,null,null,null,null,null,null,null,"FACILITY TOTALS:",null,{"$f":"SUM(L6:L19)","v":0},{"$f":"SUM(M6:M19)","v":0}]
[]
["PM10",null,null,null,null,null,null,null,"Potential Hourly ",null,"Potential Hourly","Potential Annual ","Actual "]
["EP","Description of Process","SCC #","Max Design Rate","Units of Measure","Emission Factor","Units of Measure","Source of Emission Factor","Uncontrolled Emissions(lb/hr)","Control Efficiency","Controlled Emissions (lb/hr)","Emissions (tons/yr)","Emissions (tons/yr)"]
[{"$f":"IF(D24=\"\",\"\",\"ALL\")","v":""},{"$f":"IF(D24=\"\",\"\",\"Batch Mix Plant - Fuel Oil\")","v":""},{"$f":"IF(B24=\"\",\"\",\"30500246\")","v":""},{"$f":"IF(SUM(IF('Asphalt Plant (AP-1)'!$C$5=\"batch mix plant\",'Asphalt Plant (AP-1)'!N5,0),IF('Asphalt Plant (AP-2)'!$C$5=\"batch mix plant\",'Asphalt Plant (AP-2)'!N5,0),IF('Asphalt Plant (AP-3)'!$C$5=\"batch mix plant\",'Asphalt Plant (AP-3)'!N5,0),IF('Asphalt Plant (AP-4)'!$C$5=\"batch mix plant\",'Asphalt Plant (AP-4)'!N5,0),IF('Asphalt Plant (AP-5)'!$C$5=\"batch mix plant\",'Asphalt Plant (AP-5)'!N5,0),IF('Asphalt Plant (AP-6)'!$C$5=\"batch mix plant\",'Asphalt Plant (AP-6)'!N5,0),IF('Asphalt Plant (AP-7)'!$C$5=\"batch mix plant\",'Asphalt Plant (AP-7)'!N5,0),IF('Asphalt Plant (AP-8)'!$C$5=\"batch mix plant\",'Asphalt Plant (AP-8)'!N5,0),IF('Asphalt Plant (AP-9)'!$C$5=\"batch mix plant\",'Asphalt Plant (AP-9)'!N5,0),IF('Asphalt Plant (AP-10)'!$C$5=\"batch mix plant\",'Asphalt Plant (AP-10)'!N5,0))>0,SUM(IF('Asphalt Plant (AP-1)'!$C$5=\"batch mix plant\",'Asphalt Plant (AP-1)'!N5,0),IF('Asphalt Plant (AP-2)'!$C$5=\"batch mix plant\",'Asphalt Plant (AP-2)'!N5,0),IF('Asphalt Plant (AP-3)'!$C$5=\"batch mix plant\",'Asphalt Plant (AP-3)'!N5,0),IF('Asphalt Plant (AP-4)'!$C$5=\"batch mix plant\",'Asphalt Plant (AP-4)'!N5,0),IF('Asphalt Plant (AP-5)'!$C$5=\"batch mix plant\",'Asphalt Plant (AP-5)'!N5,0),IF('Asphalt Plant (AP-6)'!$C$5=\"batch mix plant\",'Asphalt Plant (AP-6)'!N5,0),IF('Asphalt Plant (AP-7)'!$C$5=\"batch mix plant\",'Asphalt Plant (AP-7)'!N5,0),IF('Asphalt Plant (AP-8)'!$C$5=\"batch mix plant\",'Asphalt Plant (AP-8)'!N5,0),IF('Asphalt Plant (AP-9)'!$C$5=\"batch mix plant\",'Asphalt Plant (AP-9)'!N5,0),IF('Asphalt Plant (AP-10)'!$C$5=\"batch mix plant\",'Asphalt Plant (AP-10)'!N5,0)),\"\")","v":""},{"$f":"IF(B24=\"\",\"\",\"tons/hr\")","v":""},{"$f":"IF(B24=\"\",\"\",MAX(IF('Asphalt Plant (AP-1)'!$C$5=\"batch mix plant\",'Asphalt Plant (AP-1)'!O27,0),IF('Asphalt Plant (AP-2)'!$C$5=\"batch mix plant\",'Asphalt Plant (AP-2)'!O27,0),IF('Asphalt Plant (AP-3)'!$C$5=\"batch mix plant\",'Asphalt Plant (AP-3)'!O27,0),IF('Asphalt Plant (AP-4)'!$C$5=\"batch mix plant\",'Asphalt Plant (AP-4)'!O27,0),IF('Asphalt Plant (AP-5)'!$C$5=\"batch mix plant\",'Asphalt Plant (AP-5)'!O27,0),IF('Asphalt Plant (AP-6)'!$C$5=\"batch mix plant\",'Asphalt Plant (AP-6)'!O27,0),IF('Asphalt Plant (AP-7)'!$C$5=\"batch mix plant\",'Asphalt Plant (AP-7)'!O27,0),IF('Asphalt Plant (AP-8)'!$C$5=\"batch mix plant\",'Asphalt Plant (AP-8)'!O27,0),IF('Asphalt Plant (AP-9)'!$C$5=\"batch mix plant\",'Asphalt Plant (AP-9)'!O27,0),IF('Asphalt Plant (AP-10)'!$C$5=\"batch mix plant\",'Asphalt Plant (AP-10)'!O27,0)))","v":""},{"$f":"IF(B24=\"\",\"\",\"lb/ton\")","v":""},{"$f":"IF(B24=\"\",\"\",\"AP-42 Table 11.1-2,5,6,9\")","v":""},{"$f":"IF(B24=\"\",\"\",SUM(IF('Asphalt Plant (AP-1)'!$C$5=\"batch mix plant\",'Asphalt Plant (AP-1)'!Q27,0),IF('Asphalt Plant (AP-2)'!$C$5=\"batch mix plant\",'Asphalt Plant (AP-2)'!Q27,0),IF('Asphalt Plant (AP-3)'!$C$5=\"batch mix plant\",'Asphalt Plant (AP-3)'!Q27,0),IF('Asphalt Plant (AP-4)'!$C$5=\"batch mix plant\",'Asphalt Plant (AP-4)'!Q27,0),IF('Asphalt Plant (AP-5)'!$C$5=\"batch mix plant\",'Asphalt Plant (AP-5)'!Q27,0),IF('Asphalt Plant (AP-6)'!$C$5=\"batch mix plant\",'Asphalt Plant (AP-6)'!Q27,0),IF('Asphalt Plant (AP-7)'!$C$5=\"batch mix plant\",'Asphalt Plant (AP-7)'!Q27,0),IF('Asphalt Plant (AP-8)'!$C$5=\"batch mix plant\",'Asphalt Plant (AP-8)'!Q27,0),IF('Asphalt Plant (AP-9)'!$C$5=\"batch mix plant\",'Asphalt Plant (AP-9)'!Q27,0),IF('Asphalt Plant (AP-10)'!$C$5=\"batch mix plant\",'Asphalt Plant (AP-10)'!Q27,0)))","v":""},null,{"$f":"IF(B24=\"\",\"\",SUM(IF('Asphalt Plant (AP-1)'!$C$5=\"batch mix plant\",'Asphalt Plant (AP-1)'!R27,0),IF('Asphalt Plant (AP-2)'!$C$5=\"batch mix plant\",'Asphalt Plant (AP-2)'!R27,0),IF('Asphalt Plant (AP-3)'!$C$5=\"batch mix plant\",'Asphalt Plant (AP-3)'!R27,0),IF('Asphalt Plant (AP-4)'!$C$5=\"batch mix plant\",'Asphalt Plant (AP-4)'!R27,0),IF('Asphalt Plant (AP-5)'!$C$5=\"batch mix plant\",'Asphalt Plant (AP-5)'!R27,0),IF('Asphalt Plant (AP-6)'!$C$5=\"batch mix plant\",'Asphalt Plant (AP-6)'!R27,0),IF('Asphalt Plant (AP-7)'!$C$5=\"batch mix plant\",'Asphalt Plant (AP-7)'!R27,0),IF('Asphalt Plant (AP-8)'!$C$5=\"batch mix plant\",'Asphalt Plant (AP-8)'!R27,0),IF('Asphalt Plant (AP-9)'!$C$5=\"batch mix plant\",'Asphalt Plant (AP-9)'!R27,0),IF('Asphalt Plant (AP-10)'!$C$5=\"batch mix plant\",'Asphalt Plant (AP-10)'!R27,0)))","v":""},{"$f":"IF(B24=\"\",\"\",SUM(IF('Asphalt Plant (AP-1)'!$C$5=\"batch mix plant\",'Asphalt Plant (AP-1)'!S27,0),IF('Asphalt Plant (AP-2)'!$C$5=\"batch mix plant\",'Asphalt Plant (AP-2)'!S27,0),IF('Asphalt Plant (AP-3)'!$C$5=\"batch mix plant\",'Asphalt Plant (AP-3)'!S27,0),IF('Asphalt Plant (AP-4)'!$C$5=\"batch mix plant\",'Asphalt Plant (AP-4)'!S27,0),IF('Asphalt Plant (AP-5)'!$C$5=\"batch mix plant\",'Asphalt Plant (AP-5)'!S27,0),IF('Asphalt Plant (AP-6)'!$C$5=\"batch mix plant\",'Asphalt Plant (AP-6)'!S27,0),IF('Asphalt Plant (AP-7)'!$C$5=\"batch mix plant\",'Asphalt Plant (AP-7)'!S27,0),IF('Asphalt Plant (AP-8)'!$C$5=\"batch mix plant\",'Asphalt Plant (AP-8)'!S27,0),IF('Asphalt Plant (AP-9)'!$C$5=\"batch mix plant\",'Asphalt Plant (AP-9)'!S27,0),IF('Asphalt Plant (AP-10)'!$C$5=\"batch mix plant\",'Asphalt Plant (AP-10)'!S27,0)))","v":""},{"$f":"IF(B24=\"\",\"\",SUM(IF('Asphalt Plant (AP-1)'!$C$5=\"batch mix plant\",'Asphalt Plant (AP-1)'!T27,0),IF('Asphalt Plant (AP-2)'!$C$5=\"batch mix plant\",'Asphalt Plant (AP-2)'!T27,0),IF('Asphalt Plant (AP-3)'!$C$5=\"batch mix plant\",'Asphalt Plant (AP-3)'!T27,0),IF('Asphalt Plant (AP-4)'!$C$5=\"batch mix plant\",'Asphalt Plant (AP-4)'!T27,0),IF('Asphalt Plant (AP-5)'!$C$5=\"batch mix plant\",'Asphalt Plant (AP-5)'!T27,0),IF('Asphalt Plant (AP-6)'!$C$5=\"batch mix plant\",'Asphalt Plant (AP-6)'!T27,0),IF('Asphalt Plant (AP-7)'!$C$5=\"batch mix plant\",'Asphalt Plant (AP-7)'!T27,0),IF('Asphalt Plant (AP-8)'!$C$5=\"batch mix plant\",'Asphalt Plant (AP-8)'!T27,0),IF('Asphalt Plant (AP-9)'!$C$5=\"batch mix plant\",'Asphalt Plant (AP-9)'!T27,0),IF('Asphalt Plant (AP-10)'!$C$5=\"batch mix plant\",'Asphalt Plant (AP-10)'!T27,0)))","v":""}]
["",{"$f":"IF(D25=\"\",\"\",\"Batch Mix Plant - Waste Oil\")","v":""},{"$f":"IF(B25=\"\",\"\",\"30500245\")","v":""},{"$f":"IF(SUM(IF('Asphalt Plant (AP-1)'!$C$5=\"batch mix plant\",'Asphalt Plant (AP-1)'!N6,0),IF('Asphalt Plant (AP-2)'!$C$5=\"batch mix plant\",'Asphalt Plant (AP-2)'!N6,0),IF('Asphalt Plant (AP-3)'!$C$5=\"batch mix plant\",'Asphalt Plant (AP-3)'!N6,0),IF('Asphalt Plant (AP-4)'!$C$5=\"batch mix plant\",'Asphalt Plant (AP-4)'!N6,0),IF('Asphalt Plant (AP-5)'!$C$5=\"batch mix plant\",'Asphalt Plant (AP-5)'!N6,0),IF('Asphalt Plant (AP-6)'!$C$5=\"batch mix plant\",'Asphalt Plant (AP-6)'!N6,0),IF('Asphalt Plant (AP-7)'!$C$5=\"batch mix plant\",'Asphalt Plant (AP-7)'!N6,0),IF('Asphalt Plant (AP-8)'!$C$5=\"batch mix plant\",'Asphalt Plant (AP-8)'!N6,0),IF('Asphalt Plant (AP-9)'!$C$5=\"batch mix plant\",'Asphalt Plant (AP-9)'!N6,0),IF('Asphalt Plant (AP-10)'!$C$5=\"batch mix plant\",'Asphalt Plant (AP-10)'!N6,0))>0,SUM(IF('Asphalt Plant (AP-1)'!$C$5=\"batch mix plant\",'Asphalt Plant (AP-1)'!N6,0),IF('Asphalt Plant (AP-2)'!$C$5=\"batch mix plant\",'Asphalt Plant (AP-2)'!N6,0),IF('Asphalt Plant (AP-3)'!$C$5=\"batch mix plant\",'Asphalt Plant (AP-3)'!N6,0),IF('Asphalt Plant (AP-4)'!$C$5=\"batch mix plant\",'Asphalt Plant (AP-4)'!N6,0),IF('Asphalt Plant (AP-5)'!$C$5=\"batch mix plant\",'Asphalt Plant (AP-5)'!N6,0),IF('Asphalt Plant (AP-6)'!$C$5=\"batch mix plant\",'Asphalt Plant (AP-6)'!N6,0),IF('Asphalt Plant (AP-7)'!$C$5=\"batch mix plant\",'Asphalt Plant (AP-7)'!N6,0),IF('Asphalt Plant (AP-8)'!$C$5=\"batch mix plant\",'Asphalt Plant (AP-8)'!N6,0),IF('Asphalt Plant (AP-9)'!$C$5=\"batch mix plant\",'Asphalt Plant (AP-9)'!N6,0),IF('Asphalt Plant (AP-10)'!$C$5=\"batch mix plant\",'Asphalt Plant (AP-10)'!N6,0)),\"\")","v":""},"",{"$f":"IF(B25=\"\",\"\",MAX(IF('Asphalt Plant (AP-1)'!$C$5=\"batch mix plant\",'Asphalt Plant (AP-1)'!O28,0),IF('Asphalt Plant (AP-2)'!$C$5=\"batch mix plant\",'Asphalt Plant (AP-2)'!O28,0),IF('Asphalt Plant (AP-3)'!$C$5=\"batch mix plant\",'Asphalt Plant (AP-3)'!O28,0),IF('Asphalt Plant (AP-4)'!$C$5=\"batch mix plant\",'Asphalt Plant (AP-4)'!O28,0),IF('Asphalt Plant (AP-5)'!$C$5=\"batch mix plant\",'Asphalt Plant (AP-5)'!O28,0),IF('Asphalt Plant (AP-6)'!$C$5=\"batch mix plant\",'Asphalt Plant (AP-6)'!O28,0),IF('Asphalt Plant (AP-7)'!$C$5=\"batch mix plant\",'Asphalt Plant (AP-7)'!O28,0),IF('Asphalt Plant (AP-8)'!$C$5=\"batch mix plant\",'Asphalt Plant (AP-8)'!O28,0),IF('Asphalt Plant (AP-9)'!$C$5=\"batch mix plant\",'Asphalt Plant (AP-9)'!O28,0),IF('Asphalt Plant (AP-10)'!$C$5=\"batch mix plant\",'Asphalt Plant (AP-10)'!O28,0)))","v":""},"",{"$f":"IF(B25=\"\",\"\",\"AP-42 Table 11.1-2,5,6,9\")","v":""},{"$f":"IF(B25=\"\",\"\",SUM(IF('Asphalt Plant (AP-1)'!$C$5=\"batch mix plant\",'Asphalt Plant (AP-1)'!Q28,0),IF('Asphalt Plant (AP-2)'!$C$5=\"batch mix plant\",'Asphalt Plant (AP-2)'!Q28,0),IF('Asphalt Plant (AP-3)'!$C$5=\"batch mix plant\",'Asphalt Plant (AP-3)'!Q28,0),IF('Asphalt Plant (AP-4)'!$C$5=\"batch mix plant\",'Asphalt Plant (AP-4)'!Q28,0),IF('Asphalt Plant (AP-5)'!$C$5=\"batch mix plant\",'Asphalt Plant (AP-5)'!Q28,0),IF('Asphalt Plant (AP-6)'!$C$5=\"batch mix plant\",'Asphalt Plant (AP-6)'!Q28,0),IF('Asphalt Plant (AP-7)'!$C$5=\"batch mix plant\",'Asphalt Plant (AP-7)'!Q28,0),IF('Asphalt Plant (AP-8)'!$C$5=\"batch mix plant\",'Asphalt Plant (AP-8)'!Q28,0),IF('Asphalt Plant (AP-9)'!$C$5=\"batch mix plant\",'Asphalt Plant (AP-9)'!Q28,0),IF('Asphalt Plant (AP-10)'!$C$5=\"batch mix plant\",'Asphalt Plant (AP-10)'!Q28,0)))","v":""},null,{"$f":"IF(B25=\"\",\"\",SUM(IF('Asphalt Plant (AP-1)'!$C$5=\"batch mix plant\",'Asphalt Plant (AP-1)'!R28,0),IF('Asphalt Plant (AP-2)'!$C$5=\"batch mix plant\",'Asphalt Plant (AP-2)'!R28,0),IF('Asphalt Plant (AP-3)'!$C$5=\"batch mix plant\",'Asphalt Plant (AP-3)'!R28,0),IF('Asphalt Plant (AP-4)'!$C$5=\"batch mix plant\",'Asphalt Plant (AP-4)'!R28,0),IF('Asphalt Plant (AP-5)'!$C$5=\"batch mix plant\",'Asphalt Plant (AP-5)'!R28,0),IF('Asphalt Plant (AP-6)'!$C$5=\"batch mix plant\",'Asphalt Plant (AP-6)'!R28,0),IF('Asphalt Plant (AP-7)'!$C$5=\"batch mix plant\",'Asphalt Plant (AP-7)'!R28,0),IF('Asphalt Plant (AP-8)'!$C$5=\"batch mix plant\",'Asphalt Plant (AP-8)'!R28,0),IF('Asphalt Plant (AP-9)'!$C$5=\"batch mix plant\",'Asphalt Plant (AP-9)'!R28,0),IF('Asphalt Plant (AP-10)'!$C$5=\"batch mix plant\",'Asphalt Plant (AP-10)'!R28,0)))","v":""},{"$f":"IF(B25=\"\",\"\",SUM(IF('Asphalt Plant (AP-1)'!$C$5=\"batch mix plant\",'Asphalt Plant (AP-1)'!S28,0),IF('Asphalt Plant (AP-2)'!$C$5=\"batch mix plant\",'Asphalt Plant (AP-2)'!S28,0),IF('Asphalt Plant (AP-3)'!$C$5=\"batch mix plant\",'Asphalt Plant (AP-3)'!S28,0),IF('Asphalt Plant (AP-4)'!$C$5=\"batch mix plant\",'Asphalt Plant (AP-4)'!S28,0),IF('Asphalt Plant (AP-5)'!$C$5=\"batch mix plant\",'Asphalt Plant (AP-5)'!S28,0),IF('Asphalt Plant (AP-6)'!$C$5=\"batch mix plant\",'Asphalt Plant (AP-6)'!S28,0),IF('Asphalt Plant (AP-7)'!$C$5=\"batch mix plant\",'Asphalt Plant (AP-7)'!S28,0),IF('Asphalt Plant (AP-8)'!$C$5=\"batch mix plant\",'Asphalt Plant (AP-8)'!S28,0),IF('Asphalt Plant (AP-9)'!$C$5=\"batch mix plant\",'Asphalt Plant (AP-9)'!S28,0),IF('Asphalt Plant (AP-10)'!$C$5=\"batch mix plant\",'Asphalt Plant (AP-10)'!S28,0)))","v":""},{"$f":"IF(B25=\"\",\"\",SUM(IF('Asphalt Plant (AP-1)'!$C$5=\"batch mix plant\",'Asphalt Plant (AP-1)'!T28,0),IF('Asphalt Plant (AP-2)'!$C$5=\"batch mix plant\",'Asphalt Plant (AP-2)'!T28,0),IF('Asphalt Plant (AP-3)'!$C$5=\"batch mix plant\",'Asphalt Plant (AP-3)'!T28,0),IF('Asphalt Plant (AP-4)'!$C$5=\"batch mix plant\",'Asphalt Plant (AP-4)'!T28,0),IF('Asphalt Plant (AP-5)'!$C$5=\"batch mix plant\",'Asphalt Plant (AP-5)'!T28,0),IF('Asphalt Plant (AP-6)'!$C$5=\"batch mix plant\",'Asphalt Plant (AP-6)'!T28,0),IF('Asphalt Plant (AP-7)'!$C$5=\"batch mix plant\",'Asphalt Plant (AP-7)'!T28,0),IF('Asphalt Plant (AP-8)'!$C$5=\"batch mix plant\",'Asphalt Plant (AP-8)'!T28,0),IF('Asphalt Plant (AP-9)'!$C$5=\"batch mix plant\",'Asphalt Plant (AP-9)'!T28,0),IF('Asphalt Plant (AP-10)'!$C$5=\"batch mix plant\",'Asphalt Plant (AP-10)'!T28,0)))","v":""}]
["",{"$f":"IF(D26=\"\",\"\",\"Batch Mix Plant - Natural Gas\")","v":""},{"$f":"IF(B26=\"\",\"\",\"30500247\")","v":""},{"$f":"IF(SUM(IF('Asphalt Plant (AP-1)'!$C$5=\"batch mix plant\",'Asphalt Plant (AP-1)'!N7,0),IF('Asphalt Plant (AP-2)'!$C$5=\"batch mix plant\",'Asphalt Plant (AP-2)'!N7,0),IF('Asphalt Plant (AP-3)'!$C$5=\"batch mix plant\",'Asphalt Plant (AP-3)'!N7,0),IF('Asphalt Plant (AP-4)'!$C$5=\"batch mix plant\",'Asphalt Plant (AP-4)'!N7,0),IF('Asphalt Plant (AP-5)'!$C$5=\"batch mix plant\",'Asphalt Plant (AP-5)'!N7,0),IF('Asphalt Plant (AP-6)'!$C$5=\"batch mix plant\",'Asphalt Plant (AP-6)'!N7,0),IF('Asphalt Plant (AP-7)'!$C$5=\"batch mix plant\",'Asphalt Plant (AP-7)'!N7,0),IF('Asphalt Plant (AP-8)'!$C$5=\"batch mix plant\",'Asphalt Plant (AP-8)'!N7,0),IF('Asphalt Plant (AP-9)'!$C$5=\"batch mix plant\",'Asphalt Plant (AP-9)'!N7,0),IF('Asphalt Plant (AP-10)'!$C$5=\"batch mix plant\",'Asphalt Plant (AP-10)'!N7,0))>0,SUM(IF('Asphalt Plant (AP-1)'!$C$5=\"batch mix plant\",'Asphalt Plant (AP-1)'!N7,0),IF('Asphalt Plant (AP-2)'!$C$5=\"batch mix plant\",'Asphalt Plant (AP-2)'!N7,0),IF('Asphalt Plant (AP-3)'!$C$5=\"batch mix plant\",'Asphalt Plant (AP-3)'!N7,0),IF('Asphalt Plant (AP-4)'!$C$5=\"batch mix plant\",'Asphalt Plant (AP-4)'!N7,0),IF('Asphalt Plant (AP-5)'!$C$5=\"batch mix plant\",'Asphalt Plant (AP-5)'!N7,0),IF('Asphalt Plant (AP-6)'!$C$5=\"batch mix plant\",'Asphalt Plant (AP-6)'!N7,0),IF('Asphalt Plant (AP-7)'!$C$5=\"batch mix plant\",'Asphalt Plant (AP-7)'!N7,0),IF('Asphalt Plant (AP-8)'!$C$5=\"batch mix plant\",'Asphalt Plant (AP-8)'!N7,0),IF('Asphalt Plant (AP-9)'!$C$5=\"batch mix plant\",'Asphalt Plant (AP-9)'!N7,0),IF('Asphalt Plant (AP-10)'!$C$5=\"batch mix plant\",'Asphalt Plant (AP-10)'!N7,0)),\"\")","v":""},"",{"$f":"IF(B45=\"\",\"\",MAX(IF('Asphalt Plant (AP-1)'!$C$5=\"batch mix plant\",'Asphalt Plant (AP-1)'!O29,0),IF('Asphalt Plant (AP-2)'!$C$5=\"batch mix plant\",'Asphalt Plant (AP-2)'!O29,0),IF('Asphalt Plant (AP-3)'!$C$5=\"batch mix plant\",'Asphalt Plant (AP-3)'!O29,0),IF('Asphalt Plant (AP-4)'!$C$5=\"batch mix plant\",'Asphalt Plant (AP-4)'!O29,0),IF('Asphalt Plant (AP-5)'!$C$5=\"batch mix plant\",'Asphalt Plant (AP-5)'!O29,0),IF('Asphalt Plant (AP-6)'!$C$5=\"batch mix plant\",'Asphalt Plant (AP-6)'!O29,0),IF('Asphalt Plant (AP-7)'!$C$5=\"batch mix plant\",'Asphalt Plant (AP-7)'!O29,0),IF('Asphalt Plant (AP-8)'!$C$5=\"batch mix plant\",'Asphalt Plant (AP-8)'!O29,0),IF('Asphalt Plant (AP-9)'!$C$5=\"batch mix plant\",'Asphalt Plant (AP-9)'!O29,0),IF('Asphalt Plant (AP-10)'!$C$5=\"batch mix plant\",'Asphalt Plant (AP-10)'!O29,0)))","v":""},"",{"$f":"IF(B26=\"\",\"\",\"AP-42 Table 11.1-2,5,6,9\")","v":""},{"$f":"IF(B26=\"\",\"\",SUM(IF('Asphalt Plant (AP-1)'!$C$5=\"batch mix plant\",'Asphalt Plant (AP-1)'!Q29,0),IF('Asphalt Plant (AP-2)'!$C$5=\"batch mix plant\",'Asphalt Plant (AP-2)'!Q29,0),IF('Asphalt Plant (AP-3)'!$C$5=\"batch mix plant\",'Asphalt Plant (AP-3)'!Q29,0),IF('Asphalt Plant (AP-4)'!$C$5=\"batch mix plant\",'Asphalt Plant (AP-4)'!Q29,0),IF('Asphalt Plant (AP-5)'!$C$5=\"batch mix plant\",'Asphalt Plant (AP-5)'!Q29,0),IF('Asphalt Plant (AP-6)'!$C$5=\"batch mix plant\",'Asphalt Plant (AP-6)'!Q29,0),IF('Asphalt Plant (AP-7)'!$C$5=\"batch mix plant\",'Asphalt Plant (AP-7)'!Q29,0),IF('Asphalt Plant (AP-8)'!$C$5=\"batch mix plant\",'Asphalt Plant (AP-8)'!Q29,0),IF('Asphalt Plant (AP-9)'!$C$5=\"batch mix plant\",'Asphalt Plant (AP-9)'!Q29,0),IF('Asphalt Plant (AP-10)'!$C$5=\"batch mix plant\",'Asphalt Plant (AP-10)'!Q29,0)))","v":""},null,{"$f":"IF(B26=\"\",\"\",SUM(IF('Asphalt Plant (AP-1)'!$C$5=\"batch mix plant\",'Asphalt Plant (AP-1)'!R29,0),IF('Asphalt Plant (AP-2)'!$C$5=\"batch mix plant\",'Asphalt Plant (AP-2)'!R29,0),IF('Asphalt Plant (AP-3)'!$C$5=\"batch mix plant\",'Asphalt Plant (AP-3)'!R29,0),IF('Asphalt Plant (AP-4)'!$C$5=\"batch mix plant\",'Asphalt Plant (AP-4)'!R29,0),IF('Asphalt Plant (AP-5)'!$C$5=\"batch mix plant\",'Asphalt Plant (AP-5)'!R29,0),IF('Asphalt Plant (AP-6)'!$C$5=\"batch mix plant\",'Asphalt Plant (AP-6)'!R29,0),IF('Asphalt Plant (AP-7)'!$C$5=\"batch mix plant\",'Asphalt Plant (AP-7)'!R29,0),IF('Asphalt Plant (AP-8)'!$C$5=\"batch mix plant\",'Asphalt Plant (AP-8)'!R29,0),IF('Asphalt Plant (AP-9)'!$C$5=\"batch mix plant\",'Asphalt Plant (AP-9)'!R29,0),IF('Asphalt Plant (AP-10)'!$C$5=\"batch mix plant\",'Asphalt Plant (AP-10)'!R29,0)))","v":""},{"$f":"IF(B26=\"\",\"\",SUM(IF('Asphalt Plant (AP-1)'!$C$5=\"batch mix plant\",'Asphalt Plant (AP-1)'!S29,0),IF('Asphalt Plant (AP-2)'!$C$5=\"batch mix plant\",'Asphalt Plant (AP-2)'!S29,0),IF('Asphalt Plant (AP-3)'!$C$5=\"batch mix plant\",'Asphalt Plant (AP-3)'!S29,0),IF('Asphalt Plant (AP-4)'!$C$5=\"batch mix plant\",'Asphalt Plant (AP-4)'!S29,0),IF('Asphalt Plant (AP-5)'!$C$5=\"batch mix plant\",'Asphalt Plant (AP-5)'!S29,0),IF('Asphalt Plant (AP-6)'!$C$5=\"batch mix plant\",'Asphalt Plant (AP-6)'!S29,0),IF('Asphalt Plant (AP-7)'!$C$5=\"batch mix plant\",'Asphalt Plant (AP-7)'!S29,0),IF('Asphalt Plant (AP-8)'!$C$5=\"batch mix plant\",'Asphalt Plant (AP-8)'!S29,0),IF('Asphalt Plant (AP-9)'!$C$5=\"batch mix plant\",'Asphalt Plant (AP-9)'!S29,0),IF('Asphalt Plant (AP-10)'!$C$5=\"batch mix plant\",'Asphalt Plant (AP-10)'!S29,0)))","v":""},{"$f":"IF(B26=\"\",\"\",SUM(IF('Asphalt Plant (AP-1)'!$C$5=\"batch mix plant\",'Asphalt Plant (AP-1)'!T29,0),IF('Asphalt Plant (AP-2)'!$C$5=\"batch mix plant\",'Asphalt Plant (AP-2)'!T29,0),IF('Asphalt Plant (AP-3)'!$C$5=\"batch mix plant\",'Asphalt Plant (AP-3)'!T29,0),IF('Asphalt Plant (AP-4)'!$C$5=\"batch mix plant\",'Asphalt Plant (AP-4)'!T29,0),IF('Asphalt Plant (AP-5)'!$C$5=\"batch mix plant\",'Asphalt Plant (AP-5)'!T29,0),IF('Asphalt Plant (AP-6)'!$C$5=\"batch mix plant\",'Asphalt Plant (AP-6)'!T29,0),IF('Asphalt Plant (AP-7)'!$C$5=\"batch mix plant\",'Asphalt Plant (AP-7)'!T29,0),IF('Asphalt Plant (AP-8)'!$C$5=\"batch mix plant\",'Asphalt Plant (AP-8)'!T29,0),IF('Asphalt Plant (AP-9)'!$C$5=\"batch mix plant\",'Asphalt Plant (AP-9)'!T29,0),IF('Asphalt Plant (AP-10)'!$C$5=\"batch mix plant\",'Asphalt Plant (AP-10)'!T29,0)))","v":""}]
["",{"$f":"IF(D27=\"\",\"\",\"Drum Mix Plant - Fuel Oil\")","v":""},{"$f":"IF(B27=\"\",\"\",\"30500258\")","v":""},{"$f":"IF(SUM(IF('Asphalt Plant (AP-1)'!$C$5=\"drum mix plant\",'Asphalt Plant (AP-1)'!N5,0),IF('Asphalt Plant (AP-2)'!$C$5=\"drum mix plant\",'Asphalt Plant (AP-2)'!N5,0),IF('Asphalt Plant (AP-3)'!$C$5=\"drum mix plant\",'Asphalt Plant (AP-3)'!N5,0),IF('Asphalt Plant (AP-4)'!$C$5=\"drum mix plant\",'Asphalt Plant (AP-4)'!N5,0),IF('Asphalt Plant (AP-5)'!$C$5=\"drum mix plant\",'Asphalt Plant (AP-5)'!N5,0),IF('Asphalt Plant (AP-6)'!$C$5=\"drum mix plant\",'Asphalt Plant (AP-6)'!N5,0),IF('Asphalt Plant (AP-7)'!$C$5=\"drum mix plant\",'Asphalt Plant (AP-7)'!N5,0),IF('Asphalt Plant (AP-8)'!$C$5=\"drum mix plant\",'Asphalt Plant (AP-8)'!N5,0),IF('Asphalt Plant (AP-9)'!$C$5=\"drum mix plant\",'Asphalt Plant (AP-9)'!N5,0),IF('Asphalt Plant (AP-10)'!$C$5=\"drum mix plant\",'Asphalt Plant (AP-10)'!N5,0))>0,SUM(IF('Asphalt Plant (AP-1)'!$C$5=\"drum mix plant\",'Asphalt Plant (AP-1)'!N5,0),IF('Asphalt Plant (AP-2)'!$C$5=\"drum mix plant\",'Asphalt Plant (AP-2)'!N5,0),IF('Asphalt Plant (AP-3)'!$C$5=\"drum mix plant\",'Asphalt Plant (AP-3)'!N5,0),IF('Asphalt Plant (AP-4)'!$C$5=\"drum mix plant\",'Asphalt Plant (AP-4)'!N5,0),IF('Asphalt Plant (AP-5)'!$C$5=\"drum mix plant\",'Asphalt Plant (AP-5)'!N5,0),IF('Asphalt Plant (AP-6)'!$C$5=\"drum mix plant\",'Asphalt Plant (AP-6)'!N5,0),IF('Asphalt Plant (AP-7)'!$C$5=\"drum mix plant\",'Asphalt Plant (AP-7)'!N5,0),IF('Asphalt Plant (AP-8)'!$C$5=\"drum mix plant\",'Asphalt Plant (AP-8)'!N5,0),IF('Asphalt Plant (AP-9)'!$C$5=\"drum mix plant\",'Asphalt Plant (AP-9)'!N5,0),IF('Asphalt Plant (AP-10)'!$C$5=\"drum mix plant\",'Asphalt Plant (AP-10)'!N5,0)),\"\")","v":""},"",{"$f":"IF(B27=\"\",\"\",MAX(IF('Asphalt Plant (AP-1)'!$C$5=\"drum mix plant\",'Asphalt Plant (AP-1)'!O27,0),IF('Asphalt Plant (AP-2)'!$C$5=\"drum mix plant\",'Asphalt Plant (AP-2)'!O27,0),IF('Asphalt Plant (AP-3)'!$C$5=\"drum mix plant\",'Asphalt Plant (AP-3)'!O27,0),IF('Asphalt Plant (AP-4)'!$C$5=\"drum mix plant\",'Asphalt Plant (AP-4)'!O27,0),IF('Asphalt Plant (AP-5)'!$C$5=\"drum mix plant\",'Asphalt Plant (AP-5)'!O27,0),IF('Asphalt Plant (AP-6)'!$C$5=\"drum mix plant\",'Asphalt Plant (AP-6)'!O27,0),IF('Asphalt Plant (AP-7)'!$C$5=\"drum mix plant\",'Asphalt Plant (AP-7)'!O27,0),IF('Asphalt Plant (AP-8)'!$C$5=\"drum mix plant\",'Asphalt Plant (AP-8)'!O27,0),IF('Asphalt Plant (AP-9)'!$C$5=\"drum mix plant\",'Asphalt Plant (AP-9)'!O27,0),IF('Asphalt Plant (AP-10)'!$C$5=\"drum mix plant\",'Asphalt Plant (AP-10)'!O27,0)))","v":""},"",{"$f":"IF(B27=\"\",\"\",\"AP-42 Table 11.1-4,7,8,10\")","v":""},{"$f":"IF(B27=\"\",\"\",SUM(IF('Asphalt Plant (AP-1)'!$C$5=\"drum mix plant\",'Asphalt Plant (AP-1)'!Q27,0),IF('Asphalt Plant (AP-2)'!$C$5=\"drum mix plant\",'Asphalt Plant (AP-2)'!Q27,0),IF('Asphalt Plant (AP-3)'!$C$5=\"drum mix plant\",'Asphalt Plant (AP-3)'!Q27,0),IF('Asphalt Plant (AP-4)'!$C$5=\"drum mix plant\",'Asphalt Plant (AP-4)'!Q27,0),IF('Asphalt Plant (AP-5)'!$C$5=\"drum mix plant\",'Asphalt Plant (AP-5)'!Q27,0),IF('Asphalt Plant (AP-6)'!$C$5=\"drum mix plant\",'Asphalt Plant (AP-6)'!Q27,0),IF('Asphalt Plant (AP-7)'!$C$5=\"drum mix plant\",'Asphalt Plant (AP-7)'!Q27,0),IF('Asphalt Plant (AP-8)'!$C$5=\"drum mix plant\",'Asphalt Plant (AP-8)'!Q27,0),IF('Asphalt Plant (AP-9)'!$C$5=\"drum mix plant\",'Asphalt Plant (AP-9)'!Q27,0),IF('Asphalt Plant (AP-10)'!$C$5=\"drum mix plant\",'Asphalt Plant (AP-10)'!Q27,0)))","v":""},null,{"$f":"IF(B27=\"\",\"\",SUM(IF('Asphalt Plant (AP-1)'!$C$5=\"drum mix plant\",'Asphalt Plant (AP-1)'!R27,0),IF('Asphalt Plant (AP-2)'!$C$5=\"drum mix plant\",'Asphalt Plant (AP-2)'!R27,0),IF('Asphalt Plant (AP-3)'!$C$5=\"drum mix plant\",'Asphalt Plant (AP-3)'!R27,0),IF('Asphalt Plant (AP-4)'!$C$5=\"drum mix plant\",'Asphalt Plant (AP-4)'!R27,0),IF('Asphalt Plant (AP-5)'!$C$5=\"drum mix plant\",'Asphalt Plant (AP-5)'!R27,0),IF('Asphalt Plant (AP-6)'!$C$5=\"drum mix plant\",'Asphalt Plant (AP-6)'!R27,0),IF('Asphalt Plant (AP-7)'!$C$5=\"drum mix plant\",'Asphalt Plant (AP-7)'!R27,0),IF('Asphalt Plant (AP-8)'!$C$5=\"drum mix plant\",'Asphalt Plant (AP-8)'!R27,0),IF('Asphalt Plant (AP-9)'!$C$5=\"drum mix plant\",'Asphalt Plant (AP-9)'!R27,0),IF('Asphalt Plant (AP-10)'!$C$5=\"drum mix plant\",'Asphalt Plant (AP-10)'!R27,0)))","v":""},{"$f":"IF(B27=\"\",\"\",SUM(IF('Asphalt Plant (AP-1)'!$C$5=\"drum mix plant\",'Asphalt Plant (AP-1)'!S27,0),IF('Asphalt Plant (AP-2)'!$C$5=\"drum mix plant\",'Asphalt Plant (AP-2)'!S27,0),IF('Asphalt Plant (AP-3)'!$C$5=\"drum mix plant\",'Asphalt Plant (AP-3)'!S27,0),IF('Asphalt Plant (AP-4)'!$C$5=\"drum mix plant\",'Asphalt Plant (AP-4)'!S27,0),IF('Asphalt Plant (AP-5)'!$C$5=\"drum mix plant\",'Asphalt Plant (AP-5)'!S27,0),IF('Asphalt Plant (AP-6)'!$C$5=\"drum mix plant\",'Asphalt Plant (AP-6)'!S27,0),IF('Asphalt Plant (AP-7)'!$C$5=\"drum mix plant\",'Asphalt Plant (AP-7)'!S27,0),IF('Asphalt Plant (AP-8)'!$C$5=\"drum mix plant\",'Asphalt Plant (AP-8)'!S27,0),IF('Asphalt Plant (AP-9)'!$C$5=\"drum mix plant\",'Asphalt Plant (AP-9)'!S27,0),IF('Asphalt Plant (AP-10)'!$C$5=\"drum mix plant\",'Asphalt Plant (AP-10)'!S27,0)))","v":""},{"$f":"IF(B27=\"\",\"\",SUM(IF('Asphalt Plant (AP-1)'!$C$5=\"drum mix plant\",'Asphalt Plant (AP-1)'!T27,0),IF('Asphalt Plant (AP-2)'!$C$5=\"drum mix plant\",'Asphalt Plant (AP-2)'!T27,0),IF('Asphalt Plant (AP-3)'!$C$5=\"drum mix plant\",'Asphalt Plant (AP-3)'!T27,0),IF('Asphalt Plant (AP-4)'!$C$5=\"drum mix plant\",'Asphalt Plant (AP-4)'!T27,0),IF('Asphalt Plant (AP-5)'!$C$5=\"drum mix plant\",'Asphalt Plant (AP-5)'!T27,0),IF('Asphalt Plant (AP-6)'!$C$5=\"drum mix plant\",'Asphalt Plant (AP-6)'!T27,0),IF('Asphalt Plant (AP-7)'!$C$5=\"drum mix plant\",'Asphalt Plant (AP-7)'!T27,0),IF('Asphalt Plant (AP-8)'!$C$5=\"drum mix plant\",'Asphalt Plant (AP-8)'!T27,0),IF('Asphalt Plant (AP-9)'!$C$5=\"drum mix plant\",'Asphalt Plant (AP-9)'!T27,0),IF('Asphalt Plant (AP-10)'!$C$5=\"drum mix plant\",'Asphalt Plant (AP-10)'!T27,0)))","v":""}]
["",{"$f":"IF(D28=\"\",\"\",\"Drum Mix Plant - Waste Oil\")","v":""},{"$f":"IF(B28=\"\",\"\",\"30500255\")","v":""},{"$f":"IF(SUM(IF('Asphalt Plant (AP-1)'!$C$5=\"drum mix plant\",'Asphalt Plant (AP-1)'!N6,0),IF('Asphalt Plant (AP-2)'!$C$5=\"drum mix plant\",'Asphalt Plant (AP-2)'!N6,0),IF('Asphalt Plant (AP-3)'!$C$5=\"drum mix plant\",'Asphalt Plant (AP-3)'!N6,0),IF('Asphalt Plant (AP-4)'!$C$5=\"drum mix plant\",'Asphalt Plant (AP-4)'!N6,0),IF('Asphalt Plant (AP-5)'!$C$5=\"drum mix plant\",'Asphalt Plant (AP-5)'!N6,0),IF('Asphalt Plant (AP-6)'!$C$5=\"drum mix plant\",'Asphalt Plant (AP-6)'!N6,0),IF('Asphalt Plant (AP-7)'!$C$5=\"drum mix plant\",'Asphalt Plant (AP-7)'!N6,0),IF('Asphalt Plant (AP-8)'!$C$5=\"drum mix plant\",'Asphalt Plant (AP-8)'!N6,0),IF('Asphalt Plant (AP-9)'!$C$5=\"drum mix plant\",'Asphalt Plant (AP-9)'!N6,0),IF('Asphalt Plant (AP-10)'!$C$5=\"drum mix plant\",'Asphalt Plant (AP-10)'!N6,0))>0,SUM(IF('Asphalt Plant (AP-1)'!$C$5=\"drum mix plant\",'Asphalt Plant (AP-1)'!N6,0),IF('Asphalt Plant (AP-2)'!$C$5=\"drum mix plant\",'Asphalt Plant (AP-2)'!N6,0),IF('Asphalt Plant (AP-3)'!$C$5=\"drum mix plant\",'Asphalt Plant (AP-3)'!N6,0),IF('Asphalt Plant (AP-4)'!$C$5=\"drum mix plant\",'Asphalt Plant (AP-4)'!N6,0),IF('Asphalt Plant (AP-5)'!$C$5=\"drum mix plant\",'Asphalt Plant (AP-5)'!N6,0),IF('Asphalt Plant (AP-6)'!$C$5=\"drum mix plant\",'Asphalt Plant (AP-6)'!N6,0),IF('Asphalt Plant (AP-7)'!$C$5=\"drum mix plant\",'Asphalt Plant (AP-7)'!N6,0),IF('Asphalt Plant (AP-8)'!$C$5=\"drum mix plant\",'Asphalt Plant (AP-8)'!N6,0),IF('Asphalt Plant (AP-9)'!$C$5=\"drum mix plant\",'Asphalt Plant (AP-9)'!N6,0),IF('Asphalt Plant (AP-10)'!$C$5=\"drum mix plant\",'Asphalt Plant (AP-10)'!N6,0)),\"\")","v":""},"",{"$f":"IF(B28=\"\",\"\",MAX(IF('Asphalt Plant (AP-1)'!$C$5=\"drum mix plant\",'Asphalt Plant (AP-1)'!O28,0),IF('Asphalt Plant (AP-2)'!$C$5=\"drum mix plant\",'Asphalt Plant (AP-2)'!O28,0),IF('Asphalt Plant (AP-3)'!$C$5=\"drum mix plant\",'Asphalt Plant (AP-3)'!O28,0),IF('Asphalt Plant (AP-4)'!$C$5=\"drum mix plant\",'Asphalt Plant (AP-4)'!O28,0),IF('Asphalt Plant (AP-5)'!$C$5=\"drum mix plant\",'Asphalt Plant (AP-5)'!O28,0),IF('Asphalt Plant (AP-6)'!$C$5=\"drum mix plant\",'Asphalt Plant (AP-6)'!O28,0),IF('Asphalt Plant (AP-7)'!$C$5=\"drum mix plant\",'Asphalt Plant (AP-7)'!O28,0),IF('Asphalt Plant (AP-8)'!$C$5=\"drum mix plant\",'Asphalt Plant (AP-8)'!O28,0),IF('Asphalt Plant (AP-9)'!$C$5=\"drum mix plant\",'Asphalt Plant (AP-9)'!O28,0),IF('Asphalt Plant (AP-10)'!$C$5=\"drum mix plant\",'Asphalt Plant (AP-10)'!O28,0)))","v":""},"",{"$f":"IF(B28=\"\",\"\",\"AP-42 Table 11.1-4,7,8,10\")","v":""},{"$f":"IF(B28=\"\",\"\",SUM(IF('Asphalt Plant (AP-1)'!$C$5=\"drum mix plant\",'Asphalt Plant (AP-1)'!Q28,0),IF('Asphalt Plant (AP-2)'!$C$5=\"drum mix plant\",'Asphalt Plant (AP-2)'!Q28,0),IF('Asphalt Plant (AP-3)'!$C$5=\"drum mix plant\",'Asphalt Plant (AP-3)'!Q28,0),IF('Asphalt Plant (AP-4)'!$C$5=\"drum mix plant\",'Asphalt Plant (AP-4)'!Q28,0),IF('Asphalt Plant (AP-5)'!$C$5=\"drum mix plant\",'Asphalt Plant (AP-5)'!Q28,0),IF('Asphalt Plant (AP-6)'!$C$5=\"drum mix plant\",'Asphalt Plant (AP-6)'!Q28,0),IF('Asphalt Plant (AP-7)'!$C$5=\"drum mix plant\",'Asphalt Plant (AP-7)'!Q28,0),IF('Asphalt Plant (AP-8)'!$C$5=\"drum mix plant\",'Asphalt Plant (AP-8)'!Q28,0),IF('Asphalt Plant (AP-9)'!$C$5=\"drum mix plant\",'Asphalt Plant (AP-9)'!Q28,0),IF('Asphalt Plant (AP-10)'!$C$5=\"drum mix plant\",'Asphalt Plant (AP-10)'!Q28,0)))","v":""},null,{"$f":"IF(B28=\"\",\"\",SUM(IF('Asphalt Plant (AP-1)'!$C$5=\"drum mix plant\",'Asphalt Plant (AP-1)'!R28,0),IF('Asphalt Plant (AP-2)'!$C$5=\"drum mix plant\",'Asphalt Plant (AP-2)'!R28,0),IF('Asphalt Plant (AP-3)'!$C$5=\"drum mix plant\",'Asphalt Plant (AP-3)'!R28,0),IF('Asphalt Plant (AP-4)'!$C$5=\"drum mix plant\",'Asphalt Plant (AP-4)'!R28,0),IF('Asphalt Plant (AP-5)'!$C$5=\"drum mix plant\",'Asphalt Plant (AP-5)'!R28,0),IF('Asphalt Plant (AP-6)'!$C$5=\"drum mix plant\",'Asphalt Plant (AP-6)'!R28,0),IF('Asphalt Plant (AP-7)'!$C$5=\"drum mix plant\",'Asphalt Plant (AP-7)'!R28,0),IF('Asphalt Plant (AP-8)'!$C$5=\"drum mix plant\",'Asphalt Plant (AP-8)'!R28,0),IF('Asphalt Plant (AP-9)'!$C$5=\"drum mix plant\",'Asphalt Plant (AP-9)'!R28,0),IF('Asphalt Plant (AP-10)'!$C$5=\"drum mix plant\",'Asphalt Plant (AP-10)'!R28,0)))","v":""},{"$f":"IF(B28=\"\",\"\",SUM(IF('Asphalt Plant (AP-1)'!$C$5=\"drum mix plant\",'Asphalt Plant (AP-1)'!S28,0),IF('Asphalt Plant (AP-2)'!$C$5=\"drum mix plant\",'Asphalt Plant (AP-2)'!S28,0),IF('Asphalt Plant (AP-3)'!$C$5=\"drum mix plant\",'Asphalt Plant (AP-3)'!S28,0),IF('Asphalt Plant (AP-4)'!$C$5=\"drum mix plant\",'Asphalt Plant (AP-4)'!S28,0),IF('Asphalt Plant (AP-5)'!$C$5=\"drum mix plant\",'Asphalt Plant (AP-5)'!S28,0),IF('Asphalt Plant (AP-6)'!$C$5=\"drum mix plant\",'Asphalt Plant (AP-6)'!S28,0),IF('Asphalt Plant (AP-7)'!$C$5=\"drum mix plant\",'Asphalt Plant (AP-7)'!S28,0),IF('Asphalt Plant (AP-8)'!$C$5=\"drum mix plant\",'Asphalt Plant (AP-8)'!S28,0),IF('Asphalt Plant (AP-9)'!$C$5=\"drum mix plant\",'Asphalt Plant (AP-9)'!S28,0),IF('Asphalt Plant (AP-10)'!$C$5=\"drum mix plant\",'Asphalt Plant (AP-10)'!S28,0)))","v":""},{"$f":"IF(B28=\"\",\"\",SUM(IF('Asphalt Plant (AP-1)'!$C$5=\"drum mix plant\",'Asphalt Plant (AP-1)'!T28,0),IF('Asphalt Plant (AP-2)'!$C$5=\"drum mix plant\",'Asphalt Plant (AP-2)'!T28,0),IF('Asphalt Plant (AP-3)'!$C$5=\"drum mix plant\",'Asphalt Plant (AP-3)'!T28,0),IF('Asphalt Plant (AP-4)'!$C$5=\"drum mix plant\",'Asphalt Plant (AP-4)'!T28,0),IF('Asphalt Plant (AP-5)'!$C$5=\"drum mix plant\",'Asphalt Plant (AP-5)'!T28,0),IF('Asphalt Plant (AP-6)'!$C$5=\"drum mix plant\",'Asphalt Plant (AP-6)'!T28,0),IF('Asphalt Plant (AP-7)'!$C$5=\"drum mix plant\",'Asphalt Plant (AP-7)'!T28,0),IF('Asphalt Plant (AP-8)'!$C$5=\"drum mix plant\",'Asphalt Plant (AP-8)'!T28,0),IF('Asphalt Plant (AP-9)'!$C$5=\"drum mix plant\",'Asphalt Plant (AP-9)'!T28,0),IF('Asphalt Plant (AP-10)'!$C$5=\"drum mix plant\",'Asphalt Plant (AP-10)'!T28,0)))","v":""}]
["",{"$f":"IF(D29=\"\",\"\",\"Drum Mix Plant - Natural Gas\")","v":""},{"$f":"IF(B29=\"\",\"\",\"30500261\")","v":""},{"$f":"IF(SUM(IF('Asphalt Plant (AP-1)'!$C$5=\"drum mix plant\",'Asphalt Plant (AP-1)'!N7,0),IF('Asphalt Plant (AP-2)'!$C$5=\"drum mix plant\",'Asphalt Plant (AP-2)'!N7,0),IF('Asphalt Plant (AP-3)'!$C$5=\"drum mix plant\",'Asphalt Plant (AP-3)'!N7,0),IF('Asphalt Plant (AP-4)'!$C$5=\"drum mix plant\",'Asphalt Plant (AP-4)'!N7,0),IF('Asphalt Plant (AP-5)'!$C$5=\"drum mix plant\",'Asphalt Plant (AP-5)'!N7,0),IF('Asphalt Plant (AP-6)'!$C$5=\"drum mix plant\",'Asphalt Plant (AP-6)'!N7,0),IF('Asphalt Plant (AP-7)'!$C$5=\"drum mix plant\",'Asphalt Plant (AP-7)'!N7,0),IF('Asphalt Plant (AP-8)'!$C$5=\"drum mix plant\",'Asphalt Plant (AP-8)'!N7,0),IF('Asphalt Plant (AP-9)'!$C$5=\"drum mix plant\",'Asphalt Plant (AP-9)'!N7,0),IF('Asphalt Plant (AP-10)'!$C$5=\"drum mix plant\",'Asphalt Plant (AP-10)'!N7,0))>0,SUM(IF('Asphalt Plant (AP-1)'!$C$5=\"drum mix plant\",'Asphalt Plant (AP-1)'!N7,0),IF('Asphalt Plant (AP-2)'!$C$5=\"drum mix plant\",'Asphalt Plant (AP-2)'!N7,0),IF('Asphalt Plant (AP-3)'!$C$5=\"drum mix plant\",'Asphalt Plant (AP-3)'!N7,0),IF('Asphalt Plant (AP-4)'!$C$5=\"drum mix plant\",'Asphalt Plant (AP-4)'!N7,0),IF('Asphalt Plant (AP-5)'!$C$5=\"drum mix plant\",'Asphalt Plant (AP-5)'!N7,0),IF('Asphalt Plant (AP-6)'!$C$5=\"drum mix plant\",'Asphalt Plant (AP-6)'!N7,0),IF('Asphalt Plant (AP-7)'!$C$5=\"drum mix plant\",'Asphalt Plant (AP-7)'!N7,0),IF('Asphalt Plant (AP-8)'!$C$5=\"drum mix plant\",'Asphalt Plant (AP-8)'!N7,0),IF('Asphalt Plant (AP-9)'!$C$5=\"drum mix plant\",'Asphalt Plant (AP-9)'!N7,0),IF('Asphalt Plant (AP-10)'!$C$5=\"drum mix plant\",'Asphalt Plant (AP-10)'!N7,0)),\"\")","v":""},"",{"$f":"IF(B29=\"\",\"\",MAX(IF('Asphalt Plant (AP-1)'!$C$5=\"drum mix plant\",'Asphalt Plant (AP-1)'!O29,0),IF('Asphalt Plant (AP-2)'!$C$5=\"drum mix plant\",'Asphalt Plant (AP-2)'!O29,0),IF('Asphalt Plant (AP-3)'!$C$5=\"drum mix plant\",'Asphalt Plant (AP-3)'!O29,0),IF('Asphalt Plant (AP-4)'!$C$5=\"drum mix plant\",'Asphalt Plant (AP-4)'!O29,0),IF('Asphalt Plant (AP-5)'!$C$5=\"drum mix plant\",'Asphalt Plant (AP-5)'!O29,0),IF('Asphalt Plant (AP-6)'!$C$5=\"drum mix plant\",'Asphalt Plant (AP-6)'!O29,0),IF('Asphalt Plant (AP-7)'!$C$5=\"drum mix plant\",'Asphalt Plant (AP-7)'!O29,0),IF('Asphalt Plant (AP-8)'!$C$5=\"drum mix plant\",'Asphalt Plant (AP-8)'!O29,0),IF('Asphalt Plant (AP-9)'!$C$5=\"drum mix plant\",'Asphalt Plant (AP-9)'!O29,0),IF('Asphalt Plant (AP-10)'!$C$5=\"drum mix plant\",'Asphalt Plant (AP-10)'!O29,0)))","v":""},"",{"$f":"IF(B29=\"\",\"\",\"AP-42 Table 11.1-4,7,8,10,12\")","v":""},{"$f":"IF(B29=\"\",\"\",SUM(IF('Asphalt Plant (AP-1)'!$C$5=\"drum mix plant\",'Asphalt Plant (AP-1)'!Q29,0),IF('Asphalt Plant (AP-2)'!$C$5=\"drum mix plant\",'Asphalt Plant (AP-2)'!Q29,0),IF('Asphalt Plant (AP-3)'!$C$5=\"drum mix plant\",'Asphalt Plant (AP-3)'!Q29,0),IF('Asphalt Plant (AP-4)'!$C$5=\"drum mix plant\",'Asphalt Plant (AP-4)'!Q29,0),IF('Asphalt Plant (AP-5)'!$C$5=\"drum mix plant\",'Asphalt Plant (AP-5)'!Q29,0),IF('Asphalt Plant (AP-6)'!$C$5=\"drum mix plant\",'Asphalt Plant (AP-6)'!Q29,0),IF('Asphalt Plant (AP-7)'!$C$5=\"drum mix plant\",'Asphalt Plant (AP-7)'!Q29,0),IF('Asphalt Plant (AP-8)'!$C$5=\"drum mix plant\",'Asphalt Plant (AP-8)'!Q29,0),IF('Asphalt Plant (AP-9)'!$C$5=\"drum mix plant\",'Asphalt Plant (AP-9)'!Q29,0),IF('Asphalt Plant (AP-10)'!$C$5=\"drum mix plant\",'Asphalt Plant (AP-10)'!Q29,0)))","v":""},null,{"$f":"IF(B29=\"\",\"\",SUM(IF('Asphalt Plant (AP-1)'!$C$5=\"drum mix plant\",'Asphalt Plant (AP-1)'!R29,0),IF('Asphalt Plant (AP-2)'!$C$5=\"drum mix plant\",'Asphalt Plant (AP-2)'!R29,0),IF('Asphalt Plant (AP-3)'!$C$5=\"drum mix plant\",'Asphalt Plant (AP-3)'!R29,0),IF('Asphalt Plant (AP-4)'!$C$5=\"drum mix plant\",'Asphalt Plant (AP-4)'!R29,0),IF('Asphalt Plant (AP-5)'!$C$5=\"drum mix plant\",'Asphalt Plant (AP-5)'!R29,0),IF('Asphalt Plant (AP-6)'!$C$5=\"drum mix plant\",'Asphalt Plant (AP-6)'!R29,0),IF('Asphalt Plant (AP-7)'!$C$5=\"drum mix plant\",'Asphalt Plant (AP-7)'!R29,0),IF('Asphalt Plant (AP-8)'!$C$5=\"drum mix plant\",'Asphalt Plant (AP-8)'!R29,0),IF('Asphalt Plant (AP-9)'!$C$5=\"drum mix plant\",'Asphalt Plant (AP-9)'!R29,0),IF('Asphalt Plant (AP-10)'!$C$5=\"drum mix plant\",'Asphalt Plant (AP-10)'!R29,0)))","v":""},{"$f":"IF(B29=\"\",\"\",SUM(IF('Asphalt Plant (AP-1)'!$C$5=\"drum mix plant\",'Asphalt Plant (AP-1)'!S29,0),IF('Asphalt Plant (AP-2)'!$C$5=\"drum mix plant\",'Asphalt Plant (AP-2)'!S29,0),IF('Asphalt Plant (AP-3)'!$C$5=\"drum mix plant\",'Asphalt Plant (AP-3)'!S29,0),IF('Asphalt Plant (AP-4)'!$C$5=\"drum mix plant\",'Asphalt Plant (AP-4)'!S29,0),IF('Asphalt Plant (AP-5)'!$C$5=\"drum mix plant\",'Asphalt Plant (AP-5)'!S29,0),IF('Asphalt Plant (AP-6)'!$C$5=\"drum mix plant\",'Asphalt Plant (AP-6)'!S29,0),IF('Asphalt Plant (AP-7)'!$C$5=\"drum mix plant\",'Asphalt Plant (AP-7)'!S29,0),IF('Asphalt Plant (AP-8)'!$C$5=\"drum mix plant\",'Asphalt Plant (AP-8)'!S29,0),IF('Asphalt Plant (AP-9)'!$C$5=\"drum mix plant\",'Asphalt Plant (AP-9)'!S29,0),IF('Asphalt Plant (AP-10)'!$C$5=\"drum mix plant\",'Asphalt Plant (AP-10)'!S29,0)))","v":""},{"$f":"IF(B29=\"\",\"\",SUM(IF('Asphalt Plant (AP-1)'!$C$5=\"drum mix plant\",'Asphalt Plant (AP-1)'!T29,0),IF('Asphalt Plant (AP-2)'!$C$5=\"drum mix plant\",'Asphalt Plant (AP-2)'!T29,0),IF('Asphalt Plant (AP-3)'!$C$5=\"drum mix plant\",'Asphalt Plant (AP-3)'!T29,0),IF('Asphalt Plant (AP-4)'!$C$5=\"drum mix plant\",'Asphalt Plant (AP-4)'!T29,0),IF('Asphalt Plant (AP-5)'!$C$5=\"drum mix plant\",'Asphalt Plant (AP-5)'!T29,0),IF('Asphalt Plant (AP-6)'!$C$5=\"drum mix plant\",'Asphalt Plant (AP-6)'!T29,0),IF('Asphalt Plant (AP-7)'!$C$5=\"drum mix plant\",'Asphalt Plant (AP-7)'!T29,0),IF('Asphalt Plant (AP-8)'!$C$5=\"drum mix plant\",'Asphalt Plant (AP-8)'!T29,0),IF('Asphalt Plant (AP-9)'!$C$5=\"drum mix plant\",'Asphalt Plant (AP-9)'!T29,0),IF('Asphalt Plant (AP-10)'!$C$5=\"drum mix plant\",'Asphalt Plant (AP-10)'!T29,0)))","v":""}]
[{"$f":"IF(SUM('Asphalt Plant (AP-1)'!N30,'Asphalt Plant (AP-2)'!N30,'Asphalt Plant (AP-3)'!N30,'Asphalt Plant (AP-4)'!N30,'Asphalt Plant (AP-5)'!N30,'Asphalt Plant (AP-6)'!N30,'Asphalt Plant (AP-7)'!N30,'Asphalt Plant (AP-8)'!N30,'Asphalt Plant (AP-9)'!N30,'Asphalt Plant (AP-10)'!N30)>0,\"ALL\",\"\")","v":""},{"$f":"IF(SUM('Asphalt Plant (AP-1)'!N30,'Asphalt Plant (AP-2)'!N30,'Asphalt Plant (AP-3)'!N30,'Asphalt Plant (AP-4)'!N30,'Asphalt Plant (AP-5)'!N30,'Asphalt Plant (AP-6)'!N30,'Asphalt Plant (AP-7)'!N30,'Asphalt Plant (AP-8)'!N30,'Asphalt Plant (AP-9)'!N30,'Asphalt Plant (AP-10)'!N30)>0,\"Silo Filling\",\"\")","v":""},{"$f":"IF(B30=\"\",\"\",\"30500213\")","v":""},{"$f":"IF(SUM('Asphalt Plant (AP-1)'!N11,'Asphalt Plant (AP-2)'!N11,'Asphalt Plant (AP-3)'!N11,'Asphalt Plant (AP-4)'!N11,'Asphalt Plant (AP-5)'!N11,'Asphalt Plant (AP-6)'!N11,'Asphalt Plant (AP-7)'!N11,'Asphalt Plant (AP-8)'!N11,'Asphalt Plant (AP-9)'!N11,'Asphalt Plant (AP-10)'!N11)>0,SUM('Asphalt Plant (AP-1)'!N11,'Asphalt Plant (AP-2)'!N11,'Asphalt Plant (AP-3)'!N11,'Asphalt Plant (AP-4)'!N11,'Asphalt Plant (AP-5)'!N11,'Asphalt Plant (AP-6)'!N11,'Asphalt Plant (AP-7)'!N11,'Asphalt Plant (AP-8)'!N11,'Asphalt Plant (AP-9)'!N11,'Asphalt Plant (AP-10)'!N11),\"\")","v":""},"",{"$f":"IF(B30=\"\",\"\",LOOKUP(B30,'Emission Factors'!$A$23:$A$25,'Emission Factors'!$F$23:$F$25))","v":""},"",{"$f":"IF(B30=\"\",\"\",LOOKUP(B30,'Emission Factors'!$A$23:$A$25,'Emission Factors'!$C$23:$C$25))","v":""},{"$f":"IF(D12=\"\",\"\",SUM('Asphalt Plant (AP-1)'!Q30,'Asphalt Plant (AP-2)'!Q30,'Asphalt Plant (AP-3)'!Q30,'Asphalt Plant (AP-4)'!Q30,'Asphalt Plant (AP-5)'!Q30,'Asphalt Plant (AP-6)'!Q30,'Asphalt Plant (AP-7)'!Q30,'Asphalt Plant (AP-8)'!Q30,'Asphalt Plant (AP-9)'!Q30,'Asphalt Plant (AP-10)'!Q30))","v":""},null,null,{"$f":"IF(B12=\"\",\"\",SUM('Asphalt Plant (AP-1)'!S30,'Asphalt Plant (AP-2)'!S30,'Asphalt Plant (AP-3)'!S30,'Asphalt Plant (AP-4)'!S30,'Asphalt Plant (AP-5)'!S30,'Asphalt Plant (AP-6)'!S30,'Asphalt Plant (AP-7)'!S30,'Asphalt Plant (AP-8)'!S30,'Asphalt Plant (AP-9)'!S30,'Asphalt Plant (AP-10)'!S30,))","v":""},{"$f":"IF(C12=\"\",\"\",SUM('Asphalt Plant (AP-1)'!T30,'Asphalt Plant (AP-2)'!T30,'Asphalt Plant (AP-3)'!T30,'Asphalt Plant (AP-4)'!T30,'Asphalt Plant (AP-5)'!T30,'Asphalt Plant (AP-6)'!T30,'Asphalt Plant (AP-7)'!T30,'Asphalt Plant (AP-8)'!T30,'Asphalt Plant (AP-9)'!T30,'Asphalt Plant (AP-10)'!T30,))","v":""}]
[{"$f":"IF(SUM('Asphalt Plant (AP-1)'!N31,'Asphalt Plant (AP-2)'!N31,'Asphalt Plant (AP-3)'!N31,'Asphalt Plant (AP-4)'!N31,'Asphalt Plant (AP-5)'!N31,'Asphalt Plant (AP-6)'!N31,'Asphalt Plant (AP-7)'!N31,'Asphalt Plant (AP-8)'!N31,'Asphalt Plant (AP-9)'!N31,'Asphalt Plant (AP-10)'!N31)>0,\"ALL\",\"\")","v":""},{"$f":"IF(SUM('Asphalt Plant (AP-1)'!N31,'Asphalt Plant (AP-2)'!N31,'Asphalt Plant (AP-3)'!N31,'Asphalt Plant (AP-4)'!N31,'Asphalt Plant (AP-5)'!N31,'Asphalt Plant (AP-6)'!N31,'Asphalt Plant (AP-7)'!N31,'Asphalt Plant (AP-8)'!N31,'Asphalt Plant (AP-9)'!N31,'Asphalt Plant (AP-10)'!N31)>0,\"Truck Loadout\",\"\")","v":""},{"$f":"IF(B31=\"\",\"\",\"30500214\")","v":""},{"$f":"IF(SUM('Asphalt Plant (AP-1)'!N12,'Asphalt Plant (AP-2)'!N12,'Asphalt Plant (AP-3)'!N12,'Asphalt Plant (AP-4)'!N12,'Asphalt Plant (AP-5)'!N12,'Asphalt Plant (AP-6)'!N12,'Asphalt Plant (AP-7)'!N12,'Asphalt Plant (AP-8)'!N12,'Asphalt Plant (AP-9)'!N12,'Asphalt Plant (AP-10)'!N12)>0,SUM('Asphalt Plant (AP-1)'!N12,'Asphalt Plant (AP-2)'!N12,'Asphalt Plant (AP-3)'!N12,'Asphalt Plant (AP-4)'!N12,'Asphalt Plant (AP-5)'!N12,'Asphalt Plant (AP-6)'!N12,'Asphalt Plant (AP-7)'!N12,'Asphalt Plant (AP-8)'!N12,'Asphalt Plant (AP-9)'!N12,'Asphalt Plant (AP-10)'!N12),\"\")","v":""},"",{"$f":"IF(B31=\"\",\"\",LOOKUP(B31,'Emission Factors'!$A$23:$A$25,'Emission Factors'!$F$23:$F$25))","v":""},"",{"$f":"IF(B31=\"\",\"\",LOOKUP(B31,'Emission Factors'!$A$23:$A$25,'Emission Factors'!$C$23:$C$25))","v":""},{"$f":"IF(D13=\"\",\"\",SUM('Asphalt Plant (AP-1)'!Q31,'Asphalt Plant (AP-2)'!Q31,'Asphalt Plant (AP-3)'!Q31,'Asphalt Plant (AP-4)'!Q31,'Asphalt Plant (AP-5)'!Q31,'Asphalt Plant (AP-6)'!Q31,'Asphalt Plant (AP-7)'!Q31,'Asphalt Plant (AP-8)'!Q31,'Asphalt Plant (AP-9)'!Q31,'Asphalt Plant (AP-10)'!Q31))","v":""},null,null,{"$f":"IF(B13=\"\",\"\",SUM('Asphalt Plant (AP-1)'!S31,'Asphalt Plant (AP-2)'!S31,'Asphalt Plant (AP-3)'!S31,'Asphalt Plant (AP-4)'!S31,'Asphalt Plant (AP-5)'!S31,'Asphalt Plant (AP-6)'!S31,'Asphalt Plant (AP-7)'!S31,'Asphalt Plant (AP-8)'!S31,'Asphalt Plant (AP-9)'!S31,'Asphalt Plant (AP-10)'!S31,))","v":""},{"$f":"IF(C13=\"\",\"\",SUM('Asphalt Plant (AP-1)'!T31,'Asphalt Plant (AP-2)'!T31,'Asphalt Plant (AP-3)'!T31,'Asphalt Plant (AP-4)'!T31,'Asphalt Plant (AP-5)'!T31,'Asphalt Plant (AP-6)'!T31,'Asphalt Plant (AP-7)'!T31,'Asphalt Plant (AP-8)'!T31,'Asphalt Plant (AP-9)'!T31,'Asphalt Plant (AP-10)'!T31,))","v":""}]
[{"$f":"IF(SUM('Asphalt Plant (AP-1)'!N32,'Asphalt Plant (AP-2)'!N32,'Asphalt Plant (AP-3)'!N32,'Asphalt Plant (AP-4)'!N32,'Asphalt Plant (AP-5)'!N32,'Asphalt Plant (AP-6)'!N32,'Asphalt Plant (AP-7)'!N32,'Asphalt Plant (AP-8)'!N32,'Asphalt Plant (AP-9)'!N32,'Asphalt Plant (AP-10)'!N32)>0,\"ALL\",\"\")","v":""},{"$f":"IF(SUM('Asphalt Plant (AP-1)'!N32,'Asphalt Plant (AP-2)'!N32,'Asphalt Plant (AP-3)'!N32,'Asphalt Plant (AP-4)'!N32,'Asphalt Plant (AP-5)'!N32,'Asphalt Plant (AP-6)'!N32,'Asphalt Plant (AP-7)'!N32,'Asphalt Plant (AP-8)'!N32,'Asphalt Plant (AP-9)'!N32,'Asphalt Plant (AP-10)'!N32)>0,\"Cold Aggregate Bins\",\"\")","v":""},{"$f":"IF(B32=\"\",\"\",\"30500204\")","v":""},{"$f":"IF(SUM('Asphalt Plant (AP-1)'!N13,'Asphalt Plant (AP-2)'!N13,'Asphalt Plant (AP-3)'!N13,'Asphalt Plant (AP-4)'!N13,'Asphalt Plant (AP-5)'!N13,'Asphalt Plant (AP-6)'!N13,'Asphalt Plant (AP-7)'!N13,'Asphalt Plant (AP-8)'!N13,'Asphalt Plant (AP-9)'!N13,'Asphalt Plant (AP-10)'!N13)>0,SUM('Asphalt Plant (AP-1)'!N13,'Asphalt Plant (AP-2)'!N13,'Asphalt Plant (AP-3)'!N13,'Asphalt Plant (AP-4)'!N13,'Asphalt Plant (AP-5)'!N13,'Asphalt Plant (AP-6)'!N13,'Asphalt Plant (AP-7)'!N13,'Asphalt Plant (AP-8)'!N13,'Asphalt Plant (AP-9)'!N13,'Asphalt Plant (AP-10)'!N13),\"\")","v":""},"",{"$f":"IF(B32=\"\",\"\",LOOKUP(B32,'Emission Factors'!$A$23:$A$25,'Emission Factors'!$F$23:$F$25))","v":""},"",{"$f":"IF(B32=\"\",\"\",LOOKUP(B32,'Emission Factors'!$A$23:$A$25,'Emission Factors'!$C$23:$C$25))","v":""},{"$f":"IF(D14=\"\",\"\",SUM('Asphalt Plant (AP-1)'!Q32,'Asphalt Plant (AP-2)'!Q32,'Asphalt Plant (AP-3)'!Q32,'Asphalt Plant (AP-4)'!Q32,'Asphalt Plant (AP-5)'!Q32,'Asphalt Plant (AP-6)'!Q32,'Asphalt Plant (AP-7)'!Q32,'Asphalt Plant (AP-8)'!Q32,'Asphalt Plant (AP-9)'!Q32,'Asphalt Plant (AP-10)'!Q32))","v":""},null,null,{"$f":"IF(B14=\"\",\"\",SUM('Asphalt Plant (AP-1)'!S32,'Asphalt Plant (AP-2)'!S32,'Asphalt Plant (AP-3)'!S32,'Asphalt Plant (AP-4)'!S32,'Asphalt Plant (AP-5)'!S32,'Asphalt Plant (AP-6)'!S32,'Asphalt Plant (AP-7)'!S32,'Asphalt Plant (AP-8)'!S32,'Asphalt Plant (AP-9)'!S32,'Asphalt Plant (AP-10)'!S32,))","v":""},{"$f":"IF(C14=\"\",\"\",SUM('Asphalt Plant (AP-1)'!T32,'Asphalt Plant (AP-2)'!T32,'Asphalt Plant (AP-3)'!T32,'Asphalt Plant (AP-4)'!T32,'Asphalt Plant (AP-5)'!T32,'Asphalt Plant (AP-6)'!T32,'Asphalt Plant (AP-7)'!T32,'Asphalt Plant (AP-8)'!T32,'Asphalt Plant (AP-9)'!T32,'Asphalt Plant (AP-10)'!T32,))","v":""}]
[{"$f":"IF(SUM('Asphalt Plant (AP-1)'!O35,'Asphalt Plant (AP-2)'!O35,'Asphalt Plant (AP-3)'!O35,'Asphalt Plant (AP-4)'!O35,'Asphalt Plant (AP-5)'!O35,'Asphalt Plant (AP-6)'!O35,'Asphalt Plant (AP-7)'!O35,'Asphalt Plant (AP-8)'!O35,'Asphalt Plant (AP-9)'!O35,'Asphalt Plant (AP-10)'!O35)>0,\"ALL\",\"\")","v":""},{"$f":"IF(SUM('Asphalt Plant (AP-1)'!O35,'Asphalt Plant (AP-2)'!O35,'Asphalt Plant (AP-3)'!O35,'Asphalt Plant (AP-4)'!O35,'Asphalt Plant (AP-5)'!O35,'Asphalt Plant (AP-6)'!O35,'Asphalt Plant (AP-7)'!O35,'Asphalt Plant (AP-8)'!O35,'Asphalt Plant (AP-9)'!O35,'Asphalt Plant (AP-10)'!O35)>0,\"Storage Piles\",\"\")","v":""},{"$f":"IF(B33=\"\",\"\",\"30500203\")","v":""},{"$f":"IF(B33=\"\",\"\",SUM('Asphalt Plant (AP-1)'!O35,'Asphalt Plant (AP-2)'!O35,'Asphalt Plant (AP-3)'!O35,'Asphalt Plant (AP-4)'!O35,'Asphalt Plant (AP-5)'!O35,'Asphalt Plant (AP-6)'!O35,'Asphalt Plant (AP-7)'!O35,'Asphalt Plant (AP-8)'!O35,'Asphalt Plant (AP-9)'!O35,'Asphalt Plant (AP-10)'!O35))","v":""},{"$f":"IF(B33=\"\",\"\",\"acre/day\")","v":""},{"$f":"IF(B33=\"\",\"\",3.64)","v":""},{"$f":"IF(B33=\"\",\"\",\"lb/acre-day\")","v":""},{"$f":"IF(B33=\"\",\"\",\"WebFIRE\")","v":""},{"$f":"IF(B33=\"\",\"\",SUM('Asphalt Plant (AP-1)'!Q35,'Asphalt Plant (AP-2)'!Q35,'Asphalt Plant (AP-3)'!Q35,'Asphalt Plant (AP-4)'!Q35,'Asphalt Plant (AP-5)'!Q35,'Asphalt Plant (AP-6)'!Q35,'Asphalt Plant (AP-7)'!Q35,'Asphalt Plant (AP-8)'!Q35,'Asphalt Plant (AP-9)'!Q35,'Asphalt Plant (AP-10)'!Q35))","v":""},null,null,{"$f":"IF(B33=\"\",\"\",SUM('Asphalt Plant (AP-1)'!S35,'Asphalt Plant (AP-2)'!S35,'Asphalt Plant (AP-3)'!S35,'Asphalt Plant (AP-4)'!S35,'Asphalt Plant (AP-5)'!S35,'Asphalt Plant (AP-6)'!S35,'Asphalt Plant (AP-7)'!S35,'Asphalt Plant (AP-8)'!S35,'Asphalt Plant (AP-9)'!S35,'Asphalt Plant (AP-10)'!S35))","v":""},{"$f":"IF(B33=\"\",\"\",SUM('Asphalt Plant (AP-1)'!T35,'Asphalt Plant (AP-2)'!T35,'Asphalt Plant (AP-3)'!T35,'Asphalt Plant (AP-4)'!T35,'Asphalt Plant (AP-5)'!T35,'Asphalt Plant (AP-6)'!T35,'Asphalt Plant (AP-7)'!T35,'Asphalt Plant (AP-8)'!T35,'Asphalt Plant (AP-9)'!T35,'Asphalt Plant (AP-10)'!T35))","v":""}]
[{"$f":"IF('Haul Roads'!L41=0,\"\",\"ALL\")","v":""},{"$f":"IF('Haul Roads'!L41=0,\"\",\"Unpaved Haul Roads\")","v":""},{"$f":"IF('Haul Roads'!L41=0,\"\",\"30205054\")","v":""},{"$f":"IF(F34=\"\",\"\",'Haul Roads'!P36*'Haul Roads'!L36/8760)","v":""},{"$f":"IF(B16=\"\",\"\",\"vmt/hr\")","v":""},{"$f":"IF(B16=\"\",\"\",'Haul Roads'!Z36)","v":""},{"$f":"IF(F34=\"\",\"\",\"lb/vmt\")","v":""},{"$f":"IF(F34=\"\",\"\",\"AP-42 Ch 13.2.2\")","v":""},{"$f":"IF(F34=\"\",\"\",D34*F34)","v":""},{"$f":"IF(SUM('Haul Roads'!AB6:AB35)>0,40,\"\")","v":""},{"$f":"IF(SUM('Haul Roads'!AB6:AB35)>0,(SUM('Haul Roads'!AB6:AB35)),\"\")","v":""},{"$f":"IF(AND((SUM('Haul Roads'!$M$6:$M$35)>0),'Haul Roads'!L41>0),SUM('Haul Roads'!$AN$8:$AN$17),IF(B34=\"\",\"\",'Haul Roads'!L41))","v":""},{"$f":"IF(AND((SUM('Haul Roads'!$M$6:$M$35)>0),'Haul Roads'!L46>0),SUM('Haul Roads'!$AO$8:$AO$17),IF(B34=\"\",\"\",'Haul Roads'!L46))","v":""}]
[{"$f":"IF('Haul Roads'!L42=0,\"\",\"ALL\")","v":""},{"$f":"IF('Haul Roads'!L42=0,\"\",\"Paved Haul Roads\")","v":""},{"$f":"IF('Haul Roads'!L42=0,\"\",\"30205054\")","v":""},{"$f":"IF(F35=\"\",\"\",'Haul Roads'!P37*'Haul Roads'!L37/8760)","v":""},{"$f":"IF(B17=\"\",\"\",\"vmt/hr\")","v":""},{"$f":"IF(B17=\"\",\"\",'Haul Roads'!Z37)","v":""},{"$f":"IF(F35=\"\",\"\",\"lb/vmt\")","v":""},{"$f":"IF(F35=\"\",\"\",\"AP-42 Ch 13.2.1\")","v":""},{"$f":"IF(F35=\"\",\"\",D35*F35)","v":""},null,null,{"$f":"IF(B35=\"\",\"\",IF(AND((SUM('Haul Roads'!$M$6:$M$35)>0),'Haul Roads'!L42>0,'Haul Roads'!L41>0),\"\",IF(AND((SUM('Haul Roads'!$M$6:$M$35)>0),'Haul Roads'!L42>0),SUM('Haul Roads'!$AN$8:$AN$17),'Haul Roads'!L42)))","v":""},{"$f":"IF(B35=\"\",\"\",IF(AND((SUM('Haul Roads'!$M$6:$M$35)>0),'Haul Roads'!L47>0,'Haul Roads'!L46>0),\"\",IF(AND((SUM('Haul Roads'!$M$6:$M$35)>0),'Haul Roads'!L47>0),SUM('Haul Roads'!$AO$8:$AO$17),'Haul Roads'!L47)))","v":""}]
[{"$f":"IF('Permitted Diesel Engines'!R50=0,\"\",\"ALL\")","v":""},{"$f":"IF('Permitted Diesel Engines'!R50=0,\"\",\"Diesel Generator ≤ 600 bhp\")","v":""},{"$f":"IF('Permitted Diesel Engines'!R50=0,\"\",LOOKUP(B18,'Emission Factors'!A43:A44,'Emission Factors'!B43:B44))","v":""},{"$f":"IF('Permitted Diesel Engines'!R50=0,\"\",'Permitted Diesel Engines'!R50)","v":""},{"$f":"IF(B36=\"\",\"\",\"MMBtu/hr\")","v":""},{"$f":"IF(B36=\"\",\"\",LOOKUP(B36,'Emission Factors'!$A$43:$A$44,'Emission Factors'!$F$43:$F$44))","v":""},{"$f":"IF(B36=\"\",\"\",LOOKUP(B36,'Emission Factors'!$A$43:$A$44,'Emission Factors'!$C$43:$C$44))","v":""},{"$f":"IF(B36=\"\",\"\",LOOKUP(B36,'Emission Factors'!$A$43:$A$44,'Emission Factors'!$G$43:$G$44))","v":""},{"$f":"IF(B36=\"\",\"\",'Emission Calculations'!D36*'Emission Calculations'!F36)","v":""},null,null,{"$f":"IF(F36=\"\",\"\",'Permitted Diesel Engines'!$AB$77)","v":""},{"$f":"IF(B36=\"\",\"\",'Permitted Diesel Engines'!$T$50*F36/2000)","v":""}]
[{"$f":"IF('Permitted Diesel Engines'!R51=0,\"\",\"ALL\")","v":""},{"$f":"IF('Permitted Diesel Engines'!R51=0,\"\",\"Diesel Generator> 600 bhp\")","v":""},{"$f":"IF('Permitted Diesel Engines'!R51=0,\"\",LOOKUP(B19,'Emission Factors'!$A$43:$A$44,'Emission Factors'!$B$43:$B$44))","v":""},{"$f":"IF('Permitted Diesel Engines'!R51=0,\"\",'Permitted Diesel Engines'!R51)","v":""},{"$f":"IF(B37=\"\",\"\",\"MMBtu/hr\")","v":""},{"$f":"IF(B37=\"\",\"\",LOOKUP(B37,'Emission Factors'!$A$43:$A$44,'Emission Factors'!$F$43:$F$44))","v":""},{"$f":"IF(B37=\"\",\"\",LOOKUP(B37,'Emission Factors'!$A$43:$A$44,'Emission Factors'!$C$43:$C$44))","v":""},{"$f":"IF(B37=\"\",\"\",LOOKUP(B37,'Emission Factors'!$A$43:$A$44,'Emission Factors'!$G$43:$G$44))","v":""},{"$f":"IF(B37=\"\",\"\",'Emission Calculations'!D37*'Emission Calculations'!F37)","v":""},null,null,{"$f":"IF(F37=\"\",\"\",'Permitted Diesel Engines'!$AC$77)","v":""},{"$f":"IF(B37=\"\",\"\",'Permitted Diesel Engines'!$T$51*F37/2000)","v":""}]
[null,null,null,null,null,null,null,null,null,"FACILITY TOTALS:",null,{"$f":"SUM(L24:L37)","v":0},{"$f":"SUM(M24:M37)","v":0}]
[]
[null,null,null,null,null,null,null,null,"Potential Hourly ",null,"Potential Hourly","Potential Annual ","Actual "]
["EP","Description of Process","SCC #","Max Design Rate","Units of Measure","Emission Factor","Units of Measure","Source of Emission Factor","Uncontrolled Emissions(lb/hr)","Control Efficiency","Controlled Emissions (lb/hr)","Emissions (tons/yr)","Emissions (tons/yr)"]
["SO2"]
[{"$f":"IF(D43=\"\",\"\",\"ALL\")","v":""},{"$f":"IF(D43=\"\",\"\",\"Batch Mix Plant - Fuel Oil\")","v":""},{"$f":"IF(B43=\"\",\"\",\"30500246\")","v":""},{"$f":"IF(SUM(IF('Asphalt Plant (AP-1)'!$C$5=\"batch mix plant\",'Asphalt Plant (AP-1)'!N5,0),IF('Asphalt Plant (AP-2)'!$C$5=\"batch mix plant\",'Asphalt Plant (AP-2)'!N5,0),IF('Asphalt Plant (AP-3)'!$C$5=\"batch mix plant\",'Asphalt Plant (AP-3)'!N5,0),IF('Asphalt Plant (AP-4)'!$C$5=\"batch mix plant\",'Asphalt Plant (AP-4)'!N5,0),IF('Asphalt Plant (AP-5)'!$C$5=\"batch mix plant\",'Asphalt Plant (AP-5)'!N5,0),IF('Asphalt Plant (AP-6)'!$C$5=\"batch mix plant\",'Asphalt Plant (AP-6)'!N5,0),IF('Asphalt Plant (AP-7)'!$C$5=\"batch mix plant\",'Asphalt Plant (AP-7)'!N5,0),IF('Asphalt Plant (AP-8)'!$C$5=\"batch mix plant\",'Asphalt Plant (AP-8)'!N5,0),IF('Asphalt Plant (AP-9)'!$C$5=\"batch mix plant\",'Asphalt Plant (AP-9)'!N5,0),IF('Asphalt Plant (AP-10)'!$C$5=\"batch mix plant\",'Asphalt Plant (AP-10)'!N5,0))>0,SUM(IF('Asphalt Plant (AP-1)'!$C$5=\"batch mix plant\",'Asphalt Plant (AP-1)'!N5,0),IF('Asphalt Plant (AP-2)'!$C$5=\"batch mix plant\",'Asphalt Plant (AP-2)'!N5,0),IF('Asphalt Plant (AP-3)'!$C$5=\"batch mix plant\",'Asphalt Plant (AP-3)'!N5,0),IF('Asphalt Plant (AP-4)'!$C$5=\"batch mix plant\",'Asphalt Plant (AP-4)'!N5,0),IF('Asphalt Plant (AP-5)'!$C$5=\"batch mix plant\",'Asphalt Plant (AP-5)'!N5,0),IF('Asphalt Plant (AP-6)'!$C$5=\"batch mix plant\",'Asphalt Plant (AP-6)'!N5,0),IF('Asphalt Plant (AP-7)'!$C$5=\"batch mix plant\",'Asphalt Plant (AP-7)'!N5,0),IF('Asphalt Plant (AP-8)'!$C$5=\"batch mix plant\",'Asphalt Plant (AP-8)'!N5,0),IF('Asphalt Plant (AP-9)'!$C$5=\"batch mix plant\",'Asphalt Plant (AP-9)'!N5,0),IF('Asphalt Plant (AP-10)'!$C$5=\"batch mix plant\",'Asphalt Plant (AP-10)'!N5,0)),\"\")","v":""},{"$f":"IF(B43=\"\",\"\",\"tons/hr\")","v":""},{"$f":"IF(B43=\"\",\"\",MAX(IF('Asphalt Plant (AP-1)'!$C$5=\"batch mix plant\",'Asphalt Plant (AP-1)'!O38,0),IF('Asphalt Plant (AP-2)'!$C$5=\"batch mix plant\",'Asphalt Plant (AP-2)'!O38,0),IF('Asphalt Plant (AP-3)'!$C$5=\"batch mix plant\",'Asphalt Plant (AP-3)'!O38,0),IF('Asphalt Plant (AP-4)'!$C$5=\"batch mix plant\",'Asphalt Plant (AP-4)'!O38,0),IF('Asphalt Plant (AP-5)'!$C$5=\"batch mix plant\",'Asphalt Plant (AP-5)'!O38,0),IF('Asphalt Plant (AP-6)'!$C$5=\"batch mix plant\",'Asphalt Plant (AP-6)'!O38,0),IF('Asphalt Plant (AP-7)'!$C$5=\"batch mix plant\",'Asphalt Plant (AP-7)'!O38,0),IF('Asphalt Plant (AP-8)'!$C$5=\"batch mix plant\",'Asphalt Plant (AP-8)'!O38,0),IF('Asphalt Plant (AP-9)'!$C$5=\"batch mix plant\",'Asphalt Plant (AP-9)'!O38,0),IF('Asphalt Plant (AP-10)'!$C$5=\"batch mix plant\",'Asphalt Plant (AP-10)'!O38,0)))","v":""},{"$f":"IF(B43=\"\",\"\",\"lb/ton\")","v":""},{"$f":"IF(B43=\"\",\"\",\"AP-42 Table 11.1-2,5,6,9\")","v":""},{"$f":"IF(B43=\"\",\"\",SUM(IF('Asphalt Plant (AP-1)'!$C$5=\"batch mix plant\",'Asphalt Plant (AP-1)'!Q38,0),IF('Asphalt Plant (AP-2)'!$C$5=\"batch mix plant\",'Asphalt Plant (AP-2)'!Q38,0),IF('Asphalt Plant (AP-3)'!$C$5=\"batch mix plant\",'Asphalt Plant (AP-3)'!Q38,0),IF('Asphalt Plant (AP-4)'!$C$5=\"batch mix plant\",'Asphalt Plant (AP-4)'!Q38,0),IF('Asphalt Plant (AP-5)'!$C$5=\"batch mix plant\",'Asphalt Plant (AP-5)'!Q38,0),IF('Asphalt Plant (AP-6)'!$C$5=\"batch mix plant\",'Asphalt Plant (AP-6)'!Q38,0),IF('Asphalt Plant (AP-7)'!$C$5=\"batch mix plant\",'Asphalt Plant (AP-7)'!Q38,0),IF('Asphalt Plant (AP-8)'!$C$5=\"batch mix plant\",'Asphalt Plant (AP-8)'!Q38,0),IF('Asphalt Plant (AP-9)'!$C$5=\"batch mix plant\",'Asphalt Plant (AP-9)'!Q38,0),IF('Asphalt Plant (AP-10)'!$C$5=\"batch mix plant\",'Asphalt Plant (AP-10)'!Q38,0)))","v":""},null,{"$f":"IF(C43=\"\",\"\",SUM(IF('Asphalt Plant (AP-1)'!$C$5=\"batch mix plant\",'Asphalt Plant (AP-1)'!R38,0),IF('Asphalt Plant (AP-2)'!$C$5=\"batch mix plant\",'Asphalt Plant (AP-2)'!R38,0),IF('Asphalt Plant (AP-3)'!$C$5=\"batch mix plant\",'Asphalt Plant (AP-3)'!R38,0),IF('Asphalt Plant (AP-4)'!$C$5=\"batch mix plant\",'Asphalt Plant (AP-4)'!R38,0),IF('Asphalt Plant (AP-5)'!$C$5=\"batch mix plant\",'Asphalt Plant (AP-5)'!R38,0),IF('Asphalt Plant (AP-6)'!$C$5=\"batch mix plant\",'Asphalt Plant (AP-6)'!R38,0),IF('Asphalt Plant (AP-7)'!$C$5=\"batch mix plant\",'Asphalt Plant (AP-7)'!R38,0),IF('Asphalt Plant (AP-8)'!$C$5=\"batch mix plant\",'Asphalt Plant (AP-8)'!R38,0),IF('Asphalt Plant (AP-9)'!$C$5=\"batch mix plant\",'Asphalt Plant (AP-9)'!R38,0),IF('Asphalt Plant (AP-10)'!$C$5=\"batch mix plant\",'Asphalt Plant (AP-10)'!R38,0)))","v":""},{"$f":"IF(D43=\"\",\"\",SUM(IF('Asphalt Plant (AP-1)'!$C$5=\"batch mix plant\",'Asphalt Plant (AP-1)'!S38,0),IF('Asphalt Plant (AP-2)'!$C$5=\"batch mix plant\",'Asphalt Plant (AP-2)'!S38,0),IF('Asphalt Plant (AP-3)'!$C$5=\"batch mix plant\",'Asphalt Plant (AP-3)'!S38,0),IF('Asphalt Plant (AP-4)'!$C$5=\"batch mix plant\",'Asphalt Plant (AP-4)'!S38,0),IF('Asphalt Plant (AP-5)'!$C$5=\"batch mix plant\",'Asphalt Plant (AP-5)'!S38,0),IF('Asphalt Plant (AP-6)'!$C$5=\"batch mix plant\",'Asphalt Plant (AP-6)'!S38,0),IF('Asphalt Plant (AP-7)'!$C$5=\"batch mix plant\",'Asphalt Plant (AP-7)'!S38,0),IF('Asphalt Plant (AP-8)'!$C$5=\"batch mix plant\",'Asphalt Plant (AP-8)'!S38,0),IF('Asphalt Plant (AP-9)'!$C$5=\"batch mix plant\",'Asphalt Plant (AP-9)'!S38,0),IF('Asphalt Plant (AP-10)'!$C$5=\"batch mix plant\",'Asphalt Plant (AP-10)'!S38,0)))","v":""},{"$f":"IF(E43=\"\",\"\",SUM(IF('Asphalt Plant (AP-1)'!$C$5=\"batch mix plant\",'Asphalt Plant (AP-1)'!T38,0),IF('Asphalt Plant (AP-2)'!$C$5=\"batch mix plant\",'Asphalt Plant (AP-2)'!T38,0),IF('Asphalt Plant (AP-3)'!$C$5=\"batch mix plant\",'Asphalt Plant (AP-3)'!T38,0),IF('Asphalt Plant (AP-4)'!$C$5=\"batch mix plant\",'Asphalt Plant (AP-4)'!T38,0),IF('Asphalt Plant (AP-5)'!$C$5=\"batch mix plant\",'Asphalt Plant (AP-5)'!T38,0),IF('Asphalt Plant (AP-6)'!$C$5=\"batch mix plant\",'Asphalt Plant (AP-6)'!T38,0),IF('Asphalt Plant (AP-7)'!$C$5=\"batch mix plant\",'Asphalt Plant (AP-7)'!T38,0),IF('Asphalt Plant (AP-8)'!$C$5=\"batch mix plant\",'Asphalt Plant (AP-8)'!T38,0),IF('Asphalt Plant (AP-9)'!$C$5=\"batch mix plant\",'Asphalt Plant (AP-9)'!T38,0),IF('Asphalt Plant (AP-10)'!$C$5=\"batch mix plant\",'Asphalt Plant (AP-10)'!T38,0)))","v":""}]
["",{"$f":"IF(D44=\"\",\"\",\"Batch Mix Plant - Waste Oil\")","v":""},{"$f":"IF(B44=\"\",\"\",\"30500245\")","v":""},{"$f":"IF(SUM(IF('Asphalt Plant (AP-1)'!$C$5=\"batch mix plant\",'Asphalt Plant (AP-1)'!N6,0),IF('Asphalt Plant (AP-2)'!$C$5=\"batch mix plant\",'Asphalt Plant (AP-2)'!N6,0),IF('Asphalt Plant (AP-3)'!$C$5=\"batch mix plant\",'Asphalt Plant (AP-3)'!N6,0),IF('Asphalt Plant (AP-4)'!$C$5=\"batch mix plant\",'Asphalt Plant (AP-4)'!N6,0),IF('Asphalt Plant (AP-5)'!$C$5=\"batch mix plant\",'Asphalt Plant (AP-5)'!N6,0),IF('Asphalt Plant (AP-6)'!$C$5=\"batch mix plant\",'Asphalt Plant (AP-6)'!N6,0),IF('Asphalt Plant (AP-7)'!$C$5=\"batch mix plant\",'Asphalt Plant (AP-7)'!N6,0),IF('Asphalt Plant (AP-8)'!$C$5=\"batch mix plant\",'Asphalt Plant (AP-8)'!N6,0),IF('Asphalt Plant (AP-9)'!$C$5=\"batch mix plant\",'Asphalt Plant (AP-9)'!N6,0),IF('Asphalt Plant (AP-10)'!$C$5=\"batch mix plant\",'Asphalt Plant (AP-10)'!N6,0))>0,SUM(IF('Asphalt Plant (AP-1)'!$C$5=\"batch mix plant\",'Asphalt Plant (AP-1)'!N6,0),IF('Asphalt Plant (AP-2)'!$C$5=\"batch mix plant\",'Asphalt Plant (AP-2)'!N6,0),IF('Asphalt Plant (AP-3)'!$C$5=\"batch mix plant\",'Asphalt Plant (AP-3)'!N6,0),IF('Asphalt Plant (AP-4)'!$C$5=\"batch mix plant\",'Asphalt Plant (AP-4)'!N6,0),IF('Asphalt Plant (AP-5)'!$C$5=\"batch mix plant\",'Asphalt Plant (AP-5)'!N6,0),IF('Asphalt Plant (AP-6)'!$C$5=\"batch mix plant\",'Asphalt Plant (AP-6)'!N6,0),IF('Asphalt Plant (AP-7)'!$C$5=\"batch mix plant\",'Asphalt Plant (AP-7)'!N6,0),IF('Asphalt Plant (AP-8)'!$C$5=\"batch mix plant\",'Asphalt Plant (AP-8)'!N6,0),IF('Asphalt Plant (AP-9)'!$C$5=\"batch mix plant\",'Asphalt Plant (AP-9)'!N6,0),IF('Asphalt Plant (AP-10)'!$C$5=\"batch mix plant\",'Asphalt Plant (AP-10)'!N6,0)),\"\")","v":""},"",{"$f":"IF(B44=\"\",\"\",MAX(IF('Asphalt Plant (AP-1)'!$C$5=\"batch mix plant\",'Asphalt Plant (AP-1)'!O39,0),IF('Asphalt Plant (AP-2)'!$C$5=\"batch mix plant\",'Asphalt Plant (AP-2)'!O39,0),IF('Asphalt Plant (AP-3)'!$C$5=\"batch mix plant\",'Asphalt Plant (AP-3)'!O39,0),IF('Asphalt Plant (AP-4)'!$C$5=\"batch mix plant\",'Asphalt Plant (AP-4)'!O39,0),IF('Asphalt Plant (AP-5)'!$C$5=\"batch mix plant\",'Asphalt Plant (AP-5)'!O39,0),IF('Asphalt Plant (AP-6)'!$C$5=\"batch mix plant\",'Asphalt Plant (AP-6)'!O39,0),IF('Asphalt Plant (AP-7)'!$C$5=\"batch mix plant\",'Asphalt Plant (AP-7)'!O39,0),IF('Asphalt Plant (AP-8)'!$C$5=\"batch mix plant\",'Asphalt Plant (AP-8)'!O39,0),IF('Asphalt Plant (AP-9)'!$C$5=\"batch mix plant\",'Asphalt Plant (AP-9)'!O39,0),IF('Asphalt Plant (AP-10)'!$C$5=\"batch mix plant\",'Asphalt Plant (AP-10)'!O39,0)))","v":""},"",{"$f":"IF(B44=\"\",\"\",\"AP-42 Table 11.1-2,5,6,9\")","v":""},{"$f":"IF(B44=\"\",\"\",SUM(IF('Asphalt Plant (AP-1)'!$C$5=\"batch mix plant\",'Asphalt Plant (AP-1)'!Q39,0),IF('Asphalt Plant (AP-2)'!$C$5=\"batch mix plant\",'Asphalt Plant (AP-2)'!Q39,0),IF('Asphalt Plant (AP-3)'!$C$5=\"batch mix plant\",'Asphalt Plant (AP-3)'!Q39,0),IF('Asphalt Plant (AP-4)'!$C$5=\"batch mix plant\",'Asphalt Plant (AP-4)'!Q39,0),IF('Asphalt Plant (AP-5)'!$C$5=\"batch mix plant\",'Asphalt Plant (AP-5)'!Q39,0),IF('Asphalt Plant (AP-6)'!$C$5=\"batch mix plant\",'Asphalt Plant (AP-6)'!Q39,0),IF('Asphalt Plant (AP-7)'!$C$5=\"batch mix plant\",'Asphalt Plant (AP-7)'!Q39,0),IF('Asphalt Plant (AP-8)'!$C$5=\"batch mix plant\",'Asphalt Plant (AP-8)'!Q39,0),IF('Asphalt Plant (AP-9)'!$C$5=\"batch mix plant\",'Asphalt Plant (AP-9)'!Q39,0),IF('Asphalt Plant (AP-10)'!$C$5=\"batch mix plant\",'Asphalt Plant (AP-10)'!Q39,0)))","v":""},null,{"$f":"IF(C44=\"\",\"\",SUM(IF('Asphalt Plant (AP-1)'!$C$5=\"batch mix plant\",'Asphalt Plant (AP-1)'!R39,0),IF('Asphalt Plant (AP-2)'!$C$5=\"batch mix plant\",'Asphalt Plant (AP-2)'!R39,0),IF('Asphalt Plant (AP-3)'!$C$5=\"batch mix plant\",'Asphalt Plant (AP-3)'!R39,0),IF('Asphalt Plant (AP-4)'!$C$5=\"batch mix plant\",'Asphalt Plant (AP-4)'!R39,0),IF('Asphalt Plant (AP-5)'!$C$5=\"batch mix plant\",'Asphalt Plant (AP-5)'!R39,0),IF('Asphalt Plant (AP-6)'!$C$5=\"batch mix plant\",'Asphalt Plant (AP-6)'!R39,0),IF('Asphalt Plant (AP-7)'!$C$5=\"batch mix plant\",'Asphalt Plant (AP-7)'!R39,0),IF('Asphalt Plant (AP-8)'!$C$5=\"batch mix plant\",'Asphalt Plant (AP-8)'!R39,0),IF('Asphalt Plant (AP-9)'!$C$5=\"batch mix plant\",'Asphalt Plant (AP-9)'!R39,0),IF('Asphalt Plant (AP-10)'!$C$5=\"batch mix plant\",'Asphalt Plant (AP-10)'!R39,0)))","v":""},{"$f":"IF(D44=\"\",\"\",SUM(IF('Asphalt Plant (AP-1)'!$C$5=\"batch mix plant\",'Asphalt Plant (AP-1)'!S39,0),IF('Asphalt Plant (AP-2)'!$C$5=\"batch mix plant\",'Asphalt Plant (AP-2)'!S39,0),IF('Asphalt Plant (AP-3)'!$C$5=\"batch mix plant\",'Asphalt Plant (AP-3)'!S39,0),IF('Asphalt Plant (AP-4)'!$C$5=\"batch mix plant\",'Asphalt Plant (AP-4)'!S39,0),IF('Asphalt Plant (AP-5)'!$C$5=\"batch mix plant\",'Asphalt Plant (AP-5)'!S39,0),IF('Asphalt Plant (AP-6)'!$C$5=\"batch mix plant\",'Asphalt Plant (AP-6)'!S39,0),IF('Asphalt Plant (AP-7)'!$C$5=\"batch mix plant\",'Asphalt Plant (AP-7)'!S39,0),IF('Asphalt Plant (AP-8)'!$C$5=\"batch mix plant\",'Asphalt Plant (AP-8)'!S39,0),IF('Asphalt Plant (AP-9)'!$C$5=\"batch mix plant\",'Asphalt Plant (AP-9)'!S39,0),IF('Asphalt Plant (AP-10)'!$C$5=\"batch mix plant\",'Asphalt Plant (AP-10)'!S39,0)))","v":""},{"$f":"IF(E44=\"\",\"\",SUM(IF('Asphalt Plant (AP-1)'!$C$5=\"batch mix plant\",'Asphalt Plant (AP-1)'!T39,0),IF('Asphalt Plant (AP-2)'!$C$5=\"batch mix plant\",'Asphalt Plant (AP-2)'!T39,0),IF('Asphalt Plant (AP-3)'!$C$5=\"batch mix plant\",'Asphalt Plant (AP-3)'!T39,0),IF('Asphalt Plant (AP-4)'!$C$5=\"batch mix plant\",'Asphalt Plant (AP-4)'!T39,0),IF('Asphalt Plant (AP-5)'!$C$5=\"batch mix plant\",'Asphalt Plant (AP-5)'!T39,0),IF('Asphalt Plant (AP-6)'!$C$5=\"batch mix plant\",'Asphalt Plant (AP-6)'!T39,0),IF('Asphalt Plant (AP-7)'!$C$5=\"batch mix plant\",'Asphalt Plant (AP-7)'!T39,0),IF('Asphalt Plant (AP-8)'!$C$5=\"batch mix plant\",'Asphalt Plant (AP-8)'!T39,0),IF('Asphalt Plant (AP-9)'!$C$5=\"batch mix plant\",'Asphalt Plant (AP-9)'!T39,0),IF('Asphalt Plant (AP-10)'!$C$5=\"batch mix plant\",'Asphalt Plant (AP-10)'!T39,0)))","v":""}]
["",{"$f":"IF(D45=\"\",\"\",\"Batch Mix Plant - Natural Gas\")","v":""},{"$f":"IF(B45=\"\",\"\",\"30500247\")","v":""},{"$f":"IF(SUM(IF('Asphalt Plant (AP-1)'!$C$5=\"batch mix plant\",'Asphalt Plant (AP-1)'!N7,0),IF('Asphalt Plant (AP-2)'!$C$5=\"batch mix plant\",'Asphalt Plant (AP-2)'!N7,0),IF('Asphalt Plant (AP-3)'!$C$5=\"batch mix plant\",'Asphalt Plant (AP-3)'!N7,0),IF('Asphalt Plant (AP-4)'!$C$5=\"batch mix plant\",'Asphalt Plant (AP-4)'!N7,0),IF('Asphalt Plant (AP-5)'!$C$5=\"batch mix plant\",'Asphalt Plant (AP-5)'!N7,0),IF('Asphalt Plant (AP-6)'!$C$5=\"batch mix plant\",'Asphalt Plant (AP-6)'!N7,0),IF('Asphalt Plant (AP-7)'!$C$5=\"batch mix plant\",'Asphalt Plant (AP-7)'!N7,0),IF('Asphalt Plant (AP-8)'!$C$5=\"batch mix plant\",'Asphalt Plant (AP-8)'!N7,0),IF('Asphalt Plant (AP-9)'!$C$5=\"batch mix plant\",'Asphalt Plant (AP-9)'!N7,0),IF('Asphalt Plant (AP-10)'!$C$5=\"batch mix plant\",'Asphalt Plant (AP-10)'!N7,0))>0,SUM(IF('Asphalt Plant (AP-1)'!$C$5=\"batch mix plant\",'Asphalt Plant (AP-1)'!N7,0),IF('Asphalt Plant (AP-2)'!$C$5=\"batch mix plant\",'Asphalt Plant (AP-2)'!N7,0),IF('Asphalt Plant (AP-3)'!$C$5=\"batch mix plant\",'Asphalt Plant (AP-3)'!N7,0),IF('Asphalt Plant (AP-4)'!$C$5=\"batch mix plant\",'Asphalt Plant (AP-4)'!N7,0),IF('Asphalt Plant (AP-5)'!$C$5=\"batch mix plant\",'Asphalt Plant (AP-5)'!N7,0),IF('Asphalt Plant (AP-6)'!$C$5=\"batch mix plant\",'Asphalt Plant (AP-6)'!N7,0),IF('Asphalt Plant (AP-7)'!$C$5=\"batch mix plant\",'Asphalt Plant (AP-7)'!N7,0),IF('Asphalt Plant (AP-8)'!$C$5=\"batch mix plant\",'Asphalt Plant (AP-8)'!N7,0),IF('Asphalt Plant (AP-9)'!$C$5=\"batch mix plant\",'Asphalt Plant (AP-9)'!N7,0),IF('Asphalt Plant (AP-10)'!$C$5=\"batch mix plant\",'Asphalt Plant (AP-10)'!N7,0)),\"\")","v":""},"",{"$f":"IF(B45=\"\",\"\",MAX(IF('Asphalt Plant (AP-1)'!$C$5=\"batch mix plant\",'Asphalt Plant (AP-1)'!O40,0),IF('Asphalt Plant (AP-2)'!$C$5=\"batch mix plant\",'Asphalt Plant (AP-2)'!O40,0),IF('Asphalt Plant (AP-3)'!$C$5=\"batch mix plant\",'Asphalt Plant (AP-3)'!O40,0),IF('Asphalt Plant (AP-4)'!$C$5=\"batch mix plant\",'Asphalt Plant (AP-4)'!O40,0),IF('Asphalt Plant (AP-5)'!$C$5=\"batch mix plant\",'Asphalt Plant (AP-5)'!O40,0),IF('Asphalt Plant (AP-6)'!$C$5=\"batch mix plant\",'Asphalt Plant (AP-6)'!O40,0),IF('Asphalt Plant (AP-7)'!$C$5=\"batch mix plant\",'Asphalt Plant (AP-7)'!O40,0),IF('Asphalt Plant (AP-8)'!$C$5=\"batch mix plant\",'Asphalt Plant (AP-8)'!O40,0),IF('Asphalt Plant (AP-9)'!$C$5=\"batch mix plant\",'Asphalt Plant (AP-9)'!O40,0),IF('Asphalt Plant (AP-10)'!$C$5=\"batch mix plant\",'Asphalt Plant (AP-10)'!O40,0)))","v":""},"",{"$f":"IF(B45=\"\",\"\",\"AP-42 Table 11.1-2,5,6,9\")","v":""},{"$f":"IF(B45=\"\",\"\",SUM(IF('Asphalt Plant (AP-1)'!$C$5=\"batch mix plant\",'Asphalt Plant (AP-1)'!Q40,0),IF('Asphalt Plant (AP-2)'!$C$5=\"batch mix plant\",'Asphalt Plant (AP-2)'!Q40,0),IF('Asphalt Plant (AP-3)'!$C$5=\"batch mix plant\",'Asphalt Plant (AP-3)'!Q40,0),IF('Asphalt Plant (AP-4)'!$C$5=\"batch mix plant\",'Asphalt Plant (AP-4)'!Q40,0),IF('Asphalt Plant (AP-5)'!$C$5=\"batch mix plant\",'Asphalt Plant (AP-5)'!Q40,0),IF('Asphalt Plant (AP-6)'!$C$5=\"batch mix plant\",'Asphalt Plant (AP-6)'!Q40,0),IF('Asphalt Plant (AP-7)'!$C$5=\"batch mix plant\",'Asphalt Plant (AP-7)'!Q40,0),IF('Asphalt Plant (AP-8)'!$C$5=\"batch mix plant\",'Asphalt Plant (AP-8)'!Q40,0),IF('Asphalt Plant (AP-9)'!$C$5=\"batch mix plant\",'Asphalt Plant (AP-9)'!Q40,0),IF('Asphalt Plant (AP-10)'!$C$5=\"batch mix plant\",'Asphalt Plant (AP-10)'!Q40,0)))","v":""},null,{"$f":"IF(C45=\"\",\"\",SUM(IF('Asphalt Plant (AP-1)'!$C$5=\"batch mix plant\",'Asphalt Plant (AP-1)'!R40,0),IF('Asphalt Plant (AP-2)'!$C$5=\"batch mix plant\",'Asphalt Plant (AP-2)'!R40,0),IF('Asphalt Plant (AP-3)'!$C$5=\"batch mix plant\",'Asphalt Plant (AP-3)'!R40,0),IF('Asphalt Plant (AP-4)'!$C$5=\"batch mix plant\",'Asphalt Plant (AP-4)'!R40,0),IF('Asphalt Plant (AP-5)'!$C$5=\"batch mix plant\",'Asphalt Plant (AP-5)'!R40,0),IF('Asphalt Plant (AP-6)'!$C$5=\"batch mix plant\",'Asphalt Plant (AP-6)'!R40,0),IF('Asphalt Plant (AP-7)'!$C$5=\"batch mix plant\",'Asphalt Plant (AP-7)'!R40,0),IF('Asphalt Plant (AP-8)'!$C$5=\"batch mix plant\",'Asphalt Plant (AP-8)'!R40,0),IF('Asphalt Plant (AP-9)'!$C$5=\"batch mix plant\",'Asphalt Plant (AP-9)'!R40,0),IF('Asphalt Plant (AP-10)'!$C$5=\"batch mix plant\",'Asphalt Plant (AP-10)'!R40,0)))","v":""},{"$f":"IF(D45=\"\",\"\",SUM(IF('Asphalt Plant (AP-1)'!$C$5=\"batch mix plant\",'Asphalt Plant (AP-1)'!S40,0),IF('Asphalt Plant (AP-2)'!$C$5=\"batch mix plant\",'Asphalt Plant (AP-2)'!S40,0),IF('Asphalt Plant (AP-3)'!$C$5=\"batch mix plant\",'Asphalt Plant (AP-3)'!S40,0),IF('Asphalt Plant (AP-4)'!$C$5=\"batch mix plant\",'Asphalt Plant (AP-4)'!S40,0),IF('Asphalt Plant (AP-5)'!$C$5=\"batch mix plant\",'Asphalt Plant (AP-5)'!S40,0),IF('Asphalt Plant (AP-6)'!$C$5=\"batch mix plant\",'Asphalt Plant (AP-6)'!S40,0),IF('Asphalt Plant (AP-7)'!$C$5=\"batch mix plant\",'Asphalt Plant (AP-7)'!S40,0),IF('Asphalt Plant (AP-8)'!$C$5=\"batch mix plant\",'Asphalt Plant (AP-8)'!S40,0),IF('Asphalt Plant (AP-9)'!$C$5=\"batch mix plant\",'Asphalt Plant (AP-9)'!S40,0),IF('Asphalt Plant (AP-10)'!$C$5=\"batch mix plant\",'Asphalt Plant (AP-10)'!S40,0)))","v":""},{"$f":"IF(E45=\"\",\"\",SUM(IF('Asphalt Plant (AP-1)'!$C$5=\"batch mix plant\",'Asphalt Plant (AP-1)'!T40,0),IF('Asphalt Plant (AP-2)'!$C$5=\"batch mix plant\",'Asphalt Plant (AP-2)'!T40,0),IF('Asphalt Plant (AP-3)'!$C$5=\"batch mix plant\",'Asphalt Plant (AP-3)'!T40,0),IF('Asphalt Plant (AP-4)'!$C$5=\"batch mix plant\",'Asphalt Plant (AP-4)'!T40,0),IF('Asphalt Plant (AP-5)'!$C$5=\"batch mix plant\",'Asphalt Plant (AP-5)'!T40,0),IF('Asphalt Plant (AP-6)'!$C$5=\"batch mix plant\",'Asphalt Plant (AP-6)'!T40,0),IF('Asphalt Plant (AP-7)'!$C$5=\"batch mix plant\",'Asphalt Plant (AP-7)'!T40,0),IF('Asphalt Plant (AP-8)'!$C$5=\"batch mix plant\",'Asphalt Plant (AP-8)'!T40,0),IF('Asphalt Plant (AP-9)'!$C$5=\"batch mix plant\",'Asphalt Plant (AP-9)'!T40,0),IF('Asphalt Plant (AP-10)'!$C$5=\"batch mix plant\",'Asphalt Plant (AP-10)'!T40,0)))","v":""}]
["",{"$f":"IF(D46=\"\",\"\",\"Drum Mix Plant - Fuel Oil\")","v":""},{"$f":"IF(B46=\"\",\"\",\"30500258\")","v":""},{"$f":"IF(SUM(IF('Asphalt Plant (AP-1)'!$C$5=\"drum mix plant\",'Asphalt Plant (AP-1)'!N5,0),IF('Asphalt Plant (AP-2)'!$C$5=\"drum mix plant\",'Asphalt Plant (AP-2)'!N5,0),IF('Asphalt Plant (AP-3)'!$C$5=\"drum mix plant\",'Asphalt Plant (AP-3)'!N5,0),IF('Asphalt Plant (AP-4)'!$C$5=\"drum mix plant\",'Asphalt Plant (AP-4)'!N5,0),IF('Asphalt Plant (AP-5)'!$C$5=\"drum mix plant\",'Asphalt Plant (AP-5)'!N5,0),IF('Asphalt Plant (AP-6)'!$C$5=\"drum mix plant\",'Asphalt Plant (AP-6)'!N5,0),IF('Asphalt Plant (AP-7)'!$C$5=\"drum mix plant\",'Asphalt Plant (AP-7)'!N5,0),IF('Asphalt Plant (AP-8)'!$C$5=\"drum mix plant\",'Asphalt Plant (AP-8)'!N5,0),IF('Asphalt Plant (AP-9)'!$C$5=\"drum mix plant\",'Asphalt Plant (AP-9)'!N5,0),IF('Asphalt Plant (AP-10)'!$C$5=\"drum mix plant\",'Asphalt Plant (AP-10)'!N5,0))>0,SUM(IF('Asphalt Plant (AP-1)'!$C$5=\"drum mix plant\",'Asphalt Plant (AP-1)'!N5,0),IF('Asphalt Plant (AP-2)'!$C$5=\"drum mix plant\",'Asphalt Plant (AP-2)'!N5,0),IF('Asphalt Plant (AP-3)'!$C$5=\"drum mix plant\",'Asphalt Plant (AP-3)'!N5,0),IF('Asphalt Plant (AP-4)'!$C$5=\"drum mix plant\",'Asphalt Plant (AP-4)'!N5,0),IF('Asphalt Plant (AP-5)'!$C$5=\"drum mix plant\",'Asphalt Plant (AP-5)'!N5,0),IF('Asphalt Plant (AP-6)'!$C$5=\"drum mix plant\",'Asphalt Plant (AP-6)'!N5,0),IF('Asphalt Plant (AP-7)'!$C$5=\"drum mix plant\",'Asphalt Plant (AP-7)'!N5,0),IF('Asphalt Plant (AP-8)'!$C$5=\"drum mix plant\",'Asphalt Plant (AP-8)'!N5,0),IF('Asphalt Plant (AP-9)'!$C$5=\"drum mix plant\",'Asphalt Plant (AP-9)'!N5,0),IF('Asphalt Plant (AP-10)'!$C$5=\"drum mix plant\",'Asphalt Plant (AP-10)'!N5,0)),\"\")","v":""},"",{"$f":"IF(B46=\"\",\"\",MAX(IF('Asphalt Plant (AP-1)'!$C$5=\"drum mix plant\",'Asphalt Plant (AP-1)'!O38,0),IF('Asphalt Plant (AP-2)'!$C$5=\"drum mix plant\",'Asphalt Plant (AP-2)'!O38,0),IF('Asphalt Plant (AP-3)'!$C$5=\"drum mix plant\",'Asphalt Plant (AP-3)'!O38,0),IF('Asphalt Plant (AP-4)'!$C$5=\"drum mix plant\",'Asphalt Plant (AP-4)'!O38,0),IF('Asphalt Plant (AP-5)'!$C$5=\"drum mix plant\",'Asphalt Plant (AP-5)'!O38,0),IF('Asphalt Plant (AP-6)'!$C$5=\"drum mix plant\",'Asphalt Plant (AP-6)'!O38,0),IF('Asphalt Plant (AP-7)'!$C$5=\"drum mix plant\",'Asphalt Plant (AP-7)'!O38,0),IF('Asphalt Plant (AP-8)'!$C$5=\"drum mix plant\",'Asphalt Plant (AP-8)'!O38,0),IF('Asphalt Plant (AP-9)'!$C$5=\"drum mix plant\",'Asphalt Plant (AP-9)'!O38,0),IF('Asphalt Plant (AP-10)'!$C$5=\"drum mix plant\",'Asphalt Plant (AP-10)'!O38,0)))","v":""},"",{"$f":"IF(B46=\"\",\"\",\"AP-42 Table 11.1-4,7,8,10\")","v":""},{"$f":"IF(B46=\"\",\"\",SUM(IF('Asphalt Plant (AP-1)'!$C$5=\"drum mix plant\",'Asphalt Plant (AP-1)'!Q38,0),IF('Asphalt Plant (AP-2)'!$C$5=\"drum mix plant\",'Asphalt Plant (AP-2)'!Q38,0),IF('Asphalt Plant (AP-3)'!$C$5=\"drum mix plant\",'Asphalt Plant (AP-3)'!Q38,0),IF('Asphalt Plant (AP-4)'!$C$5=\"drum mix plant\",'Asphalt Plant (AP-4)'!Q38,0),IF('Asphalt Plant (AP-5)'!$C$5=\"drum mix plant\",'Asphalt Plant (AP-5)'!Q38,0),IF('Asphalt Plant (AP-6)'!$C$5=\"drum mix plant\",'Asphalt Plant (AP-6)'!Q38,0),IF('Asphalt Plant (AP-7)'!$C$5=\"drum mix plant\",'Asphalt Plant (AP-7)'!Q38,0),IF('Asphalt Plant (AP-8)'!$C$5=\"drum mix plant\",'Asphalt Plant (AP-8)'!Q38,0),IF('Asphalt Plant (AP-9)'!$C$5=\"drum mix plant\",'Asphalt Plant (AP-9)'!Q38,0),IF('Asphalt Plant (AP-10)'!$C$5=\"drum mix plant\",'Asphalt Plant (AP-10)'!Q38,0)))","v":""},null,{"$f":"IF(C46=\"\",\"\",SUM(IF('Asphalt Plant (AP-1)'!$C$5=\"drum mix plant\",'Asphalt Plant (AP-1)'!R38,0),IF('Asphalt Plant (AP-2)'!$C$5=\"drum mix plant\",'Asphalt Plant (AP-2)'!R38,0),IF('Asphalt Plant (AP-3)'!$C$5=\"drum mix plant\",'Asphalt Plant (AP-3)'!R38,0),IF('Asphalt Plant (AP-4)'!$C$5=\"drum mix plant\",'Asphalt Plant (AP-4)'!R38,0),IF('Asphalt Plant (AP-5)'!$C$5=\"drum mix plant\",'Asphalt Plant (AP-5)'!R38,0),IF('Asphalt Plant (AP-6)'!$C$5=\"drum mix plant\",'Asphalt Plant (AP-6)'!R38,0),IF('Asphalt Plant (AP-7)'!$C$5=\"drum mix plant\",'Asphalt Plant (AP-7)'!R38,0),IF('Asphalt Plant (AP-8)'!$C$5=\"drum mix plant\",'Asphalt Plant (AP-8)'!R38,0),IF('Asphalt Plant (AP-9)'!$C$5=\"drum mix plant\",'Asphalt Plant (AP-9)'!R38,0),IF('Asphalt Plant (AP-10)'!$C$5=\"drum mix plant\",'Asphalt Plant (AP-10)'!R38,0)))","v":""},{"$f":"IF(D46=\"\",\"\",SUM(IF('Asphalt Plant (AP-1)'!$C$5=\"drum mix plant\",'Asphalt Plant (AP-1)'!S38,0),IF('Asphalt Plant (AP-2)'!$C$5=\"drum mix plant\",'Asphalt Plant (AP-2)'!S38,0),IF('Asphalt Plant (AP-3)'!$C$5=\"drum mix plant\",'Asphalt Plant (AP-3)'!S38,0),IF('Asphalt Plant (AP-4)'!$C$5=\"drum mix plant\",'Asphalt Plant (AP-4)'!S38,0),IF('Asphalt Plant (AP-5)'!$C$5=\"drum mix plant\",'Asphalt Plant (AP-5)'!S38,0),IF('Asphalt Plant (AP-6)'!$C$5=\"drum mix plant\",'Asphalt Plant (AP-6)'!S38,0),IF('Asphalt Plant (AP-7)'!$C$5=\"drum mix plant\",'Asphalt Plant (AP-7)'!S38,0),IF('Asphalt Plant (AP-8)'!$C$5=\"drum mix plant\",'Asphalt Plant (AP-8)'!S38,0),IF('Asphalt Plant (AP-9)'!$C$5=\"drum mix plant\",'Asphalt Plant (AP-9)'!S38,0),IF('Asphalt Plant (AP-10)'!$C$5=\"drum mix plant\",'Asphalt Plant (AP-10)'!S38,0)))","v":""},{"$f":"IF(E46=\"\",\"\",SUM(IF('Asphalt Plant (AP-1)'!$C$5=\"drum mix plant\",'Asphalt Plant (AP-1)'!T38,0),IF('Asphalt Plant (AP-2)'!$C$5=\"drum mix plant\",'Asphalt Plant (AP-2)'!T38,0),IF('Asphalt Plant (AP-3)'!$C$5=\"drum mix plant\",'Asphalt Plant (AP-3)'!T38,0),IF('Asphalt Plant (AP-4)'!$C$5=\"drum mix plant\",'Asphalt Plant (AP-4)'!T38,0),IF('Asphalt Plant (AP-5)'!$C$5=\"drum mix plant\",'Asphalt Plant (AP-5)'!T38,0),IF('Asphalt Plant (AP-6)'!$C$5=\"drum mix plant\",'Asphalt Plant (AP-6)'!T38,0),IF('Asphalt Plant (AP-7)'!$C$5=\"drum mix plant\",'Asphalt Plant (AP-7)'!T38,0),IF('Asphalt Plant (AP-8)'!$C$5=\"drum mix plant\",'Asphalt Plant (AP-8)'!T38,0),IF('Asphalt Plant (AP-9)'!$C$5=\"drum mix plant\",'Asphalt Plant (AP-9)'!T38,0),IF('Asphalt Plant (AP-10)'!$C$5=\"drum mix plant\",'Asphalt Plant (AP-10)'!T38,0)))","v":""}]
["",{"$f":"IF(D47=\"\",\"\",\"Drum Mix Plant - Waste Oil\")","v":""},{"$f":"IF(B47=\"\",\"\",\"30500255\")","v":""},{"$f":"IF(SUM(IF('Asphalt Plant (AP-1)'!$C$5=\"drum mix plant\",'Asphalt Plant (AP-1)'!N6,0),IF('Asphalt Plant (AP-2)'!$C$5=\"drum mix plant\",'Asphalt Plant (AP-2)'!N6,0),IF('Asphalt Plant (AP-3)'!$C$5=\"drum mix plant\",'Asphalt Plant (AP-3)'!N6,0),IF('Asphalt Plant (AP-4)'!$C$5=\"drum mix plant\",'Asphalt Plant (AP-4)'!N6,0),IF('Asphalt Plant (AP-5)'!$C$5=\"drum mix plant\",'Asphalt Plant (AP-5)'!N6,0),IF('Asphalt Plant (AP-6)'!$C$5=\"drum mix plant\",'Asphalt Plant (AP-6)'!N6,0),IF('Asphalt Plant (AP-7)'!$C$5=\"drum mix plant\",'Asphalt Plant (AP-7)'!N6,0),IF('Asphalt Plant (AP-8)'!$C$5=\"drum mix plant\",'Asphalt Plant (AP-8)'!N6,0),IF('Asphalt Plant (AP-9)'!$C$5=\"drum mix plant\",'Asphalt Plant (AP-9)'!N6,0),IF('Asphalt Plant (AP-10)'!$C$5=\"drum mix plant\",'Asphalt Plant (AP-10)'!N6,0))>0,SUM(IF('Asphalt Plant (AP-1)'!$C$5=\"drum mix plant\",'Asphalt Plant (AP-1)'!N6,0),IF('Asphalt Plant (AP-2)'!$C$5=\"drum mix plant\",'Asphalt Plant (AP-2)'!N6,0),IF('Asphalt Plant (AP-3)'!$C$5=\"drum mix plant\",'Asphalt Plant (AP-3)'!N6,0),IF('Asphalt Plant (AP-4)'!$C$5=\"drum mix plant\",'Asphalt Plant (AP-4)'!N6,0),IF('Asphalt Plant (AP-5)'!$C$5=\"drum mix plant\",'Asphalt Plant (AP-5)'!N6,0),IF('Asphalt Plant (AP-6)'!$C$5=\"drum mix plant\",'Asphalt Plant (AP-6)'!N6,0),IF('Asphalt Plant (AP-7)'!$C$5=\"drum mix plant\",'Asphalt Plant (AP-7)'!N6,0),IF('Asphalt Plant (AP-8)'!$C$5=\"drum mix plant\",'Asphalt Plant (AP-8)'!N6,0),IF('Asphalt Plant (AP-9)'!$C$5=\"drum mix plant\",'Asphalt Plant (AP-9)'!N6,0),IF('Asphalt Plant (AP-10)'!$C$5=\"drum mix plant\",'Asphalt Plant (AP-10)'!N6,0)),\"\")","v":""},"",{"$f":"IF(B47=\"\",\"\",MAX(IF('Asphalt Plant (AP-1)'!$C$5=\"drum mix plant\",'Asphalt Plant (AP-1)'!O39,0),IF('Asphalt Plant (AP-2)'!$C$5=\"drum mix plant\",'Asphalt Plant (AP-2)'!O39,0),IF('Asphalt Plant (AP-3)'!$C$5=\"drum mix plant\",'Asphalt Plant (AP-3)'!O39,0),IF('Asphalt Plant (AP-4)'!$C$5=\"drum mix plant\",'Asphalt Plant (AP-4)'!O39,0),IF('Asphalt Plant (AP-5)'!$C$5=\"drum mix plant\",'Asphalt Plant (AP-5)'!O39,0),IF('Asphalt Plant (AP-6)'!$C$5=\"drum mix plant\",'Asphalt Plant (AP-6)'!O39,0),IF('Asphalt Plant (AP-7)'!$C$5=\"drum mix plant\",'Asphalt Plant (AP-7)'!O39,0),IF('Asphalt Plant (AP-8)'!$C$5=\"drum mix plant\",'Asphalt Plant (AP-8)'!O39,0),IF('Asphalt Plant (AP-9)'!$C$5=\"drum mix plant\",'Asphalt Plant (AP-9)'!O39,0),IF('Asphalt Plant (AP-10)'!$C$5=\"drum mix plant\",'Asphalt Plant (AP-10)'!O39,0)))","v":""},"",{"$f":"IF(B47=\"\",\"\",\"AP-42 Table 11.1-4,7,8,10\")","v":""},{"$f":"IF(B47=\"\",\"\",SUM(IF('Asphalt Plant (AP-1)'!$C$5=\"drum mix plant\",'Asphalt Plant (AP-1)'!Q39,0),IF('Asphalt Plant (AP-2)'!$C$5=\"drum mix plant\",'Asphalt Plant (AP-2)'!Q39,0),IF('Asphalt Plant (AP-3)'!$C$5=\"drum mix plant\",'Asphalt Plant (AP-3)'!Q39,0),IF('Asphalt Plant (AP-4)'!$C$5=\"drum mix plant\",'Asphalt Plant (AP-4)'!Q39,0),IF('Asphalt Plant (AP-5)'!$C$5=\"drum mix plant\",'Asphalt Plant (AP-5)'!Q39,0),IF('Asphalt Plant (AP-6)'!$C$5=\"drum mix plant\",'Asphalt Plant (AP-6)'!Q39,0),IF('Asphalt Plant (AP-7)'!$C$5=\"drum mix plant\",'Asphalt Plant (AP-7)'!Q39,0),IF('Asphalt Plant (AP-8)'!$C$5=\"drum mix plant\",'Asphalt Plant (AP-8)'!Q39,0),IF('Asphalt Plant (AP-9)'!$C$5=\"drum mix plant\",'Asphalt Plant (AP-9)'!Q39,0),IF('Asphalt Plant (AP-10)'!$C$5=\"drum mix plant\",'Asphalt Plant (AP-10)'!Q39,0)))","v":""},null,{"$f":"IF(C47=\"\",\"\",SUM(IF('Asphalt Plant (AP-1)'!$C$5=\"drum mix plant\",'Asphalt Plant (AP-1)'!R39,0),IF('Asphalt Plant (AP-2)'!$C$5=\"drum mix plant\",'Asphalt Plant (AP-2)'!R39,0),IF('Asphalt Plant (AP-3)'!$C$5=\"drum mix plant\",'Asphalt Plant (AP-3)'!R39,0),IF('Asphalt Plant (AP-4)'!$C$5=\"drum mix plant\",'Asphalt Plant (AP-4)'!R39,0),IF('Asphalt Plant (AP-5)'!$C$5=\"drum mix plant\",'Asphalt Plant (AP-5)'!R39,0),IF('Asphalt Plant (AP-6)'!$C$5=\"drum mix plant\",'Asphalt Plant (AP-6)'!R39,0),IF('Asphalt Plant (AP-7)'!$C$5=\"drum mix plant\",'Asphalt Plant (AP-7)'!R39,0),IF('Asphalt Plant (AP-8)'!$C$5=\"drum mix plant\",'Asphalt Plant (AP-8)'!R39,0),IF('Asphalt Plant (AP-9)'!$C$5=\"drum mix plant\",'Asphalt Plant (AP-9)'!R39,0),IF('Asphalt Plant (AP-10)'!$C$5=\"drum mix plant\",'Asphalt Plant (AP-10)'!R39,0)))","v":""},{"$f":"IF(D47=\"\",\"\",SUM(IF('Asphalt Plant (AP-1)'!$C$5=\"drum mix plant\",'Asphalt Plant (AP-1)'!S39,0),IF('Asphalt Plant (AP-2)'!$C$5=\"drum mix plant\",'Asphalt Plant (AP-2)'!S39,0),IF('Asphalt Plant (AP-3)'!$C$5=\"drum mix plant\",'Asphalt Plant (AP-3)'!S39,0),IF('Asphalt Plant (AP-4)'!$C$5=\"drum mix plant\",'Asphalt Plant (AP-4)'!S39,0),IF('Asphalt Plant (AP-5)'!$C$5=\"drum mix plant\",'Asphalt Plant (AP-5)'!S39,0),IF('Asphalt Plant (AP-6)'!$C$5=\"drum mix plant\",'Asphalt Plant (AP-6)'!S39,0),IF('Asphalt Plant (AP-7)'!$C$5=\"drum mix plant\",'Asphalt Plant (AP-7)'!S39,0),IF('Asphalt Plant (AP-8)'!$C$5=\"drum mix plant\",'Asphalt Plant (AP-8)'!S39,0),IF('Asphalt Plant (AP-9)'!$C$5=\"drum mix plant\",'Asphalt Plant (AP-9)'!S39,0),IF('Asphalt Plant (AP-10)'!$C$5=\"drum mix plant\",'Asphalt Plant (AP-10)'!S39,0)))","v":""},{"$f":"IF(E47=\"\",\"\",SUM(IF('Asphalt Plant (AP-1)'!$C$5=\"drum mix plant\",'Asphalt Plant (AP-1)'!T39,0),IF('Asphalt Plant (AP-2)'!$C$5=\"drum mix plant\",'Asphalt Plant (AP-2)'!T39,0),IF('Asphalt Plant (AP-3)'!$C$5=\"drum mix plant\",'Asphalt Plant (AP-3)'!T39,0),IF('Asphalt Plant (AP-4)'!$C$5=\"drum mix plant\",'Asphalt Plant (AP-4)'!T39,0),IF('Asphalt Plant (AP-5)'!$C$5=\"drum mix plant\",'Asphalt Plant (AP-5)'!T39,0),IF('Asphalt Plant (AP-6)'!$C$5=\"drum mix plant\",'Asphalt Plant (AP-6)'!T39,0),IF('Asphalt Plant (AP-7)'!$C$5=\"drum mix plant\",'Asphalt Plant (AP-7)'!T39,0),IF('Asphalt Plant (AP-8)'!$C$5=\"drum mix plant\",'Asphalt Plant (AP-8)'!T39,0),IF('Asphalt Plant (AP-9)'!$C$5=\"drum mix plant\",'Asphalt Plant (AP-9)'!T39,0),IF('Asphalt Plant (AP-10)'!$C$5=\"drum mix plant\",'Asphalt Plant (AP-10)'!T39,0)))","v":""}]
["",{"$f":"IF(D48=\"\",\"\",\"Drum Mix Plant - Natural Gas\")","v":""},{"$f":"IF(B48=\"\",\"\",\"30500261\")","v":""},{"$f":"IF(SUM(IF('Asphalt Plant (AP-1)'!$C$5=\"drum mix plant\",'Asphalt Plant (AP-1)'!N7,0),IF('Asphalt Plant (AP-2)'!$C$5=\"drum mix plant\",'Asphalt Plant (AP-2)'!N7,0),IF('Asphalt Plant (AP-3)'!$C$5=\"drum mix plant\",'Asphalt Plant (AP-3)'!N7,0),IF('Asphalt Plant (AP-4)'!$C$5=\"drum mix plant\",'Asphalt Plant (AP-4)'!N7,0),IF('Asphalt Plant (AP-5)'!$C$5=\"drum mix plant\",'Asphalt Plant (AP-5)'!N7,0),IF('Asphalt Plant (AP-6)'!$C$5=\"drum mix plant\",'Asphalt Plant (AP-6)'!N7,0),IF('Asphalt Plant (AP-7)'!$C$5=\"drum mix plant\",'Asphalt Plant (AP-7)'!N7,0),IF('Asphalt Plant (AP-8)'!$C$5=\"drum mix plant\",'Asphalt Plant (AP-8)'!N7,0),IF('Asphalt Plant (AP-9)'!$C$5=\"drum mix plant\",'Asphalt Plant (AP-9)'!N7,0),IF('Asphalt Plant (AP-10)'!$C$5=\"drum mix plant\",'Asphalt Plant (AP-10)'!N7,0))>0,SUM(IF('Asphalt Plant (AP-1)'!$C$5=\"drum mix plant\",'Asphalt Plant (AP-1)'!N7,0),IF('Asphalt Plant (AP-2)'!$C$5=\"drum mix plant\",'Asphalt Plant (AP-2)'!N7,0),IF('Asphalt Plant (AP-3)'!$C$5=\"drum mix plant\",'Asphalt Plant (AP-3)'!N7,0),IF('Asphalt Plant (AP-4)'!$C$5=\"drum mix plant\",'Asphalt Plant (AP-4)'!N7,0),IF('Asphalt Plant (AP-5)'!$C$5=\"drum mix plant\",'Asphalt Plant (AP-5)'!N7,0),IF('Asphalt Plant (AP-6)'!$C$5=\"drum mix plant\",'Asphalt Plant (AP-6)'!N7,0),IF('Asphalt Plant (AP-7)'!$C$5=\"drum mix plant\",'Asphalt Plant (AP-7)'!N7,0),IF('Asphalt Plant (AP-8)'!$C$5=\"drum mix plant\",'Asphalt Plant (AP-8)'!N7,0),IF('Asphalt Plant (AP-9)'!$C$5=\"drum mix plant\",'Asphalt Plant (AP-9)'!N7,0),IF('Asphalt Plant (AP-10)'!$C$5=\"drum mix plant\",'Asphalt Plant (AP-10)'!N7,0)),\"\")","v":""},"",{"$f":"IF(B48=\"\",\"\",MAX(IF('Asphalt Plant (AP-1)'!$C$5=\"drum mix plant\",'Asphalt Plant (AP-1)'!O40,0),IF('Asphalt Plant (AP-2)'!$C$5=\"drum mix plant\",'Asphalt Plant (AP-2)'!O40,0),IF('Asphalt Plant (AP-3)'!$C$5=\"drum mix plant\",'Asphalt Plant (AP-3)'!O40,0),IF('Asphalt Plant (AP-4)'!$C$5=\"drum mix plant\",'Asphalt Plant (AP-4)'!O40,0),IF('Asphalt Plant (AP-5)'!$C$5=\"drum mix plant\",'Asphalt Plant (AP-5)'!O40,0),IF('Asphalt Plant (AP-6)'!$C$5=\"drum mix plant\",'Asphalt Plant (AP-6)'!O40,0),IF('Asphalt Plant (AP-7)'!$C$5=\"drum mix plant\",'Asphalt Plant (AP-7)'!O40,0),IF('Asphalt Plant (AP-8)'!$C$5=\"drum mix plant\",'Asphalt Plant (AP-8)'!O40,0),IF('Asphalt Plant (AP-9)'!$C$5=\"drum mix plant\",'Asphalt Plant (AP-9)'!O40,0),IF('Asphalt Plant (AP-10)'!$C$5=\"drum mix plant\",'Asphalt Plant (AP-10)'!O40,0)))","v":""},"",{"$f":"IF(B48=\"\",\"\",\"AP-42 Table 11.1-4,7,8,10,12\")","v":""},{"$f":"IF(B48=\"\",\"\",SUM(IF('Asphalt Plant (AP-1)'!$C$5=\"drum mix plant\",'Asphalt Plant (AP-1)'!Q40,0),IF('Asphalt Plant (AP-2)'!$C$5=\"drum mix plant\",'Asphalt Plant (AP-2)'!Q40,0),IF('Asphalt Plant (AP-3)'!$C$5=\"drum mix plant\",'Asphalt Plant (AP-3)'!Q40,0),IF('Asphalt Plant (AP-4)'!$C$5=\"drum mix plant\",'Asphalt Plant (AP-4)'!Q40,0),IF('Asphalt Plant (AP-5)'!$C$5=\"drum mix plant\",'Asphalt Plant (AP-5)'!Q40,0),IF('Asphalt Plant (AP-6)'!$C$5=\"drum mix plant\",'Asphalt Plant (AP-6)'!Q40,0),IF('Asphalt Plant (AP-7)'!$C$5=\"drum mix plant\",'Asphalt Plant (AP-7)'!Q40,0),IF('Asphalt Plant (AP-8)'!$C$5=\"drum mix plant\",'Asphalt Plant (AP-8)'!Q40,0),IF('Asphalt Plant (AP-9)'!$C$5=\"drum mix plant\",'Asphalt Plant (AP-9)'!Q40,0),IF('Asphalt Plant (AP-10)'!$C$5=\"drum mix plant\",'Asphalt Plant (AP-10)'!Q40,0)))","v":""},null,{"$f":"IF(C48=\"\",\"\",SUM(IF('Asphalt Plant (AP-1)'!$C$5=\"drum mix plant\",'Asphalt Plant (AP-1)'!R40,0),IF('Asphalt Plant (AP-2)'!$C$5=\"drum mix plant\",'Asphalt Plant (AP-2)'!R40,0),IF('Asphalt Plant (AP-3)'!$C$5=\"drum mix plant\",'Asphalt Plant (AP-3)'!R40,0),IF('Asphalt Plant (AP-4)'!$C$5=\"drum mix plant\",'Asphalt Plant (AP-4)'!R40,0),IF('Asphalt Plant (AP-5)'!$C$5=\"drum mix plant\",'Asphalt Plant (AP-5)'!R40,0),IF('Asphalt Plant (AP-6)'!$C$5=\"drum mix plant\",'Asphalt Plant (AP-6)'!R40,0),IF('Asphalt Plant (AP-7)'!$C$5=\"drum mix plant\",'Asphalt Plant (AP-7)'!R40,0),IF('Asphalt Plant (AP-8)'!$C$5=\"drum mix plant\",'Asphalt Plant (AP-8)'!R40,0),IF('Asphalt Plant (AP-9)'!$C$5=\"drum mix plant\",'Asphalt Plant (AP-9)'!R40,0),IF('Asphalt Plant (AP-10)'!$C$5=\"drum mix plant\",'Asphalt Plant (AP-10)'!R40,0)))","v":""},{"$f":"IF(D48=\"\",\"\",SUM(IF('Asphalt Plant (AP-1)'!$C$5=\"drum mix plant\",'Asphalt Plant (AP-1)'!S40,0),IF('Asphalt Plant (AP-2)'!$C$5=\"drum mix plant\",'Asphalt Plant (AP-2)'!S40,0),IF('Asphalt Plant (AP-3)'!$C$5=\"drum mix plant\",'Asphalt Plant (AP-3)'!S40,0),IF('Asphalt Plant (AP-4)'!$C$5=\"drum mix plant\",'Asphalt Plant (AP-4)'!S40,0),IF('Asphalt Plant (AP-5)'!$C$5=\"drum mix plant\",'Asphalt Plant (AP-5)'!S40,0),IF('Asphalt Plant (AP-6)'!$C$5=\"drum mix plant\",'Asphalt Plant (AP-6)'!S40,0),IF('Asphalt Plant (AP-7)'!$C$5=\"drum mix plant\",'Asphalt Plant (AP-7)'!S40,0),IF('Asphalt Plant (AP-8)'!$C$5=\"drum mix plant\",'Asphalt Plant (AP-8)'!S40,0),IF('Asphalt Plant (AP-9)'!$C$5=\"drum mix plant\",'Asphalt Plant (AP-9)'!S40,0),IF('Asphalt Plant (AP-10)'!$C$5=\"drum mix plant\",'Asphalt Plant (AP-10)'!S40,0)))","v":""},{"$f":"IF(E48=\"\",\"\",SUM(IF('Asphalt Plant (AP-1)'!$C$5=\"drum mix plant\",'Asphalt Plant (AP-1)'!T40,0),IF('Asphalt Plant (AP-2)'!$C$5=\"drum mix plant\",'Asphalt Plant (AP-2)'!T40,0),IF('Asphalt Plant (AP-3)'!$C$5=\"drum mix plant\",'Asphalt Plant (AP-3)'!T40,0),IF('Asphalt Plant (AP-4)'!$C$5=\"drum mix plant\",'Asphalt Plant (AP-4)'!T40,0),IF('Asphalt Plant (AP-5)'!$C$5=\"drum mix plant\",'Asphalt Plant (AP-5)'!T40,0),IF('Asphalt Plant (AP-6)'!$C$5=\"drum mix plant\",'Asphalt Plant (AP-6)'!T40,0),IF('Asphalt Plant (AP-7)'!$C$5=\"drum mix plant\",'Asphalt Plant (AP-7)'!T40,0),IF('Asphalt Plant (AP-8)'!$C$5=\"drum mix plant\",'Asphalt Plant (AP-8)'!T40,0),IF('Asphalt Plant (AP-9)'!$C$5=\"drum mix plant\",'Asphalt Plant (AP-9)'!T40,0),IF('Asphalt Plant (AP-10)'!$C$5=\"drum mix plant\",'Asphalt Plant (AP-10)'!T40,0)))","v":""}]
[{"$f":"IF('Permitted Diesel Engines'!R50=0,\"\",\"ALL\")","v":""},{"$f":"IF('Permitted Diesel Engines'!R50=0,\"\",\"Diesel Generator ≤ 600 bhp\")","v":""},{"$f":"IF('Permitted Diesel Engines'!R50=0,\"\",LOOKUP(B49,'Emission Factors'!A43:A44,'Emission Factors'!B43:B44))","v":""},{"$f":"IF('Permitted Diesel Engines'!R50=0,\"\",'Permitted Diesel Engines'!R50)","v":""},{"$f":"IF(B49=\"\",\"\",\"MMBtu/hr\")","v":""},{"$f":"IF(B49=\"\",\"\",LOOKUP(B49,'Emission Factors'!$A$43:$A$44,'Emission Factors'!$H$43:$H$44))","v":""},{"$f":"IF(B49=\"\",\"\",LOOKUP(B49,'Emission Factors'!$A$43:$A$44,'Emission Factors'!$C$43:$C$44))","v":""},{"$f":"IF(B49=\"\",\"\",LOOKUP(B49,'Emission Factors'!$A$43:$A$44,'Emission Factors'!$I$43:$I$44))","v":""},{"$f":"IF('Permitted Diesel Engines'!R50=0,\"\",IF(F49='Emission Factors'!$H$43,D49*F49,D49*F49*$F$51))","v":""},null,null,{"$f":"IF(B49=\"\",\"\",'Permitted Diesel Engines'!$AD$77)","v":""},{"$f":"IF(B49=\"\",\"\",'Permitted Diesel Engines'!$T$50*F49/2000)","v":""}]
[{"$f":"IF('Permitted Diesel Engines'!R51=0,\"\",\"ALL\")","v":""},{"$f":"IF('Permitted Diesel Engines'!R51=0,\"\",\"Diesel Generator> 600 bhp\")","v":""},{"$f":"IF('Permitted Diesel Engines'!R51=0,\"\",LOOKUP(B50,'Emission Factors'!A44:A45,'Emission Factors'!B44:B45))","v":""},{"$f":"IF('Permitted Diesel Engines'!R51=0,\"\",'Permitted Diesel Engines'!R51)","v":""},{"$f":"IF(B50=\"\",\"\",\"MMBtu/hr\")","v":""},{"$f":"IF(B50=\"\",\"\",LOOKUP(B50,'Emission Factors'!$A$43:$A$44,'Emission Factors'!$H$43:$H$44))","v":""},{"$f":"IF(B50=\"\",\"\",LOOKUP(B50,'Emission Factors'!$A$43:$A$44,'Emission Factors'!$C$43:$C$44))","v":""},{"$f":"IF(B50=\"\",\"\",LOOKUP(B50,'Emission Factors'!$A$43:$A$44,'Emission Factors'!$I$43:$I$44))","v":""},{"$f":"IF('Permitted Diesel Engines'!R51=0,\"\",IF(F50='Emission Factors'!$H$43,D50*F50,D50*F50*$F$51))","v":""},null,null,{"$f":"IF(B50=\"\",\"\",'Permitted Diesel Engines'!$AE$77)","v":""},{"$f":"IF(B50=\"\",\"\",'Permitted Diesel Engines'!$T$51*F50*F51/2000)","v":""}]
[null,null,null,null,"Percent Sulfur:",{"$f":"IF('Permitted Diesel Engines'!G5>0,'Permitted Diesel Engines'!G5,0.5)","v":0.5},null,null,null,"FACILITY TOTALS:",null,{"$f":"SUM(L43:L50)","v":0},{"$f":"SUM(M43:M50)","v":0}]
[]
["NOx"]
[{"$f":"IF(D54=\"\",\"\",\"ALL\")","v":""},{"$f":"IF(D54=\"\",\"\",\"Batch Mix Plant - Fuel Oil\")","v":""},{"$f":"IF(B54=\"\",\"\",\"30500246\")","v":""},{"$f":"IF(SUM(IF('Asphalt Plant (AP-1)'!$C$5=\"batch mix plant\",'Asphalt Plant (AP-1)'!N5,0),IF('Asphalt Plant (AP-2)'!$C$5=\"batch mix plant\",'Asphalt Plant (AP-2)'!N5,0),IF('Asphalt Plant (AP-3)'!$C$5=\"batch mix plant\",'Asphalt Plant (AP-3)'!N5,0),IF('Asphalt Plant (AP-4)'!$C$5=\"batch mix plant\",'Asphalt Plant (AP-4)'!N5,0),IF('Asphalt Plant (AP-5)'!$C$5=\"batch mix plant\",'Asphalt Plant (AP-5)'!N5,0),IF('Asphalt Plant (AP-6)'!$C$5=\"batch mix plant\",'Asphalt Plant (AP-6)'!N5,0),IF('Asphalt Plant (AP-7)'!$C$5=\"batch mix plant\",'Asphalt Plant (AP-7)'!N5,0),IF('Asphalt Plant (AP-8)'!$C$5=\"batch mix plant\",'Asphalt Plant (AP-8)'!N5,0),IF('Asphalt Plant (AP-9)'!$C$5=\"batch mix plant\",'Asphalt Plant (AP-9)'!N5,0),IF('Asphalt Plant (AP-10)'!$C$5=\"batch mix plant\",'Asphalt Plant (AP-10)'!N5,0))>0,SUM(IF('Asphalt Plant (AP-1)'!$C$5=\"batch mix plant\",'Asphalt Plant (AP-1)'!N5,0),IF('Asphalt Plant (AP-2)'!$C$5=\"batch mix plant\",'Asphalt Plant (AP-2)'!N5,0),IF('Asphalt Plant (AP-3)'!$C$5=\"batch mix plant\",'Asphalt Plant (AP-3)'!N5,0),IF('Asphalt Plant (AP-4)'!$C$5=\"batch mix plant\",'Asphalt Plant (AP-4)'!N5,0),IF('Asphalt Plant (AP-5)'!$C$5=\"batch mix plant\",'Asphalt Plant (AP-5)'!N5,0),IF('Asphalt Plant (AP-6)'!$C$5=\"batch mix plant\",'Asphalt Plant (AP-6)'!N5,0),IF('Asphalt Plant (AP-7)'!$C$5=\"batch mix plant\",'Asphalt Plant (AP-7)'!N5,0),IF('Asphalt Plant (AP-8)'!$C$5=\"batch mix plant\",'Asphalt Plant (AP-8)'!N5,0),IF('Asphalt Plant (AP-9)'!$C$5=\"batch mix plant\",'Asphalt Plant (AP-9)'!N5,0),IF('Asphalt Plant (AP-10)'!$C$5=\"batch mix plant\",'Asphalt Plant (AP-10)'!N5,0)),\"\")","v":""},{"$f":"IF(B54=\"\",\"\",\"tons/hr\")","v":""},{"$f":"IF(B54=\"\",\"\",MAX(IF('Asphalt Plant (AP-1)'!$C$5=\"batch mix plant\",'Asphalt Plant (AP-1)'!O42,0),IF('Asphalt Plant (AP-2)'!$C$5=\"batch mix plant\",'Asphalt Plant (AP-2)'!O42,0),IF('Asphalt Plant (AP-3)'!$C$5=\"batch mix plant\",'Asphalt Plant (AP-3)'!O42,0),IF('Asphalt Plant (AP-4)'!$C$5=\"batch mix plant\",'Asphalt Plant (AP-4)'!O42,0),IF('Asphalt Plant (AP-5)'!$C$5=\"batch mix plant\",'Asphalt Plant (AP-5)'!O42,0),IF('Asphalt Plant (AP-6)'!$C$5=\"batch mix plant\",'Asphalt Plant (AP-6)'!O42,0),IF('Asphalt Plant (AP-7)'!$C$5=\"batch mix plant\",'Asphalt Plant (AP-7)'!O42,0),IF('Asphalt Plant (AP-8)'!$C$5=\"batch mix plant\",'Asphalt Plant (AP-8)'!O42,0),IF('Asphalt Plant (AP-9)'!$C$5=\"batch mix plant\",'Asphalt Plant (AP-9)'!O42,0),IF('Asphalt Plant (AP-10)'!$C$5=\"batch mix plant\",'Asphalt Plant (AP-10)'!O42,0)))","v":""},{"$f":"IF(B54=\"\",\"\",\"lb/ton\")","v":""},{"$f":"IF(B54=\"\",\"\",\"AP-42 Table 11.1-2,5,6,9\")","v":""},{"$f":"IF(B54=\"\",\"\",SUM(IF('Asphalt Plant (AP-1)'!$C$5=\"batch mix plant\",'Asphalt Plant (AP-1)'!Q42,0),IF('Asphalt Plant (AP-2)'!$C$5=\"batch mix plant\",'Asphalt Plant (AP-2)'!Q42,0),IF('Asphalt Plant (AP-3)'!$C$5=\"batch mix plant\",'Asphalt Plant (AP-3)'!Q42,0),IF('Asphalt Plant (AP-4)'!$C$5=\"batch mix plant\",'Asphalt Plant (AP-4)'!Q42,0),IF('Asphalt Plant (AP-5)'!$C$5=\"batch mix plant\",'Asphalt Plant (AP-5)'!Q42,0),IF('Asphalt Plant (AP-6)'!$C$5=\"batch mix plant\",'Asphalt Plant (AP-6)'!Q42,0),IF('Asphalt Plant (AP-7)'!$C$5=\"batch mix plant\",'Asphalt Plant (AP-7)'!Q42,0),IF('Asphalt Plant (AP-8)'!$C$5=\"batch mix plant\",'Asphalt Plant (AP-8)'!Q42,0),IF('Asphalt Plant (AP-9)'!$C$5=\"batch mix plant\",'Asphalt Plant (AP-9)'!Q42,0),IF('Asphalt Plant (AP-10)'!$C$5=\"batch mix plant\",'Asphalt Plant (AP-10)'!Q42,0)))","v":""},null,{"$f":"IF(B54=\"\",\"\",SUM(IF('Asphalt Plant (AP-1)'!$C$5=\"batch mix plant\",'Asphalt Plant (AP-1)'!R42,0),IF('Asphalt Plant (AP-2)'!$C$5=\"batch mix plant\",'Asphalt Plant (AP-2)'!R42,0),IF('Asphalt Plant (AP-3)'!$C$5=\"batch mix plant\",'Asphalt Plant (AP-3)'!R42,0),IF('Asphalt Plant (AP-4)'!$C$5=\"batch mix plant\",'Asphalt Plant (AP-4)'!R42,0),IF('Asphalt Plant (AP-5)'!$C$5=\"batch mix plant\",'Asphalt Plant (AP-5)'!R42,0),IF('Asphalt Plant (AP-6)'!$C$5=\"batch mix plant\",'Asphalt Plant (AP-6)'!R42,0),IF('Asphalt Plant (AP-7)'!$C$5=\"batch mix plant\",'Asphalt Plant (AP-7)'!R42,0),IF('Asphalt Plant (AP-8)'!$C$5=\"batch mix plant\",'Asphalt Plant (AP-8)'!R42,0),IF('Asphalt Plant (AP-9)'!$C$5=\"batch mix plant\",'Asphalt Plant (AP-9)'!R42,0),IF('Asphalt Plant (AP-10)'!$C$5=\"batch mix plant\",'Asphalt Plant (AP-10)'!R42,0)))","v":""},{"$f":"IF(B54=\"\",\"\",SUM(IF('Asphalt Plant (AP-1)'!$C$5=\"batch mix plant\",'Asphalt Plant (AP-1)'!S42,0),IF('Asphalt Plant (AP-2)'!$C$5=\"batch mix plant\",'Asphalt Plant (AP-2)'!S42,0),IF('Asphalt Plant (AP-3)'!$C$5=\"batch mix plant\",'Asphalt Plant (AP-3)'!S42,0),IF('Asphalt Plant (AP-4)'!$C$5=\"batch mix plant\",'Asphalt Plant (AP-4)'!S42,0),IF('Asphalt Plant (AP-5)'!$C$5=\"batch mix plant\",'Asphalt Plant (AP-5)'!S42,0),IF('Asphalt Plant (AP-6)'!$C$5=\"batch mix plant\",'Asphalt Plant (AP-6)'!S42,0),IF('Asphalt Plant (AP-7)'!$C$5=\"batch mix plant\",'Asphalt Plant (AP-7)'!S42,0),IF('Asphalt Plant (AP-8)'!$C$5=\"batch mix plant\",'Asphalt Plant (AP-8)'!S42,0),IF('Asphalt Plant (AP-9)'!$C$5=\"batch mix plant\",'Asphalt Plant (AP-9)'!S42,0),IF('Asphalt Plant (AP-10)'!$C$5=\"batch mix plant\",'Asphalt Plant (AP-10)'!S42,0)))","v":""},{"$f":"IF(B54=\"\",\"\",SUM(IF('Asphalt Plant (AP-1)'!$C$5=\"batch mix plant\",'Asphalt Plant (AP-1)'!T42,0),IF('Asphalt Plant (AP-2)'!$C$5=\"batch mix plant\",'Asphalt Plant (AP-2)'!T42,0),IF('Asphalt Plant (AP-3)'!$C$5=\"batch mix plant\",'Asphalt Plant (AP-3)'!T42,0),IF('Asphalt Plant (AP-4)'!$C$5=\"batch mix plant\",'Asphalt Plant (AP-4)'!T42,0),IF('Asphalt Plant (AP-5)'!$C$5=\"batch mix plant\",'Asphalt Plant (AP-5)'!T42,0),IF('Asphalt Plant (AP-6)'!$C$5=\"batch mix plant\",'Asphalt Plant (AP-6)'!T42,0),IF('Asphalt Plant (AP-7)'!$C$5=\"batch mix plant\",'Asphalt Plant (AP-7)'!T42,0),IF('Asphalt Plant (AP-8)'!$C$5=\"batch mix plant\",'Asphalt Plant (AP-8)'!T42,0),IF('Asphalt Plant (AP-9)'!$C$5=\"batch mix plant\",'Asphalt Plant (AP-9)'!T42,0),IF('Asphalt Plant (AP-10)'!$C$5=\"batch mix plant\",'Asphalt Plant (AP-10)'!T42,0)))","v":""}]
["",{"$f":"IF(D55=\"\",\"\",\"Batch Mix Plant - Waste Oil\")","v":""},{"$f":"IF(B55=\"\",\"\",\"30500245\")","v":""},{"$f":"IF(SUM(IF('Asphalt Plant (AP-1)'!$C$5=\"batch mix plant\",'Asphalt Plant (AP-1)'!N6,0),IF('Asphalt Plant (AP-2)'!$C$5=\"batch mix plant\",'Asphalt Plant (AP-2)'!N6,0),IF('Asphalt Plant (AP-3)'!$C$5=\"batch mix plant\",'Asphalt Plant (AP-3)'!N6,0),IF('Asphalt Plant (AP-4)'!$C$5=\"batch mix plant\",'Asphalt Plant (AP-4)'!N6,0),IF('Asphalt Plant (AP-5)'!$C$5=\"batch mix plant\",'Asphalt Plant (AP-5)'!N6,0),IF('Asphalt Plant (AP-6)'!$C$5=\"batch mix plant\",'Asphalt Plant (AP-6)'!N6,0),IF('Asphalt Plant (AP-7)'!$C$5=\"batch mix plant\",'Asphalt Plant (AP-7)'!N6,0),IF('Asphalt Plant (AP-8)'!$C$5=\"batch mix plant\",'Asphalt Plant (AP-8)'!N6,0),IF('Asphalt Plant (AP-9)'!$C$5=\"batch mix plant\",'Asphalt Plant (AP-9)'!N6,0),IF('Asphalt Plant (AP-10)'!$C$5=\"batch mix plant\",'Asphalt Plant (AP-10)'!N6,0))>0,SUM(IF('Asphalt Plant (AP-1)'!$C$5=\"batch mix plant\",'Asphalt Plant (AP-1)'!N6,0),IF('Asphalt Plant (AP-2)'!$C$5=\"batch mix plant\",'Asphalt Plant (AP-2)'!N6,0),IF('Asphalt Plant (AP-3)'!$C$5=\"batch mix plant\",'Asphalt Plant (AP-3)'!N6,0),IF('Asphalt Plant (AP-4)'!$C$5=\"batch mix plant\",'Asphalt Plant (AP-4)'!N6,0),IF('Asphalt Plant (AP-5)'!$C$5=\"batch mix plant\",'Asphalt Plant (AP-5)'!N6,0),IF('Asphalt Plant (AP-6)'!$C$5=\"batch mix plant\",'Asphalt Plant (AP-6)'!N6,0),IF('Asphalt Plant (AP-7)'!$C$5=\"batch mix plant\",'Asphalt Plant (AP-7)'!N6,0),IF('Asphalt Plant (AP-8)'!$C$5=\"batch mix plant\",'Asphalt Plant (AP-8)'!N6,0),IF('Asphalt Plant (AP-9)'!$C$5=\"batch mix plant\",'Asphalt Plant (AP-9)'!N6,0),IF('Asphalt Plant (AP-10)'!$C$5=\"batch mix plant\",'Asphalt Plant (AP-10)'!N6,0)),\"\")","v":""},"",{"$f":"IF(B55=\"\",\"\",MAX(IF('Asphalt Plant (AP-1)'!$C$5=\"batch mix plant\",'Asphalt Plant (AP-1)'!O43,0),IF('Asphalt Plant (AP-2)'!$C$5=\"batch mix plant\",'Asphalt Plant (AP-2)'!O43,0),IF('Asphalt Plant (AP-3)'!$C$5=\"batch mix plant\",'Asphalt Plant (AP-3)'!O43,0),IF('Asphalt Plant (AP-4)'!$C$5=\"batch mix plant\",'Asphalt Plant (AP-4)'!O43,0),IF('Asphalt Plant (AP-5)'!$C$5=\"batch mix plant\",'Asphalt Plant (AP-5)'!O43,0),IF('Asphalt Plant (AP-6)'!$C$5=\"batch mix plant\",'Asphalt Plant (AP-6)'!O43,0),IF('Asphalt Plant (AP-7)'!$C$5=\"batch mix plant\",'Asphalt Plant (AP-7)'!O43,0),IF('Asphalt Plant (AP-8)'!$C$5=\"batch mix plant\",'Asphalt Plant (AP-8)'!O43,0),IF('Asphalt Plant (AP-9)'!$C$5=\"batch mix plant\",'Asphalt Plant (AP-9)'!O43,0),IF('Asphalt Plant (AP-10)'!$C$5=\"batch mix plant\",'Asphalt Plant (AP-10)'!O43,0)))","v":""},"",{"$f":"IF(B55=\"\",\"\",\"AP-42 Table 11.1-2,5,6,9\")","v":""},{"$f":"IF(B55=\"\",\"\",SUM(IF('Asphalt Plant (AP-1)'!$C$5=\"batch mix plant\",'Asphalt Plant (AP-1)'!Q43,0),IF('Asphalt Plant (AP-2)'!$C$5=\"batch mix plant\",'Asphalt Plant (AP-2)'!Q43,0),IF('Asphalt Plant (AP-3)'!$C$5=\"batch mix plant\",'Asphalt Plant (AP-3)'!Q43,0),IF('Asphalt Plant (AP-4)'!$C$5=\"batch mix plant\",'Asphalt Plant (AP-4)'!Q43,0),IF('Asphalt Plant (AP-5)'!$C$5=\"batch mix plant\",'Asphalt Plant (AP-5)'!Q43,0),IF('Asphalt Plant (AP-6)'!$C$5=\"batch mix plant\",'Asphalt Plant (AP-6)'!Q43,0),IF('Asphalt Plant (AP-7)'!$C$5=\"batch mix plant\",'Asphalt Plant (AP-7)'!Q43,0),IF('Asphalt Plant (AP-8)'!$C$5=\"batch mix plant\",'Asphalt Plant (AP-8)'!Q43,0),IF('Asphalt Plant (AP-9)'!$C$5=\"batch mix plant\",'Asphalt Plant (AP-9)'!Q43,0),IF('Asphalt Plant (AP-10)'!$C$5=\"batch mix plant\",'Asphalt Plant (AP-10)'!Q43,0)))","v":""},null,{"$f":"IF(B55=\"\",\"\",SUM(IF('Asphalt Plant (AP-1)'!$C$5=\"batch mix plant\",'Asphalt Plant (AP-1)'!R43,0),IF('Asphalt Plant (AP-2)'!$C$5=\"batch mix plant\",'Asphalt Plant (AP-2)'!R43,0),IF('Asphalt Plant (AP-3)'!$C$5=\"batch mix plant\",'Asphalt Plant (AP-3)'!R43,0),IF('Asphalt Plant (AP-4)'!$C$5=\"batch mix plant\",'Asphalt Plant (AP-4)'!R43,0),IF('Asphalt Plant (AP-5)'!$C$5=\"batch mix plant\",'Asphalt Plant (AP-5)'!R43,0),IF('Asphalt Plant (AP-6)'!$C$5=\"batch mix plant\",'Asphalt Plant (AP-6)'!R43,0),IF('Asphalt Plant (AP-7)'!$C$5=\"batch mix plant\",'Asphalt Plant (AP-7)'!R43,0),IF('Asphalt Plant (AP-8)'!$C$5=\"batch mix plant\",'Asphalt Plant (AP-8)'!R43,0),IF('Asphalt Plant (AP-9)'!$C$5=\"batch mix plant\",'Asphalt Plant (AP-9)'!R43,0),IF('Asphalt Plant (AP-10)'!$C$5=\"batch mix plant\",'Asphalt Plant (AP-10)'!R43,0)))","v":""},{"$f":"IF(B55=\"\",\"\",SUM(IF('Asphalt Plant (AP-1)'!$C$5=\"batch mix plant\",'Asphalt Plant (AP-1)'!S43,0),IF('Asphalt Plant (AP-2)'!$C$5=\"batch mix plant\",'Asphalt Plant (AP-2)'!S43,0),IF('Asphalt Plant (AP-3)'!$C$5=\"batch mix plant\",'Asphalt Plant (AP-3)'!S43,0),IF('Asphalt Plant (AP-4)'!$C$5=\"batch mix plant\",'Asphalt Plant (AP-4)'!S43,0),IF('Asphalt Plant (AP-5)'!$C$5=\"batch mix plant\",'Asphalt Plant (AP-5)'!S43,0),IF('Asphalt Plant (AP-6)'!$C$5=\"batch mix plant\",'Asphalt Plant (AP-6)'!S43,0),IF('Asphalt Plant (AP-7)'!$C$5=\"batch mix plant\",'Asphalt Plant (AP-7)'!S43,0),IF('Asphalt Plant (AP-8)'!$C$5=\"batch mix plant\",'Asphalt Plant (AP-8)'!S43,0),IF('Asphalt Plant (AP-9)'!$C$5=\"batch mix plant\",'Asphalt Plant (AP-9)'!S43,0),IF('Asphalt Plant (AP-10)'!$C$5=\"batch mix plant\",'Asphalt Plant (AP-10)'!S43,0)))","v":""},{"$f":"IF(B55=\"\",\"\",SUM(IF('Asphalt Plant (AP-1)'!$C$5=\"batch mix plant\",'Asphalt Plant (AP-1)'!T43,0),IF('Asphalt Plant (AP-2)'!$C$5=\"batch mix plant\",'Asphalt Plant (AP-2)'!T43,0),IF('Asphalt Plant (AP-3)'!$C$5=\"batch mix plant\",'Asphalt Plant (AP-3)'!T43,0),IF('Asphalt Plant (AP-4)'!$C$5=\"batch mix plant\",'Asphalt Plant (AP-4)'!T43,0),IF('Asphalt Plant (AP-5)'!$C$5=\"batch mix plant\",'Asphalt Plant (AP-5)'!T43,0),IF('Asphalt Plant (AP-6)'!$C$5=\"batch mix plant\",'Asphalt Plant (AP-6)'!T43,0),IF('Asphalt Plant (AP-7)'!$C$5=\"batch mix plant\",'Asphalt Plant (AP-7)'!T43,0),IF('Asphalt Plant (AP-8)'!$C$5=\"batch mix plant\",'Asphalt Plant (AP-8)'!T43,0),IF('Asphalt Plant (AP-9)'!$C$5=\"batch mix plant\",'Asphalt Plant (AP-9)'!T43,0),IF('Asphalt Plant (AP-10)'!$C$5=\"batch mix plant\",'Asphalt Plant (AP-10)'!T43,0)))","v":""}]
["",{"$f":"IF(D56=\"\",\"\",\"Batch Mix Plant - Natural Gas\")","v":""},{"$f":"IF(B56=\"\",\"\",\"30500247\")","v":""},{"$f":"IF(SUM(IF('Asphalt Plant (AP-1)'!$C$5=\"batch mix plant\",'Asphalt Plant (AP-1)'!N7,0),IF('Asphalt Plant (AP-2)'!$C$5=\"batch mix plant\",'Asphalt Plant (AP-2)'!N7,0),IF('Asphalt Plant (AP-3)'!$C$5=\"batch mix plant\",'Asphalt Plant (AP-3)'!N7,0),IF('Asphalt Plant (AP-4)'!$C$5=\"batch mix plant\",'Asphalt Plant (AP-4)'!N7,0),IF('Asphalt Plant (AP-5)'!$C$5=\"batch mix plant\",'Asphalt Plant (AP-5)'!N7,0),IF('Asphalt Plant (AP-6)'!$C$5=\"batch mix plant\",'Asphalt Plant (AP-6)'!N7,0),IF('Asphalt Plant (AP-7)'!$C$5=\"batch mix plant\",'Asphalt Plant (AP-7)'!N7,0),IF('Asphalt Plant (AP-8)'!$C$5=\"batch mix plant\",'Asphalt Plant (AP-8)'!N7,0),IF('Asphalt Plant (AP-9)'!$C$5=\"batch mix plant\",'Asphalt Plant (AP-9)'!N7,0),IF('Asphalt Plant (AP-10)'!$C$5=\"batch mix plant\",'Asphalt Plant (AP-10)'!N7,0))>0,SUM(IF('Asphalt Plant (AP-1)'!$C$5=\"batch mix plant\",'Asphalt Plant (AP-1)'!N7,0),IF('Asphalt Plant (AP-2)'!$C$5=\"batch mix plant\",'Asphalt Plant (AP-2)'!N7,0),IF('Asphalt Plant (AP-3)'!$C$5=\"batch mix plant\",'Asphalt Plant (AP-3)'!N7,0),IF('Asphalt Plant (AP-4)'!$C$5=\"batch mix plant\",'Asphalt Plant (AP-4)'!N7,0),IF('Asphalt Plant (AP-5)'!$C$5=\"batch mix plant\",'Asphalt Plant (AP-5)'!N7,0),IF('Asphalt Plant (AP-6)'!$C$5=\"batch mix plant\",'Asphalt Plant (AP-6)'!N7,0),IF('Asphalt Plant (AP-7)'!$C$5=\"batch mix plant\",'Asphalt Plant (AP-7)'!N7,0),IF('Asphalt Plant (AP-8)'!$C$5=\"batch mix plant\",'Asphalt Plant (AP-8)'!N7,0),IF('Asphalt Plant (AP-9)'!$C$5=\"batch mix plant\",'Asphalt Plant (AP-9)'!N7,0),IF('Asphalt Plant (AP-10)'!$C$5=\"batch mix plant\",'Asphalt Plant (AP-10)'!N7,0)),\"\")","v":""},"",{"$f":"IF(B56=\"\",\"\",MAX(IF('Asphalt Plant (AP-1)'!$C$5=\"batch mix plant\",'Asphalt Plant (AP-1)'!O44,0),IF('Asphalt Plant (AP-2)'!$C$5=\"batch mix plant\",'Asphalt Plant (AP-2)'!O44,0),IF('Asphalt Plant (AP-3)'!$C$5=\"batch mix plant\",'Asphalt Plant (AP-3)'!O44,0),IF('Asphalt Plant (AP-4)'!$C$5=\"batch mix plant\",'Asphalt Plant (AP-4)'!O44,0),IF('Asphalt Plant (AP-5)'!$C$5=\"batch mix plant\",'Asphalt Plant (AP-5)'!O44,0),IF('Asphalt Plant (AP-6)'!$C$5=\"batch mix plant\",'Asphalt Plant (AP-6)'!O44,0),IF('Asphalt Plant (AP-7)'!$C$5=\"batch mix plant\",'Asphalt Plant (AP-7)'!O44,0),IF('Asphalt Plant (AP-8)'!$C$5=\"batch mix plant\",'Asphalt Plant (AP-8)'!O44,0),IF('Asphalt Plant (AP-9)'!$C$5=\"batch mix plant\",'Asphalt Plant (AP-9)'!O44,0),IF('Asphalt Plant (AP-10)'!$C$5=\"batch mix plant\",'Asphalt Plant (AP-10)'!O44,0)))","v":""},"",{"$f":"IF(B56=\"\",\"\",\"AP-42 Table 11.1-2,5,6,9\")","v":""},{"$f":"IF(B56=\"\",\"\",SUM(IF('Asphalt Plant (AP-1)'!$C$5=\"batch mix plant\",'Asphalt Plant (AP-1)'!Q44,0),IF('Asphalt Plant (AP-2)'!$C$5=\"batch mix plant\",'Asphalt Plant (AP-2)'!Q44,0),IF('Asphalt Plant (AP-3)'!$C$5=\"batch mix plant\",'Asphalt Plant (AP-3)'!Q44,0),IF('Asphalt Plant (AP-4)'!$C$5=\"batch mix plant\",'Asphalt Plant (AP-4)'!Q44,0),IF('Asphalt Plant (AP-5)'!$C$5=\"batch mix plant\",'Asphalt Plant (AP-5)'!Q44,0),IF('Asphalt Plant (AP-6)'!$C$5=\"batch mix plant\",'Asphalt Plant (AP-6)'!Q44,0),IF('Asphalt Plant (AP-7)'!$C$5=\"batch mix plant\",'Asphalt Plant (AP-7)'!Q44,0),IF('Asphalt Plant (AP-8)'!$C$5=\"batch mix plant\",'Asphalt Plant (AP-8)'!Q44,0),IF('Asphalt Plant (AP-9)'!$C$5=\"batch mix plant\",'Asphalt Plant (AP-9)'!Q44,0),IF('Asphalt Plant (AP-10)'!$C$5=\"batch mix plant\",'Asphalt Plant (AP-10)'!Q44,0)))","v":""},null,{"$f":"IF(B56=\"\",\"\",SUM(IF('Asphalt Plant (AP-1)'!$C$5=\"batch mix plant\",'Asphalt Plant (AP-1)'!R44,0),IF('Asphalt Plant (AP-2)'!$C$5=\"batch mix plant\",'Asphalt Plant (AP-2)'!R44,0),IF('Asphalt Plant (AP-3)'!$C$5=\"batch mix plant\",'Asphalt Plant (AP-3)'!R44,0),IF('Asphalt Plant (AP-4)'!$C$5=\"batch mix plant\",'Asphalt Plant (AP-4)'!R44,0),IF('Asphalt Plant (AP-5)'!$C$5=\"batch mix plant\",'Asphalt Plant (AP-5)'!R44,0),IF('Asphalt Plant (AP-6)'!$C$5=\"batch mix plant\",'Asphalt Plant (AP-6)'!R44,0),IF('Asphalt Plant (AP-7)'!$C$5=\"batch mix plant\",'Asphalt Plant (AP-7)'!R44,0),IF('Asphalt Plant (AP-8)'!$C$5=\"batch mix plant\",'Asphalt Plant (AP-8)'!R44,0),IF('Asphalt Plant (AP-9)'!$C$5=\"batch mix plant\",'Asphalt Plant (AP-9)'!R44,0),IF('Asphalt Plant (AP-10)'!$C$5=\"batch mix plant\",'Asphalt Plant (AP-10)'!R44,0)))","v":""},{"$f":"IF(B56=\"\",\"\",SUM(IF('Asphalt Plant (AP-1)'!$C$5=\"batch mix plant\",'Asphalt Plant (AP-1)'!S44,0),IF('Asphalt Plant (AP-2)'!$C$5=\"batch mix plant\",'Asphalt Plant (AP-2)'!S44,0),IF('Asphalt Plant (AP-3)'!$C$5=\"batch mix plant\",'Asphalt Plant (AP-3)'!S44,0),IF('Asphalt Plant (AP-4)'!$C$5=\"batch mix plant\",'Asphalt Plant (AP-4)'!S44,0),IF('Asphalt Plant (AP-5)'!$C$5=\"batch mix plant\",'Asphalt Plant (AP-5)'!S44,0),IF('Asphalt Plant (AP-6)'!$C$5=\"batch mix plant\",'Asphalt Plant (AP-6)'!S44,0),IF('Asphalt Plant (AP-7)'!$C$5=\"batch mix plant\",'Asphalt Plant (AP-7)'!S44,0),IF('Asphalt Plant (AP-8)'!$C$5=\"batch mix plant\",'Asphalt Plant (AP-8)'!S44,0),IF('Asphalt Plant (AP-9)'!$C$5=\"batch mix plant\",'Asphalt Plant (AP-9)'!S44,0),IF('Asphalt Plant (AP-10)'!$C$5=\"batch mix plant\",'Asphalt Plant (AP-10)'!S44,0)))","v":""},{"$f":"IF(B56=\"\",\"\",SUM(IF('Asphalt Plant (AP-1)'!$C$5=\"batch mix plant\",'Asphalt Plant (AP-1)'!T44,0),IF('Asphalt Plant (AP-2)'!$C$5=\"batch mix plant\",'Asphalt Plant (AP-2)'!T44,0),IF('Asphalt Plant (AP-3)'!$C$5=\"batch mix plant\",'Asphalt Plant (AP-3)'!T44,0),IF('Asphalt Plant (AP-4)'!$C$5=\"batch mix plant\",'Asphalt Plant (AP-4)'!T44,0),IF('Asphalt Plant (AP-5)'!$C$5=\"batch mix plant\",'Asphalt Plant (AP-5)'!T44,0),IF('Asphalt Plant (AP-6)'!$C$5=\"batch mix plant\",'Asphalt Plant (AP-6)'!T44,0),IF('Asphalt Plant (AP-7)'!$C$5=\"batch mix plant\",'Asphalt Plant (AP-7)'!T44,0),IF('Asphalt Plant (AP-8)'!$C$5=\"batch mix plant\",'Asphalt Plant (AP-8)'!T44,0),IF('Asphalt Plant (AP-9)'!$C$5=\"batch mix plant\",'Asphalt Plant (AP-9)'!T44,0),IF('Asphalt Plant (AP-10)'!$C$5=\"batch mix plant\",'Asphalt Plant (AP-10)'!T44,0)))","v":""}]
["",{"$f":"IF(D57=\"\",\"\",\"Drum Mix Plant - Fuel Oil\")","v":""},{"$f":"IF(B57=\"\",\"\",\"30500258\")","v":""},{"$f":"IF(SUM(IF('Asphalt Plant (AP-1)'!$C$5=\"drum mix plant\",'Asphalt Plant (AP-1)'!N5,0),IF('Asphalt Plant (AP-2)'!$C$5=\"drum mix plant\",'Asphalt Plant (AP-2)'!N5,0),IF('Asphalt Plant (AP-3)'!$C$5=\"drum mix plant\",'Asphalt Plant (AP-3)'!N5,0),IF('Asphalt Plant (AP-4)'!$C$5=\"drum mix plant\",'Asphalt Plant (AP-4)'!N5,0),IF('Asphalt Plant (AP-5)'!$C$5=\"drum mix plant\",'Asphalt Plant (AP-5)'!N5,0),IF('Asphalt Plant (AP-6)'!$C$5=\"drum mix plant\",'Asphalt Plant (AP-6)'!N5,0),IF('Asphalt Plant (AP-7)'!$C$5=\"drum mix plant\",'Asphalt Plant (AP-7)'!N5,0),IF('Asphalt Plant (AP-8)'!$C$5=\"drum mix plant\",'Asphalt Plant (AP-8)'!N5,0),IF('Asphalt Plant (AP-9)'!$C$5=\"drum mix plant\",'Asphalt Plant (AP-9)'!N5,0),IF('Asphalt Plant (AP-10)'!$C$5=\"drum mix plant\",'Asphalt Plant (AP-10)'!N5,0))>0,SUM(IF('Asphalt Plant (AP-1)'!$C$5=\"drum mix plant\",'Asphalt Plant (AP-1)'!N5,0),IF('Asphalt Plant (AP-2)'!$C$5=\"drum mix plant\",'Asphalt Plant (AP-2)'!N5,0),IF('Asphalt Plant (AP-3)'!$C$5=\"drum mix plant\",'Asphalt Plant (AP-3)'!N5,0),IF('Asphalt Plant (AP-4)'!$C$5=\"drum mix plant\",'Asphalt Plant (AP-4)'!N5,0),IF('Asphalt Plant (AP-5)'!$C$5=\"drum mix plant\",'Asphalt Plant (AP-5)'!N5,0),IF('Asphalt Plant (AP-6)'!$C$5=\"drum mix plant\",'Asphalt Plant (AP-6)'!N5,0),IF('Asphalt Plant (AP-7)'!$C$5=\"drum mix plant\",'Asphalt Plant (AP-7)'!N5,0),IF('Asphalt Plant (AP-8)'!$C$5=\"drum mix plant\",'Asphalt Plant (AP-8)'!N5,0),IF('Asphalt Plant (AP-9)'!$C$5=\"drum mix plant\",'Asphalt Plant (AP-9)'!N5,0),IF('Asphalt Plant (AP-10)'!$C$5=\"drum mix plant\",'Asphalt Plant (AP-10)'!N5,0)),\"\")","v":""},"",{"$f":"IF(B57=\"\",\"\",MAX(IF('Asphalt Plant (AP-1)'!$C$5=\"drum mix plant\",'Asphalt Plant (AP-1)'!O42,0),IF('Asphalt Plant (AP-2)'!$C$5=\"drum mix plant\",'Asphalt Plant (AP-2)'!O42,0),IF('Asphalt Plant (AP-3)'!$C$5=\"drum mix plant\",'Asphalt Plant (AP-3)'!O42,0),IF('Asphalt Plant (AP-4)'!$C$5=\"drum mix plant\",'Asphalt Plant (AP-4)'!O42,0),IF('Asphalt Plant (AP-5)'!$C$5=\"drum mix plant\",'Asphalt Plant (AP-5)'!O42,0),IF('Asphalt Plant (AP-6)'!$C$5=\"drum mix plant\",'Asphalt Plant (AP-6)'!O42,0),IF('Asphalt Plant (AP-7)'!$C$5=\"drum mix plant\",'Asphalt Plant (AP-7)'!O42,0),IF('Asphalt Plant (AP-8)'!$C$5=\"drum mix plant\",'Asphalt Plant (AP-8)'!O42,0),IF('Asphalt Plant (AP-9)'!$C$5=\"drum mix plant\",'Asphalt Plant (AP-9)'!O42,0),IF('Asphalt Plant (AP-10)'!$C$5=\"drum mix plant\",'Asphalt Plant (AP-10)'!O42,0)))","v":""},"",{"$f":"IF(B57=\"\",\"\",\"AP-42 Table 11.1-4,7,8,10\")","v":""},{"$f":"IF(B57=\"\",\"\",SUM(IF('Asphalt Plant (AP-1)'!$C$5=\"drum mix plant\",'Asphalt Plant (AP-1)'!Q42,0),IF('Asphalt Plant (AP-2)'!$C$5=\"drum mix plant\",'Asphalt Plant (AP-2)'!Q42,0),IF('Asphalt Plant (AP-3)'!$C$5=\"drum mix plant\",'Asphalt Plant (AP-3)'!Q42,0),IF('Asphalt Plant (AP-4)'!$C$5=\"drum mix plant\",'Asphalt Plant (AP-4)'!Q42,0),IF('Asphalt Plant (AP-5)'!$C$5=\"drum mix plant\",'Asphalt Plant (AP-5)'!Q42,0),IF('Asphalt Plant (AP-6)'!$C$5=\"drum mix plant\",'Asphalt Plant (AP-6)'!Q42,0),IF('Asphalt Plant (AP-7)'!$C$5=\"drum mix plant\",'Asphalt Plant (AP-7)'!Q42,0),IF('Asphalt Plant (AP-8)'!$C$5=\"drum mix plant\",'Asphalt Plant (AP-8)'!Q42,0),IF('Asphalt Plant (AP-9)'!$C$5=\"drum mix plant\",'Asphalt Plant (AP-9)'!Q42,0),IF('Asphalt Plant (AP-10)'!$C$5=\"drum mix plant\",'Asphalt Plant (AP-10)'!Q42,0)))","v":""},null,{"$f":"IF(B57=\"\",\"\",SUM(IF('Asphalt Plant (AP-1)'!$C$5=\"drum mix plant\",'Asphalt Plant (AP-1)'!R42,0),IF('Asphalt Plant (AP-2)'!$C$5=\"drum mix plant\",'Asphalt Plant (AP-2)'!R42,0),IF('Asphalt Plant (AP-3)'!$C$5=\"drum mix plant\",'Asphalt Plant (AP-3)'!R42,0),IF('Asphalt Plant (AP-4)'!$C$5=\"drum mix plant\",'Asphalt Plant (AP-4)'!R42,0),IF('Asphalt Plant (AP-5)'!$C$5=\"drum mix plant\",'Asphalt Plant (AP-5)'!R42,0),IF('Asphalt Plant (AP-6)'!$C$5=\"drum mix plant\",'Asphalt Plant (AP-6)'!R42,0),IF('Asphalt Plant (AP-7)'!$C$5=\"drum mix plant\",'Asphalt Plant (AP-7)'!R42,0),IF('Asphalt Plant (AP-8)'!$C$5=\"drum mix plant\",'Asphalt Plant (AP-8)'!R42,0),IF('Asphalt Plant (AP-9)'!$C$5=\"drum mix plant\",'Asphalt Plant (AP-9)'!R42,0),IF('Asphalt Plant (AP-10)'!$C$5=\"drum mix plant\",'Asphalt Plant (AP-10)'!R42,0)))","v":""},{"$f":"IF(B57=\"\",\"\",SUM(IF('Asphalt Plant (AP-1)'!$C$5=\"drum mix plant\",'Asphalt Plant (AP-1)'!S42,0),IF('Asphalt Plant (AP-2)'!$C$5=\"drum mix plant\",'Asphalt Plant (AP-2)'!S42,0),IF('Asphalt Plant (AP-3)'!$C$5=\"drum mix plant\",'Asphalt Plant (AP-3)'!S42,0),IF('Asphalt Plant (AP-4)'!$C$5=\"drum mix plant\",'Asphalt Plant (AP-4)'!S42,0),IF('Asphalt Plant (AP-5)'!$C$5=\"drum mix plant\",'Asphalt Plant (AP-5)'!S42,0),IF('Asphalt Plant (AP-6)'!$C$5=\"drum mix plant\",'Asphalt Plant (AP-6)'!S42,0),IF('Asphalt Plant (AP-7)'!$C$5=\"drum mix plant\",'Asphalt Plant (AP-7)'!S42,0),IF('Asphalt Plant (AP-8)'!$C$5=\"drum mix plant\",'Asphalt Plant (AP-8)'!S42,0),IF('Asphalt Plant (AP-9)'!$C$5=\"drum mix plant\",'Asphalt Plant (AP-9)'!S42,0),IF('Asphalt Plant (AP-10)'!$C$5=\"drum mix plant\",'Asphalt Plant (AP-10)'!S42,0)))","v":""},{"$f":"IF(B57=\"\",\"\",SUM(IF('Asphalt Plant (AP-1)'!$C$5=\"drum mix plant\",'Asphalt Plant (AP-1)'!T42,0),IF('Asphalt Plant (AP-2)'!$C$5=\"drum mix plant\",'Asphalt Plant (AP-2)'!T42,0),IF('Asphalt Plant (AP-3)'!$C$5=\"drum mix plant\",'Asphalt Plant (AP-3)'!T42,0),IF('Asphalt Plant (AP-4)'!$C$5=\"drum mix plant\",'Asphalt Plant (AP-4)'!T42,0),IF('Asphalt Plant (AP-5)'!$C$5=\"drum mix plant\",'Asphalt Plant (AP-5)'!T42,0),IF('Asphalt Plant (AP-6)'!$C$5=\"drum mix plant\",'Asphalt Plant (AP-6)'!T42,0),IF('Asphalt Plant (AP-7)'!$C$5=\"drum mix plant\",'Asphalt Plant (AP-7)'!T42,0),IF('Asphalt Plant (AP-8)'!$C$5=\"drum mix plant\",'Asphalt Plant (AP-8)'!T42,0),IF('Asphalt Plant (AP-9)'!$C$5=\"drum mix plant\",'Asphalt Plant (AP-9)'!T42,0),IF('Asphalt Plant (AP-10)'!$C$5=\"drum mix plant\",'Asphalt Plant (AP-10)'!T42,0)))","v":""}]
["",{"$f":"IF(D58=\"\",\"\",\"Drum Mix Plant - Waste Oil\")","v":""},{"$f":"IF(B58=\"\",\"\",\"30500255\")","v":""},{"$f":"IF(SUM(IF('Asphalt Plant (AP-1)'!$C$5=\"drum mix plant\",'Asphalt Plant (AP-1)'!N6,0),IF('Asphalt Plant (AP-2)'!$C$5=\"drum mix plant\",'Asphalt Plant (AP-2)'!N6,0),IF('Asphalt Plant (AP-3)'!$C$5=\"drum mix plant\",'Asphalt Plant (AP-3)'!N6,0),IF('Asphalt Plant (AP-4)'!$C$5=\"drum mix plant\",'Asphalt Plant (AP-4)'!N6,0),IF('Asphalt Plant (AP-5)'!$C$5=\"drum mix plant\",'Asphalt Plant (AP-5)'!N6,0),IF('Asphalt Plant (AP-6)'!$C$5=\"drum mix plant\",'Asphalt Plant (AP-6)'!N6,0),IF('Asphalt Plant (AP-7)'!$C$5=\"drum mix plant\",'Asphalt Plant (AP-7)'!N6,0),IF('Asphalt Plant (AP-8)'!$C$5=\"drum mix plant\",'Asphalt Plant (AP-8)'!N6,0),IF('Asphalt Plant (AP-9)'!$C$5=\"drum mix plant\",'Asphalt Plant (AP-9)'!N6,0),IF('Asphalt Plant (AP-10)'!$C$5=\"drum mix plant\",'Asphalt Plant (AP-10)'!N6,0))>0,SUM(IF('Asphalt Plant (AP-1)'!$C$5=\"drum mix plant\",'Asphalt Plant (AP-1)'!N6,0),IF('Asphalt Plant (AP-2)'!$C$5=\"drum mix plant\",'Asphalt Plant (AP-2)'!N6,0),IF('Asphalt Plant (AP-3)'!$C$5=\"drum mix plant\",'Asphalt Plant (AP-3)'!N6,0),IF('Asphalt Plant (AP-4)'!$C$5=\"drum mix plant\",'Asphalt Plant (AP-4)'!N6,0),IF('Asphalt Plant (AP-5)'!$C$5=\"drum mix plant\",'Asphalt Plant (AP-5)'!N6,0),IF('Asphalt Plant (AP-6)'!$C$5=\"drum mix plant\",'Asphalt Plant (AP-6)'!N6,0),IF('Asphalt Plant (AP-7)'!$C$5=\"drum mix plant\",'Asphalt Plant (AP-7)'!N6,0),IF('Asphalt Plant (AP-8)'!$C$5=\"drum mix plant\",'Asphalt Plant (AP-8)'!N6,0),IF('Asphalt Plant (AP-9)'!$C$5=\"drum mix plant\",'Asphalt Plant (AP-9)'!N6,0),IF('Asphalt Plant (AP-10)'!$C$5=\"drum mix plant\",'Asphalt Plant (AP-10)'!N6,0)),\"\")","v":""},"",{"$f":"IF(B58=\"\",\"\",MAX(IF('Asphalt Plant (AP-1)'!$C$5=\"drum mix plant\",'Asphalt Plant (AP-1)'!O43,0),IF('Asphalt Plant (AP-2)'!$C$5=\"drum mix plant\",'Asphalt Plant (AP-2)'!O43,0),IF('Asphalt Plant (AP-3)'!$C$5=\"drum mix plant\",'Asphalt Plant (AP-3)'!O43,0),IF('Asphalt Plant (AP-4)'!$C$5=\"drum mix plant\",'Asphalt Plant (AP-4)'!O43,0),IF('Asphalt Plant (AP-5)'!$C$5=\"drum mix plant\",'Asphalt Plant (AP-5)'!O43,0),IF('Asphalt Plant (AP-6)'!$C$5=\"drum mix plant\",'Asphalt Plant (AP-6)'!O43,0),IF('Asphalt Plant (AP-7)'!$C$5=\"drum mix plant\",'Asphalt Plant (AP-7)'!O43,0),IF('Asphalt Plant (AP-8)'!$C$5=\"drum mix plant\",'Asphalt Plant (AP-8)'!O43,0),IF('Asphalt Plant (AP-9)'!$C$5=\"drum mix plant\",'Asphalt Plant (AP-9)'!O43,0),IF('Asphalt Plant (AP-10)'!$C$5=\"drum mix plant\",'Asphalt Plant (AP-10)'!O43,0)))","v":""},"",{"$f":"IF(B58=\"\",\"\",\"AP-42 Table 11.1-4,7,8,10\")","v":""},{"$f":"IF(B58=\"\",\"\",SUM(IF('Asphalt Plant (AP-1)'!$C$5=\"drum mix plant\",'Asphalt Plant (AP-1)'!Q43,0),IF('Asphalt Plant (AP-2)'!$C$5=\"drum mix plant\",'Asphalt Plant (AP-2)'!Q43,0),IF('Asphalt Plant (AP-3)'!$C$5=\"drum mix plant\",'Asphalt Plant (AP-3)'!Q43,0),IF('Asphalt Plant (AP-4)'!$C$5=\"drum mix plant\",'Asphalt Plant (AP-4)'!Q43,0),IF('Asphalt Plant (AP-5)'!$C$5=\"drum mix plant\",'Asphalt Plant (AP-5)'!Q43,0),IF('Asphalt Plant (AP-6)'!$C$5=\"drum mix plant\",'Asphalt Plant (AP-6)'!Q43,0),IF('Asphalt Plant (AP-7)'!$C$5=\"drum mix plant\",'Asphalt Plant (AP-7)'!Q43,0),IF('Asphalt Plant (AP-8)'!$C$5=\"drum mix plant\",'Asphalt Plant (AP-8)'!Q43,0),IF('Asphalt Plant (AP-9)'!$C$5=\"drum mix plant\",'Asphalt Plant (AP-9)'!Q43,0),IF('Asphalt Plant (AP-10)'!$C$5=\"drum mix plant\",'Asphalt Plant (AP-10)'!Q43,0)))","v":""},null,{"$f":"IF(B58=\"\",\"\",SUM(IF('Asphalt Plant (AP-1)'!$C$5=\"drum mix plant\",'Asphalt Plant (AP-1)'!R43,0),IF('Asphalt Plant (AP-2)'!$C$5=\"drum mix plant\",'Asphalt Plant (AP-2)'!R43,0),IF('Asphalt Plant (AP-3)'!$C$5=\"drum mix plant\",'Asphalt Plant (AP-3)'!R43,0),IF('Asphalt Plant (AP-4)'!$C$5=\"drum mix plant\",'Asphalt Plant (AP-4)'!R43,0),IF('Asphalt Plant (AP-5)'!$C$5=\"drum mix plant\",'Asphalt Plant (AP-5)'!R43,0),IF('Asphalt Plant (AP-6)'!$C$5=\"drum mix plant\",'Asphalt Plant (AP-6)'!R43,0),IF('Asphalt Plant (AP-7)'!$C$5=\"drum mix plant\",'Asphalt Plant (AP-7)'!R43,0),IF('Asphalt Plant (AP-8)'!$C$5=\"drum mix plant\",'Asphalt Plant (AP-8)'!R43,0),IF('Asphalt Plant (AP-9)'!$C$5=\"drum mix plant\",'Asphalt Plant (AP-9)'!R43,0),IF('Asphalt Plant (AP-10)'!$C$5=\"drum mix plant\",'Asphalt Plant (AP-10)'!R43,0)))","v":""},{"$f":"IF(B58=\"\",\"\",SUM(IF('Asphalt Plant (AP-1)'!$C$5=\"drum mix plant\",'Asphalt Plant (AP-1)'!S43,0),IF('Asphalt Plant (AP-2)'!$C$5=\"drum mix plant\",'Asphalt Plant (AP-2)'!S43,0),IF('Asphalt Plant (AP-3)'!$C$5=\"drum mix plant\",'Asphalt Plant (AP-3)'!S43,0),IF('Asphalt Plant (AP-4)'!$C$5=\"drum mix plant\",'Asphalt Plant (AP-4)'!S43,0),IF('Asphalt Plant (AP-5)'!$C$5=\"drum mix plant\",'Asphalt Plant (AP-5)'!S43,0),IF('Asphalt Plant (AP-6)'!$C$5=\"drum mix plant\",'Asphalt Plant (AP-6)'!S43,0),IF('Asphalt Plant (AP-7)'!$C$5=\"drum mix plant\",'Asphalt Plant (AP-7)'!S43,0),IF('Asphalt Plant (AP-8)'!$C$5=\"drum mix plant\",'Asphalt Plant (AP-8)'!S43,0),IF('Asphalt Plant (AP-9)'!$C$5=\"drum mix plant\",'Asphalt Plant (AP-9)'!S43,0),IF('Asphalt Plant (AP-10)'!$C$5=\"drum mix plant\",'Asphalt Plant (AP-10)'!S43,0)))","v":""},{"$f":"IF(B58=\"\",\"\",SUM(IF('Asphalt Plant (AP-1)'!$C$5=\"drum mix plant\",'Asphalt Plant (AP-1)'!T43,0),IF('Asphalt Plant (AP-2)'!$C$5=\"drum mix plant\",'Asphalt Plant (AP-2)'!T43,0),IF('Asphalt Plant (AP-3)'!$C$5=\"drum mix plant\",'Asphalt Plant (AP-3)'!T43,0),IF('Asphalt Plant (AP-4)'!$C$5=\"drum mix plant\",'Asphalt Plant (AP-4)'!T43,0),IF('Asphalt Plant (AP-5)'!$C$5=\"drum mix plant\",'Asphalt Plant (AP-5)'!T43,0),IF('Asphalt Plant (AP-6)'!$C$5=\"drum mix plant\",'Asphalt Plant (AP-6)'!T43,0),IF('Asphalt Plant (AP-7)'!$C$5=\"drum mix plant\",'Asphalt Plant (AP-7)'!T43,0),IF('Asphalt Plant (AP-8)'!$C$5=\"drum mix plant\",'Asphalt Plant (AP-8)'!T43,0),IF('Asphalt Plant (AP-9)'!$C$5=\"drum mix plant\",'Asphalt Plant (AP-9)'!T43,0),IF('Asphalt Plant (AP-10)'!$C$5=\"drum mix plant\",'Asphalt Plant (AP-10)'!T43,0)))","v":""}]
["",{"$f":"IF(D59=\"\",\"\",\"Drum Mix Plant - Natural Gas\")","v":""},{"$f":"IF(B59=\"\",\"\",\"30500261\")","v":""},{"$f":"IF(SUM(IF('Asphalt Plant (AP-1)'!$C$5=\"drum mix plant\",'Asphalt Plant (AP-1)'!N7,0),IF('Asphalt Plant (AP-2)'!$C$5=\"drum mix plant\",'Asphalt Plant (AP-2)'!N7,0),IF('Asphalt Plant (AP-3)'!$C$5=\"drum mix plant\",'Asphalt Plant (AP-3)'!N7,0),IF('Asphalt Plant (AP-4)'!$C$5=\"drum mix plant\",'Asphalt Plant (AP-4)'!N7,0),IF('Asphalt Plant (AP-5)'!$C$5=\"drum mix plant\",'Asphalt Plant (AP-5)'!N7,0),IF('Asphalt Plant (AP-6)'!$C$5=\"drum mix plant\",'Asphalt Plant (AP-6)'!N7,0),IF('Asphalt Plant (AP-7)'!$C$5=\"drum mix plant\",'Asphalt Plant (AP-7)'!N7,0),IF('Asphalt Plant (AP-8)'!$C$5=\"drum mix plant\",'Asphalt Plant (AP-8)'!N7,0),IF('Asphalt Plant (AP-9)'!$C$5=\"drum mix plant\",'Asphalt Plant (AP-9)'!N7,0),IF('Asphalt Plant (AP-10)'!$C$5=\"drum mix plant\",'Asphalt Plant (AP-10)'!N7,0))>0,SUM(IF('Asphalt Plant (AP-1)'!$C$5=\"drum mix plant\",'Asphalt Plant (AP-1)'!N7,0),IF('Asphalt Plant (AP-2)'!$C$5=\"drum mix plant\",'Asphalt Plant (AP-2)'!N7,0),IF('Asphalt Plant (AP-3)'!$C$5=\"drum mix plant\",'Asphalt Plant (AP-3)'!N7,0),IF('Asphalt Plant (AP-4)'!$C$5=\"drum mix plant\",'Asphalt Plant (AP-4)'!N7,0),IF('Asphalt Plant (AP-5)'!$C$5=\"drum mix plant\",'Asphalt Plant (AP-5)'!N7,0),IF('Asphalt Plant (AP-6)'!$C$5=\"drum mix plant\",'Asphalt Plant (AP-6)'!N7,0),IF('Asphalt Plant (AP-7)'!$C$5=\"drum mix plant\",'Asphalt Plant (AP-7)'!N7,0),IF('Asphalt Plant (AP-8)'!$C$5=\"drum mix plant\",'Asphalt Plant (AP-8)'!N7,0),IF('Asphalt Plant (AP-9)'!$C$5=\"drum mix plant\",'Asphalt Plant (AP-9)'!N7,0),IF('Asphalt Plant (AP-10)'!$C$5=\"drum mix plant\",'Asphalt Plant (AP-10)'!N7,0)),\"\")","v":""},"",{"$f":"IF(B59=\"\",\"\",MAX(IF('Asphalt Plant (AP-1)'!$C$5=\"drum mix plant\",'Asphalt Plant (AP-1)'!O44,0),IF('Asphalt Plant (AP-2)'!$C$5=\"drum mix plant\",'Asphalt Plant (AP-2)'!O44,0),IF('Asphalt Plant (AP-3)'!$C$5=\"drum mix plant\",'Asphalt Plant (AP-3)'!O44,0),IF('Asphalt Plant (AP-4)'!$C$5=\"drum mix plant\",'Asphalt Plant (AP-4)'!O44,0),IF('Asphalt Plant (AP-5)'!$C$5=\"drum mix plant\",'Asphalt Plant (AP-5)'!O44,0),IF('Asphalt Plant (AP-6)'!$C$5=\"drum mix plant\",'Asphalt Plant (AP-6)'!O44,0),IF('Asphalt Plant (AP-7)'!$C$5=\"drum mix plant\",'Asphalt Plant (AP-7)'!O44,0),IF('Asphalt Plant (AP-8)'!$C$5=\"drum mix plant\",'Asphalt Plant (AP-8)'!O44,0),IF('Asphalt Plant (AP-9)'!$C$5=\"drum mix plant\",'Asphalt Plant (AP-9)'!O44,0),IF('Asphalt Plant (AP-10)'!$C$5=\"drum mix plant\",'Asphalt Plant (AP-10)'!O44,0)))","v":""},"",{"$f":"IF(B59=\"\",\"\",\"AP-42 Table 11.1-4,7,8,10,12\")","v":""},{"$f":"IF(B59=\"\",\"\",SUM(IF('Asphalt Plant (AP-1)'!$C$5=\"drum mix plant\",'Asphalt Plant (AP-1)'!Q44,0),IF('Asphalt Plant (AP-2)'!$C$5=\"drum mix plant\",'Asphalt Plant (AP-2)'!Q44,0),IF('Asphalt Plant (AP-3)'!$C$5=\"drum mix plant\",'Asphalt Plant (AP-3)'!Q44,0),IF('Asphalt Plant (AP-4)'!$C$5=\"drum mix plant\",'Asphalt Plant (AP-4)'!Q44,0),IF('Asphalt Plant (AP-5)'!$C$5=\"drum mix plant\",'Asphalt Plant (AP-5)'!Q44,0),IF('Asphalt Plant (AP-6)'!$C$5=\"drum mix plant\",'Asphalt Plant (AP-6)'!Q44,0),IF('Asphalt Plant (AP-7)'!$C$5=\"drum mix plant\",'Asphalt Plant (AP-7)'!Q44,0),IF('Asphalt Plant (AP-8)'!$C$5=\"drum mix plant\",'Asphalt Plant (AP-8)'!Q44,0),IF('Asphalt Plant (AP-9)'!$C$5=\"drum mix plant\",'Asphalt Plant (AP-9)'!Q44,0),IF('Asphalt Plant (AP-10)'!$C$5=\"drum mix plant\",'Asphalt Plant (AP-10)'!Q44,0)))","v":""},null,{"$f":"IF(B59=\"\",\"\",SUM(IF('Asphalt Plant (AP-1)'!$C$5=\"drum mix plant\",'Asphalt Plant (AP-1)'!R44,0),IF('Asphalt Plant (AP-2)'!$C$5=\"drum mix plant\",'Asphalt Plant (AP-2)'!R44,0),IF('Asphalt Plant (AP-3)'!$C$5=\"drum mix plant\",'Asphalt Plant (AP-3)'!R44,0),IF('Asphalt Plant (AP-4)'!$C$5=\"drum mix plant\",'Asphalt Plant (AP-4)'!R44,0),IF('Asphalt Plant (AP-5)'!$C$5=\"drum mix plant\",'Asphalt Plant (AP-5)'!R44,0),IF('Asphalt Plant (AP-6)'!$C$5=\"drum mix plant\",'Asphalt Plant (AP-6)'!R44,0),IF('Asphalt Plant (AP-7)'!$C$5=\"drum mix plant\",'Asphalt Plant (AP-7)'!R44,0),IF('Asphalt Plant (AP-8)'!$C$5=\"drum mix plant\",'Asphalt Plant (AP-8)'!R44,0),IF('Asphalt Plant (AP-9)'!$C$5=\"drum mix plant\",'Asphalt Plant (AP-9)'!R44,0),IF('Asphalt Plant (AP-10)'!$C$5=\"drum mix plant\",'Asphalt Plant (AP-10)'!R44,0)))","v":""},{"$f":"IF(B59=\"\",\"\",SUM(IF('Asphalt Plant (AP-1)'!$C$5=\"drum mix plant\",'Asphalt Plant (AP-1)'!S44,0),IF('Asphalt Plant (AP-2)'!$C$5=\"drum mix plant\",'Asphalt Plant (AP-2)'!S44,0),IF('Asphalt Plant (AP-3)'!$C$5=\"drum mix plant\",'Asphalt Plant (AP-3)'!S44,0),IF('Asphalt Plant (AP-4)'!$C$5=\"drum mix plant\",'Asphalt Plant (AP-4)'!S44,0),IF('Asphalt Plant (AP-5)'!$C$5=\"drum mix plant\",'Asphalt Plant (AP-5)'!S44,0),IF('Asphalt Plant (AP-6)'!$C$5=\"drum mix plant\",'Asphalt Plant (AP-6)'!S44,0),IF('Asphalt Plant (AP-7)'!$C$5=\"drum mix plant\",'Asphalt Plant (AP-7)'!S44,0),IF('Asphalt Plant (AP-8)'!$C$5=\"drum mix plant\",'Asphalt Plant (AP-8)'!S44,0),IF('Asphalt Plant (AP-9)'!$C$5=\"drum mix plant\",'Asphalt Plant (AP-9)'!S44,0),IF('Asphalt Plant (AP-10)'!$C$5=\"drum mix plant\",'Asphalt Plant (AP-10)'!S44,0)))","v":""},{"$f":"IF(B59=\"\",\"\",SUM(IF('Asphalt Plant (AP-1)'!$C$5=\"drum mix plant\",'Asphalt Plant (AP-1)'!T44,0),IF('Asphalt Plant (AP-2)'!$C$5=\"drum mix plant\",'Asphalt Plant (AP-2)'!T44,0),IF('Asphalt Plant (AP-3)'!$C$5=\"drum mix plant\",'Asphalt Plant (AP-3)'!T44,0),IF('Asphalt Plant (AP-4)'!$C$5=\"drum mix plant\",'Asphalt Plant (AP-4)'!T44,0),IF('Asphalt Plant (AP-5)'!$C$5=\"drum mix plant\",'Asphalt Plant (AP-5)'!T44,0),IF('Asphalt Plant (AP-6)'!$C$5=\"drum mix plant\",'Asphalt Plant (AP-6)'!T44,0),IF('Asphalt Plant (AP-7)'!$C$5=\"drum mix plant\",'Asphalt Plant (AP-7)'!T44,0),IF('Asphalt Plant (AP-8)'!$C$5=\"drum mix plant\",'Asphalt Plant (AP-8)'!T44,0),IF('Asphalt Plant (AP-9)'!$C$5=\"drum mix plant\",'Asphalt Plant (AP-9)'!T44,0),IF('Asphalt Plant (AP-10)'!$C$5=\"drum mix plant\",'Asphalt Plant (AP-10)'!T44,0)))","v":""}]
[{"$f":"IF('Permitted Diesel Engines'!R50=0,\"\",\"ALL\")","v":""},{"$f":"IF('Permitted Diesel Engines'!R50=0,\"\",\"Diesel Generator ≤ 600 bhp\")","v":""},{"$f":"IF('Permitted Diesel Engines'!R50=0,\"\",LOOKUP(B60,'Emission Factors'!A43:A44,'Emission Factors'!B43:B44))","v":""},{"$f":"IF('Permitted Diesel Engines'!R50=0,\"\",'Permitted Diesel Engines'!R50)","v":""},{"$f":"IF(B60=\"\",\"\",\"MMBtu/hr\")","v":""},{"$f":"IF(B60=\"\",\"\",LOOKUP(B60,'Emission Factors'!$A$43:$A$44,'Emission Factors'!$J$43:$J$44))","v":""},{"$f":"IF(B60=\"\",\"\",LOOKUP(B60,'Emission Factors'!$A$43:$A$44,'Emission Factors'!$C$43:$C$44))","v":""},{"$f":"IF(B60=\"\",\"\",LOOKUP(B60,'Emission Factors'!$A$43:$A$44,'Emission Factors'!$K$43:$K$44))","v":""},{"$f":"IF(B60=\"\",\"\",'Emission Calculations'!D60*'Emission Calculations'!F60)","v":""},null,null,{"$f":"IF(B60=\"\",\"\",'Permitted Diesel Engines'!$AF$77)","v":""},{"$f":"IF(B60=\"\",\"\",'Permitted Diesel Engines'!T50*'Emission Calculations'!F60/2000)","v":""}]
[{"$f":"IF('Permitted Diesel Engines'!R51=0,\"\",\"ALL\")","v":""},{"$f":"IF('Permitted Diesel Engines'!R51=0,\"\",\"Diesel Generator> 600 bhp\")","v":""},{"$f":"IF('Permitted Diesel Engines'!R51=0,\"\",LOOKUP(B61,'Emission Factors'!A44:A45,'Emission Factors'!B44:B45))","v":""},{"$f":"IF('Permitted Diesel Engines'!R51=0,\"\",'Permitted Diesel Engines'!R51)","v":""},{"$f":"IF(B61=\"\",\"\",\"MMBtu/hr\")","v":""},{"$f":"IF(B61=\"\",\"\",LOOKUP(B61,'Emission Factors'!$A$43:$A$44,'Emission Factors'!$J$43:$J$44))","v":""},{"$f":"IF(B61=\"\",\"\",LOOKUP(B61,'Emission Factors'!$A$43:$A$44,'Emission Factors'!$C$43:$C$44))","v":""},{"$f":"IF(B61=\"\",\"\",LOOKUP(B61,'Emission Factors'!$A$43:$A$44,'Emission Factors'!$K$43:$K$44))","v":""},{"$f":"IF(B61=\"\",\"\",'Emission Calculations'!D61*'Emission Calculations'!F61)","v":""},null,null,{"$f":"IF(B61=\"\",\"\",'Permitted Diesel Engines'!$AG$77)","v":""},{"$f":"IF(B61=\"\",\"\",'Permitted Diesel Engines'!T51*'Emission Calculations'!F61/2000)","v":""}]
[null,null,null,null,null,null,null,null,null,"FACILITY TOTALS:",null,{"$f":"SUM(L54:L61)","v":0},{"$f":"SUM(M54:M61)","v":0}]
["VOC"]
[{"$f":"IF(D64=\"\",\"\",\"ALL\")","v":""},{"$f":"IF(D64=\"\",\"\",\"Batch Mix Plant - Fuel Oil\")","v":""},{"$f":"IF(B64=\"\",\"\",\"30500246\")","v":""},{"$f":"IF(SUM(IF('Asphalt Plant (AP-1)'!$C$5=\"batch mix plant\",'Asphalt Plant (AP-1)'!N5,0),IF('Asphalt Plant (AP-2)'!$C$5=\"batch mix plant\",'Asphalt Plant (AP-2)'!N5,0),IF('Asphalt Plant (AP-3)'!$C$5=\"batch mix plant\",'Asphalt Plant (AP-3)'!N5,0),IF('Asphalt Plant (AP-4)'!$C$5=\"batch mix plant\",'Asphalt Plant (AP-4)'!N5,0),IF('Asphalt Plant (AP-5)'!$C$5=\"batch mix plant\",'Asphalt Plant (AP-5)'!N5,0),IF('Asphalt Plant (AP-6)'!$C$5=\"batch mix plant\",'Asphalt Plant (AP-6)'!N5,0),IF('Asphalt Plant (AP-7)'!$C$5=\"batch mix plant\",'Asphalt Plant (AP-7)'!N5,0),IF('Asphalt Plant (AP-8)'!$C$5=\"batch mix plant\",'Asphalt Plant (AP-8)'!N5,0),IF('Asphalt Plant (AP-9)'!$C$5=\"batch mix plant\",'Asphalt Plant (AP-9)'!N5,0),IF('Asphalt Plant (AP-10)'!$C$5=\"batch mix plant\",'Asphalt Plant (AP-10)'!N5,0))>0,SUM(IF('Asphalt Plant (AP-1)'!$C$5=\"batch mix plant\",'Asphalt Plant (AP-1)'!N5,0),IF('Asphalt Plant (AP-2)'!$C$5=\"batch mix plant\",'Asphalt Plant (AP-2)'!N5,0),IF('Asphalt Plant (AP-3)'!$C$5=\"batch mix plant\",'Asphalt Plant (AP-3)'!N5,0),IF('Asphalt Plant (AP-4)'!$C$5=\"batch mix plant\",'Asphalt Plant (AP-4)'!N5,0),IF('Asphalt Plant (AP-5)'!$C$5=\"batch mix plant\",'Asphalt Plant (AP-5)'!N5,0),IF('Asphalt Plant (AP-6)'!$C$5=\"batch mix plant\",'Asphalt Plant (AP-6)'!N5,0),IF('Asphalt Plant (AP-7)'!$C$5=\"batch mix plant\",'Asphalt Plant (AP-7)'!N5,0),IF('Asphalt Plant (AP-8)'!$C$5=\"batch mix plant\",'Asphalt Plant (AP-8)'!N5,0),IF('Asphalt Plant (AP-9)'!$C$5=\"batch mix plant\",'Asphalt Plant (AP-9)'!N5,0),IF('Asphalt Plant (AP-10)'!$C$5=\"batch mix plant\",'Asphalt Plant (AP-10)'!N5,0)),\"\")","v":""},{"$f":"IF(B64=\"\",\"\",\"tons/hr\")","v":""},{"$f":"IF(B64=\"\",\"\",MAX(IF('Asphalt Plant (AP-1)'!$C$5=\"batch mix plant\",'Asphalt Plant (AP-1)'!O46,0),IF('Asphalt Plant (AP-2)'!$C$5=\"batch mix plant\",'Asphalt Plant (AP-2)'!O46,0),IF('Asphalt Plant (AP-3)'!$C$5=\"batch mix plant\",'Asphalt Plant (AP-3)'!O46,0),IF('Asphalt Plant (AP-4)'!$C$5=\"batch mix plant\",'Asphalt Plant (AP-4)'!O46,0),IF('Asphalt Plant (AP-5)'!$C$5=\"batch mix plant\",'Asphalt Plant (AP-5)'!O46,0),IF('Asphalt Plant (AP-6)'!$C$5=\"batch mix plant\",'Asphalt Plant (AP-6)'!O46,0),IF('Asphalt Plant (AP-7)'!$C$5=\"batch mix plant\",'Asphalt Plant (AP-7)'!O46,0),IF('Asphalt Plant (AP-8)'!$C$5=\"batch mix plant\",'Asphalt Plant (AP-8)'!O46,0),IF('Asphalt Plant (AP-9)'!$C$5=\"batch mix plant\",'Asphalt Plant (AP-9)'!O46,0),IF('Asphalt Plant (AP-10)'!$C$5=\"batch mix plant\",'Asphalt Plant (AP-10)'!O46,0)))","v":""},{"$f":"IF(B64=\"\",\"\",\"lb/ton\")","v":""},{"$f":"IF(B64=\"\",\"\",\"AP-42 Table 11.1-2,5,6,9\")","v":""},{"$f":"IF(B64=\"\",\"\",SUM(IF('Asphalt Plant (AP-1)'!$C$5=\"batch mix plant\",'Asphalt Plant (AP-1)'!Q46,0),IF('Asphalt Plant (AP-2)'!$C$5=\"batch mix plant\",'Asphalt Plant (AP-2)'!Q46,0),IF('Asphalt Plant (AP-3)'!$C$5=\"batch mix plant\",'Asphalt Plant (AP-3)'!Q46,0),IF('Asphalt Plant (AP-4)'!$C$5=\"batch mix plant\",'Asphalt Plant (AP-4)'!Q46,0),IF('Asphalt Plant (AP-5)'!$C$5=\"batch mix plant\",'Asphalt Plant (AP-5)'!Q46,0),IF('Asphalt Plant (AP-6)'!$C$5=\"batch mix plant\",'Asphalt Plant (AP-6)'!Q46,0),IF('Asphalt Plant (AP-7)'!$C$5=\"batch mix plant\",'Asphalt Plant (AP-7)'!Q46,0),IF('Asphalt Plant (AP-8)'!$C$5=\"batch mix plant\",'Asphalt Plant (AP-8)'!Q46,0),IF('Asphalt Plant (AP-9)'!$C$5=\"batch mix plant\",'Asphalt Plant (AP-9)'!Q46,0),IF('Asphalt Plant (AP-10)'!$C$5=\"batch mix plant\",'Asphalt Plant (AP-10)'!Q46,0)))","v":""},null,{"$f":"IF(B64=\"\",\"\",SUM(IF('Asphalt Plant (AP-1)'!$C$5=\"batch mix plant\",'Asphalt Plant (AP-1)'!R46,0),IF('Asphalt Plant (AP-2)'!$C$5=\"batch mix plant\",'Asphalt Plant (AP-2)'!R46,0),IF('Asphalt Plant (AP-3)'!$C$5=\"batch mix plant\",'Asphalt Plant (AP-3)'!R46,0),IF('Asphalt Plant (AP-4)'!$C$5=\"batch mix plant\",'Asphalt Plant (AP-4)'!R46,0),IF('Asphalt Plant (AP-5)'!$C$5=\"batch mix plant\",'Asphalt Plant (AP-5)'!R46,0),IF('Asphalt Plant (AP-6)'!$C$5=\"batch mix plant\",'Asphalt Plant (AP-6)'!R46,0),IF('Asphalt Plant (AP-7)'!$C$5=\"batch mix plant\",'Asphalt Plant (AP-7)'!R46,0),IF('Asphalt Plant (AP-8)'!$C$5=\"batch mix plant\",'Asphalt Plant (AP-8)'!R46,0),IF('Asphalt Plant (AP-9)'!$C$5=\"batch mix plant\",'Asphalt Plant (AP-9)'!R46,0),IF('Asphalt Plant (AP-10)'!$C$5=\"batch mix plant\",'Asphalt Plant (AP-10)'!R46,0)))","v":""},{"$f":"IF(B64=\"\",\"\",SUM(IF('Asphalt Plant (AP-1)'!$C$5=\"batch mix plant\",'Asphalt Plant (AP-1)'!S46,0),IF('Asphalt Plant (AP-2)'!$C$5=\"batch mix plant\",'Asphalt Plant (AP-2)'!S46,0),IF('Asphalt Plant (AP-3)'!$C$5=\"batch mix plant\",'Asphalt Plant (AP-3)'!S46,0),IF('Asphalt Plant (AP-4)'!$C$5=\"batch mix plant\",'Asphalt Plant (AP-4)'!S46,0),IF('Asphalt Plant (AP-5)'!$C$5=\"batch mix plant\",'Asphalt Plant (AP-5)'!S46,0),IF('Asphalt Plant (AP-6)'!$C$5=\"batch mix plant\",'Asphalt Plant (AP-6)'!S46,0),IF('Asphalt Plant (AP-7)'!$C$5=\"batch mix plant\",'Asphalt Plant (AP-7)'!S46,0),IF('Asphalt Plant (AP-8)'!$C$5=\"batch mix plant\",'Asphalt Plant (AP-8)'!S46,0),IF('Asphalt Plant (AP-9)'!$C$5=\"batch mix plant\",'Asphalt Plant (AP-9)'!S46,0),IF('Asphalt Plant (AP-10)'!$C$5=\"batch mix plant\",'Asphalt Plant (AP-10)'!S46,0)))","v":""},{"$f":"IF(B64=\"\",\"\",SUM(IF('Asphalt Plant (AP-1)'!$C$5=\"batch mix plant\",'Asphalt Plant (AP-1)'!T46,0),IF('Asphalt Plant (AP-2)'!$C$5=\"batch mix plant\",'Asphalt Plant (AP-2)'!T46,0),IF('Asphalt Plant (AP-3)'!$C$5=\"batch mix plant\",'Asphalt Plant (AP-3)'!T46,0),IF('Asphalt Plant (AP-4)'!$C$5=\"batch mix plant\",'Asphalt Plant (AP-4)'!T46,0),IF('Asphalt Plant (AP-5)'!$C$5=\"batch mix plant\",'Asphalt Plant (AP-5)'!T46,0),IF('Asphalt Plant (AP-6)'!$C$5=\"batch mix plant\",'Asphalt Plant (AP-6)'!T46,0),IF('Asphalt Plant (AP-7)'!$C$5=\"batch mix plant\",'Asphalt Plant (AP-7)'!T46,0),IF('Asphalt Plant (AP-8)'!$C$5=\"batch mix plant\",'Asphalt Plant (AP-8)'!T46,0),IF('Asphalt Plant (AP-9)'!$C$5=\"batch mix plant\",'Asphalt Plant (AP-9)'!T46,0),IF('Asphalt Plant (AP-10)'!$C$5=\"batch mix plant\",'Asphalt Plant (AP-10)'!T46,0)))","v":""}]
["",{"$f":"IF(D65=\"\",\"\",\"Batch Mix Plant - Waste Oil\")","v":""},{"$f":"IF(B65=\"\",\"\",\"30500245\")","v":""},{"$f":"IF(SUM(IF('Asphalt Plant (AP-1)'!$C$5=\"batch mix plant\",'Asphalt Plant (AP-1)'!N6,0),IF('Asphalt Plant (AP-2)'!$C$5=\"batch mix plant\",'Asphalt Plant (AP-2)'!N6,0),IF('Asphalt Plant (AP-3)'!$C$5=\"batch mix plant\",'Asphalt Plant (AP-3)'!N6,0),IF('Asphalt Plant (AP-4)'!$C$5=\"batch mix plant\",'Asphalt Plant (AP-4)'!N6,0),IF('Asphalt Plant (AP-5)'!$C$5=\"batch mix plant\",'Asphalt Plant (AP-5)'!N6,0),IF('Asphalt Plant (AP-6)'!$C$5=\"batch mix plant\",'Asphalt Plant (AP-6)'!N6,0),IF('Asphalt Plant (AP-7)'!$C$5=\"batch mix plant\",'Asphalt Plant (AP-7)'!N6,0),IF('Asphalt Plant (AP-8)'!$C$5=\"batch mix plant\",'Asphalt Plant (AP-8)'!N6,0),IF('Asphalt Plant (AP-9)'!$C$5=\"batch mix plant\",'Asphalt Plant (AP-9)'!N6,0),IF('Asphalt Plant (AP-10)'!$C$5=\"batch mix plant\",'Asphalt Plant (AP-10)'!N6,0))>0,SUM(IF('Asphalt Plant (AP-1)'!$C$5=\"batch mix plant\",'Asphalt Plant (AP-1)'!N6,0),IF('Asphalt Plant (AP-2)'!$C$5=\"batch mix plant\",'Asphalt Plant (AP-2)'!N6,0),IF('Asphalt Plant (AP-3)'!$C$5=\"batch mix plant\",'Asphalt Plant (AP-3)'!N6,0),IF('Asphalt Plant (AP-4)'!$C$5=\"batch mix plant\",'Asphalt Plant (AP-4)'!N6,0),IF('Asphalt Plant (AP-5)'!$C$5=\"batch mix plant\",'Asphalt Plant (AP-5)'!N6,0),IF('Asphalt Plant (AP-6)'!$C$5=\"batch mix plant\",'Asphalt Plant (AP-6)'!N6,0),IF('Asphalt Plant (AP-7)'!$C$5=\"batch mix plant\",'Asphalt Plant (AP-7)'!N6,0),IF('Asphalt Plant (AP-8)'!$C$5=\"batch mix plant\",'Asphalt Plant (AP-8)'!N6,0),IF('Asphalt Plant (AP-9)'!$C$5=\"batch mix plant\",'Asphalt Plant (AP-9)'!N6,0),IF('Asphalt Plant (AP-10)'!$C$5=\"batch mix plant\",'Asphalt Plant (AP-10)'!N6,0)),\"\")","v":""},"",{"$f":"IF(B65=\"\",\"\",MAX(IF('Asphalt Plant (AP-1)'!$C$5=\"batch mix plant\",'Asphalt Plant (AP-1)'!O47,0),IF('Asphalt Plant (AP-2)'!$C$5=\"batch mix plant\",'Asphalt Plant (AP-2)'!O47,0),IF('Asphalt Plant (AP-3)'!$C$5=\"batch mix plant\",'Asphalt Plant (AP-3)'!O47,0),IF('Asphalt Plant (AP-4)'!$C$5=\"batch mix plant\",'Asphalt Plant (AP-4)'!O47,0),IF('Asphalt Plant (AP-5)'!$C$5=\"batch mix plant\",'Asphalt Plant (AP-5)'!O47,0),IF('Asphalt Plant (AP-6)'!$C$5=\"batch mix plant\",'Asphalt Plant (AP-6)'!O47,0),IF('Asphalt Plant (AP-7)'!$C$5=\"batch mix plant\",'Asphalt Plant (AP-7)'!O47,0),IF('Asphalt Plant (AP-8)'!$C$5=\"batch mix plant\",'Asphalt Plant (AP-8)'!O47,0),IF('Asphalt Plant (AP-9)'!$C$5=\"batch mix plant\",'Asphalt Plant (AP-9)'!O47,0),IF('Asphalt Plant (AP-10)'!$C$5=\"batch mix plant\",'Asphalt Plant (AP-10)'!O47,0)))","v":""},"",{"$f":"IF(B65=\"\",\"\",\"AP-42 Table 11.1-2,5,6,9\")","v":""},{"$f":"IF(B65=\"\",\"\",SUM(IF('Asphalt Plant (AP-1)'!$C$5=\"batch mix plant\",'Asphalt Plant (AP-1)'!Q47,0),IF('Asphalt Plant (AP-2)'!$C$5=\"batch mix plant\",'Asphalt Plant (AP-2)'!Q47,0),IF('Asphalt Plant (AP-3)'!$C$5=\"batch mix plant\",'Asphalt Plant (AP-3)'!Q47,0),IF('Asphalt Plant (AP-4)'!$C$5=\"batch mix plant\",'Asphalt Plant (AP-4)'!Q47,0),IF('Asphalt Plant (AP-5)'!$C$5=\"batch mix plant\",'Asphalt Plant (AP-5)'!Q47,0),IF('Asphalt Plant (AP-6)'!$C$5=\"batch mix plant\",'Asphalt Plant (AP-6)'!Q47,0),IF('Asphalt Plant (AP-7)'!$C$5=\"batch mix plant\",'Asphalt Plant (AP-7)'!Q47,0),IF('Asphalt Plant (AP-8)'!$C$5=\"batch mix plant\",'Asphalt Plant (AP-8)'!Q47,0),IF('Asphalt Plant (AP-9)'!$C$5=\"batch mix plant\",'Asphalt Plant (AP-9)'!Q47,0),IF('Asphalt Plant (AP-10)'!$C$5=\"batch mix plant\",'Asphalt Plant (AP-10)'!Q47,0)))","v":""},null,{"$f":"IF(B65=\"\",\"\",SUM(IF('Asphalt Plant (AP-1)'!$C$5=\"batch mix plant\",'Asphalt Plant (AP-1)'!R47,0),IF('Asphalt Plant (AP-2)'!$C$5=\"batch mix plant\",'Asphalt Plant (AP-2)'!R47,0),IF('Asphalt Plant (AP-3)'!$C$5=\"batch mix plant\",'Asphalt Plant (AP-3)'!R47,0),IF('Asphalt Plant (AP-4)'!$C$5=\"batch mix plant\",'Asphalt Plant (AP-4)'!R47,0),IF('Asphalt Plant (AP-5)'!$C$5=\"batch mix plant\",'Asphalt Plant (AP-5)'!R47,0),IF('Asphalt Plant (AP-6)'!$C$5=\"batch mix plant\",'Asphalt Plant (AP-6)'!R47,0),IF('Asphalt Plant (AP-7)'!$C$5=\"batch mix plant\",'Asphalt Plant (AP-7)'!R47,0),IF('Asphalt Plant (AP-8)'!$C$5=\"batch mix plant\",'Asphalt Plant (AP-8)'!R47,0),IF('Asphalt Plant (AP-9)'!$C$5=\"batch mix plant\",'Asphalt Plant (AP-9)'!R47,0),IF('Asphalt Plant (AP-10)'!$C$5=\"batch mix plant\",'Asphalt Plant (AP-10)'!R47,0)))","v":""},{"$f":"IF(B65=\"\",\"\",SUM(IF('Asphalt Plant (AP-1)'!$C$5=\"batch mix plant\",'Asphalt Plant (AP-1)'!S47,0),IF('Asphalt Plant (AP-2)'!$C$5=\"batch mix plant\",'Asphalt Plant (AP-2)'!S47,0),IF('Asphalt Plant (AP-3)'!$C$5=\"batch mix plant\",'Asphalt Plant (AP-3)'!S47,0),IF('Asphalt Plant (AP-4)'!$C$5=\"batch mix plant\",'Asphalt Plant (AP-4)'!S47,0),IF('Asphalt Plant (AP-5)'!$C$5=\"batch mix plant\",'Asphalt Plant (AP-5)'!S47,0),IF('Asphalt Plant (AP-6)'!$C$5=\"batch mix plant\",'Asphalt Plant (AP-6)'!S47,0),IF('Asphalt Plant (AP-7)'!$C$5=\"batch mix plant\",'Asphalt Plant (AP-7)'!S47,0),IF('Asphalt Plant (AP-8)'!$C$5=\"batch mix plant\",'Asphalt Plant (AP-8)'!S47,0),IF('Asphalt Plant (AP-9)'!$C$5=\"batch mix plant\",'Asphalt Plant (AP-9)'!S47,0),IF('Asphalt Plant (AP-10)'!$C$5=\"batch mix plant\",'Asphalt Plant (AP-10)'!S47,0)))","v":""},{"$f":"IF(B65=\"\",\"\",SUM(IF('Asphalt Plant (AP-1)'!$C$5=\"batch mix plant\",'Asphalt Plant (AP-1)'!T47,0),IF('Asphalt Plant (AP-2)'!$C$5=\"batch mix plant\",'Asphalt Plant (AP-2)'!T47,0),IF('Asphalt Plant (AP-3)'!$C$5=\"batch mix plant\",'Asphalt Plant (AP-3)'!T47,0),IF('Asphalt Plant (AP-4)'!$C$5=\"batch mix plant\",'Asphalt Plant (AP-4)'!T47,0),IF('Asphalt Plant (AP-5)'!$C$5=\"batch mix plant\",'Asphalt Plant (AP-5)'!T47,0),IF('Asphalt Plant (AP-6)'!$C$5=\"batch mix plant\",'Asphalt Plant (AP-6)'!T47,0),IF('Asphalt Plant (AP-7)'!$C$5=\"batch mix plant\",'Asphalt Plant (AP-7)'!T47,0),IF('Asphalt Plant (AP-8)'!$C$5=\"batch mix plant\",'Asphalt Plant (AP-8)'!T47,0),IF('Asphalt Plant (AP-9)'!$C$5=\"batch mix plant\",'Asphalt Plant (AP-9)'!T47,0),IF('Asphalt Plant (AP-10)'!$C$5=\"batch mix plant\",'Asphalt Plant (AP-10)'!T47,0)))","v":""}]
["",{"$f":"IF(D66=\"\",\"\",\"Batch Mix Plant - Natural Gas\")","v":""},{"$f":"IF(B66=\"\",\"\",\"30500247\")","v":""},{"$f":"IF(SUM(IF('Asphalt Plant (AP-1)'!$C$5=\"batch mix plant\",'Asphalt Plant (AP-1)'!N7,0),IF('Asphalt Plant (AP-2)'!$C$5=\"batch mix plant\",'Asphalt Plant (AP-2)'!N7,0),IF('Asphalt Plant (AP-3)'!$C$5=\"batch mix plant\",'Asphalt Plant (AP-3)'!N7,0),IF('Asphalt Plant (AP-4)'!$C$5=\"batch mix plant\",'Asphalt Plant (AP-4)'!N7,0),IF('Asphalt Plant (AP-5)'!$C$5=\"batch mix plant\",'Asphalt Plant (AP-5)'!N7,0),IF('Asphalt Plant (AP-6)'!$C$5=\"batch mix plant\",'Asphalt Plant (AP-6)'!N7,0),IF('Asphalt Plant (AP-7)'!$C$5=\"batch mix plant\",'Asphalt Plant (AP-7)'!N7,0),IF('Asphalt Plant (AP-8)'!$C$5=\"batch mix plant\",'Asphalt Plant (AP-8)'!N7,0),IF('Asphalt Plant (AP-9)'!$C$5=\"batch mix plant\",'Asphalt Plant (AP-9)'!N7,0),IF('Asphalt Plant (AP-10)'!$C$5=\"batch mix plant\",'Asphalt Plant (AP-10)'!N7,0))>0,SUM(IF('Asphalt Plant (AP-1)'!$C$5=\"batch mix plant\",'Asphalt Plant (AP-1)'!N7,0),IF('Asphalt Plant (AP-2)'!$C$5=\"batch mix plant\",'Asphalt Plant (AP-2)'!N7,0),IF('Asphalt Plant (AP-3)'!$C$5=\"batch mix plant\",'Asphalt Plant (AP-3)'!N7,0),IF('Asphalt Plant (AP-4)'!$C$5=\"batch mix plant\",'Asphalt Plant (AP-4)'!N7,0),IF('Asphalt Plant (AP-5)'!$C$5=\"batch mix plant\",'Asphalt Plant (AP-5)'!N7,0),IF('Asphalt Plant (AP-6)'!$C$5=\"batch mix plant\",'Asphalt Plant (AP-6)'!N7,0),IF('Asphalt Plant (AP-7)'!$C$5=\"batch mix plant\",'Asphalt Plant (AP-7)'!N7,0),IF('Asphalt Plant (AP-8)'!$C$5=\"batch mix plant\",'Asphalt Plant (AP-8)'!N7,0),IF('Asphalt Plant (AP-9)'!$C$5=\"batch mix plant\",'Asphalt Plant (AP-9)'!N7,0),IF('Asphalt Plant (AP-10)'!$C$5=\"batch mix plant\",'Asphalt Plant (AP-10)'!N7,0)),\"\")","v":""},"",{"$f":"IF(B66=\"\",\"\",MAX(IF('Asphalt Plant (AP-1)'!$C$5=\"batch mix plant\",'Asphalt Plant (AP-1)'!O48,0),IF('Asphalt Plant (AP-2)'!$C$5=\"batch mix plant\",'Asphalt Plant (AP-2)'!O48,0),IF('Asphalt Plant (AP-3)'!$C$5=\"batch mix plant\",'Asphalt Plant (AP-3)'!O48,0),IF('Asphalt Plant (AP-4)'!$C$5=\"batch mix plant\",'Asphalt Plant (AP-4)'!O48,0),IF('Asphalt Plant (AP-5)'!$C$5=\"batch mix plant\",'Asphalt Plant (AP-5)'!O48,0),IF('Asphalt Plant (AP-6)'!$C$5=\"batch mix plant\",'Asphalt Plant (AP-6)'!O48,0),IF('Asphalt Plant (AP-7)'!$C$5=\"batch mix plant\",'Asphalt Plant (AP-7)'!O48,0),IF('Asphalt Plant (AP-8)'!$C$5=\"batch mix plant\",'Asphalt Plant (AP-8)'!O48,0),IF('Asphalt Plant (AP-9)'!$C$5=\"batch mix plant\",'Asphalt Plant (AP-9)'!O48,0),IF('Asphalt Plant (AP-10)'!$C$5=\"batch mix plant\",'Asphalt Plant (AP-10)'!O48,0)))","v":""},"",{"$f":"IF(B66=\"\",\"\",\"AP-42 Table 11.1-2,5,6,9\")","v":""},{"$f":"IF(B66=\"\",\"\",SUM(IF('Asphalt Plant (AP-1)'!$C$5=\"batch mix plant\",'Asphalt Plant (AP-1)'!Q48,0),IF('Asphalt Plant (AP-2)'!$C$5=\"batch mix plant\",'Asphalt Plant (AP-2)'!Q48,0),IF('Asphalt Plant (AP-3)'!$C$5=\"batch mix plant\",'Asphalt Plant (AP-3)'!Q48,0),IF('Asphalt Plant (AP-4)'!$C$5=\"batch mix plant\",'Asphalt Plant (AP-4)'!Q48,0),IF('Asphalt Plant (AP-5)'!$C$5=\"batch mix plant\",'Asphalt Plant (AP-5)'!Q48,0),IF('Asphalt Plant (AP-6)'!$C$5=\"batch mix plant\",'Asphalt Plant (AP-6)'!Q48,0),IF('Asphalt Plant (AP-7)'!$C$5=\"batch mix plant\",'Asphalt Plant (AP-7)'!Q48,0),IF('Asphalt Plant (AP-8)'!$C$5=\"batch mix plant\",'Asphalt Plant (AP-8)'!Q48,0),IF('Asphalt Plant (AP-9)'!$C$5=\"batch mix plant\",'Asphalt Plant (AP-9)'!Q48,0),IF('Asphalt Plant (AP-10)'!$C$5=\"batch mix plant\",'Asphalt Plant (AP-10)'!Q48,0)))","v":""},null,{"$f":"IF(B66=\"\",\"\",SUM(IF('Asphalt Plant (AP-1)'!$C$5=\"batch mix plant\",'Asphalt Plant (AP-1)'!R48,0),IF('Asphalt Plant (AP-2)'!$C$5=\"batch mix plant\",'Asphalt Plant (AP-2)'!R48,0),IF('Asphalt Plant (AP-3)'!$C$5=\"batch mix plant\",'Asphalt Plant (AP-3)'!R48,0),IF('Asphalt Plant (AP-4)'!$C$5=\"batch mix plant\",'Asphalt Plant (AP-4)'!R48,0),IF('Asphalt Plant (AP-5)'!$C$5=\"batch mix plant\",'Asphalt Plant (AP-5)'!R48,0),IF('Asphalt Plant (AP-6)'!$C$5=\"batch mix plant\",'Asphalt Plant (AP-6)'!R48,0),IF('Asphalt Plant (AP-7)'!$C$5=\"batch mix plant\",'Asphalt Plant (AP-7)'!R48,0),IF('Asphalt Plant (AP-8)'!$C$5=\"batch mix plant\",'Asphalt Plant (AP-8)'!R48,0),IF('Asphalt Plant (AP-9)'!$C$5=\"batch mix plant\",'Asphalt Plant (AP-9)'!R48,0),IF('Asphalt Plant (AP-10)'!$C$5=\"batch mix plant\",'Asphalt Plant (AP-10)'!R48,0)))","v":""},{"$f":"IF(B66=\"\",\"\",SUM(IF('Asphalt Plant (AP-1)'!$C$5=\"batch mix plant\",'Asphalt Plant (AP-1)'!S48,0),IF('Asphalt Plant (AP-2)'!$C$5=\"batch mix plant\",'Asphalt Plant (AP-2)'!S48,0),IF('Asphalt Plant (AP-3)'!$C$5=\"batch mix plant\",'Asphalt Plant (AP-3)'!S48,0),IF('Asphalt Plant (AP-4)'!$C$5=\"batch mix plant\",'Asphalt Plant (AP-4)'!S48,0),IF('Asphalt Plant (AP-5)'!$C$5=\"batch mix plant\",'Asphalt Plant (AP-5)'!S48,0),IF('Asphalt Plant (AP-6)'!$C$5=\"batch mix plant\",'Asphalt Plant (AP-6)'!S48,0),IF('Asphalt Plant (AP-7)'!$C$5=\"batch mix plant\",'Asphalt Plant (AP-7)'!S48,0),IF('Asphalt Plant (AP-8)'!$C$5=\"batch mix plant\",'Asphalt Plant (AP-8)'!S48,0),IF('Asphalt Plant (AP-9)'!$C$5=\"batch mix plant\",'Asphalt Plant (AP-9)'!S48,0),IF('Asphalt Plant (AP-10)'!$C$5=\"batch mix plant\",'Asphalt Plant (AP-10)'!S48,0)))","v":""},{"$f":"IF(B66=\"\",\"\",SUM(IF('Asphalt Plant (AP-1)'!$C$5=\"batch mix plant\",'Asphalt Plant (AP-1)'!T48,0),IF('Asphalt Plant (AP-2)'!$C$5=\"batch mix plant\",'Asphalt Plant (AP-2)'!T48,0),IF('Asphalt Plant (AP-3)'!$C$5=\"batch mix plant\",'Asphalt Plant (AP-3)'!T48,0),IF('Asphalt Plant (AP-4)'!$C$5=\"batch mix plant\",'Asphalt Plant (AP-4)'!T48,0),IF('Asphalt Plant (AP-5)'!$C$5=\"batch mix plant\",'Asphalt Plant (AP-5)'!T48,0),IF('Asphalt Plant (AP-6)'!$C$5=\"batch mix plant\",'Asphalt Plant (AP-6)'!T48,0),IF('Asphalt Plant (AP-7)'!$C$5=\"batch mix plant\",'Asphalt Plant (AP-7)'!T48,0),IF('Asphalt Plant (AP-8)'!$C$5=\"batch mix plant\",'Asphalt Plant (AP-8)'!T48,0),IF('Asphalt Plant (AP-9)'!$C$5=\"batch mix plant\",'Asphalt Plant (AP-9)'!T48,0),IF('Asphalt Plant (AP-10)'!$C$5=\"batch mix plant\",'Asphalt Plant (AP-10)'!T48,0)))","v":""}]
["",{"$f":"IF(D67=\"\",\"\",\"Drum Mix Plant - Fuel Oil\")","v":""},{"$f":"IF(B67=\"\",\"\",\"30500258\")","v":""},{"$f":"IF(SUM(IF('Asphalt Plant (AP-1)'!$C$5=\"drum mix plant\",'Asphalt Plant (AP-1)'!N5,0),IF('Asphalt Plant (AP-2)'!$C$5=\"drum mix plant\",'Asphalt Plant (AP-2)'!N5,0),IF('Asphalt Plant (AP-3)'!$C$5=\"drum mix plant\",'Asphalt Plant (AP-3)'!N5,0),IF('Asphalt Plant (AP-4)'!$C$5=\"drum mix plant\",'Asphalt Plant (AP-4)'!N5,0),IF('Asphalt Plant (AP-5)'!$C$5=\"drum mix plant\",'Asphalt Plant (AP-5)'!N5,0),IF('Asphalt Plant (AP-6)'!$C$5=\"drum mix plant\",'Asphalt Plant (AP-6)'!N5,0),IF('Asphalt Plant (AP-7)'!$C$5=\"drum mix plant\",'Asphalt Plant (AP-7)'!N5,0),IF('Asphalt Plant (AP-8)'!$C$5=\"drum mix plant\",'Asphalt Plant (AP-8)'!N5,0),IF('Asphalt Plant (AP-9)'!$C$5=\"drum mix plant\",'Asphalt Plant (AP-9)'!N5,0),IF('Asphalt Plant (AP-10)'!$C$5=\"drum mix plant\",'Asphalt Plant (AP-10)'!N5,0))>0,SUM(IF('Asphalt Plant (AP-1)'!$C$5=\"drum mix plant\",'Asphalt Plant (AP-1)'!N5,0),IF('Asphalt Plant (AP-2)'!$C$5=\"drum mix plant\",'Asphalt Plant (AP-2)'!N5,0),IF('Asphalt Plant (AP-3)'!$C$5=\"drum mix plant\",'Asphalt Plant (AP-3)'!N5,0),IF('Asphalt Plant (AP-4)'!$C$5=\"drum mix plant\",'Asphalt Plant (AP-4)'!N5,0),IF('Asphalt Plant (AP-5)'!$C$5=\"drum mix plant\",'Asphalt Plant (AP-5)'!N5,0),IF('Asphalt Plant (AP-6)'!$C$5=\"drum mix plant\",'Asphalt Plant (AP-6)'!N5,0),IF('Asphalt Plant (AP-7)'!$C$5=\"drum mix plant\",'Asphalt Plant (AP-7)'!N5,0),IF('Asphalt Plant (AP-8)'!$C$5=\"drum mix plant\",'Asphalt Plant (AP-8)'!N5,0),IF('Asphalt Plant (AP-9)'!$C$5=\"drum mix plant\",'Asphalt Plant (AP-9)'!N5,0),IF('Asphalt Plant (AP-10)'!$C$5=\"drum mix plant\",'Asphalt Plant (AP-10)'!N5,0)),\"\")","v":""},"",{"$f":"IF(B67=\"\",\"\",MAX(IF('Asphalt Plant (AP-1)'!$C$5=\"drum mix plant\",'Asphalt Plant (AP-1)'!O46,0),IF('Asphalt Plant (AP-2)'!$C$5=\"drum mix plant\",'Asphalt Plant (AP-2)'!O46,0),IF('Asphalt Plant (AP-3)'!$C$5=\"drum mix plant\",'Asphalt Plant (AP-3)'!O46,0),IF('Asphalt Plant (AP-4)'!$C$5=\"drum mix plant\",'Asphalt Plant (AP-4)'!O46,0),IF('Asphalt Plant (AP-5)'!$C$5=\"drum mix plant\",'Asphalt Plant (AP-5)'!O46,0),IF('Asphalt Plant (AP-6)'!$C$5=\"drum mix plant\",'Asphalt Plant (AP-6)'!O46,0),IF('Asphalt Plant (AP-7)'!$C$5=\"drum mix plant\",'Asphalt Plant (AP-7)'!O46,0),IF('Asphalt Plant (AP-8)'!$C$5=\"drum mix plant\",'Asphalt Plant (AP-8)'!O46,0),IF('Asphalt Plant (AP-9)'!$C$5=\"drum mix plant\",'Asphalt Plant (AP-9)'!O46,0),IF('Asphalt Plant (AP-10)'!$C$5=\"drum mix plant\",'Asphalt Plant (AP-10)'!O46,0)))","v":""},"",{"$f":"IF(B67=\"\",\"\",\"AP-42 Table 11.1-4,7,8,10\")","v":""},{"$f":"IF(B67=\"\",\"\",SUM(IF('Asphalt Plant (AP-1)'!$C$5=\"drum mix plant\",'Asphalt Plant (AP-1)'!Q46,0),IF('Asphalt Plant (AP-2)'!$C$5=\"drum mix plant\",'Asphalt Plant (AP-2)'!Q46,0),IF('Asphalt Plant (AP-3)'!$C$5=\"drum mix plant\",'Asphalt Plant (AP-3)'!Q46,0),IF('Asphalt Plant (AP-4)'!$C$5=\"drum mix plant\",'Asphalt Plant (AP-4)'!Q46,0),IF('Asphalt Plant (AP-5)'!$C$5=\"drum mix plant\",'Asphalt Plant (AP-5)'!Q46,0),IF('Asphalt Plant (AP-6)'!$C$5=\"drum mix plant\",'Asphalt Plant (AP-6)'!Q46,0),IF('Asphalt Plant (AP-7)'!$C$5=\"drum mix plant\",'Asphalt Plant (AP-7)'!Q46,0),IF('Asphalt Plant (AP-8)'!$C$5=\"drum mix plant\",'Asphalt Plant (AP-8)'!Q46,0),IF('Asphalt Plant (AP-9)'!$C$5=\"drum mix plant\",'Asphalt Plant (AP-9)'!Q46,0),IF('Asphalt Plant (AP-10)'!$C$5=\"drum mix plant\",'Asphalt Plant (AP-10)'!Q46,0)))","v":""},null,{"$f":"IF(B67=\"\",\"\",SUM(IF('Asphalt Plant (AP-1)'!$C$5=\"drum mix plant\",'Asphalt Plant (AP-1)'!R46,0),IF('Asphalt Plant (AP-2)'!$C$5=\"drum mix plant\",'Asphalt Plant (AP-2)'!R46,0),IF('Asphalt Plant (AP-3)'!$C$5=\"drum mix plant\",'Asphalt Plant (AP-3)'!R46,0),IF('Asphalt Plant (AP-4)'!$C$5=\"drum mix plant\",'Asphalt Plant (AP-4)'!R46,0),IF('Asphalt Plant (AP-5)'!$C$5=\"drum mix plant\",'Asphalt Plant (AP-5)'!R46,0),IF('Asphalt Plant (AP-6)'!$C$5=\"drum mix plant\",'Asphalt Plant (AP-6)'!R46,0),IF('Asphalt Plant (AP-7)'!$C$5=\"drum mix plant\",'Asphalt Plant (AP-7)'!R46,0),IF('Asphalt Plant (AP-8)'!$C$5=\"drum mix plant\",'Asphalt Plant (AP-8)'!R46,0),IF('Asphalt Plant (AP-9)'!$C$5=\"drum mix plant\",'Asphalt Plant (AP-9)'!R46,0),IF('Asphalt Plant (AP-10)'!$C$5=\"drum mix plant\",'Asphalt Plant (AP-10)'!R46,0)))","v":""},{"$f":"IF(B67=\"\",\"\",SUM(IF('Asphalt Plant (AP-1)'!$C$5=\"drum mix plant\",'Asphalt Plant (AP-1)'!S46,0),IF('Asphalt Plant (AP-2)'!$C$5=\"drum mix plant\",'Asphalt Plant (AP-2)'!S46,0),IF('Asphalt Plant (AP-3)'!$C$5=\"drum mix plant\",'Asphalt Plant (AP-3)'!S46,0),IF('Asphalt Plant (AP-4)'!$C$5=\"drum mix plant\",'Asphalt Plant (AP-4)'!S46,0),IF('Asphalt Plant (AP-5)'!$C$5=\"drum mix plant\",'Asphalt Plant (AP-5)'!S46,0),IF('Asphalt Plant (AP-6)'!$C$5=\"drum mix plant\",'Asphalt Plant (AP-6)'!S46,0),IF('Asphalt Plant (AP-7)'!$C$5=\"drum mix plant\",'Asphalt Plant (AP-7)'!S46,0),IF('Asphalt Plant (AP-8)'!$C$5=\"drum mix plant\",'Asphalt Plant (AP-8)'!S46,0),IF('Asphalt Plant (AP-9)'!$C$5=\"drum mix plant\",'Asphalt Plant (AP-9)'!S46,0),IF('Asphalt Plant (AP-10)'!$C$5=\"drum mix plant\",'Asphalt Plant (AP-10)'!S46,0)))","v":""},{"$f":"IF(B67=\"\",\"\",SUM(IF('Asphalt Plant (AP-1)'!$C$5=\"drum mix plant\",'Asphalt Plant (AP-1)'!T46,0),IF('Asphalt Plant (AP-2)'!$C$5=\"drum mix plant\",'Asphalt Plant (AP-2)'!T46,0),IF('Asphalt Plant (AP-3)'!$C$5=\"drum mix plant\",'Asphalt Plant (AP-3)'!T46,0),IF('Asphalt Plant (AP-4)'!$C$5=\"drum mix plant\",'Asphalt Plant (AP-4)'!T46,0),IF('Asphalt Plant (AP-5)'!$C$5=\"drum mix plant\",'Asphalt Plant (AP-5)'!T46,0),IF('Asphalt Plant (AP-6)'!$C$5=\"drum mix plant\",'Asphalt Plant (AP-6)'!T46,0),IF('Asphalt Plant (AP-7)'!$C$5=\"drum mix plant\",'Asphalt Plant (AP-7)'!T46,0),IF('Asphalt Plant (AP-8)'!$C$5=\"drum mix plant\",'Asphalt Plant (AP-8)'!T46,0),IF('Asphalt Plant (AP-9)'!$C$5=\"drum mix plant\",'Asphalt Plant (AP-9)'!T46,0),IF('Asphalt Plant (AP-10)'!$C$5=\"drum mix plant\",'Asphalt Plant (AP-10)'!T46,0)))","v":""}]
["",{"$f":"IF(D68=\"\",\"\",\"Drum Mix Plant - Waste Oil\")","v":""},{"$f":"IF(B68=\"\",\"\",\"30500255\")","v":""},{"$f":"IF(SUM(IF('Asphalt Plant (AP-1)'!$C$5=\"drum mix plant\",'Asphalt Plant (AP-1)'!N6,0),IF('Asphalt Plant (AP-2)'!$C$5=\"drum mix plant\",'Asphalt Plant (AP-2)'!N6,0),IF('Asphalt Plant (AP-3)'!$C$5=\"drum mix plant\",'Asphalt Plant (AP-3)'!N6,0),IF('Asphalt Plant (AP-4)'!$C$5=\"drum mix plant\",'Asphalt Plant (AP-4)'!N6,0),IF('Asphalt Plant (AP-5)'!$C$5=\"drum mix plant\",'Asphalt Plant (AP-5)'!N6,0),IF('Asphalt Plant (AP-6)'!$C$5=\"drum mix plant\",'Asphalt Plant (AP-6)'!N6,0),IF('Asphalt Plant (AP-7)'!$C$5=\"drum mix plant\",'Asphalt Plant (AP-7)'!N6,0),IF('Asphalt Plant (AP-8)'!$C$5=\"drum mix plant\",'Asphalt Plant (AP-8)'!N6,0),IF('Asphalt Plant (AP-9)'!$C$5=\"drum mix plant\",'Asphalt Plant (AP-9)'!N6,0),IF('Asphalt Plant (AP-10)'!$C$5=\"drum mix plant\",'Asphalt Plant (AP-10)'!N6,0))>0,SUM(IF('Asphalt Plant (AP-1)'!$C$5=\"drum mix plant\",'Asphalt Plant (AP-1)'!N6,0),IF('Asphalt Plant (AP-2)'!$C$5=\"drum mix plant\",'Asphalt Plant (AP-2)'!N6,0),IF('Asphalt Plant (AP-3)'!$C$5=\"drum mix plant\",'Asphalt Plant (AP-3)'!N6,0),IF('Asphalt Plant (AP-4)'!$C$5=\"drum mix plant\",'Asphalt Plant (AP-4)'!N6,0),IF('Asphalt Plant (AP-5)'!$C$5=\"drum mix plant\",'Asphalt Plant (AP-5)'!N6,0),IF('Asphalt Plant (AP-6)'!$C$5=\"drum mix plant\",'Asphalt Plant (AP-6)'!N6,0),IF('Asphalt Plant (AP-7)'!$C$5=\"drum mix plant\",'Asphalt Plant (AP-7)'!N6,0),IF('Asphalt Plant (AP-8)'!$C$5=\"drum mix plant\",'Asphalt Plant (AP-8)'!N6,0),IF('Asphalt Plant (AP-9)'!$C$5=\"drum mix plant\",'Asphalt Plant (AP-9)'!N6,0),IF('Asphalt Plant (AP-10)'!$C$5=\"drum mix plant\",'Asphalt Plant (AP-10)'!N6,0)),\"\")","v":""},"",{"$f":"IF(B68=\"\",\"\",MAX(IF('Asphalt Plant (AP-1)'!$C$5=\"drum mix plant\",'Asphalt Plant (AP-1)'!O47,0),IF('Asphalt Plant (AP-2)'!$C$5=\"drum mix plant\",'Asphalt Plant (AP-2)'!O47,0),IF('Asphalt Plant (AP-3)'!$C$5=\"drum mix plant\",'Asphalt Plant (AP-3)'!O47,0),IF('Asphalt Plant (AP-4)'!$C$5=\"drum mix plant\",'Asphalt Plant (AP-4)'!O47,0),IF('Asphalt Plant (AP-5)'!$C$5=\"drum mix plant\",'Asphalt Plant (AP-5)'!O47,0),IF('Asphalt Plant (AP-6)'!$C$5=\"drum mix plant\",'Asphalt Plant (AP-6)'!O47,0),IF('Asphalt Plant (AP-7)'!$C$5=\"drum mix plant\",'Asphalt Plant (AP-7)'!O47,0),IF('Asphalt Plant (AP-8)'!$C$5=\"drum mix plant\",'Asphalt Plant (AP-8)'!O47,0),IF('Asphalt Plant (AP-9)'!$C$5=\"drum mix plant\",'Asphalt Plant (AP-9)'!O47,0),IF('Asphalt Plant (AP-10)'!$C$5=\"drum mix plant\",'Asphalt Plant (AP-10)'!O47,0)))","v":""},"",{"$f":"IF(B68=\"\",\"\",\"AP-42 Table 11.1-4,7,8,10\")","v":""},{"$f":"IF(B68=\"\",\"\",SUM(IF('Asphalt Plant (AP-1)'!$C$5=\"drum mix plant\",'Asphalt Plant (AP-1)'!Q47,0),IF('Asphalt Plant (AP-2)'!$C$5=\"drum mix plant\",'Asphalt Plant (AP-2)'!Q47,0),IF('Asphalt Plant (AP-3)'!$C$5=\"drum mix plant\",'Asphalt Plant (AP-3)'!Q47,0),IF('Asphalt Plant (AP-4)'!$C$5=\"drum mix plant\",'Asphalt Plant (AP-4)'!Q47,0),IF('Asphalt Plant (AP-5)'!$C$5=\"drum mix plant\",'Asphalt Plant (AP-5)'!Q47,0),IF('Asphalt Plant (AP-6)'!$C$5=\"drum mix plant\",'Asphalt Plant (AP-6)'!Q47,0),IF('Asphalt Plant (AP-7)'!$C$5=\"drum mix plant\",'Asphalt Plant (AP-7)'!Q47,0),IF('Asphalt Plant (AP-8)'!$C$5=\"drum mix plant\",'Asphalt Plant (AP-8)'!Q47,0),IF('Asphalt Plant (AP-9)'!$C$5=\"drum mix plant\",'Asphalt Plant (AP-9)'!Q47,0),IF('Asphalt Plant (AP-10)'!$C$5=\"drum mix plant\",'Asphalt Plant (AP-10)'!Q47,0)))","v":""},null,{"$f":"IF(B68=\"\",\"\",SUM(IF('Asphalt Plant (AP-1)'!$C$5=\"drum mix plant\",'Asphalt Plant (AP-1)'!R47,0),IF('Asphalt Plant (AP-2)'!$C$5=\"drum mix plant\",'Asphalt Plant (AP-2)'!R47,0),IF('Asphalt Plant (AP-3)'!$C$5=\"drum mix plant\",'Asphalt Plant (AP-3)'!R47,0),IF('Asphalt Plant (AP-4)'!$C$5=\"drum mix plant\",'Asphalt Plant (AP-4)'!R47,0),IF('Asphalt Plant (AP-5)'!$C$5=\"drum mix plant\",'Asphalt Plant (AP-5)'!R47,0),IF('Asphalt Plant (AP-6)'!$C$5=\"drum mix plant\",'Asphalt Plant (AP-6)'!R47,0),IF('Asphalt Plant (AP-7)'!$C$5=\"drum mix plant\",'Asphalt Plant (AP-7)'!R47,0),IF('Asphalt Plant (AP-8)'!$C$5=\"drum mix plant\",'Asphalt Plant (AP-8)'!R47,0),IF('Asphalt Plant (AP-9)'!$C$5=\"drum mix plant\",'Asphalt Plant (AP-9)'!R47,0),IF('Asphalt Plant (AP-10)'!$C$5=\"drum mix plant\",'Asphalt Plant (AP-10)'!R47,0)))","v":""},{"$f":"IF(B68=\"\",\"\",SUM(IF('Asphalt Plant (AP-1)'!$C$5=\"drum mix plant\",'Asphalt Plant (AP-1)'!S47,0),IF('Asphalt Plant (AP-2)'!$C$5=\"drum mix plant\",'Asphalt Plant (AP-2)'!S47,0),IF('Asphalt Plant (AP-3)'!$C$5=\"drum mix plant\",'Asphalt Plant (AP-3)'!S47,0),IF('Asphalt Plant (AP-4)'!$C$5=\"drum mix plant\",'Asphalt Plant (AP-4)'!S47,0),IF('Asphalt Plant (AP-5)'!$C$5=\"drum mix plant\",'Asphalt Plant (AP-5)'!S47,0),IF('Asphalt Plant (AP-6)'!$C$5=\"drum mix plant\",'Asphalt Plant (AP-6)'!S47,0),IF('Asphalt Plant (AP-7)'!$C$5=\"drum mix plant\",'Asphalt Plant (AP-7)'!S47,0),IF('Asphalt Plant (AP-8)'!$C$5=\"drum mix plant\",'Asphalt Plant (AP-8)'!S47,0),IF('Asphalt Plant (AP-9)'!$C$5=\"drum mix plant\",'Asphalt Plant (AP-9)'!S47,0),IF('Asphalt Plant (AP-10)'!$C$5=\"drum mix plant\",'Asphalt Plant (AP-10)'!S47,0)))","v":""},{"$f":"IF(B68=\"\",\"\",SUM(IF('Asphalt Plant (AP-1)'!$C$5=\"drum mix plant\",'Asphalt Plant (AP-1)'!T47,0),IF('Asphalt Plant (AP-2)'!$C$5=\"drum mix plant\",'Asphalt Plant (AP-2)'!T47,0),IF('Asphalt Plant (AP-3)'!$C$5=\"drum mix plant\",'Asphalt Plant (AP-3)'!T47,0),IF('Asphalt Plant (AP-4)'!$C$5=\"drum mix plant\",'Asphalt Plant (AP-4)'!T47,0),IF('Asphalt Plant (AP-5)'!$C$5=\"drum mix plant\",'Asphalt Plant (AP-5)'!T47,0),IF('Asphalt Plant (AP-6)'!$C$5=\"drum mix plant\",'Asphalt Plant (AP-6)'!T47,0),IF('Asphalt Plant (AP-7)'!$C$5=\"drum mix plant\",'Asphalt Plant (AP-7)'!T47,0),IF('Asphalt Plant (AP-8)'!$C$5=\"drum mix plant\",'Asphalt Plant (AP-8)'!T47,0),IF('Asphalt Plant (AP-9)'!$C$5=\"drum mix plant\",'Asphalt Plant (AP-9)'!T47,0),IF('Asphalt Plant (AP-10)'!$C$5=\"drum mix plant\",'Asphalt Plant (AP-10)'!T47,0)))","v":""}]
["",{"$f":"IF(D69=\"\",\"\",\"Drum Mix Plant - Natural Gas\")","v":""},{"$f":"IF(B69=\"\",\"\",\"30500261\")","v":""},{"$f":"IF(SUM(IF('Asphalt Plant (AP-1)'!$C$5=\"drum mix plant\",'Asphalt Plant (AP-1)'!N7,0),IF('Asphalt Plant (AP-2)'!$C$5=\"drum mix plant\",'Asphalt Plant (AP-2)'!N7,0),IF('Asphalt Plant (AP-3)'!$C$5=\"drum mix plant\",'Asphalt Plant (AP-3)'!N7,0),IF('Asphalt Plant (AP-4)'!$C$5=\"drum mix plant\",'Asphalt Plant (AP-4)'!N7,0),IF('Asphalt Plant (AP-5)'!$C$5=\"drum mix plant\",'Asphalt Plant (AP-5)'!N7,0),IF('Asphalt Plant (AP-6)'!$C$5=\"drum mix plant\",'Asphalt Plant (AP-6)'!N7,0),IF('Asphalt Plant (AP-7)'!$C$5=\"drum mix plant\",'Asphalt Plant (AP-7)'!N7,0),IF('Asphalt Plant (AP-8)'!$C$5=\"drum mix plant\",'Asphalt Plant (AP-8)'!N7,0),IF('Asphalt Plant (AP-9)'!$C$5=\"drum mix plant\",'Asphalt Plant (AP-9)'!N7,0),IF('Asphalt Plant (AP-10)'!$C$5=\"drum mix plant\",'Asphalt Plant (AP-10)'!N7,0))>0,SUM(IF('Asphalt Plant (AP-1)'!$C$5=\"drum mix plant\",'Asphalt Plant (AP-1)'!N7,0),IF('Asphalt Plant (AP-2)'!$C$5=\"drum mix plant\",'Asphalt Plant (AP-2)'!N7,0),IF('Asphalt Plant (AP-3)'!$C$5=\"drum mix plant\",'Asphalt Plant (AP-3)'!N7,0),IF('Asphalt Plant (AP-4)'!$C$5=\"drum mix plant\",'Asphalt Plant (AP-4)'!N7,0),IF('Asphalt Plant (AP-5)'!$C$5=\"drum mix plant\",'Asphalt Plant (AP-5)'!N7,0),IF('Asphalt Plant (AP-6)'!$C$5=\"drum mix plant\",'Asphalt Plant (AP-6)'!N7,0),IF('Asphalt Plant (AP-7)'!$C$5=\"drum mix plant\",'Asphalt Plant (AP-7)'!N7,0),IF('Asphalt Plant (AP-8)'!$C$5=\"drum mix plant\",'Asphalt Plant (AP-8)'!N7,0),IF('Asphalt Plant (AP-9)'!$C$5=\"drum mix plant\",'Asphalt Plant (AP-9)'!N7,0),IF('Asphalt Plant (AP-10)'!$C$5=\"drum mix plant\",'Asphalt Plant (AP-10)'!N7,0)),\"\")","v":""},"",{"$f":"IF(B69=\"\",\"\",MAX(IF('Asphalt Plant (AP-1)'!$C$5=\"drum mix plant\",'Asphalt Plant (AP-1)'!O48,0),IF('Asphalt Plant (AP-2)'!$C$5=\"drum mix plant\",'Asphalt Plant (AP-2)'!O48,0),IF('Asphalt Plant (AP-3)'!$C$5=\"drum mix plant\",'Asphalt Plant (AP-3)'!O48,0),IF('Asphalt Plant (AP-4)'!$C$5=\"drum mix plant\",'Asphalt Plant (AP-4)'!O48,0),IF('Asphalt Plant (AP-5)'!$C$5=\"drum mix plant\",'Asphalt Plant (AP-5)'!O48,0),IF('Asphalt Plant (AP-6)'!$C$5=\"drum mix plant\",'Asphalt Plant (AP-6)'!O48,0),IF('Asphalt Plant (AP-7)'!$C$5=\"drum mix plant\",'Asphalt Plant (AP-7)'!O48,0),IF('Asphalt Plant (AP-8)'!$C$5=\"drum mix plant\",'Asphalt Plant (AP-8)'!O48,0),IF('Asphalt Plant (AP-9)'!$C$5=\"drum mix plant\",'Asphalt Plant (AP-9)'!O48,0),IF('Asphalt Plant (AP-10)'!$C$5=\"drum mix plant\",'Asphalt Plant (AP-10)'!O48,0)))","v":""},"",{"$f":"IF(B69=\"\",\"\",\"AP-42 Table 11.1-4,7,8,10,12\")","v":""},{"$f":"IF(B69=\"\",\"\",SUM(IF('Asphalt Plant (AP-1)'!$C$5=\"drum mix plant\",'Asphalt Plant (AP-1)'!Q48,0),IF('Asphalt Plant (AP-2)'!$C$5=\"drum mix plant\",'Asphalt Plant (AP-2)'!Q48,0),IF('Asphalt Plant (AP-3)'!$C$5=\"drum mix plant\",'Asphalt Plant (AP-3)'!Q48,0),IF('Asphalt Plant (AP-4)'!$C$5=\"drum mix plant\",'Asphalt Plant (AP-4)'!Q48,0),IF('Asphalt Plant (AP-5)'!$C$5=\"drum mix plant\",'Asphalt Plant (AP-5)'!Q48,0),IF('Asphalt Plant (AP-6)'!$C$5=\"drum mix plant\",'Asphalt Plant (AP-6)'!Q48,0),IF('Asphalt Plant (AP-7)'!$C$5=\"drum mix plant\",'Asphalt Plant (AP-7)'!Q48,0),IF('Asphalt Plant (AP-8)'!$C$5=\"drum mix plant\",'Asphalt Plant (AP-8)'!Q48,0),IF('Asphalt Plant (AP-9)'!$C$5=\"drum mix plant\",'Asphalt Plant (AP-9)'!Q48,0),IF('Asphalt Plant (AP-10)'!$C$5=\"drum mix plant\",'Asphalt Plant (AP-10)'!Q48,0)))","v":""},null,{"$f":"IF(B69=\"\",\"\",SUM(IF('Asphalt Plant (AP-1)'!$C$5=\"drum mix plant\",'Asphalt Plant (AP-1)'!R48,0),IF('Asphalt Plant (AP-2)'!$C$5=\"drum mix plant\",'Asphalt Plant (AP-2)'!R48,0),IF('Asphalt Plant (AP-3)'!$C$5=\"drum mix plant\",'Asphalt Plant (AP-3)'!R48,0),IF('Asphalt Plant (AP-4)'!$C$5=\"drum mix plant\",'Asphalt Plant (AP-4)'!R48,0),IF('Asphalt Plant (AP-5)'!$C$5=\"drum mix plant\",'Asphalt Plant (AP-5)'!R48,0),IF('Asphalt Plant (AP-6)'!$C$5=\"drum mix plant\",'Asphalt Plant (AP-6)'!R48,0),IF('Asphalt Plant (AP-7)'!$C$5=\"drum mix plant\",'Asphalt Plant (AP-7)'!R48,0),IF('Asphalt Plant (AP-8)'!$C$5=\"drum mix plant\",'Asphalt Plant (AP-8)'!R48,0),IF('Asphalt Plant (AP-9)'!$C$5=\"drum mix plant\",'Asphalt Plant (AP-9)'!R48,0),IF('Asphalt Plant (AP-10)'!$C$5=\"drum mix plant\",'Asphalt Plant (AP-10)'!R48,0)))","v":""},{"$f":"IF(B69=\"\",\"\",SUM(IF('Asphalt Plant (AP-1)'!$C$5=\"drum mix plant\",'Asphalt Plant (AP-1)'!S48,0),IF('Asphalt Plant (AP-2)'!$C$5=\"drum mix plant\",'Asphalt Plant (AP-2)'!S48,0),IF('Asphalt Plant (AP-3)'!$C$5=\"drum mix plant\",'Asphalt Plant (AP-3)'!S48,0),IF('Asphalt Plant (AP-4)'!$C$5=\"drum mix plant\",'Asphalt Plant (AP-4)'!S48,0),IF('Asphalt Plant (AP-5)'!$C$5=\"drum mix plant\",'Asphalt Plant (AP-5)'!S48,0),IF('Asphalt Plant (AP-6)'!$C$5=\"drum mix plant\",'Asphalt Plant (AP-6)'!S48,0),IF('Asphalt Plant (AP-7)'!$C$5=\"drum mix plant\",'Asphalt Plant (AP-7)'!S48,0),IF('Asphalt Plant (AP-8)'!$C$5=\"drum mix plant\",'Asphalt Plant (AP-8)'!S48,0),IF('Asphalt Plant (AP-9)'!$C$5=\"drum mix plant\",'Asphalt Plant (AP-9)'!S48,0),IF('Asphalt Plant (AP-10)'!$C$5=\"drum mix plant\",'Asphalt Plant (AP-10)'!S48,0)))","v":""},{"$f":"IF(B69=\"\",\"\",SUM(IF('Asphalt Plant (AP-1)'!$C$5=\"drum mix plant\",'Asphalt Plant (AP-1)'!T48,0),IF('Asphalt Plant (AP-2)'!$C$5=\"drum mix plant\",'Asphalt Plant (AP-2)'!T48,0),IF('Asphalt Plant (AP-3)'!$C$5=\"drum mix plant\",'Asphalt Plant (AP-3)'!T48,0),IF('Asphalt Plant (AP-4)'!$C$5=\"drum mix plant\",'Asphalt Plant (AP-4)'!T48,0),IF('Asphalt Plant (AP-5)'!$C$5=\"drum mix plant\",'Asphalt Plant (AP-5)'!T48,0),IF('Asphalt Plant (AP-6)'!$C$5=\"drum mix plant\",'Asphalt Plant (AP-6)'!T48,0),IF('Asphalt Plant (AP-7)'!$C$5=\"drum mix plant\",'Asphalt Plant (AP-7)'!T48,0),IF('Asphalt Plant (AP-8)'!$C$5=\"drum mix plant\",'Asphalt Plant (AP-8)'!T48,0),IF('Asphalt Plant (AP-9)'!$C$5=\"drum mix plant\",'Asphalt Plant (AP-9)'!T48,0),IF('Asphalt Plant (AP-10)'!$C$5=\"drum mix plant\",'Asphalt Plant (AP-10)'!T48,0)))","v":""}]
[{"$f":"IF(D70=\"\",\"\",\"ALL\")","v":""},{"$f":"IF(D70=\"\",\"\",\"Natural Gas Fired Heater\")","v":""},{"$f":"IF(B70=\"\",\"\",\"30500206\")","v":""},{"$f":"IF(SUM('Asphalt Plant (AP-1)'!N10,'Asphalt Plant (AP-2)'!N10,'Asphalt Plant (AP-3)'!N10,'Asphalt Plant (AP-4)'!N10,'Asphalt Plant (AP-5)'!N10,'Asphalt Plant (AP-6)'!N10,'Asphalt Plant (AP-7)'!N10,'Asphalt Plant (AP-8)'!N10,'Asphalt Plant (AP-9)'!N10,'Asphalt Plant (AP-10)'!N10)>0,SUM('Asphalt Plant (AP-1)'!N10,'Asphalt Plant (AP-2)'!N10,'Asphalt Plant (AP-3)'!N10,'Asphalt Plant (AP-4)'!N10,'Asphalt Plant (AP-5)'!N10,'Asphalt Plant (AP-6)'!N10,'Asphalt Plant (AP-7)'!N10,'Asphalt Plant (AP-8)'!N10,'Asphalt Plant (AP-9)'!N10,'Asphalt Plant (AP-10)'!N10),\"\")","v":""},{"$f":"IF(B70=\"\",\"\",\"MMCF/hr\")","v":""},{"$f":"IF(B70=\"\",\"\",0.026)","v":""},{"$f":"IF(B70=\"\",\"\",\"lbs/MMCF\")","v":""},{"$f":"IF(B70=\"\",\"\",\"AP-42 Table 11.1-13\")","v":""},{"$f":"IF(B70=\"\",\"\",SUM('Asphalt Plant (AP-1)'!Q30,'Asphalt Plant (AP-2)'!Q30,'Asphalt Plant (AP-3)'!Q30,'Asphalt Plant (AP-4)'!Q30,'Asphalt Plant (AP-5)'!Q30,'Asphalt Plant (AP-6)'!Q30,'Asphalt Plant (AP-7)'!Q30,'Asphalt Plant (AP-8)'!Q30,'Asphalt Plant (AP-9)'!Q30,'Asphalt Plant (AP-10)'!Q30))","v":""},null,null,{"$f":"IF(B70=\"\",\"\",SUM('Asphalt Plant (AP-1)'!S30,'Asphalt Plant (AP-2)'!S30,'Asphalt Plant (AP-3)'!S30,'Asphalt Plant (AP-4)'!S30,'Asphalt Plant (AP-5)'!S30,'Asphalt Plant (AP-6)'!S30,'Asphalt Plant (AP-7)'!S30,'Asphalt Plant (AP-8)'!S30,'Asphalt Plant (AP-9)'!S30,'Asphalt Plant (AP-10)'!S30))","v":""},{"$f":"IF(B70=\"\",\"\",SUM('Asphalt Plant (AP-1)'!T49,'Asphalt Plant (AP-2)'!T49,'Asphalt Plant (AP-3)'!T49,'Asphalt Plant (AP-4)'!T49,'Asphalt Plant (AP-5)'!T49,'Asphalt Plant (AP-6)'!T49,'Asphalt Plant (AP-7)'!T49,'Asphalt Plant (AP-8)'!T49,'Asphalt Plant (AP-9)'!T49,'Asphalt Plant (AP-10)'!T49))","v":""}]
[{"$f":"IF(SUM('Asphalt Plant (AP-1)'!N50,'Asphalt Plant (AP-2)'!N50,'Asphalt Plant (AP-3)'!N50,'Asphalt Plant (AP-4)'!N50,'Asphalt Plant (AP-5)'!N50,'Asphalt Plant (AP-6)'!N50,'Asphalt Plant (AP-7)'!N50,'Asphalt Plant (AP-8)'!N50,'Asphalt Plant (AP-9)'!N50,'Asphalt Plant (AP-10)'!N50)>0,\"ALL\",\"\")","v":""},{"$f":"IF(SUM('Asphalt Plant (AP-1)'!O50,'Asphalt Plant (AP-2)'!O50,'Asphalt Plant (AP-3)'!O50,'Asphalt Plant (AP-4)'!O50,'Asphalt Plant (AP-5)'!O50,'Asphalt Plant (AP-6)'!O50,'Asphalt Plant (AP-7)'!O50,'Asphalt Plant (AP-8)'!O50,'Asphalt Plant (AP-9)'!O50,'Asphalt Plant (AP-10)'!O50)>0,\"Silo Filling\",\"\")","v":""},{"$f":"IF(B71=\"\",\"\",\"30500213\")","v":""},{"$f":"IF(SUM('Asphalt Plant (AP-1)'!N11,'Asphalt Plant (AP-2)'!N11,'Asphalt Plant (AP-3)'!N11,'Asphalt Plant (AP-4)'!N11,'Asphalt Plant (AP-5)'!N11,'Asphalt Plant (AP-6)'!N11,'Asphalt Plant (AP-7)'!N11,'Asphalt Plant (AP-8)'!N11,'Asphalt Plant (AP-9)'!N11,'Asphalt Plant (AP-10)'!N11)>0,SUM('Asphalt Plant (AP-1)'!N11,'Asphalt Plant (AP-2)'!N11,'Asphalt Plant (AP-3)'!N11,'Asphalt Plant (AP-4)'!N11,'Asphalt Plant (AP-5)'!N11,'Asphalt Plant (AP-6)'!N11,'Asphalt Plant (AP-7)'!N11,'Asphalt Plant (AP-8)'!N11,'Asphalt Plant (AP-9)'!N11,'Asphalt Plant (AP-10)'!N11),\"\")","v":""},"",{"$f":"IF(B30=\"\",\"\",LOOKUP(B30,'Emission Factors'!$A$23:$A$25,'Emission Factors'!$L$23:$L$25))","v":""},"",{"$f":"IF(B71=\"\",\"\",LOOKUP(B71,'Emission Factors'!$A$23:$A$25,'Emission Factors'!$C$23:$C$25))","v":""},null,null,null,null,{"$f":"IF(C71=\"\",\"\",SUM('Asphalt Plant (AP-1)'!T50,'Asphalt Plant (AP-2)'!T50,'Asphalt Plant (AP-3)'!T50,'Asphalt Plant (AP-4)'!T50,'Asphalt Plant (AP-5)'!T50,'Asphalt Plant (AP-6)'!T50,'Asphalt Plant (AP-7)'!T50,'Asphalt Plant (AP-8)'!T50,'Asphalt Plant (AP-9)'!T50,'Asphalt Plant (AP-10)'!T50,))","v":""}]
[{"$f":"IF(SUM('Asphalt Plant (AP-1)'!N51,'Asphalt Plant (AP-2)'!N51,'Asphalt Plant (AP-3)'!N51,'Asphalt Plant (AP-4)'!N51,'Asphalt Plant (AP-5)'!N51,'Asphalt Plant (AP-6)'!N51,'Asphalt Plant (AP-7)'!N51,'Asphalt Plant (AP-8)'!N51,'Asphalt Plant (AP-9)'!N51,'Asphalt Plant (AP-10)'!N51)>0,\"ALL\",\"\")","v":""},{"$f":"IF(SUM('Asphalt Plant (AP-1)'!O51,'Asphalt Plant (AP-2)'!O51,'Asphalt Plant (AP-3)'!O51,'Asphalt Plant (AP-4)'!O51,'Asphalt Plant (AP-5)'!O51,'Asphalt Plant (AP-6)'!O51,'Asphalt Plant (AP-7)'!O51,'Asphalt Plant (AP-8)'!O51,'Asphalt Plant (AP-9)'!O51,'Asphalt Plant (AP-10)'!O51)>0,\"Truck Loadout\",\"\")","v":""},{"$f":"IF(B72=\"\",\"\",\"30500214\")","v":""},{"$f":"IF(SUM('Asphalt Plant (AP-1)'!N12,'Asphalt Plant (AP-2)'!N12,'Asphalt Plant (AP-3)'!N12,'Asphalt Plant (AP-4)'!N12,'Asphalt Plant (AP-5)'!N12,'Asphalt Plant (AP-6)'!N12,'Asphalt Plant (AP-7)'!N12,'Asphalt Plant (AP-8)'!N12,'Asphalt Plant (AP-9)'!N12,'Asphalt Plant (AP-10)'!N12)>0,SUM('Asphalt Plant (AP-1)'!N12,'Asphalt Plant (AP-2)'!N12,'Asphalt Plant (AP-3)'!N12,'Asphalt Plant (AP-4)'!N12,'Asphalt Plant (AP-5)'!N12,'Asphalt Plant (AP-6)'!N12,'Asphalt Plant (AP-7)'!N12,'Asphalt Plant (AP-8)'!N12,'Asphalt Plant (AP-9)'!N12,'Asphalt Plant (AP-10)'!N12),\"\")","v":""},"",{"$f":"IF(B31=\"\",\"\",LOOKUP(B31,'Emission Factors'!$A$23:$A$25,'Emission Factors'!$L$23:$L$25))","v":""},"",{"$f":"IF(B72=\"\",\"\",LOOKUP(B72,'Emission Factors'!$A$23:$A$25,'Emission Factors'!$C$23:$C$25))","v":""},null,null,null,null,{"$f":"IF(C72=\"\",\"\",SUM('Asphalt Plant (AP-1)'!T51,'Asphalt Plant (AP-2)'!T51,'Asphalt Plant (AP-3)'!T51,'Asphalt Plant (AP-4)'!T51,'Asphalt Plant (AP-5)'!T51,'Asphalt Plant (AP-6)'!T51,'Asphalt Plant (AP-7)'!T51,'Asphalt Plant (AP-8)'!T51,'Asphalt Plant (AP-9)'!T51,'Asphalt Plant (AP-10)'!T51,))","v":""}]
[{"$f":"IF('Permitted Diesel Engines'!R50=0,\"\",\"ALL\")","v":""},{"$f":"IF('Permitted Diesel Engines'!R50=0,\"\",\"Diesel Generator ≤ 600 bhp\")","v":""},{"$f":"IF('Permitted Diesel Engines'!R50=0,\"\",LOOKUP(B73,'Emission Factors'!A43:A44,'Emission Factors'!B43:B44))","v":""},{"$f":"IF('Permitted Diesel Engines'!R50=0,\"\",'Permitted Diesel Engines'!R50)","v":""},{"$f":"IF(B73=\"\",\"\",\"MMBtu/hr\")","v":""},{"$f":"IF(B73=\"\",\"\",LOOKUP(B73,'Emission Factors'!$A$43:$A$44,'Emission Factors'!$L$43:$L$44))","v":""},{"$f":"IF(B73=\"\",\"\",LOOKUP(B73,'Emission Factors'!$A$43:$A$44,'Emission Factors'!$C$43:$C$44))","v":""},{"$f":"IF(B73=\"\",\"\",LOOKUP(B73,'Emission Factors'!$A$43:$A$44,'Emission Factors'!$M$43:$M$44))","v":""},{"$f":"IF(B73=\"\",\"\",'Emission Calculations'!D73*'Emission Calculations'!F73)","v":""},null,null,{"$f":"IF(B73=\"\",\"\",'Permitted Diesel Engines'!$AH$77)","v":""},{"$f":"IF(B73=\"\",\"\",'Permitted Diesel Engines'!$T$50*'Emission Calculations'!F73/2000)","v":""}]
[{"$f":"IF('Permitted Diesel Engines'!R51=0,\"\",\"ALL\")","v":""},{"$f":"IF('Permitted Diesel Engines'!R51=0,\"\",\"Diesel Generator> 600 bhp\")","v":""},{"$f":"IF('Permitted Diesel Engines'!R51=0,\"\",LOOKUP(B74,'Emission Factors'!A44:A45,'Emission Factors'!B44:B45))","v":""},{"$f":"IF('Permitted Diesel Engines'!R51=0,\"\",'Permitted Diesel Engines'!R51)","v":""},{"$f":"IF(B74=\"\",\"\",\"MMBtu/hr\")","v":""},{"$f":"IF(B74=\"\",\"\",LOOKUP(B74,'Emission Factors'!$A$43:$A$44,'Emission Factors'!$L$43:$L$44))","v":""},{"$f":"IF(B74=\"\",\"\",LOOKUP(B74,'Emission Factors'!$A$43:$A$44,'Emission Factors'!$C$43:$C$44))","v":""},{"$f":"IF(B74=\"\",\"\",LOOKUP(B74,'Emission Factors'!$A$43:$A$44,'Emission Factors'!$M$43:$M$44))","v":""},{"$f":"IF(B74=\"\",\"\",'Emission Calculations'!D74*'Emission Calculations'!F74)","v":""},null,null,{"$f":"IF(B74=\"\",\"\",'Permitted Diesel Engines'!$AI$77)","v":""},{"$f":"IF(B74=\"\",\"\",'Permitted Diesel Engines'!$T$51*'Emission Calculations'!F74/2000)","v":""}]
[null,null,null,null,null,null,null,null,null,"FACILITY TOTALS:",null,{"$f":"SUM(L64:L74)","v":0},{"$f":"SUM(M64:M74)","v":0}]
[]
[]
["CO"]
[{"$f":"IF(OR('Asphalt Plant (AP-1)'!$C$5=\"batch mix plant\",'Asphalt Plant (AP-2)'!$C$5=\"batch mix plant\",'Asphalt Plant (AP-3)'!$C$5=\"batch mix plant\",'Asphalt Plant (AP-4)'!$C$5=\"batch mix plant\",'Asphalt Plant (AP-5)'!$C$5=\"batch mix plant\",'Asphalt Plant (AP-6)'!$C$5=\"batch mix plant\",'Asphalt Plant (AP-7)'!$C$5=\"batch mix plant\",'Asphalt Plant (AP-8)'!$C$5=\"batch mix plant\",'Asphalt Plant (AP-9)'!$C$5=\"batch mix plant\",'Asphalt Plant (AP-10)'!$C$5=\"batch mix plant\"),\"ALL\",\"\")","v":""},{"$f":"IF(OR('Asphalt Plant (AP-1)'!$C$5=\"batch mix plant\",'Asphalt Plant (AP-2)'!$C$5=\"batch mix plant\",'Asphalt Plant (AP-3)'!$C$5=\"batch mix plant\",'Asphalt Plant (AP-4)'!$C$5=\"batch mix plant\",'Asphalt Plant (AP-5)'!$C$5=\"batch mix plant\",'Asphalt Plant (AP-6)'!$C$5=\"batch mix plant\",'Asphalt Plant (AP-7)'!$C$5=\"batch mix plant\",'Asphalt Plant (AP-8)'!$C$5=\"batch mix plant\",'Asphalt Plant (AP-9)'!$C$5=\"batch mix plant\",'Asphalt Plant (AP-10)'!$C$5=\"batch mix plant\"),\"Batch Mix Plant\",\"\")","v":""},{"$f":"IF(B79=\"\",\"\",\"30500245/46/47\")","v":""},{"$f":"IF(B79=\"\",\"\",SUM(IF('Asphalt Plant (AP-1)'!C5=\"batch mix plant\",SUM('Asphalt Plant (AP-1)'!N5:N7),0),IF('Asphalt Plant (AP-2)'!C5=\"batch mix plant\",SUM('Asphalt Plant (AP-2)'!N5:N7),0),IF('Asphalt Plant (AP-3)'!C5=\"batch mix plant\",SUM('Asphalt Plant (AP-3)'!N5:N7),0),IF('Asphalt Plant (AP-4)'!C5=\"batch mix plant\",SUM('Asphalt Plant (AP-4)'!N5:N7),0),IF('Asphalt Plant (AP-5)'!C5=\"batch mix plant\",SUM('Asphalt Plant (AP-5)'!N5:N7),0),IF('Asphalt Plant (AP-6)'!C5=\"batch mix plant\",SUM('Asphalt Plant (AP-6)'!N5:N7),0),IF('Asphalt Plant (AP-7)'!C5=\"batch mix plant\",SUM('Asphalt Plant (AP-7)'!N5:N7),0),IF('Asphalt Plant (AP-8)'!C5=\"batch mix plant\",SUM('Asphalt Plant (AP-8)'!N5:N7),0),IF('Asphalt Plant (AP-9)'!C5=\"batch mix plant\",SUM('Asphalt Plant (AP-9)'!N5:N7),0),IF('Asphalt Plant (AP-10)'!C5=\"batch mix plant\",SUM('Asphalt Plant (AP-10)'!N5:N7),0)))","v":""},{"$f":"IF(B79=\"\",\"\",\"tons/hr\")","v":""},{"$f":"IF(B79=\"\",\"\",0.4)","v":""},{"$f":"IF(B79=\"\",\"\",\"lbs/ton\")","v":""},{"$f":"IF(B79=\"\",\"\",\"AP-42 Table 11.1-2,5,6,9\")","v":""},{"$f":"IF(B79=\"\",\"\",SUM(IF('Asphalt Plant (AP-1)'!$C$5=\"batch mix plant\",'Asphalt Plant (AP-1)'!Q53,0),IF('Asphalt Plant (AP-2)'!$C$5=\"batch mix plant\",'Asphalt Plant (AP-2)'!Q53,0),IF('Asphalt Plant (AP-3)'!$C$5=\"batch mix plant\",'Asphalt Plant (AP-3)'!Q53,0),IF('Asphalt Plant (AP-4)'!$C$5=\"batch mix plant\",'Asphalt Plant (AP-4)'!Q53,0),IF('Asphalt Plant (AP-5)'!$C$5=\"batch mix plant\",'Asphalt Plant (AP-5)'!Q53,0),IF('Asphalt Plant (AP-6)'!$C$5=\"batch mix plant\",'Asphalt Plant (AP-6)'!Q53,0),IF('Asphalt Plant (AP-7)'!$C$5=\"batch mix plant\",'Asphalt Plant (AP-7)'!Q53,0),IF('Asphalt Plant (AP-8)'!$C$5=\"batch mix plant\",'Asphalt Plant (AP-8)'!Q53,0),IF('Asphalt Plant (AP-9)'!$C$5=\"batch mix plant\",'Asphalt Plant (AP-9)'!Q53,0),IF('Asphalt Plant (AP-10)'!$C$5=\"batch mix plant\",'Asphalt Plant (AP-10)'!Q53,0)))","v":""},null,{"$f":"IF(B79=\"\",\"\",SUM(IF('Asphalt Plant (AP-1)'!$C$5=\"batch mix plant\",'Asphalt Plant (AP-1)'!R53,0),IF('Asphalt Plant (AP-2)'!$C$5=\"batch mix plant\",'Asphalt Plant (AP-2)'!R53,0),IF('Asphalt Plant (AP-3)'!$C$5=\"batch mix plant\",'Asphalt Plant (AP-3)'!R53,0),IF('Asphalt Plant (AP-4)'!$C$5=\"batch mix plant\",'Asphalt Plant (AP-4)'!R53,0),IF('Asphalt Plant (AP-5)'!$C$5=\"batch mix plant\",'Asphalt Plant (AP-5)'!R53,0),IF('Asphalt Plant (AP-6)'!$C$5=\"batch mix plant\",'Asphalt Plant (AP-6)'!R53,0),IF('Asphalt Plant (AP-7)'!$C$5=\"batch mix plant\",'Asphalt Plant (AP-7)'!R53,0),IF('Asphalt Plant (AP-8)'!$C$5=\"batch mix plant\",'Asphalt Plant (AP-8)'!R53,0),IF('Asphalt Plant (AP-9)'!$C$5=\"batch mix plant\",'Asphalt Plant (AP-9)'!R53,0),IF('Asphalt Plant (AP-10)'!$C$5=\"batch mix plant\",'Asphalt Plant (AP-10)'!R53,0)))","v":""},{"$f":"IF(B79=\"\",\"\",SUM(IF('Asphalt Plant (AP-1)'!$C$5=\"batch mix plant\",'Asphalt Plant (AP-1)'!S53,0),IF('Asphalt Plant (AP-2)'!$C$5=\"batch mix plant\",'Asphalt Plant (AP-2)'!S53,0),IF('Asphalt Plant (AP-3)'!$C$5=\"batch mix plant\",'Asphalt Plant (AP-3)'!S53,0),IF('Asphalt Plant (AP-4)'!$C$5=\"batch mix plant\",'Asphalt Plant (AP-4)'!S53,0),IF('Asphalt Plant (AP-5)'!$C$5=\"batch mix plant\",'Asphalt Plant (AP-5)'!S53,0),IF('Asphalt Plant (AP-6)'!$C$5=\"batch mix plant\",'Asphalt Plant (AP-6)'!S53,0),IF('Asphalt Plant (AP-7)'!$C$5=\"batch mix plant\",'Asphalt Plant (AP-7)'!S53,0),IF('Asphalt Plant (AP-8)'!$C$5=\"batch mix plant\",'Asphalt Plant (AP-8)'!S53,0),IF('Asphalt Plant (AP-9)'!$C$5=\"batch mix plant\",'Asphalt Plant (AP-9)'!S53,0),IF('Asphalt Plant (AP-10)'!$C$5=\"batch mix plant\",'Asphalt Plant (AP-10)'!S53,0)))","v":""},{"$f":"IF(B79=\"\",\"\",SUM(IF('Asphalt Plant (AP-1)'!$C$5=\"batch mix plant\",'Asphalt Plant (AP-1)'!T53,0),IF('Asphalt Plant (AP-2)'!$C$5=\"batch mix plant\",'Asphalt Plant (AP-2)'!T53,0),IF('Asphalt Plant (AP-3)'!$C$5=\"batch mix plant\",'Asphalt Plant (AP-3)'!T53,0),IF('Asphalt Plant (AP-4)'!$C$5=\"batch mix plant\",'Asphalt Plant (AP-4)'!T53,0),IF('Asphalt Plant (AP-5)'!$C$5=\"batch mix plant\",'Asphalt Plant (AP-5)'!T53,0),IF('Asphalt Plant (AP-6)'!$C$5=\"batch mix plant\",'Asphalt Plant (AP-6)'!T53,0),IF('Asphalt Plant (AP-7)'!$C$5=\"batch mix plant\",'Asphalt Plant (AP-7)'!T53,0),IF('Asphalt Plant (AP-8)'!$C$5=\"batch mix plant\",'Asphalt Plant (AP-8)'!T53,0),IF('Asphalt Plant (AP-9)'!$C$5=\"batch mix plant\",'Asphalt Plant (AP-9)'!T53,0),IF('Asphalt Plant (AP-10)'!$C$5=\"batch mix plant\",'Asphalt Plant (AP-10)'!T53,0)))","v":""}]
[{"$f":"IF(OR('Asphalt Plant (AP-1)'!$C$5=\"drum mix plant\",'Asphalt Plant (AP-2)'!$C$5=\"drum mix plant\",'Asphalt Plant (AP-3)'!$C$5=\"drum mix plant\",'Asphalt Plant (AP-4)'!$C$5=\"drum mix plant\",'Asphalt Plant (AP-5)'!$C$5=\"drum mix plant\",'Asphalt Plant (AP-6)'!$C$5=\"drum mix plant\",'Asphalt Plant (AP-7)'!$C$5=\"drum mix plant\",'Asphalt Plant (AP-8)'!$C$5=\"drum mix plant\",'Asphalt Plant (AP-9)'!$C$5=\"drum mix plant\",'Asphalt Plant (AP-10)'!$C$5=\"drum mix plant\"),\"ALL\",\"\")","v":""},{"$f":"IF(OR('Asphalt Plant (AP-1)'!$C$5=\"drum mix plant\",'Asphalt Plant (AP-2)'!$C$5=\"drum mix plant\",'Asphalt Plant (AP-3)'!$C$5=\"drum mix plant\",'Asphalt Plant (AP-4)'!$C$5=\"drum mix plant\",'Asphalt Plant (AP-5)'!$C$5=\"drum mix plant\",'Asphalt Plant (AP-6)'!$C$5=\"drum mix plant\",'Asphalt Plant (AP-7)'!$C$5=\"drum mix plant\",'Asphalt Plant (AP-8)'!$C$5=\"drum mix plant\",'Asphalt Plant (AP-9)'!$C$5=\"drum mix plant\",'Asphalt Plant (AP-10)'!$C$5=\"drum mix plant\"),\"Drum Mix Plant\",\"\")","v":""},{"$f":"IF(B80=\"\",\"\",\"30500255/58/61\")","v":""},{"$f":"IF(B79=\"\",\"\",SUM(IF('Asphalt Plant (AP-1)'!C5=\"drum mix plant\",SUM('Asphalt Plant (AP-1)'!N5:N7),0),IF('Asphalt Plant (AP-2)'!C5=\"drum mix plant\",SUM('Asphalt Plant (AP-2)'!N5:N7),0),IF('Asphalt Plant (AP-3)'!C5=\"drum mix plant\",SUM('Asphalt Plant (AP-3)'!N5:N7),0),IF('Asphalt Plant (AP-4)'!C5=\"drum mix plant\",SUM('Asphalt Plant (AP-4)'!N5:N7),0),IF('Asphalt Plant (AP-5)'!C5=\"drum mix plant\",SUM('Asphalt Plant (AP-5)'!N5:N7),0),IF('Asphalt Plant (AP-6)'!C5=\"drum mix plant\",SUM('Asphalt Plant (AP-6)'!N5:N7),0),IF('Asphalt Plant (AP-7)'!C5=\"drum mix plant\",SUM('Asphalt Plant (AP-7)'!N5:N7),0),IF('Asphalt Plant (AP-8)'!C5=\"drum mix plant\",SUM('Asphalt Plant (AP-8)'!N5:N7),0),IF('Asphalt Plant (AP-9)'!C5=\"drum mix plant\",SUM('Asphalt Plant (AP-9)'!N5:N7),0),IF('Asphalt Plant (AP-10)'!C5=\"drum mix plant\",SUM('Asphalt Plant (AP-10)'!N5:N7),0)))","v":""},{"$f":"IF(B80=\"\",\"\",\"tons/hr\")","v":""},{"$f":"IF(B80=\"\",\"\",0.13)","v":""},{"$f":"IF(B80=\"\",\"\",\"lbs/ton\")","v":""},{"$f":"IF(B80=\"\",\"\",\"AP-42 Table 11.1-4,7,8,10\")","v":""},{"$f":"IF(B80=\"\",\"\",SUM(IF('Asphalt Plant (AP-1)'!$C$5=\"drum mix plant\",'Asphalt Plant (AP-1)'!Q53,0),IF('Asphalt Plant (AP-2)'!$C$5=\"drum mix plant\",'Asphalt Plant (AP-2)'!Q53,0),IF('Asphalt Plant (AP-3)'!$C$5=\"drum mix plant\",'Asphalt Plant (AP-3)'!Q53,0),IF('Asphalt Plant (AP-4)'!$C$5=\"drum mix plant\",'Asphalt Plant (AP-4)'!Q53,0),IF('Asphalt Plant (AP-5)'!$C$5=\"drum mix plant\",'Asphalt Plant (AP-5)'!Q53,0),IF('Asphalt Plant (AP-6)'!$C$5=\"drum mix plant\",'Asphalt Plant (AP-6)'!Q53,0),IF('Asphalt Plant (AP-7)'!$C$5=\"drum mix plant\",'Asphalt Plant (AP-7)'!Q53,0),IF('Asphalt Plant (AP-8)'!$C$5=\"drum mix plant\",'Asphalt Plant (AP-8)'!Q53,0),IF('Asphalt Plant (AP-9)'!$C$5=\"drum mix plant\",'Asphalt Plant (AP-9)'!Q53,0),IF('Asphalt Plant (AP-10)'!$C$5=\"drum mix plant\",'Asphalt Plant (AP-10)'!Q53,0)))","v":""},null,{"$f":"IF(B80=\"\",\"\",SUM(IF('Asphalt Plant (AP-1)'!$C$5=\"drum mix plant\",'Asphalt Plant (AP-1)'!R53,0),IF('Asphalt Plant (AP-2)'!$C$5=\"drum mix plant\",'Asphalt Plant (AP-2)'!R53,0),IF('Asphalt Plant (AP-3)'!$C$5=\"drum mix plant\",'Asphalt Plant (AP-3)'!R53,0),IF('Asphalt Plant (AP-4)'!$C$5=\"drum mix plant\",'Asphalt Plant (AP-4)'!R53,0),IF('Asphalt Plant (AP-5)'!$C$5=\"drum mix plant\",'Asphalt Plant (AP-5)'!R53,0),IF('Asphalt Plant (AP-6)'!$C$5=\"drum mix plant\",'Asphalt Plant (AP-6)'!R53,0),IF('Asphalt Plant (AP-7)'!$C$5=\"drum mix plant\",'Asphalt Plant (AP-7)'!R53,0),IF('Asphalt Plant (AP-8)'!$C$5=\"drum mix plant\",'Asphalt Plant (AP-8)'!R53,0),IF('Asphalt Plant (AP-9)'!$C$5=\"drum mix plant\",'Asphalt Plant (AP-9)'!R53,0),IF('Asphalt Plant (AP-10)'!$C$5=\"drum mix plant\",'Asphalt Plant (AP-10)'!R53,0)))","v":""},{"$f":"IF(B80=\"\",\"\",SUM(IF('Asphalt Plant (AP-1)'!$C$5=\"drum mix plant\",'Asphalt Plant (AP-1)'!S53,0),IF('Asphalt Plant (AP-2)'!$C$5=\"drum mix plant\",'Asphalt Plant (AP-2)'!S53,0),IF('Asphalt Plant (AP-3)'!$C$5=\"drum mix plant\",'Asphalt Plant (AP-3)'!S53,0),IF('Asphalt Plant (AP-4)'!$C$5=\"drum mix plant\",'Asphalt Plant (AP-4)'!S53,0),IF('Asphalt Plant (AP-5)'!$C$5=\"drum mix plant\",'Asphalt Plant (AP-5)'!S53,0),IF('Asphalt Plant (AP-6)'!$C$5=\"drum mix plant\",'Asphalt Plant (AP-6)'!S53,0),IF('Asphalt Plant (AP-7)'!$C$5=\"drum mix plant\",'Asphalt Plant (AP-7)'!S53,0),IF('Asphalt Plant (AP-8)'!$C$5=\"drum mix plant\",'Asphalt Plant (AP-8)'!S53,0),IF('Asphalt Plant (AP-9)'!$C$5=\"drum mix plant\",'Asphalt Plant (AP-9)'!S53,0),IF('Asphalt Plant (AP-10)'!$C$5=\"drum mix plant\",'Asphalt Plant (AP-10)'!S53,0)))","v":""},{"$f":"IF(B80=\"\",\"\",SUM(IF('Asphalt Plant (AP-1)'!$C$5=\"drum mix plant\",'Asphalt Plant (AP-1)'!T53,0),IF('Asphalt Plant (AP-2)'!$C$5=\"drum mix plant\",'Asphalt Plant (AP-2)'!T53,0),IF('Asphalt Plant (AP-3)'!$C$5=\"drum mix plant\",'Asphalt Plant (AP-3)'!T53,0),IF('Asphalt Plant (AP-4)'!$C$5=\"drum mix plant\",'Asphalt Plant (AP-4)'!T53,0),IF('Asphalt Plant (AP-5)'!$C$5=\"drum mix plant\",'Asphalt Plant (AP-5)'!T53,0),IF('Asphalt Plant (AP-6)'!$C$5=\"drum mix plant\",'Asphalt Plant (AP-6)'!T53,0),IF('Asphalt Plant (AP-7)'!$C$5=\"drum mix plant\",'Asphalt Plant (AP-7)'!T53,0),IF('Asphalt Plant (AP-8)'!$C$5=\"drum mix plant\",'Asphalt Plant (AP-8)'!T53,0),IF('Asphalt Plant (AP-9)'!$C$5=\"drum mix plant\",'Asphalt Plant (AP-9)'!T53,0),IF('Asphalt Plant (AP-10)'!$C$5=\"drum mix plant\",'Asphalt Plant (AP-10)'!T53,0)))","v":""}]
[{"$f":"IF(D81=\"\",\"\",\"ALL\")","v":""},{"$f":"IF(D81=\"\",\"\",\"Fuel Oil Fired Heater\")","v":""},{"$f":"IF(B81=\"\",\"\",\"30500208\")","v":""},{"$f":"IF(SUM('Asphalt Plant (AP-1)'!N8,'Asphalt Plant (AP-2)'!N8,'Asphalt Plant (AP-3)'!N8,'Asphalt Plant (AP-4)'!N8,'Asphalt Plant (AP-5)'!N8,'Asphalt Plant (AP-6)'!N8,'Asphalt Plant (AP-7)'!N8,'Asphalt Plant (AP-8)'!N8,'Asphalt Plant (AP-9)'!N8,'Asphalt Plant (AP-10)'!N8)>0,SUM('Asphalt Plant (AP-1)'!N8,'Asphalt Plant (AP-2)'!N8,'Asphalt Plant (AP-3)'!N8,'Asphalt Plant (AP-4)'!N8,'Asphalt Plant (AP-5)'!N8,'Asphalt Plant (AP-6)'!N8,'Asphalt Plant (AP-7)'!N8,'Asphalt Plant (AP-8)'!N8,'Asphalt Plant (AP-9)'!N8,'Asphalt Plant (AP-10)'!N8),\"\")","v":""},{"$f":"IF(B81=\"\",\"\",\"gallons/hr\")","v":""},{"$f":"IF(B81=\"\",\"\",0.0012)","v":""},{"$f":"IF(B81=\"\",\"\",\"lbs/gallon\")","v":""},{"$f":"IF(B81=\"\",\"\",\"AP-42 Table 11.1-13\")","v":""},{"$f":"IF(B81=\"\",\"\",SUM('Asphalt Plant (AP-1)'!Q54,'Asphalt Plant (AP-2)'!Q54,'Asphalt Plant (AP-3)'!Q54,'Asphalt Plant (AP-4)'!Q54,'Asphalt Plant (AP-5)'!Q54,'Asphalt Plant (AP-6)'!Q54,'Asphalt Plant (AP-7)'!Q54,'Asphalt Plant (AP-8)'!Q54,'Asphalt Plant (AP-9)'!Q54,'Asphalt Plant (AP-10)'!Q54))","v":""},null,null,{"$f":"IF(B81=\"\",\"\",SUM('Asphalt Plant (AP-1)'!S54,'Asphalt Plant (AP-2)'!S54,'Asphalt Plant (AP-3)'!S54,'Asphalt Plant (AP-4)'!S54,'Asphalt Plant (AP-5)'!S54,'Asphalt Plant (AP-6)'!S54,'Asphalt Plant (AP-7)'!S54,'Asphalt Plant (AP-8)'!S54,'Asphalt Plant (AP-9)'!S54,'Asphalt Plant (AP-10)'!S54))","v":""},{"$f":"IF(B81=\"\",\"\",SUM('Asphalt Plant (AP-1)'!T54,'Asphalt Plant (AP-2)'!T54,'Asphalt Plant (AP-3)'!T54,'Asphalt Plant (AP-4)'!T54,'Asphalt Plant (AP-5)'!T54,'Asphalt Plant (AP-6)'!T54,'Asphalt Plant (AP-7)'!T54,'Asphalt Plant (AP-8)'!T54,'Asphalt Plant (AP-9)'!T54,'Asphalt Plant (AP-10)'!T54))","v":""}]
[{"$f":"IF(D82=\"\",\"\",\"ALL\")","v":""},{"$f":"IF(D82=\"\",\"\",\"Waste Oil Fired Heater\")","v":""},{"$f":"IF(B82=\"\",\"\",\"30500208\")","v":""},{"$f":"IF(SUM('Asphalt Plant (AP-1)'!N9,'Asphalt Plant (AP-2)'!N9,'Asphalt Plant (AP-3)'!N9,'Asphalt Plant (AP-4)'!N9,'Asphalt Plant (AP-5)'!N9,'Asphalt Plant (AP-6)'!N9,'Asphalt Plant (AP-7)'!N9,'Asphalt Plant (AP-8)'!N9,'Asphalt Plant (AP-9)'!N9,'Asphalt Plant (AP-10)'!N9)>0,SUM('Asphalt Plant (AP-1)'!N9,'Asphalt Plant (AP-2)'!N9,'Asphalt Plant (AP-3)'!N9,'Asphalt Plant (AP-4)'!N9,'Asphalt Plant (AP-5)'!N9,'Asphalt Plant (AP-6)'!N9,'Asphalt Plant (AP-7)'!N9,'Asphalt Plant (AP-8)'!N9,'Asphalt Plant (AP-9)'!N9,'Asphalt Plant (AP-10)'!N9),\"\")","v":""},{"$f":"IF(B82=\"\",\"\",\"gallons/hr\")","v":""},{"$f":"IF(B82=\"\",\"\",0.0012)","v":""},{"$f":"IF(B82=\"\",\"\",\"lbs/gallon\")","v":""},{"$f":"IF(B82=\"\",\"\",\"AP-42 Table 11.1-13\")","v":""},{"$f":"IF(B82=\"\",\"\",SUM('Asphalt Plant (AP-1)'!Q55,'Asphalt Plant (AP-2)'!Q55,'Asphalt Plant (AP-3)'!Q55,'Asphalt Plant (AP-4)'!Q55,'Asphalt Plant (AP-5)'!Q55,'Asphalt Plant (AP-6)'!Q55,'Asphalt Plant (AP-7)'!Q55,'Asphalt Plant (AP-8)'!Q55,'Asphalt Plant (AP-9)'!Q55,'Asphalt Plant (AP-10)'!Q55))","v":""},null,{"$f":"IF(C82=\"\",\"\",SUM('Asphalt Plant (AP-1)'!R55,'Asphalt Plant (AP-2)'!R55,'Asphalt Plant (AP-3)'!R55,'Asphalt Plant (AP-4)'!R55,'Asphalt Plant (AP-5)'!R55,'Asphalt Plant (AP-6)'!R55,'Asphalt Plant (AP-7)'!R55,'Asphalt Plant (AP-8)'!R55,'Asphalt Plant (AP-9)'!R55,'Asphalt Plant (AP-10)'!R55))","v":""},{"$f":"IF(B82=\"\",\"\",SUM('Asphalt Plant (AP-1)'!S55,'Asphalt Plant (AP-2)'!S55,'Asphalt Plant (AP-3)'!S55,'Asphalt Plant (AP-4)'!S55,'Asphalt Plant (AP-5)'!S55,'Asphalt Plant (AP-6)'!S55,'Asphalt Plant (AP-7)'!S55,'Asphalt Plant (AP-8)'!S55,'Asphalt Plant (AP-9)'!S55,'Asphalt Plant (AP-10)'!S55))","v":""},{"$f":"IF(B82=\"\",\"\",SUM('Asphalt Plant (AP-1)'!T55,'Asphalt Plant (AP-2)'!T55,'Asphalt Plant (AP-3)'!T55,'Asphalt Plant (AP-4)'!T55,'Asphalt Plant (AP-5)'!T55,'Asphalt Plant (AP-6)'!T55,'Asphalt Plant (AP-7)'!T55,'Asphalt Plant (AP-8)'!T55,'Asphalt Plant (AP-9)'!T55,'Asphalt Plant (AP-10)'!T55))","v":""}]
[{"$f":"IF(D83=\"\",\"\",\"ALL\")","v":""},{"$f":"IF(D83=\"\",\"\",\"Natural Gas Fired Heater\")","v":""},{"$f":"IF(B83=\"\",\"\",\"30500206\")","v":""},{"$f":"IF(SUM('Asphalt Plant (AP-1)'!N10,'Asphalt Plant (AP-2)'!N10,'Asphalt Plant (AP-3)'!N10,'Asphalt Plant (AP-4)'!N10,'Asphalt Plant (AP-5)'!N10,'Asphalt Plant (AP-6)'!N10,'Asphalt Plant (AP-7)'!N10,'Asphalt Plant (AP-8)'!N10,'Asphalt Plant (AP-9)'!N10,'Asphalt Plant (AP-10)'!N10)>0,SUM('Asphalt Plant (AP-1)'!N10,'Asphalt Plant (AP-2)'!N10,'Asphalt Plant (AP-3)'!N10,'Asphalt Plant (AP-4)'!N10,'Asphalt Plant (AP-5)'!N10,'Asphalt Plant (AP-6)'!N10,'Asphalt Plant (AP-7)'!N10,'Asphalt Plant (AP-8)'!N10,'Asphalt Plant (AP-9)'!N10,'Asphalt Plant (AP-10)'!N10),\"\")","v":""},{"$f":"IF(B83=\"\",\"\",\"MMCF/hr\")","v":""},{"$f":"IF(B83=\"\",\"\",8.9)","v":""},{"$f":"IF(B83=\"\",\"\",\"lbs/MMCF\")","v":""},{"$f":"IF(B83=\"\",\"\",\"AP-42 Table 11.1-13\")","v":""},{"$f":"IF(B83=\"\",\"\",SUM('Asphalt Plant (AP-1)'!Q56,'Asphalt Plant (AP-2)'!Q56,'Asphalt Plant (AP-3)'!Q56,'Asphalt Plant (AP-4)'!Q56,'Asphalt Plant (AP-5)'!Q56,'Asphalt Plant (AP-6)'!Q56,'Asphalt Plant (AP-7)'!Q56,'Asphalt Plant (AP-8)'!Q56,'Asphalt Plant (AP-9)'!Q56,'Asphalt Plant (AP-10)'!Q56))","v":""},null,{"$f":"IF(C83=\"\",\"\",SUM('Asphalt Plant (AP-1)'!R56,'Asphalt Plant (AP-2)'!R56,'Asphalt Plant (AP-3)'!R56,'Asphalt Plant (AP-4)'!R56,'Asphalt Plant (AP-5)'!R56,'Asphalt Plant (AP-6)'!R56,'Asphalt Plant (AP-7)'!R56,'Asphalt Plant (AP-8)'!R56,'Asphalt Plant (AP-9)'!R56,'Asphalt Plant (AP-10)'!R56))","v":""},{"$f":"IF(B83=\"\",\"\",SUM('Asphalt Plant (AP-1)'!S56,'Asphalt Plant (AP-2)'!S56,'Asphalt Plant (AP-3)'!S56,'Asphalt Plant (AP-4)'!S56,'Asphalt Plant (AP-5)'!S56,'Asphalt Plant (AP-6)'!S56,'Asphalt Plant (AP-7)'!S56,'Asphalt Plant (AP-8)'!S56,'Asphalt Plant (AP-9)'!S56,'Asphalt Plant (AP-10)'!S56))","v":""},{"$f":"IF(B83=\"\",\"\",SUM('Asphalt Plant (AP-1)'!T56,'Asphalt Plant (AP-2)'!T56,'Asphalt Plant (AP-3)'!T56,'Asphalt Plant (AP-4)'!T56,'Asphalt Plant (AP-5)'!T56,'Asphalt Plant (AP-6)'!T56,'Asphalt Plant (AP-7)'!T56,'Asphalt Plant (AP-8)'!T56,'Asphalt Plant (AP-9)'!T56,'Asphalt Plant (AP-10)'!T56))","v":""}]
[{"$f":"IF(SUM('Asphalt Plant (AP-1)'!N57,'Asphalt Plant (AP-2)'!N57,'Asphalt Plant (AP-3)'!N57,'Asphalt Plant (AP-4)'!N57,'Asphalt Plant (AP-5)'!N57,'Asphalt Plant (AP-6)'!N57,'Asphalt Plant (AP-7)'!N57,'Asphalt Plant (AP-8)'!N57,'Asphalt Plant (AP-9)'!N57,'Asphalt Plant (AP-10)'!N57)>0,\"ALL\",\"\")","v":""},{"$f":"IF(SUM('Asphalt Plant (AP-1)'!O57,'Asphalt Plant (AP-2)'!O57,'Asphalt Plant (AP-3)'!O57,'Asphalt Plant (AP-4)'!O57,'Asphalt Plant (AP-5)'!O57,'Asphalt Plant (AP-6)'!O57,'Asphalt Plant (AP-7)'!O57,'Asphalt Plant (AP-8)'!O57,'Asphalt Plant (AP-9)'!O57,'Asphalt Plant (AP-10)'!O57)>0,\"Silo Filling\",\"\")","v":""},{"$f":"IF(B84=\"\",\"\",\"30500213\")","v":""},{"$f":"IF(SUM('Asphalt Plant (AP-1)'!N11,'Asphalt Plant (AP-2)'!N11,'Asphalt Plant (AP-3)'!N11,'Asphalt Plant (AP-4)'!N11,'Asphalt Plant (AP-5)'!N11,'Asphalt Plant (AP-6)'!N11,'Asphalt Plant (AP-7)'!N11,'Asphalt Plant (AP-8)'!N11,'Asphalt Plant (AP-9)'!N11,'Asphalt Plant (AP-10)'!N11)>0,SUM('Asphalt Plant (AP-1)'!N11,'Asphalt Plant (AP-2)'!N11,'Asphalt Plant (AP-3)'!N11,'Asphalt Plant (AP-4)'!N11,'Asphalt Plant (AP-5)'!N11,'Asphalt Plant (AP-6)'!N11,'Asphalt Plant (AP-7)'!N11,'Asphalt Plant (AP-8)'!N11,'Asphalt Plant (AP-9)'!N11,'Asphalt Plant (AP-10)'!N11),\"\")","v":""},{"$f":"IF(B84=\"\",\"\",\"tons/hr\")","v":""},{"$f":"IF(B30=\"\",\"\",LOOKUP(B30,'Emission Factors'!$A$23:$A$25,'Emission Factors'!$N$23:$N$25))","v":""},{"$f":"IF(B84=\"\",\"\",\"lb/ton\")","v":""},{"$f":"IF(B84=\"\",\"\",LOOKUP(B84,'Emission Factors'!$A$23:$A$25,'Emission Factors'!$C$23:$C$25))","v":""},null,null,null,null,{"$f":"IF(C12=\"\",\"\",SUM('Asphalt Plant (AP-1)'!T57,'Asphalt Plant (AP-2)'!T57,'Asphalt Plant (AP-3)'!T57,'Asphalt Plant (AP-4)'!T57,'Asphalt Plant (AP-5)'!T57,'Asphalt Plant (AP-6)'!T57,'Asphalt Plant (AP-7)'!T57,'Asphalt Plant (AP-8)'!T57,'Asphalt Plant (AP-9)'!T57,'Asphalt Plant (AP-10)'!T57,))","v":""}]
[{"$f":"IF(SUM('Asphalt Plant (AP-1)'!N58,'Asphalt Plant (AP-2)'!N58,'Asphalt Plant (AP-3)'!N58,'Asphalt Plant (AP-4)'!N58,'Asphalt Plant (AP-5)'!N58,'Asphalt Plant (AP-6)'!N58,'Asphalt Plant (AP-7)'!N58,'Asphalt Plant (AP-8)'!N58,'Asphalt Plant (AP-9)'!N58,'Asphalt Plant (AP-10)'!N58)>0,\"ALL\",\"\")","v":""},{"$f":"IF(SUM('Asphalt Plant (AP-1)'!O58,'Asphalt Plant (AP-2)'!O58,'Asphalt Plant (AP-3)'!O58,'Asphalt Plant (AP-4)'!O58,'Asphalt Plant (AP-5)'!O58,'Asphalt Plant (AP-6)'!O58,'Asphalt Plant (AP-7)'!O58,'Asphalt Plant (AP-8)'!O58,'Asphalt Plant (AP-9)'!O58,'Asphalt Plant (AP-10)'!O58)>0,\"Truck Loadout\",\"\")","v":""},{"$f":"IF(B85=\"\",\"\",\"30500214\")","v":""},{"$f":"IF(SUM('Asphalt Plant (AP-1)'!N12,'Asphalt Plant (AP-2)'!N12,'Asphalt Plant (AP-3)'!N12,'Asphalt Plant (AP-4)'!N12,'Asphalt Plant (AP-5)'!N12,'Asphalt Plant (AP-6)'!N12,'Asphalt Plant (AP-7)'!N12,'Asphalt Plant (AP-8)'!N12,'Asphalt Plant (AP-9)'!N12,'Asphalt Plant (AP-10)'!N12)>0,SUM('Asphalt Plant (AP-1)'!N12,'Asphalt Plant (AP-2)'!N12,'Asphalt Plant (AP-3)'!N12,'Asphalt Plant (AP-4)'!N12,'Asphalt Plant (AP-5)'!N12,'Asphalt Plant (AP-6)'!N12,'Asphalt Plant (AP-7)'!N12,'Asphalt Plant (AP-8)'!N12,'Asphalt Plant (AP-9)'!N12,'Asphalt Plant (AP-10)'!N12),\"\")","v":""},"",{"$f":"IF(B31=\"\",\"\",LOOKUP(B31,'Emission Factors'!$A$23:$A$25,'Emission Factors'!$N$23:$N$25))","v":""},"",{"$f":"IF(B85=\"\",\"\",LOOKUP(B85,'Emission Factors'!$A$23:$A$25,'Emission Factors'!$C$23:$C$25))","v":""},null,null,null,null,{"$f":"IF(C13=\"\",\"\",SUM('Asphalt Plant (AP-1)'!T58,'Asphalt Plant (AP-2)'!T58,'Asphalt Plant (AP-3)'!T58,'Asphalt Plant (AP-4)'!T58,'Asphalt Plant (AP-5)'!T58,'Asphalt Plant (AP-6)'!T58,'Asphalt Plant (AP-7)'!T58,'Asphalt Plant (AP-8)'!T58,'Asphalt Plant (AP-9)'!T58,'Asphalt Plant (AP-10)'!T58,))","v":""}]
[{"$f":"IF('Permitted Diesel Engines'!R50=0,\"\",\"ALL\")","v":""},{"$f":"IF('Permitted Diesel Engines'!R50=0,\"\",\"Diesel Generator ≤ 600 bhp\")","v":""},{"$f":"IF('Permitted Diesel Engines'!R50=0,\"\",LOOKUP(B86,'Emission Factors'!A43:A44,'Emission Factors'!B43:B44))","v":""},{"$f":"IF('Permitted Diesel Engines'!R50=0,\"\",'Permitted Diesel Engines'!R50)","v":""},{"$f":"IF(B86=\"\",\"\",\"MMBtu/hr\")","v":""},{"$f":"IF(B86=\"\",\"\",LOOKUP(B86,'Emission Factors'!$A$43:$A$44,'Emission Factors'!$N$43:$N$44))","v":""},{"$f":"IF(B86=\"\",\"\",LOOKUP(B86,'Emission Factors'!$A$43:$A$44,'Emission Factors'!$C$43:$C$44))","v":""},{"$f":"IF(B86=\"\",\"\",LOOKUP(B86,'Emission Factors'!$A$43:$A$44,'Emission Factors'!$O$43:$O$44))","v":""},{"$f":"IF(B86=\"\",\"\",'Emission Calculations'!D86*'Emission Calculations'!F86)","v":""},null,null,{"$f":"IF(B86=\"\",\"\",'Permitted Diesel Engines'!$AJ$77)","v":""},{"$f":"IF(B86=\"\",\"\",'Permitted Diesel Engines'!$T$50*F86/2000)","v":""}]
[{"$f":"IF('Permitted Diesel Engines'!R51=0,\"\",\"ALL\")","v":""},{"$f":"IF('Permitted Diesel Engines'!R51=0,\"\",\"Diesel Generator> 600 bhp\")","v":""},{"$f":"IF('Permitted Diesel Engines'!R51=0,\"\",LOOKUP(B87,'Emission Factors'!A44:A45,'Emission Factors'!B44:B45))","v":""},{"$f":"IF('Permitted Diesel Engines'!R51=0,\"\",'Permitted Diesel Engines'!R51)","v":""},{"$f":"IF(B87=\"\",\"\",\"MMBtu/hr\")","v":""},{"$f":"IF(B87=\"\",\"\",LOOKUP(B87,'Emission Factors'!$A$43:$A$44,'Emission Factors'!$N$43:$N$44))","v":""},{"$f":"IF(B87=\"\",\"\",LOOKUP(B87,'Emission Factors'!$A$43:$A$44,'Emission Factors'!$C$43:$C$44))","v":""},{"$f":"IF(B87=\"\",\"\",LOOKUP(B87,'Emission Factors'!$A$43:$A$44,'Emission Factors'!$O$43:$O$44))","v":""},{"$f":"IF(B87=\"\",\"\",'Emission Calculations'!D87*'Emission Calculations'!F87)","v":""},null,null,{"$f":"IF(B87=\"\",\"\",'Permitted Diesel Engines'!$AK$77)","v":""},{"$f":"IF(B87=\"\",\"\",'Permitted Diesel Engines'!$T$51*F87/2000)","v":""}]
[null,null,null,null,null,null,null,null,null,"FACILITY TOTALS:",null,{"$f":"SUM(L79:L87)","v":0},{"$f":"SUM(M79:M87)","v":0}]
[]
[null,null,null,null,null,null,null,null,"Potential Hourly ",null,"Potential Hourly","Potential Annual ","Actual "]
["EP","Description of Process","SCC #","Max Design Rate","Units of Measure","Emission Factor","Units of Measure","Source of Emission Factor","Uncontrolled Emissions(lb/hr)","Control Efficiency","Controlled Emissions (lb/hr)","Emissions (tons/yr)","Emissions (tons/yr)"]
["Acetaldehyde"]
[{"$f":"IF(OR('Asphalt Plant (AP-1)'!$C$5=\"batch mix plant\",'Asphalt Plant (AP-2)'!$C$5=\"batch mix plant\",'Asphalt Plant (AP-3)'!$C$5=\"batch mix plant\",'Asphalt Plant (AP-4)'!$C$5=\"batch mix plant\",'Asphalt Plant (AP-5)'!$C$5=\"batch mix plant\",'Asphalt Plant (AP-6)'!$C$5=\"batch mix plant\",'Asphalt Plant (AP-7)'!$C$5=\"batch mix plant\",'Asphalt Plant (AP-8)'!$C$5=\"batch mix plant\",'Asphalt Plant (AP-9)'!$C$5=\"batch mix plant\",'Asphalt Plant (AP-10)'!$C$5=\"batch mix plant\"),\"ALL\",\"\")","v":""},{"$f":"IF(OR('Asphalt Plant (AP-1)'!$C$5=\"batch mix plant\",'Asphalt Plant (AP-2)'!$C$5=\"batch mix plant\",'Asphalt Plant (AP-3)'!$C$5=\"batch mix plant\",'Asphalt Plant (AP-4)'!$C$5=\"batch mix plant\",'Asphalt Plant (AP-5)'!$C$5=\"batch mix plant\",'Asphalt Plant (AP-6)'!$C$5=\"batch mix plant\",'Asphalt Plant (AP-7)'!$C$5=\"batch mix plant\",'Asphalt Plant (AP-8)'!$C$5=\"batch mix plant\",'Asphalt Plant (AP-9)'!$C$5=\"batch mix plant\",'Asphalt Plant (AP-10)'!$C$5=\"batch mix plant\"),\"Batch Mix Plant\",\"\")","v":""},{"$f":"IF(B93=\"\",\"\",\"30500245/46/47\")","v":""},{"$f":"IF(B93=\"\",\"\",SUM(IF('Asphalt Plant (AP-1)'!C5=\"batch mix plant\",SUM('Asphalt Plant (AP-1)'!N5:N7),0),IF('Asphalt Plant (AP-2)'!C5=\"batch mix plant\",SUM('Asphalt Plant (AP-2)'!N5:N7),0),IF('Asphalt Plant (AP-3)'!C5=\"batch mix plant\",SUM('Asphalt Plant (AP-3)'!N5:N7),0),IF('Asphalt Plant (AP-4)'!C5=\"batch mix plant\",SUM('Asphalt Plant (AP-4)'!N5:N7),0),IF('Asphalt Plant (AP-5)'!C5=\"batch mix plant\",SUM('Asphalt Plant (AP-5)'!N5:N7),0),IF('Asphalt Plant (AP-6)'!C5=\"batch mix plant\",SUM('Asphalt Plant (AP-6)'!N5:N7),0),IF('Asphalt Plant (AP-7)'!C5=\"batch mix plant\",SUM('Asphalt Plant (AP-7)'!N5:N7),0),IF('Asphalt Plant (AP-8)'!C5=\"batch mix plant\",SUM('Asphalt Plant (AP-8)'!N5:N7),0),IF('Asphalt Plant (AP-9)'!C5=\"batch mix plant\",SUM('Asphalt Plant (AP-9)'!N5:N7),0),IF('Asphalt Plant (AP-10)'!C5=\"batch mix plant\",SUM('Asphalt Plant (AP-10)'!N5:N7),0)))","v":""},{"$f":"IF(B93=\"\",\"\",\"tons/hr\")","v":""},{"$f":"IF(B93=\"\",\"\",0.00032)","v":""},{"$f":"IF(B93=\"\",\"\",\"lbs/ton\")","v":""},{"$f":"IF(B93=\"\",\"\",\"AP-42 Table 11.1-2,5,6,9\")","v":""},{"$f":"IF(B93=\"\",\"\",SUM(IF('Asphalt Plant (AP-1)'!$C$5=\"batch mix plant\",'Asphalt Plant (AP-1)'!Q60,0),IF('Asphalt Plant (AP-2)'!$C$5=\"batch mix plant\",'Asphalt Plant (AP-2)'!Q60,0),IF('Asphalt Plant (AP-3)'!$C$5=\"batch mix plant\",'Asphalt Plant (AP-3)'!Q60,0),IF('Asphalt Plant (AP-4)'!$C$5=\"batch mix plant\",'Asphalt Plant (AP-4)'!Q60,0),IF('Asphalt Plant (AP-5)'!$C$5=\"batch mix plant\",'Asphalt Plant (AP-5)'!Q60,0),IF('Asphalt Plant (AP-6)'!$C$5=\"batch mix plant\",'Asphalt Plant (AP-6)'!Q60,0),IF('Asphalt Plant (AP-7)'!$C$5=\"batch mix plant\",'Asphalt Plant (AP-7)'!Q60,0),IF('Asphalt Plant (AP-8)'!$C$5=\"batch mix plant\",'Asphalt Plant (AP-8)'!Q60,0),IF('Asphalt Plant (AP-9)'!$C$5=\"batch mix plant\",'Asphalt Plant (AP-9)'!Q60,0),IF('Asphalt Plant (AP-10)'!$C$5=\"batch mix plant\",'Asphalt Plant (AP-10)'!Q60,0)))","v":""},null,null,{"$f":"IF(B93=\"\",\"\",SUM(IF('Asphalt Plant (AP-1)'!$C$5=\"batch mix plant\",'Asphalt Plant (AP-1)'!S60,0),IF('Asphalt Plant (AP-2)'!$C$5=\"batch mix plant\",'Asphalt Plant (AP-2)'!S60,0),IF('Asphalt Plant (AP-3)'!$C$5=\"batch mix plant\",'Asphalt Plant (AP-3)'!S60,0),IF('Asphalt Plant (AP-4)'!$C$5=\"batch mix plant\",'Asphalt Plant (AP-4)'!S60,0),IF('Asphalt Plant (AP-5)'!$C$5=\"batch mix plant\",'Asphalt Plant (AP-5)'!S60,0),IF('Asphalt Plant (AP-6)'!$C$5=\"batch mix plant\",'Asphalt Plant (AP-6)'!S60,0),IF('Asphalt Plant (AP-7)'!$C$5=\"batch mix plant\",'Asphalt Plant (AP-7)'!S60,0),IF('Asphalt Plant (AP-8)'!$C$5=\"batch mix plant\",'Asphalt Plant (AP-8)'!S60,0),IF('Asphalt Plant (AP-9)'!$C$5=\"batch mix plant\",'Asphalt Plant (AP-9)'!S60,0),IF('Asphalt Plant (AP-10)'!$C$5=\"batch mix plant\",'Asphalt Plant (AP-10)'!S60,0)))","v":""},{"$f":"IF(B93=\"\",\"\",SUM(IF('Asphalt Plant (AP-1)'!$C$5=\"batch mix plant\",'Asphalt Plant (AP-1)'!T60,0),IF('Asphalt Plant (AP-2)'!$C$5=\"batch mix plant\",'Asphalt Plant (AP-2)'!T60,0),IF('Asphalt Plant (AP-3)'!$C$5=\"batch mix plant\",'Asphalt Plant (AP-3)'!T60,0),IF('Asphalt Plant (AP-4)'!$C$5=\"batch mix plant\",'Asphalt Plant (AP-4)'!T60,0),IF('Asphalt Plant (AP-5)'!$C$5=\"batch mix plant\",'Asphalt Plant (AP-5)'!T60,0),IF('Asphalt Plant (AP-6)'!$C$5=\"batch mix plant\",'Asphalt Plant (AP-6)'!T60,0),IF('Asphalt Plant (AP-7)'!$C$5=\"batch mix plant\",'Asphalt Plant (AP-7)'!T60,0),IF('Asphalt Plant (AP-8)'!$C$5=\"batch mix plant\",'Asphalt Plant (AP-8)'!T60,0),IF('Asphalt Plant (AP-9)'!$C$5=\"batch mix plant\",'Asphalt Plant (AP-9)'!T60,0),IF('Asphalt Plant (AP-10)'!$C$5=\"batch mix plant\",'Asphalt Plant (AP-10)'!T60,0)))","v":""}]
[{"$f":"IF(OR('Asphalt Plant (AP-1)'!$C$5=\"drum mix plant\",'Asphalt Plant (AP-2)'!$C$5=\"drum mix plant\",'Asphalt Plant (AP-3)'!$C$5=\"drum mix plant\",'Asphalt Plant (AP-4)'!$C$5=\"drum mix plant\",'Asphalt Plant (AP-5)'!$C$5=\"drum mix plant\",'Asphalt Plant (AP-6)'!$C$5=\"drum mix plant\",'Asphalt Plant (AP-7)'!$C$5=\"drum mix plant\",'Asphalt Plant (AP-8)'!$C$5=\"drum mix plant\",'Asphalt Plant (AP-9)'!$C$5=\"drum mix plant\",'Asphalt Plant (AP-10)'!$C$5=\"drum mix plant\"),\"ALL\",\"\")","v":""},{"$f":"IF(OR('Asphalt Plant (AP-1)'!$C$5=\"drum mix plant\",'Asphalt Plant (AP-2)'!$C$5=\"drum mix plant\",'Asphalt Plant (AP-3)'!$C$5=\"drum mix plant\",'Asphalt Plant (AP-4)'!$C$5=\"drum mix plant\",'Asphalt Plant (AP-5)'!$C$5=\"drum mix plant\",'Asphalt Plant (AP-6)'!$C$5=\"drum mix plant\",'Asphalt Plant (AP-7)'!$C$5=\"drum mix plant\",'Asphalt Plant (AP-8)'!$C$5=\"drum mix plant\",'Asphalt Plant (AP-9)'!$C$5=\"drum mix plant\",'Asphalt Plant (AP-10)'!$C$5=\"drum mix plant\"),\"Drum Mix Plant\",\"\")","v":""},{"$f":"IF(B94=\"\",\"\",\"30500258/61\")","v":""},{"$f":"IF(B94=\"\",\"\",SUM(IF('Asphalt Plant (AP-1)'!C5=\"drum mix plant\",SUM('Asphalt Plant (AP-1)'!N5:N6),0),IF('Asphalt Plant (AP-2)'!C5=\"drum mix plant\",SUM('Asphalt Plant (AP-2)'!N5:N6),0),IF('Asphalt Plant (AP-3)'!C5=\"drum mix plant\",SUM('Asphalt Plant (AP-3)'!N5:N6),0),IF('Asphalt Plant (AP-4)'!C5=\"drum mix plant\",SUM('Asphalt Plant (AP-4)'!N5:N6),0),IF('Asphalt Plant (AP-5)'!C5=\"drum mix plant\",SUM('Asphalt Plant (AP-5)'!N5:N6),0),IF('Asphalt Plant (AP-6)'!C5=\"drum mix plant\",SUM('Asphalt Plant (AP-6)'!N5:N6),0),IF('Asphalt Plant (AP-7)'!C5=\"drum mix plant\",SUM('Asphalt Plant (AP-7)'!N5:N6),0),IF('Asphalt Plant (AP-8)'!C5=\"drum mix plant\",SUM('Asphalt Plant (AP-8)'!N5:N6),0),IF('Asphalt Plant (AP-9)'!C5=\"drum mix plant\",SUM('Asphalt Plant (AP-9)'!N5:N6),0),IF('Asphalt Plant (AP-10)'!C5=\"drum mix plant\",SUM('Asphalt Plant (AP-10)'!N5:N6),0)))","v":""},{"$f":"IF(B94=\"\",\"\",\"tons/hr\")","v":""},{"$f":"IF(B94=\"\",\"\",0.0013)","v":""},{"$f":"IF(B94=\"\",\"\",\"lbs/ton\")","v":""},{"$f":"IF(B94=\"\",\"\",\"AP-42 Table 11.1-4,7,8,10\")","v":""},{"$f":"IF(B94=\"\",\"\",SUM(IF('Asphalt Plant (AP-1)'!$C$5=\"drum mix plant\",'Asphalt Plant (AP-1)'!Q60,0),IF('Asphalt Plant (AP-2)'!$C$5=\"drum mix plant\",'Asphalt Plant (AP-2)'!Q60,0),IF('Asphalt Plant (AP-3)'!$C$5=\"drum mix plant\",'Asphalt Plant (AP-3)'!Q60,0),IF('Asphalt Plant (AP-4)'!$C$5=\"drum mix plant\",'Asphalt Plant (AP-4)'!Q60,0),IF('Asphalt Plant (AP-5)'!$C$5=\"drum mix plant\",'Asphalt Plant (AP-5)'!Q60,0),IF('Asphalt Plant (AP-6)'!$C$5=\"drum mix plant\",'Asphalt Plant (AP-6)'!Q60,0),IF('Asphalt Plant (AP-7)'!$C$5=\"drum mix plant\",'Asphalt Plant (AP-7)'!Q60,0),IF('Asphalt Plant (AP-8)'!$C$5=\"drum mix plant\",'Asphalt Plant (AP-8)'!Q60,0),IF('Asphalt Plant (AP-9)'!$C$5=\"drum mix plant\",'Asphalt Plant (AP-9)'!Q60,0),IF('Asphalt Plant (AP-10)'!$C$5=\"drum mix plant\",'Asphalt Plant (AP-10)'!Q60,0)))","v":""},null,null,{"$f":"IF(B94=\"\",\"\",SUM(IF('Asphalt Plant (AP-1)'!$C$5=\"drum mix plant\",'Asphalt Plant (AP-1)'!S60,0),IF('Asphalt Plant (AP-2)'!$C$5=\"drum mix plant\",'Asphalt Plant (AP-2)'!S60,0),IF('Asphalt Plant (AP-3)'!$C$5=\"drum mix plant\",'Asphalt Plant (AP-3)'!S60,0),IF('Asphalt Plant (AP-4)'!$C$5=\"drum mix plant\",'Asphalt Plant (AP-4)'!S60,0),IF('Asphalt Plant (AP-5)'!$C$5=\"drum mix plant\",'Asphalt Plant (AP-5)'!S60,0),IF('Asphalt Plant (AP-6)'!$C$5=\"drum mix plant\",'Asphalt Plant (AP-6)'!S60,0),IF('Asphalt Plant (AP-7)'!$C$5=\"drum mix plant\",'Asphalt Plant (AP-7)'!S60,0),IF('Asphalt Plant (AP-8)'!$C$5=\"drum mix plant\",'Asphalt Plant (AP-8)'!S60,0),IF('Asphalt Plant (AP-9)'!$C$5=\"drum mix plant\",'Asphalt Plant (AP-9)'!S60,0),IF('Asphalt Plant (AP-10)'!$C$5=\"drum mix plant\",'Asphalt Plant (AP-10)'!S60,0)))","v":""},{"$f":"IF(B94=\"\",\"\",SUM(IF('Asphalt Plant (AP-1)'!$C$5=\"drum mix plant\",'Asphalt Plant (AP-1)'!T60,0),IF('Asphalt Plant (AP-2)'!$C$5=\"drum mix plant\",'Asphalt Plant (AP-2)'!T60,0),IF('Asphalt Plant (AP-3)'!$C$5=\"drum mix plant\",'Asphalt Plant (AP-3)'!T60,0),IF('Asphalt Plant (AP-4)'!$C$5=\"drum mix plant\",'Asphalt Plant (AP-4)'!T60,0),IF('Asphalt Plant (AP-5)'!$C$5=\"drum mix plant\",'Asphalt Plant (AP-5)'!T60,0),IF('Asphalt Plant (AP-6)'!$C$5=\"drum mix plant\",'Asphalt Plant (AP-6)'!T60,0),IF('Asphalt Plant (AP-7)'!$C$5=\"drum mix plant\",'Asphalt Plant (AP-7)'!T60,0),IF('Asphalt Plant (AP-8)'!$C$5=\"drum mix plant\",'Asphalt Plant (AP-8)'!T60,0),IF('Asphalt Plant (AP-9)'!$C$5=\"drum mix plant\",'Asphalt Plant (AP-9)'!T60,0),IF('Asphalt Plant (AP-10)'!$C$5=\"drum mix plant\",'Asphalt Plant (AP-10)'!T60,0)))","v":""}]
["Acrolein"]
[{"$f":"IF(OR('Asphalt Plant (AP-1)'!$C$5=\"drum mix plant\",'Asphalt Plant (AP-2)'!$C$5=\"drum mix plant\",'Asphalt Plant (AP-3)'!$C$5=\"drum mix plant\",'Asphalt Plant (AP-4)'!$C$5=\"drum mix plant\",'Asphalt Plant (AP-5)'!$C$5=\"drum mix plant\",'Asphalt Plant (AP-6)'!$C$5=\"drum mix plant\",'Asphalt Plant (AP-7)'!$C$5=\"drum mix plant\",'Asphalt Plant (AP-8)'!$C$5=\"drum mix plant\",'Asphalt Plant (AP-9)'!$C$5=\"drum mix plant\",'Asphalt Plant (AP-10)'!$C$5=\"drum mix plant\"),\"ALL\",\"\")","v":""},{"$f":"IF(OR('Asphalt Plant (AP-1)'!$C$5=\"drum mix plant\",'Asphalt Plant (AP-2)'!$C$5=\"drum mix plant\",'Asphalt Plant (AP-3)'!$C$5=\"drum mix plant\",'Asphalt Plant (AP-4)'!$C$5=\"drum mix plant\",'Asphalt Plant (AP-5)'!$C$5=\"drum mix plant\",'Asphalt Plant (AP-6)'!$C$5=\"drum mix plant\",'Asphalt Plant (AP-7)'!$C$5=\"drum mix plant\",'Asphalt Plant (AP-8)'!$C$5=\"drum mix plant\",'Asphalt Plant (AP-9)'!$C$5=\"drum mix plant\",'Asphalt Plant (AP-10)'!$C$5=\"drum mix plant\"),\"Drum Mix Plant\",\"\")","v":""},{"$f":"IF(B96=\"\",\"\",\"30500258/61\")","v":""},{"$f":"IF(B96=\"\",\"\",SUM(IF('Asphalt Plant (AP-1)'!C5=\"drum mix plant\",SUM('Asphalt Plant (AP-1)'!N5:N6),0),IF('Asphalt Plant (AP-2)'!C5=\"drum mix plant\",SUM('Asphalt Plant (AP-2)'!N5:N6),0),IF('Asphalt Plant (AP-3)'!C5=\"drum mix plant\",SUM('Asphalt Plant (AP-3)'!N5:N6),0),IF('Asphalt Plant (AP-4)'!C5=\"drum mix plant\",SUM('Asphalt Plant (AP-4)'!N5:N6),0),IF('Asphalt Plant (AP-5)'!C5=\"drum mix plant\",SUM('Asphalt Plant (AP-5)'!N5:N6),0),IF('Asphalt Plant (AP-6)'!C5=\"drum mix plant\",SUM('Asphalt Plant (AP-6)'!N5:N6),0),IF('Asphalt Plant (AP-7)'!C5=\"drum mix plant\",SUM('Asphalt Plant (AP-7)'!N5:N6),0),IF('Asphalt Plant (AP-8)'!C5=\"drum mix plant\",SUM('Asphalt Plant (AP-8)'!N5:N6),0),IF('Asphalt Plant (AP-9)'!C5=\"drum mix plant\",SUM('Asphalt Plant (AP-9)'!N5:N6),0),IF('Asphalt Plant (AP-10)'!C5=\"drum mix plant\",SUM('Asphalt Plant (AP-10)'!N5:N6),0)))","v":""},{"$f":"IF(B96=\"\",\"\",\"tons/hr\")","v":""},{"$f":"IF(B96=\"\",\"\",0.000026)","v":""},{"$f":"IF(B96=\"\",\"\",\"lbs/ton\")","v":""},{"$f":"IF(B96=\"\",\"\",\"AP-42 Table 11.1-4,7,8,10\")","v":""},{"$f":"IF(B96=\"\",\"\",SUM(IF('Asphalt Plant (AP-1)'!$C$5=\"drum mix plant\",'Asphalt Plant (AP-1)'!Q62,0),IF('Asphalt Plant (AP-2)'!$C$5=\"drum mix plant\",'Asphalt Plant (AP-2)'!Q62,0),IF('Asphalt Plant (AP-3)'!$C$5=\"drum mix plant\",'Asphalt Plant (AP-3)'!Q62,0),IF('Asphalt Plant (AP-4)'!$C$5=\"drum mix plant\",'Asphalt Plant (AP-4)'!Q62,0),IF('Asphalt Plant (AP-5)'!$C$5=\"drum mix plant\",'Asphalt Plant (AP-5)'!Q62,0),IF('Asphalt Plant (AP-6)'!$C$5=\"drum mix plant\",'Asphalt Plant (AP-6)'!Q62,0),IF('Asphalt Plant (AP-7)'!$C$5=\"drum mix plant\",'Asphalt Plant (AP-7)'!Q62,0),IF('Asphalt Plant (AP-8)'!$C$5=\"drum mix plant\",'Asphalt Plant (AP-8)'!Q62,0),IF('Asphalt Plant (AP-9)'!$C$5=\"drum mix plant\",'Asphalt Plant (AP-9)'!Q62,0),IF('Asphalt Plant (AP-10)'!$C$5=\"drum mix plant\",'Asphalt Plant (AP-10)'!Q62,0)))","v":""},null,null,{"$f":"IF(B96=\"\",\"\",SUM(IF('Asphalt Plant (AP-1)'!$C$5=\"drum mix plant\",'Asphalt Plant (AP-1)'!S62,0),IF('Asphalt Plant (AP-2)'!$C$5=\"drum mix plant\",'Asphalt Plant (AP-2)'!S62,0),IF('Asphalt Plant (AP-3)'!$C$5=\"drum mix plant\",'Asphalt Plant (AP-3)'!S62,0),IF('Asphalt Plant (AP-4)'!$C$5=\"drum mix plant\",'Asphalt Plant (AP-4)'!S62,0),IF('Asphalt Plant (AP-5)'!$C$5=\"drum mix plant\",'Asphalt Plant (AP-5)'!S62,0),IF('Asphalt Plant (AP-6)'!$C$5=\"drum mix plant\",'Asphalt Plant (AP-6)'!S62,0),IF('Asphalt Plant (AP-7)'!$C$5=\"drum mix plant\",'Asphalt Plant (AP-7)'!S62,0),IF('Asphalt Plant (AP-8)'!$C$5=\"drum mix plant\",'Asphalt Plant (AP-8)'!S62,0),IF('Asphalt Plant (AP-9)'!$C$5=\"drum mix plant\",'Asphalt Plant (AP-9)'!S62,0),IF('Asphalt Plant (AP-10)'!$C$5=\"drum mix plant\",'Asphalt Plant (AP-10)'!S62,0)))","v":""},{"$f":"IF(B96=\"\",\"\",SUM(IF('Asphalt Plant (AP-1)'!$C$5=\"drum mix plant\",'Asphalt Plant (AP-1)'!T62,0),IF('Asphalt Plant (AP-2)'!$C$5=\"drum mix plant\",'Asphalt Plant (AP-2)'!T62,0),IF('Asphalt Plant (AP-3)'!$C$5=\"drum mix plant\",'Asphalt Plant (AP-3)'!T62,0),IF('Asphalt Plant (AP-4)'!$C$5=\"drum mix plant\",'Asphalt Plant (AP-4)'!T62,0),IF('Asphalt Plant (AP-5)'!$C$5=\"drum mix plant\",'Asphalt Plant (AP-5)'!T62,0),IF('Asphalt Plant (AP-6)'!$C$5=\"drum mix plant\",'Asphalt Plant (AP-6)'!T62,0),IF('Asphalt Plant (AP-7)'!$C$5=\"drum mix plant\",'Asphalt Plant (AP-7)'!T62,0),IF('Asphalt Plant (AP-8)'!$C$5=\"drum mix plant\",'Asphalt Plant (AP-8)'!T62,0),IF('Asphalt Plant (AP-9)'!$C$5=\"drum mix plant\",'Asphalt Plant (AP-9)'!T62,0),IF('Asphalt Plant (AP-10)'!$C$5=\"drum mix plant\",'Asphalt Plant (AP-10)'!T62,0)))","v":""}]
["Benzene"]
[{"$f":"IF(OR('Asphalt Plant (AP-1)'!$C$5=\"batch mix plant\",'Asphalt Plant (AP-2)'!$C$5=\"batch mix plant\",'Asphalt Plant (AP-3)'!$C$5=\"batch mix plant\",'Asphalt Plant (AP-4)'!$C$5=\"batch mix plant\",'Asphalt Plant (AP-5)'!$C$5=\"batch mix plant\",'Asphalt Plant (AP-6)'!$C$5=\"batch mix plant\",'Asphalt Plant (AP-7)'!$C$5=\"batch mix plant\",'Asphalt Plant (AP-8)'!$C$5=\"batch mix plant\",'Asphalt Plant (AP-9)'!$C$5=\"batch mix plant\",'Asphalt Plant (AP-10)'!$C$5=\"batch mix plant\"),\"ALL\",\"\")","v":""},{"$f":"IF(OR('Asphalt Plant (AP-1)'!$C$5=\"batch mix plant\",'Asphalt Plant (AP-2)'!$C$5=\"batch mix plant\",'Asphalt Plant (AP-3)'!$C$5=\"batch mix plant\",'Asphalt Plant (AP-4)'!$C$5=\"batch mix plant\",'Asphalt Plant (AP-5)'!$C$5=\"batch mix plant\",'Asphalt Plant (AP-6)'!$C$5=\"batch mix plant\",'Asphalt Plant (AP-7)'!$C$5=\"batch mix plant\",'Asphalt Plant (AP-8)'!$C$5=\"batch mix plant\",'Asphalt Plant (AP-9)'!$C$5=\"batch mix plant\",'Asphalt Plant (AP-10)'!$C$5=\"batch mix plant\"),\"Batch Mix Plant\",\"\")","v":""},{"$f":"IF(B98=\"\",\"\",\"30500245/46/47\")","v":""},{"$f":"IF(B98=\"\",\"\",SUM(IF('Asphalt Plant (AP-1)'!C5=\"batch mix plant\",SUM('Asphalt Plant (AP-1)'!N5:N7),0),IF('Asphalt Plant (AP-2)'!C5=\"batch mix plant\",SUM('Asphalt Plant (AP-2)'!N5:N7),0),IF('Asphalt Plant (AP-3)'!C5=\"batch mix plant\",SUM('Asphalt Plant (AP-3)'!N5:N7),0),IF('Asphalt Plant (AP-4)'!C5=\"batch mix plant\",SUM('Asphalt Plant (AP-4)'!N5:N7),0),IF('Asphalt Plant (AP-5)'!C5=\"batch mix plant\",SUM('Asphalt Plant (AP-5)'!N5:N7),0),IF('Asphalt Plant (AP-6)'!C5=\"batch mix plant\",SUM('Asphalt Plant (AP-6)'!N5:N7),0),IF('Asphalt Plant (AP-7)'!C5=\"batch mix plant\",SUM('Asphalt Plant (AP-7)'!N5:N7),0),IF('Asphalt Plant (AP-8)'!C5=\"batch mix plant\",SUM('Asphalt Plant (AP-8)'!N5:N7),0),IF('Asphalt Plant (AP-9)'!C5=\"batch mix plant\",SUM('Asphalt Plant (AP-9)'!N5:N7),0),IF('Asphalt Plant (AP-10)'!C5=\"batch mix plant\",SUM('Asphalt Plant (AP-10)'!N5:N7),0)))","v":""},{"$f":"IF(B98=\"\",\"\",\"tons/hr\")","v":""},{"$f":"IF(B98=\"\",\"\",0.00028)","v":""},{"$f":"IF(B98=\"\",\"\",\"lbs/ton\")","v":""},{"$f":"IF(B98=\"\",\"\",\"AP-42 Table 11.1-2,5,6,9\")","v":""},{"$f":"IF(B98=\"\",\"\",SUM(IF('Asphalt Plant (AP-1)'!$C$5=\"batch mix plant\",'Asphalt Plant (AP-1)'!Q64,0),IF('Asphalt Plant (AP-2)'!$C$5=\"batch mix plant\",'Asphalt Plant (AP-2)'!Q64,0),IF('Asphalt Plant (AP-3)'!$C$5=\"batch mix plant\",'Asphalt Plant (AP-3)'!Q64,0),IF('Asphalt Plant (AP-4)'!$C$5=\"batch mix plant\",'Asphalt Plant (AP-4)'!Q64,0),IF('Asphalt Plant (AP-5)'!$C$5=\"batch mix plant\",'Asphalt Plant (AP-5)'!Q64,0),IF('Asphalt Plant (AP-6)'!$C$5=\"batch mix plant\",'Asphalt Plant (AP-6)'!Q64,0),IF('Asphalt Plant (AP-7)'!$C$5=\"batch mix plant\",'Asphalt Plant (AP-7)'!Q64,0),IF('Asphalt Plant (AP-8)'!$C$5=\"batch mix plant\",'Asphalt Plant (AP-8)'!Q64,0),IF('Asphalt Plant (AP-9)'!$C$5=\"batch mix plant\",'Asphalt Plant (AP-9)'!Q64,0),IF('Asphalt Plant (AP-10)'!$C$5=\"batch mix plant\",'Asphalt Plant (AP-10)'!Q64,0)))","v":""},null,null,{"$f":"IF(B98=\"\",\"\",SUM(IF('Asphalt Plant (AP-1)'!$C$5=\"batch mix plant\",'Asphalt Plant (AP-1)'!S64,0),IF('Asphalt Plant (AP-2)'!$C$5=\"batch mix plant\",'Asphalt Plant (AP-2)'!S64,0),IF('Asphalt Plant (AP-3)'!$C$5=\"batch mix plant\",'Asphalt Plant (AP-3)'!S64,0),IF('Asphalt Plant (AP-4)'!$C$5=\"batch mix plant\",'Asphalt Plant (AP-4)'!S64,0),IF('Asphalt Plant (AP-5)'!$C$5=\"batch mix plant\",'Asphalt Plant (AP-5)'!S64,0),IF('Asphalt Plant (AP-6)'!$C$5=\"batch mix plant\",'Asphalt Plant (AP-6)'!S64,0),IF('Asphalt Plant (AP-7)'!$C$5=\"batch mix plant\",'Asphalt Plant (AP-7)'!S64,0),IF('Asphalt Plant (AP-8)'!$C$5=\"batch mix plant\",'Asphalt Plant (AP-8)'!S64,0),IF('Asphalt Plant (AP-9)'!$C$5=\"batch mix plant\",'Asphalt Plant (AP-9)'!S64,0),IF('Asphalt Plant (AP-10)'!$C$5=\"batch mix plant\",'Asphalt Plant (AP-10)'!S64,0)))","v":""},{"$f":"IF(B98=\"\",\"\",SUM(IF('Asphalt Plant (AP-1)'!$C$5=\"batch mix plant\",'Asphalt Plant (AP-1)'!T64,0),IF('Asphalt Plant (AP-2)'!$C$5=\"batch mix plant\",'Asphalt Plant (AP-2)'!T64,0),IF('Asphalt Plant (AP-3)'!$C$5=\"batch mix plant\",'Asphalt Plant (AP-3)'!T64,0),IF('Asphalt Plant (AP-4)'!$C$5=\"batch mix plant\",'Asphalt Plant (AP-4)'!T64,0),IF('Asphalt Plant (AP-5)'!$C$5=\"batch mix plant\",'Asphalt Plant (AP-5)'!T64,0),IF('Asphalt Plant (AP-6)'!$C$5=\"batch mix plant\",'Asphalt Plant (AP-6)'!T64,0),IF('Asphalt Plant (AP-7)'!$C$5=\"batch mix plant\",'Asphalt Plant (AP-7)'!T64,0),IF('Asphalt Plant (AP-8)'!$C$5=\"batch mix plant\",'Asphalt Plant (AP-8)'!T64,0),IF('Asphalt Plant (AP-9)'!$C$5=\"batch mix plant\",'Asphalt Plant (AP-9)'!T64,0),IF('Asphalt Plant (AP-10)'!$C$5=\"batch mix plant\",'Asphalt Plant (AP-10)'!T64,0)))","v":""}]
[{"$f":"IF(OR('Asphalt Plant (AP-1)'!$C$5=\"drum mix plant\",'Asphalt Plant (AP-2)'!$C$5=\"drum mix plant\",'Asphalt Plant (AP-3)'!$C$5=\"drum mix plant\",'Asphalt Plant (AP-4)'!$C$5=\"drum mix plant\",'Asphalt Plant (AP-5)'!$C$5=\"drum mix plant\",'Asphalt Plant (AP-6)'!$C$5=\"drum mix plant\",'Asphalt Plant (AP-7)'!$C$5=\"drum mix plant\",'Asphalt Plant (AP-8)'!$C$5=\"drum mix plant\",'Asphalt Plant (AP-9)'!$C$5=\"drum mix plant\",'Asphalt Plant (AP-10)'!$C$5=\"drum mix plant\"),\"ALL\",\"\")","v":""},{"$f":"IF(OR('Asphalt Plant (AP-1)'!$C$5=\"drum mix plant\",'Asphalt Plant (AP-2)'!$C$5=\"drum mix plant\",'Asphalt Plant (AP-3)'!$C$5=\"drum mix plant\",'Asphalt Plant (AP-4)'!$C$5=\"drum mix plant\",'Asphalt Plant (AP-5)'!$C$5=\"drum mix plant\",'Asphalt Plant (AP-6)'!$C$5=\"drum mix plant\",'Asphalt Plant (AP-7)'!$C$5=\"drum mix plant\",'Asphalt Plant (AP-8)'!$C$5=\"drum mix plant\",'Asphalt Plant (AP-9)'!$C$5=\"drum mix plant\",'Asphalt Plant (AP-10)'!$C$5=\"drum mix plant\"),\"Drum Mix Plant\",\"\")","v":""},{"$f":"IF(B99=\"\",\"\",\"30500255/58/61\")","v":""},{"$f":"IF(B99=\"\",\"\",SUM(IF('Asphalt Plant (AP-1)'!C5=\"drum mix plant\",SUM('Asphalt Plant (AP-1)'!N5:N7),0),IF('Asphalt Plant (AP-2)'!C5=\"drum mix plant\",SUM('Asphalt Plant (AP-2)'!N5:N7),0),IF('Asphalt Plant (AP-3)'!C5=\"drum mix plant\",SUM('Asphalt Plant (AP-3)'!N5:N7),0),IF('Asphalt Plant (AP-4)'!C5=\"drum mix plant\",SUM('Asphalt Plant (AP-4)'!N5:N7),0),IF('Asphalt Plant (AP-5)'!C5=\"drum mix plant\",SUM('Asphalt Plant (AP-5)'!N5:N7),0),IF('Asphalt Plant (AP-6)'!C5=\"drum mix plant\",SUM('Asphalt Plant (AP-6)'!N5:N7),0),IF('Asphalt Plant (AP-7)'!C5=\"drum mix plant\",SUM('Asphalt Plant (AP-7)'!N5:N7),0),IF('Asphalt Plant (AP-8)'!C5=\"drum mix plant\",SUM('Asphalt Plant (AP-8)'!N5:N7),0),IF('Asphalt Plant (AP-9)'!C5=\"drum mix plant\",SUM('Asphalt Plant (AP-9)'!N5:N7),0),IF('Asphalt Plant (AP-10)'!C5=\"drum mix plant\",SUM('Asphalt Plant (AP-10)'!N5:N7),0)))","v":""},{"$f":"IF(B99=\"\",\"\",\"tons/hr\")","v":""},{"$f":"IF(B99=\"\",\"\",0.00039)","v":""},{"$f":"IF(B99=\"\",\"\",\"lbs/ton\")","v":""},{"$f":"IF(B99=\"\",\"\",\"AP-42 Table 11.1-4,7,8,10\")","v":""},{"$f":"IF(B99=\"\",\"\",SUM(IF('Asphalt Plant (AP-1)'!$C$5=\"drum mix plant\",'Asphalt Plant (AP-1)'!Q64,0),IF('Asphalt Plant (AP-2)'!$C$5=\"drum mix plant\",'Asphalt Plant (AP-2)'!Q64,0),IF('Asphalt Plant (AP-3)'!$C$5=\"drum mix plant\",'Asphalt Plant (AP-3)'!Q64,0),IF('Asphalt Plant (AP-4)'!$C$5=\"drum mix plant\",'Asphalt Plant (AP-4)'!Q64,0),IF('Asphalt Plant (AP-5)'!$C$5=\"drum mix plant\",'Asphalt Plant (AP-5)'!Q64,0),IF('Asphalt Plant (AP-6)'!$C$5=\"drum mix plant\",'Asphalt Plant (AP-6)'!Q64,0),IF('Asphalt Plant (AP-7)'!$C$5=\"drum mix plant\",'Asphalt Plant (AP-7)'!Q64,0),IF('Asphalt Plant (AP-8)'!$C$5=\"drum mix plant\",'Asphalt Plant (AP-8)'!Q64,0),IF('Asphalt Plant (AP-9)'!$C$5=\"drum mix plant\",'Asphalt Plant (AP-9)'!Q64,0),IF('Asphalt Plant (AP-10)'!$C$5=\"drum mix plant\",'Asphalt Plant (AP-10)'!Q64,0)))","v":""},null,null,{"$f":"IF(B99=\"\",\"\",SUM(IF('Asphalt Plant (AP-1)'!$C$5=\"drum mix plant\",'Asphalt Plant (AP-1)'!S64,0),IF('Asphalt Plant (AP-2)'!$C$5=\"drum mix plant\",'Asphalt Plant (AP-2)'!S64,0),IF('Asphalt Plant (AP-3)'!$C$5=\"drum mix plant\",'Asphalt Plant (AP-3)'!S64,0),IF('Asphalt Plant (AP-4)'!$C$5=\"drum mix plant\",'Asphalt Plant (AP-4)'!S64,0),IF('Asphalt Plant (AP-5)'!$C$5=\"drum mix plant\",'Asphalt Plant (AP-5)'!S64,0),IF('Asphalt Plant (AP-6)'!$C$5=\"drum mix plant\",'Asphalt Plant (AP-6)'!S64,0),IF('Asphalt Plant (AP-7)'!$C$5=\"drum mix plant\",'Asphalt Plant (AP-7)'!S64,0),IF('Asphalt Plant (AP-8)'!$C$5=\"drum mix plant\",'Asphalt Plant (AP-8)'!S64,0),IF('Asphalt Plant (AP-9)'!$C$5=\"drum mix plant\",'Asphalt Plant (AP-9)'!S64,0),IF('Asphalt Plant (AP-10)'!$C$5=\"drum mix plant\",'Asphalt Plant (AP-10)'!S64,0)))","v":""},{"$f":"IF(B99=\"\",\"\",SUM(IF('Asphalt Plant (AP-1)'!$C$5=\"drum mix plant\",'Asphalt Plant (AP-1)'!T64,0),IF('Asphalt Plant (AP-2)'!$C$5=\"drum mix plant\",'Asphalt Plant (AP-2)'!T64,0),IF('Asphalt Plant (AP-3)'!$C$5=\"drum mix plant\",'Asphalt Plant (AP-3)'!T64,0),IF('Asphalt Plant (AP-4)'!$C$5=\"drum mix plant\",'Asphalt Plant (AP-4)'!T64,0),IF('Asphalt Plant (AP-5)'!$C$5=\"drum mix plant\",'Asphalt Plant (AP-5)'!T64,0),IF('Asphalt Plant (AP-6)'!$C$5=\"drum mix plant\",'Asphalt Plant (AP-6)'!T64,0),IF('Asphalt Plant (AP-7)'!$C$5=\"drum mix plant\",'Asphalt Plant (AP-7)'!T64,0),IF('Asphalt Plant (AP-8)'!$C$5=\"drum mix plant\",'Asphalt Plant (AP-8)'!T64,0),IF('Asphalt Plant (AP-9)'!$C$5=\"drum mix plant\",'Asphalt Plant (AP-9)'!T64,0),IF('Asphalt Plant (AP-10)'!$C$5=\"drum mix plant\",'Asphalt Plant (AP-10)'!T64,0)))","v":""}]
[{"$f":"IF('Permitted Diesel Engines'!R50=0,\"\",\"ALL\")","v":""},{"$f":"IF('Permitted Diesel Engines'!R50=0,\"\",\"Diesel Generator ≤ 600 bhp\")","v":""},{"$f":"IF('Permitted Diesel Engines'!R50=0,\"\",LOOKUP(B100,'Emission Factors'!$A$43:$A$44,'Emission Factors'!$B$43:$B$44))","v":""},{"$f":"IF('Permitted Diesel Engines'!R50=0,\"\",'Permitted Diesel Engines'!R50)","v":""},{"$f":"IF(B100=\"\",\"\",\"MMBtu/hr\")","v":""},{"$f":"IF('Permitted Diesel Engines'!R50=0,\"\",LOOKUP(B100,'Emission Factors'!$A$43:$A$44,'Emission Factors'!$R$43:$R$44))","v":""},{"$f":"IF(B100=\"\",\"\",\"lb/MMBtu\")","v":""},{"$f":"IF('Permitted Diesel Engines'!R50=0,\"\",LOOKUP(B100,'Emission Factors'!$A$43:$A$44,'Emission Factors'!$S$43:$S$44))","v":""},{"$f":"IF(B100=\"\",\"\",D100*F100)","v":""},null,null,{"$f":"IF(B100=\"\",\"\",'Permitted Diesel Engines'!AN77)","v":""},{"$f":"IF(B100=\"\",\"\",'Permitted Diesel Engines'!$T$50*F100/2000)","v":""}]
[{"$f":"IF('Permitted Diesel Engines'!R51=0,\"\",\"ALL\")","v":""},{"$f":"IF('Permitted Diesel Engines'!R51=0,\"\",\"Diesel Generator> 600 bhp\")","v":""},{"$f":"IF('Permitted Diesel Engines'!R51=0,\"\",LOOKUP(B101,'Emission Factors'!$A$43:$A$44,'Emission Factors'!$B$43:$B$44))","v":""},{"$f":"IF('Permitted Diesel Engines'!R51=0,\"\",'Permitted Diesel Engines'!R51)","v":""},{"$f":"IF(B101=\"\",\"\",\"MMBtu/hr\")","v":""},{"$f":"IF('Permitted Diesel Engines'!R51=0,\"\",LOOKUP(B101,'Emission Factors'!$A$43:$A$44,'Emission Factors'!$R$43:$R$44))","v":""},{"$f":"IF(B101=\"\",\"\",\"lb/MMBtu\")","v":""},{"$f":"IF('Permitted Diesel Engines'!R51=0,\"\",LOOKUP(B101,'Emission Factors'!$A$43:$A$44,'Emission Factors'!$S$43:$S$44))","v":""},{"$f":"IF(B101=\"\",\"\",D101*F101)","v":""},null,null,{"$f":"IF(B101=\"\",\"\",'Permitted Diesel Engines'!AO77)","v":""},{"$f":"IF(B101=\"\",\"\",'Permitted Diesel Engines'!$T$51*F101/2000)","v":""}]
[null,null,null,null,null,null,{"$f":"IF(F102=\"\",\"\",\"lbs/ton\")","v":""},null,null,"FACILITY TOTALS:",null,{"$f":"SUM(L98:L101)","v":0},{"$f":"SUM(M98:M101)","v":0}]
["Ethylbenzene",null,null,null,null,null,{"$f":"IF(F103=\"\",\"\",\"lbs/ton\")","v":""}]
[{"$f":"IF(OR('Asphalt Plant (AP-1)'!$C$5=\"batch mix plant\",'Asphalt Plant (AP-2)'!$C$5=\"batch mix plant\",'Asphalt Plant (AP-3)'!$C$5=\"batch mix plant\",'Asphalt Plant (AP-4)'!$C$5=\"batch mix plant\",'Asphalt Plant (AP-5)'!$C$5=\"batch mix plant\",'Asphalt Plant (AP-6)'!$C$5=\"batch mix plant\",'Asphalt Plant (AP-7)'!$C$5=\"batch mix plant\",'Asphalt Plant (AP-8)'!$C$5=\"batch mix plant\",'Asphalt Plant (AP-9)'!$C$5=\"batch mix plant\",'Asphalt Plant (AP-10)'!$C$5=\"batch mix plant\"),\"ALL\",\"\")","v":""},{"$f":"IF(OR('Asphalt Plant (AP-1)'!$C$5=\"batch mix plant\",'Asphalt Plant (AP-2)'!$C$5=\"batch mix plant\",'Asphalt Plant (AP-3)'!$C$5=\"batch mix plant\",'Asphalt Plant (AP-4)'!$C$5=\"batch mix plant\",'Asphalt Plant (AP-5)'!$C$5=\"batch mix plant\",'Asphalt Plant (AP-6)'!$C$5=\"batch mix plant\",'Asphalt Plant (AP-7)'!$C$5=\"batch mix plant\",'Asphalt Plant (AP-8)'!$C$5=\"batch mix plant\",'Asphalt Plant (AP-9)'!$C$5=\"batch mix plant\",'Asphalt Plant (AP-10)'!$C$5=\"batch mix plant\"),\"Batch Mix Plant\",\"\")","v":""},{"$f":"IF(B104=\"\",\"\",\"30500245/46/47\")","v":""},{"$f":"IF(B104=\"\",\"\",SUM(IF('Asphalt Plant (AP-1)'!C5=\"batch mix plant\",SUM('Asphalt Plant (AP-1)'!N5:N7),0),IF('Asphalt Plant (AP-2)'!C5=\"batch mix plant\",SUM('Asphalt Plant (AP-2)'!N5:N7),0),IF('Asphalt Plant (AP-3)'!C5=\"batch mix plant\",SUM('Asphalt Plant (AP-3)'!N5:N7),0),IF('Asphalt Plant (AP-4)'!C5=\"batch mix plant\",SUM('Asphalt Plant (AP-4)'!N5:N7),0),IF('Asphalt Plant (AP-5)'!C5=\"batch mix plant\",SUM('Asphalt Plant (AP-5)'!N5:N7),0),IF('Asphalt Plant (AP-6)'!C5=\"batch mix plant\",SUM('Asphalt Plant (AP-6)'!N5:N7),0),IF('Asphalt Plant (AP-7)'!C5=\"batch mix plant\",SUM('Asphalt Plant (AP-7)'!N5:N7),0),IF('Asphalt Plant (AP-8)'!C5=\"batch mix plant\",SUM('Asphalt Plant (AP-8)'!N5:N7),0),IF('Asphalt Plant (AP-9)'!C5=\"batch mix plant\",SUM('Asphalt Plant (AP-9)'!N5:N7),0),IF('Asphalt Plant (AP-10)'!C5=\"batch mix plant\",SUM('Asphalt Plant (AP-10)'!N5:N7),0)))","v":""},{"$f":"IF(B104=\"\",\"\",\"tons/hr\")","v":""},{"$f":"IF(B104=\"\",\"\",0.0022)","v":""},{"$f":"IF(B104=\"\",\"\",\"lbs/ton\")","v":""},{"$f":"IF(B104=\"\",\"\",\"AP-42 Table 11.1-2,5,6,9\")","v":""},{"$f":"IF(B104=\"\",\"\",SUM(IF('Asphalt Plant (AP-1)'!$C$5=\"batch mix plant\",'Asphalt Plant (AP-1)'!Q66,0),IF('Asphalt Plant (AP-2)'!$C$5=\"batch mix plant\",'Asphalt Plant (AP-2)'!Q66,0),IF('Asphalt Plant (AP-3)'!$C$5=\"batch mix plant\",'Asphalt Plant (AP-3)'!Q66,0),IF('Asphalt Plant (AP-4)'!$C$5=\"batch mix plant\",'Asphalt Plant (AP-4)'!Q66,0),IF('Asphalt Plant (AP-5)'!$C$5=\"batch mix plant\",'Asphalt Plant (AP-5)'!Q66,0),IF('Asphalt Plant (AP-6)'!$C$5=\"batch mix plant\",'Asphalt Plant (AP-6)'!Q66,0),IF('Asphalt Plant (AP-7)'!$C$5=\"batch mix plant\",'Asphalt Plant (AP-7)'!Q66,0),IF('Asphalt Plant (AP-8)'!$C$5=\"batch mix plant\",'Asphalt Plant (AP-8)'!Q66,0),IF('Asphalt Plant (AP-9)'!$C$5=\"batch mix plant\",'Asphalt Plant (AP-9)'!Q66,0),IF('Asphalt Plant (AP-10)'!$C$5=\"batch mix plant\",'Asphalt Plant (AP-10)'!Q66,0)))","v":""},null,null,{"$f":"IF(B104=\"\",\"\",SUM(IF('Asphalt Plant (AP-1)'!$C$5=\"batch mix plant\",'Asphalt Plant (AP-1)'!S66,0),IF('Asphalt Plant (AP-2)'!$C$5=\"batch mix plant\",'Asphalt Plant (AP-2)'!S66,0),IF('Asphalt Plant (AP-3)'!$C$5=\"batch mix plant\",'Asphalt Plant (AP-3)'!S66,0),IF('Asphalt Plant (AP-4)'!$C$5=\"batch mix plant\",'Asphalt Plant (AP-4)'!S66,0),IF('Asphalt Plant (AP-5)'!$C$5=\"batch mix plant\",'Asphalt Plant (AP-5)'!S66,0),IF('Asphalt Plant (AP-6)'!$C$5=\"batch mix plant\",'Asphalt Plant (AP-6)'!S66,0),IF('Asphalt Plant (AP-7)'!$C$5=\"batch mix plant\",'Asphalt Plant (AP-7)'!S66,0),IF('Asphalt Plant (AP-8)'!$C$5=\"batch mix plant\",'Asphalt Plant (AP-8)'!S66,0),IF('Asphalt Plant (AP-9)'!$C$5=\"batch mix plant\",'Asphalt Plant (AP-9)'!S66,0),IF('Asphalt Plant (AP-10)'!$C$5=\"batch mix plant\",'Asphalt Plant (AP-10)'!S66,0)))","v":""},{"$f":"IF(B104=\"\",\"\",SUM(IF('Asphalt Plant (AP-1)'!$C$5=\"batch mix plant\",'Asphalt Plant (AP-1)'!T66,0),IF('Asphalt Plant (AP-2)'!$C$5=\"batch mix plant\",'Asphalt Plant (AP-2)'!T66,0),IF('Asphalt Plant (AP-3)'!$C$5=\"batch mix plant\",'Asphalt Plant (AP-3)'!T66,0),IF('Asphalt Plant (AP-4)'!$C$5=\"batch mix plant\",'Asphalt Plant (AP-4)'!T66,0),IF('Asphalt Plant (AP-5)'!$C$5=\"batch mix plant\",'Asphalt Plant (AP-5)'!T66,0),IF('Asphalt Plant (AP-6)'!$C$5=\"batch mix plant\",'Asphalt Plant (AP-6)'!T66,0),IF('Asphalt Plant (AP-7)'!$C$5=\"batch mix plant\",'Asphalt Plant (AP-7)'!T66,0),IF('Asphalt Plant (AP-8)'!$C$5=\"batch mix plant\",'Asphalt Plant (AP-8)'!T66,0),IF('Asphalt Plant (AP-9)'!$C$5=\"batch mix plant\",'Asphalt Plant (AP-9)'!T66,0),IF('Asphalt Plant (AP-10)'!$C$5=\"batch mix plant\",'Asphalt Plant (AP-10)'!T66,0)))","v":""}]
[{"$f":"IF(OR('Asphalt Plant (AP-1)'!$C$5=\"drum mix plant\",'Asphalt Plant (AP-2)'!$C$5=\"drum mix plant\",'Asphalt Plant (AP-3)'!$C$5=\"drum mix plant\",'Asphalt Plant (AP-4)'!$C$5=\"drum mix plant\",'Asphalt Plant (AP-5)'!$C$5=\"drum mix plant\",'Asphalt Plant (AP-6)'!$C$5=\"drum mix plant\",'Asphalt Plant (AP-7)'!$C$5=\"drum mix plant\",'Asphalt Plant (AP-8)'!$C$5=\"drum mix plant\",'Asphalt Plant (AP-9)'!$C$5=\"drum mix plant\",'Asphalt Plant (AP-10)'!$C$5=\"drum mix plant\"),\"ALL\",\"\")","v":""},{"$f":"IF(OR('Asphalt Plant (AP-1)'!$C$5=\"drum mix plant\",'Asphalt Plant (AP-2)'!$C$5=\"drum mix plant\",'Asphalt Plant (AP-3)'!$C$5=\"drum mix plant\",'Asphalt Plant (AP-4)'!$C$5=\"drum mix plant\",'Asphalt Plant (AP-5)'!$C$5=\"drum mix plant\",'Asphalt Plant (AP-6)'!$C$5=\"drum mix plant\",'Asphalt Plant (AP-7)'!$C$5=\"drum mix plant\",'Asphalt Plant (AP-8)'!$C$5=\"drum mix plant\",'Asphalt Plant (AP-9)'!$C$5=\"drum mix plant\",'Asphalt Plant (AP-10)'!$C$5=\"drum mix plant\"),\"Drum Mix Plant\",\"\")","v":""},{"$f":"IF(B105=\"\",\"\",\"30500255/58/61\")","v":""},{"$f":"IF(B105=\"\",\"\",SUM(IF('Asphalt Plant (AP-1)'!C5=\"drum mix plant\",SUM('Asphalt Plant (AP-1)'!N5:N6),0),IF('Asphalt Plant (AP-2)'!C5=\"drum mix plant\",SUM('Asphalt Plant (AP-2)'!N5:N6),0),IF('Asphalt Plant (AP-3)'!C5=\"drum mix plant\",SUM('Asphalt Plant (AP-3)'!N5:N6),0),IF('Asphalt Plant (AP-4)'!C5=\"drum mix plant\",SUM('Asphalt Plant (AP-4)'!N5:N6),0),IF('Asphalt Plant (AP-5)'!C5=\"drum mix plant\",SUM('Asphalt Plant (AP-5)'!N5:N6),0),IF('Asphalt Plant (AP-6)'!C5=\"drum mix plant\",SUM('Asphalt Plant (AP-6)'!N5:N6),0),IF('Asphalt Plant (AP-7)'!C5=\"drum mix plant\",SUM('Asphalt Plant (AP-7)'!N5:N6),0),IF('Asphalt Plant (AP-8)'!C5=\"drum mix plant\",SUM('Asphalt Plant (AP-8)'!N5:N6),0),IF('Asphalt Plant (AP-9)'!C5=\"drum mix plant\",SUM('Asphalt Plant (AP-9)'!N5:N6),0),IF('Asphalt Plant (AP-10)'!C5=\"drum mix plant\",SUM('Asphalt Plant (AP-10)'!N5:N6),0)))","v":""},{"$f":"IF(B105=\"\",\"\",\"tons/hr\")","v":""},{"$f":"IF(B105=\"\",\"\",0.00024)","v":""},{"$f":"IF(B105=\"\",\"\",\"lbs/ton\")","v":""},{"$f":"IF(B105=\"\",\"\",\"AP-42 Table 11.1-4,7,8,10\")","v":""},{"$f":"IF(B105=\"\",\"\",SUM(IF('Asphalt Plant (AP-1)'!$C$5=\"drum mix plant\",'Asphalt Plant (AP-1)'!Q66,0),IF('Asphalt Plant (AP-2)'!$C$5=\"drum mix plant\",'Asphalt Plant (AP-2)'!Q66,0),IF('Asphalt Plant (AP-3)'!$C$5=\"drum mix plant\",'Asphalt Plant (AP-3)'!Q66,0),IF('Asphalt Plant (AP-4)'!$C$5=\"drum mix plant\",'Asphalt Plant (AP-4)'!Q66,0),IF('Asphalt Plant (AP-5)'!$C$5=\"drum mix plant\",'Asphalt Plant (AP-5)'!Q66,0),IF('Asphalt Plant (AP-6)'!$C$5=\"drum mix plant\",'Asphalt Plant (AP-6)'!Q66,0),IF('Asphalt Plant (AP-7)'!$C$5=\"drum mix plant\",'Asphalt Plant (AP-7)'!Q66,0),IF('Asphalt Plant (AP-8)'!$C$5=\"drum mix plant\",'Asphalt Plant (AP-8)'!Q66,0),IF('Asphalt Plant (AP-9)'!$C$5=\"drum mix plant\",'Asphalt Plant (AP-9)'!Q66,0),IF('Asphalt Plant (AP-10)'!$C$5=\"drum mix plant\",'Asphalt Plant (AP-10)'!Q66,0)))","v":""},null,null,{"$f":"IF(B105=\"\",\"\",SUM(IF('Asphalt Plant (AP-1)'!$C$5=\"drum mix plant\",'Asphalt Plant (AP-1)'!S66,0),IF('Asphalt Plant (AP-2)'!$C$5=\"drum mix plant\",'Asphalt Plant (AP-2)'!S66,0),IF('Asphalt Plant (AP-3)'!$C$5=\"drum mix plant\",'Asphalt Plant (AP-3)'!S66,0),IF('Asphalt Plant (AP-4)'!$C$5=\"drum mix plant\",'Asphalt Plant (AP-4)'!S66,0),IF('Asphalt Plant (AP-5)'!$C$5=\"drum mix plant\",'Asphalt Plant (AP-5)'!S66,0),IF('Asphalt Plant (AP-6)'!$C$5=\"drum mix plant\",'Asphalt Plant (AP-6)'!S66,0),IF('Asphalt Plant (AP-7)'!$C$5=\"drum mix plant\",'Asphalt Plant (AP-7)'!S66,0),IF('Asphalt Plant (AP-8)'!$C$5=\"drum mix plant\",'Asphalt Plant (AP-8)'!S66,0),IF('Asphalt Plant (AP-9)'!$C$5=\"drum mix plant\",'Asphalt Plant (AP-9)'!S66,0),IF('Asphalt Plant (AP-10)'!$C$5=\"drum mix plant\",'Asphalt Plant (AP-10)'!S66,0)))","v":""},{"$f":"IF(B105=\"\",\"\",SUM(IF('Asphalt Plant (AP-1)'!$C$5=\"drum mix plant\",'Asphalt Plant (AP-1)'!T66,0),IF('Asphalt Plant (AP-2)'!$C$5=\"drum mix plant\",'Asphalt Plant (AP-2)'!T66,0),IF('Asphalt Plant (AP-3)'!$C$5=\"drum mix plant\",'Asphalt Plant (AP-3)'!T66,0),IF('Asphalt Plant (AP-4)'!$C$5=\"drum mix plant\",'Asphalt Plant (AP-4)'!T66,0),IF('Asphalt Plant (AP-5)'!$C$5=\"drum mix plant\",'Asphalt Plant (AP-5)'!T66,0),IF('Asphalt Plant (AP-6)'!$C$5=\"drum mix plant\",'Asphalt Plant (AP-6)'!T66,0),IF('Asphalt Plant (AP-7)'!$C$5=\"drum mix plant\",'Asphalt Plant (AP-7)'!T66,0),IF('Asphalt Plant (AP-8)'!$C$5=\"drum mix plant\",'Asphalt Plant (AP-8)'!T66,0),IF('Asphalt Plant (AP-9)'!$C$5=\"drum mix plant\",'Asphalt Plant (AP-9)'!T66,0),IF('Asphalt Plant (AP-10)'!$C$5=\"drum mix plant\",'Asphalt Plant (AP-10)'!T66,0)))","v":""}]
["Formaldehyde"]
[{"$f":"IF(OR('Asphalt Plant (AP-1)'!$C$5=\"batch mix plant\",'Asphalt Plant (AP-2)'!$C$5=\"batch mix plant\",'Asphalt Plant (AP-3)'!$C$5=\"batch mix plant\",'Asphalt Plant (AP-4)'!$C$5=\"batch mix plant\",'Asphalt Plant (AP-5)'!$C$5=\"batch mix plant\",'Asphalt Plant (AP-6)'!$C$5=\"batch mix plant\",'Asphalt Plant (AP-7)'!$C$5=\"batch mix plant\",'Asphalt Plant (AP-8)'!$C$5=\"batch mix plant\",'Asphalt Plant (AP-9)'!$C$5=\"batch mix plant\",'Asphalt Plant (AP-10)'!$C$5=\"batch mix plant\"),\"ALL\",\"\")","v":""},{"$f":"IF(OR('Asphalt Plant (AP-1)'!$C$5=\"batch mix plant\",'Asphalt Plant (AP-2)'!$C$5=\"batch mix plant\",'Asphalt Plant (AP-3)'!$C$5=\"batch mix plant\",'Asphalt Plant (AP-4)'!$C$5=\"batch mix plant\",'Asphalt Plant (AP-5)'!$C$5=\"batch mix plant\",'Asphalt Plant (AP-6)'!$C$5=\"batch mix plant\",'Asphalt Plant (AP-7)'!$C$5=\"batch mix plant\",'Asphalt Plant (AP-8)'!$C$5=\"batch mix plant\",'Asphalt Plant (AP-9)'!$C$5=\"batch mix plant\",'Asphalt Plant (AP-10)'!$C$5=\"batch mix plant\"),\"Batch Mix Plant\",\"\")","v":""},{"$f":"IF(B107=\"\",\"\",\"30500245/46/47\")","v":""},{"$f":"IF(B107=\"\",\"\",SUM(IF('Asphalt Plant (AP-1)'!C5=\"batch mix plant\",SUM('Asphalt Plant (AP-1)'!N5:N7),0),IF('Asphalt Plant (AP-2)'!C5=\"batch mix plant\",SUM('Asphalt Plant (AP-2)'!N5:N7),0),IF('Asphalt Plant (AP-3)'!C5=\"batch mix plant\",SUM('Asphalt Plant (AP-3)'!N5:N7),0),IF('Asphalt Plant (AP-4)'!C5=\"batch mix plant\",SUM('Asphalt Plant (AP-4)'!N5:N7),0),IF('Asphalt Plant (AP-5)'!C5=\"batch mix plant\",SUM('Asphalt Plant (AP-5)'!N5:N7),0),IF('Asphalt Plant (AP-6)'!C5=\"batch mix plant\",SUM('Asphalt Plant (AP-6)'!N5:N7),0),IF('Asphalt Plant (AP-7)'!C5=\"batch mix plant\",SUM('Asphalt Plant (AP-7)'!N5:N7),0),IF('Asphalt Plant (AP-8)'!C5=\"batch mix plant\",SUM('Asphalt Plant (AP-8)'!N5:N7),0),IF('Asphalt Plant (AP-9)'!C5=\"batch mix plant\",SUM('Asphalt Plant (AP-9)'!N5:N7),0),IF('Asphalt Plant (AP-10)'!C5=\"batch mix plant\",SUM('Asphalt Plant (AP-10)'!N5:N7),0)))","v":""},{"$f":"IF(B107=\"\",\"\",\"tons/hr\")","v":""},{"$f":"IF(B107=\"\",\"\",0.00074)","v":""},{"$f":"IF(B107=\"\",\"\",\"lbs/ton\")","v":""},{"$f":"IF(B107=\"\",\"\",\"AP-42 Table 11.1-2,5,6,9\")","v":""},{"$f":"IF(B107=\"\",\"\",SUM(IF('Asphalt Plant (AP-1)'!$C$5=\"batch mix plant\",'Asphalt Plant (AP-1)'!Q68,0),IF('Asphalt Plant (AP-2)'!$C$5=\"batch mix plant\",'Asphalt Plant (AP-2)'!Q68,0),IF('Asphalt Plant (AP-3)'!$C$5=\"batch mix plant\",'Asphalt Plant (AP-3)'!Q68,0),IF('Asphalt Plant (AP-4)'!$C$5=\"batch mix plant\",'Asphalt Plant (AP-4)'!Q68,0),IF('Asphalt Plant (AP-5)'!$C$5=\"batch mix plant\",'Asphalt Plant (AP-5)'!Q68,0),IF('Asphalt Plant (AP-6)'!$C$5=\"batch mix plant\",'Asphalt Plant (AP-6)'!Q68,0),IF('Asphalt Plant (AP-7)'!$C$5=\"batch mix plant\",'Asphalt Plant (AP-7)'!Q68,0),IF('Asphalt Plant (AP-8)'!$C$5=\"batch mix plant\",'Asphalt Plant (AP-8)'!Q68,0),IF('Asphalt Plant (AP-9)'!$C$5=\"batch mix plant\",'Asphalt Plant (AP-9)'!Q68,0),IF('Asphalt Plant (AP-10)'!$C$5=\"batch mix plant\",'Asphalt Plant (AP-10)'!Q68,0)))","v":""},null,null,{"$f":"IF(B107=\"\",\"\",SUM(IF('Asphalt Plant (AP-1)'!$C$5=\"batch mix plant\",'Asphalt Plant (AP-1)'!S68,0),IF('Asphalt Plant (AP-2)'!$C$5=\"batch mix plant\",'Asphalt Plant (AP-2)'!S68,0),IF('Asphalt Plant (AP-3)'!$C$5=\"batch mix plant\",'Asphalt Plant (AP-3)'!S68,0),IF('Asphalt Plant (AP-4)'!$C$5=\"batch mix plant\",'Asphalt Plant (AP-4)'!S68,0),IF('Asphalt Plant (AP-5)'!$C$5=\"batch mix plant\",'Asphalt Plant (AP-5)'!S68,0),IF('Asphalt Plant (AP-6)'!$C$5=\"batch mix plant\",'Asphalt Plant (AP-6)'!S68,0),IF('Asphalt Plant (AP-7)'!$C$5=\"batch mix plant\",'Asphalt Plant (AP-7)'!S68,0),IF('Asphalt Plant (AP-8)'!$C$5=\"batch mix plant\",'Asphalt Plant (AP-8)'!S68,0),IF('Asphalt Plant (AP-9)'!$C$5=\"batch mix plant\",'Asphalt Plant (AP-9)'!S68,0),IF('Asphalt Plant (AP-10)'!$C$5=\"batch mix plant\",'Asphalt Plant (AP-10)'!S68,0)))","v":""},{"$f":"IF(B107=\"\",\"\",SUM(IF('Asphalt Plant (AP-1)'!$C$5=\"batch mix plant\",'Asphalt Plant (AP-1)'!T68,0),IF('Asphalt Plant (AP-2)'!$C$5=\"batch mix plant\",'Asphalt Plant (AP-2)'!T68,0),IF('Asphalt Plant (AP-3)'!$C$5=\"batch mix plant\",'Asphalt Plant (AP-3)'!T68,0),IF('Asphalt Plant (AP-4)'!$C$5=\"batch mix plant\",'Asphalt Plant (AP-4)'!T68,0),IF('Asphalt Plant (AP-5)'!$C$5=\"batch mix plant\",'Asphalt Plant (AP-5)'!T68,0),IF('Asphalt Plant (AP-6)'!$C$5=\"batch mix plant\",'Asphalt Plant (AP-6)'!T68,0),IF('Asphalt Plant (AP-7)'!$C$5=\"batch mix plant\",'Asphalt Plant (AP-7)'!T68,0),IF('Asphalt Plant (AP-8)'!$C$5=\"batch mix plant\",'Asphalt Plant (AP-8)'!T68,0),IF('Asphalt Plant (AP-9)'!$C$5=\"batch mix plant\",'Asphalt Plant (AP-9)'!T68,0),IF('Asphalt Plant (AP-10)'!$C$5=\"batch mix plant\",'Asphalt Plant (AP-10)'!T68,0)))","v":""}]
[{"$f":"IF(OR('Asphalt Plant (AP-1)'!$C$5=\"drum mix plant\",'Asphalt Plant (AP-2)'!$C$5=\"drum mix plant\",'Asphalt Plant (AP-3)'!$C$5=\"drum mix plant\",'Asphalt Plant (AP-4)'!$C$5=\"drum mix plant\",'Asphalt Plant (AP-5)'!$C$5=\"drum mix plant\",'Asphalt Plant (AP-6)'!$C$5=\"drum mix plant\",'Asphalt Plant (AP-7)'!$C$5=\"drum mix plant\",'Asphalt Plant (AP-8)'!$C$5=\"drum mix plant\",'Asphalt Plant (AP-9)'!$C$5=\"drum mix plant\",'Asphalt Plant (AP-10)'!$C$5=\"drum mix plant\"),\"ALL\",\"\")","v":""},{"$f":"IF(OR('Asphalt Plant (AP-1)'!$C$5=\"drum mix plant\",'Asphalt Plant (AP-2)'!$C$5=\"drum mix plant\",'Asphalt Plant (AP-3)'!$C$5=\"drum mix plant\",'Asphalt Plant (AP-4)'!$C$5=\"drum mix plant\",'Asphalt Plant (AP-5)'!$C$5=\"drum mix plant\",'Asphalt Plant (AP-6)'!$C$5=\"drum mix plant\",'Asphalt Plant (AP-7)'!$C$5=\"drum mix plant\",'Asphalt Plant (AP-8)'!$C$5=\"drum mix plant\",'Asphalt Plant (AP-9)'!$C$5=\"drum mix plant\",'Asphalt Plant (AP-10)'!$C$5=\"drum mix plant\"),\"Drum Mix Plant\",\"\")","v":""},{"$f":"IF(B108=\"\",\"\",\"30500255/58/61\")","v":""},{"$f":"IF(B108=\"\",\"\",SUM(IF('Asphalt Plant (AP-1)'!C5=\"drum mix plant\",SUM('Asphalt Plant (AP-1)'!N5:N7),0),IF('Asphalt Plant (AP-2)'!C5=\"drum mix plant\",SUM('Asphalt Plant (AP-2)'!N5:N7),0),IF('Asphalt Plant (AP-3)'!C5=\"drum mix plant\",SUM('Asphalt Plant (AP-3)'!N5:N7),0),IF('Asphalt Plant (AP-4)'!C5=\"drum mix plant\",SUM('Asphalt Plant (AP-4)'!N5:N7),0),IF('Asphalt Plant (AP-5)'!C5=\"drum mix plant\",SUM('Asphalt Plant (AP-5)'!N5:N7),0),IF('Asphalt Plant (AP-6)'!C5=\"drum mix plant\",SUM('Asphalt Plant (AP-6)'!N5:N7),0),IF('Asphalt Plant (AP-7)'!C5=\"drum mix plant\",SUM('Asphalt Plant (AP-7)'!N5:N7),0),IF('Asphalt Plant (AP-8)'!C5=\"drum mix plant\",SUM('Asphalt Plant (AP-8)'!N5:N7),0),IF('Asphalt Plant (AP-9)'!C5=\"drum mix plant\",SUM('Asphalt Plant (AP-9)'!N5:N7),0),IF('Asphalt Plant (AP-10)'!C5=\"drum mix plant\",SUM('Asphalt Plant (AP-10)'!N5:N7),0)))","v":""},{"$f":"IF(B108=\"\",\"\",\"tons/hr\")","v":""},{"$f":"IF(B108=\"\",\"\",0.0031)","v":""},{"$f":"IF(B108=\"\",\"\",\"lbs/ton\")","v":""},{"$f":"IF(B108=\"\",\"\",\"AP-42 Table 11.1-4,7,8,10\")","v":""},{"$f":"IF(B108=\"\",\"\",SUM(IF('Asphalt Plant (AP-1)'!$C$5=\"drum mix plant\",'Asphalt Plant (AP-1)'!Q68,0),IF('Asphalt Plant (AP-2)'!$C$5=\"drum mix plant\",'Asphalt Plant (AP-2)'!Q68,0),IF('Asphalt Plant (AP-3)'!$C$5=\"drum mix plant\",'Asphalt Plant (AP-3)'!Q68,0),IF('Asphalt Plant (AP-4)'!$C$5=\"drum mix plant\",'Asphalt Plant (AP-4)'!Q68,0),IF('Asphalt Plant (AP-5)'!$C$5=\"drum mix plant\",'Asphalt Plant (AP-5)'!Q68,0),IF('Asphalt Plant (AP-6)'!$C$5=\"drum mix plant\",'Asphalt Plant (AP-6)'!Q68,0),IF('Asphalt Plant (AP-7)'!$C$5=\"drum mix plant\",'Asphalt Plant (AP-7)'!Q68,0),IF('Asphalt Plant (AP-8)'!$C$5=\"drum mix plant\",'Asphalt Plant (AP-8)'!Q68,0),IF('Asphalt Plant (AP-9)'!$C$5=\"drum mix plant\",'Asphalt Plant (AP-9)'!Q68,0),IF('Asphalt Plant (AP-10)'!$C$5=\"drum mix plant\",'Asphalt Plant (AP-10)'!Q68,0)))","v":""},null,null,{"$f":"IF(B108=\"\",\"\",SUM(IF('Asphalt Plant (AP-1)'!$C$5=\"drum mix plant\",'Asphalt Plant (AP-1)'!S68,0),IF('Asphalt Plant (AP-2)'!$C$5=\"drum mix plant\",'Asphalt Plant (AP-2)'!S68,0),IF('Asphalt Plant (AP-3)'!$C$5=\"drum mix plant\",'Asphalt Plant (AP-3)'!S68,0),IF('Asphalt Plant (AP-4)'!$C$5=\"drum mix plant\",'Asphalt Plant (AP-4)'!S68,0),IF('Asphalt Plant (AP-5)'!$C$5=\"drum mix plant\",'Asphalt Plant (AP-5)'!S68,0),IF('Asphalt Plant (AP-6)'!$C$5=\"drum mix plant\",'Asphalt Plant (AP-6)'!S68,0),IF('Asphalt Plant (AP-7)'!$C$5=\"drum mix plant\",'Asphalt Plant (AP-7)'!S68,0),IF('Asphalt Plant (AP-8)'!$C$5=\"drum mix plant\",'Asphalt Plant (AP-8)'!S68,0),IF('Asphalt Plant (AP-9)'!$C$5=\"drum mix plant\",'Asphalt Plant (AP-9)'!S68,0),IF('Asphalt Plant (AP-10)'!$C$5=\"drum mix plant\",'Asphalt Plant (AP-10)'!S68,0)))","v":""},{"$f":"IF(B108=\"\",\"\",SUM(IF('Asphalt Plant (AP-1)'!$C$5=\"drum mix plant\",'Asphalt Plant (AP-1)'!T68,0),IF('Asphalt Plant (AP-2)'!$C$5=\"drum mix plant\",'Asphalt Plant (AP-2)'!T68,0),IF('Asphalt Plant (AP-3)'!$C$5=\"drum mix plant\",'Asphalt Plant (AP-3)'!T68,0),IF('Asphalt Plant (AP-4)'!$C$5=\"drum mix plant\",'Asphalt Plant (AP-4)'!T68,0),IF('Asphalt Plant (AP-5)'!$C$5=\"drum mix plant\",'Asphalt Plant (AP-5)'!T68,0),IF('Asphalt Plant (AP-6)'!$C$5=\"drum mix plant\",'Asphalt Plant (AP-6)'!T68,0),IF('Asphalt Plant (AP-7)'!$C$5=\"drum mix plant\",'Asphalt Plant (AP-7)'!T68,0),IF('Asphalt Plant (AP-8)'!$C$5=\"drum mix plant\",'Asphalt Plant (AP-8)'!T68,0),IF('Asphalt Plant (AP-9)'!$C$5=\"drum mix plant\",'Asphalt Plant (AP-9)'!T68,0),IF('Asphalt Plant (AP-10)'!$C$5=\"drum mix plant\",'Asphalt Plant (AP-10)'!T68,0)))","v":""}]
[{"$f":"IF(D109=\"\",\"\",\"ALL\")","v":""},{"$f":"IF(D109=\"\",\"\",\"Natural Gas Fired Heater\")","v":""},{"$f":"IF(B109=\"\",\"\",\"30500206\")","v":""},{"$f":"IF(SUM('Asphalt Plant (AP-1)'!N10,'Asphalt Plant (AP-2)'!N10,'Asphalt Plant (AP-3)'!N10,'Asphalt Plant (AP-4)'!N10,'Asphalt Plant (AP-5)'!N10,'Asphalt Plant (AP-6)'!N10,'Asphalt Plant (AP-7)'!N10,'Asphalt Plant (AP-8)'!N10,'Asphalt Plant (AP-9)'!N10,'Asphalt Plant (AP-10)'!N10)>0,SUM('Asphalt Plant (AP-1)'!N10,'Asphalt Plant (AP-2)'!N10,'Asphalt Plant (AP-3)'!N10,'Asphalt Plant (AP-4)'!N10,'Asphalt Plant (AP-5)'!N10,'Asphalt Plant (AP-6)'!N10,'Asphalt Plant (AP-7)'!N10,'Asphalt Plant (AP-8)'!N10,'Asphalt Plant (AP-9)'!N10,'Asphalt Plant (AP-10)'!N10),\"\")","v":""},{"$f":"IF(B109=\"\",\"\",\"MMCF/hr\")","v":""},{"$f":"IF(B109=\"\",\"\",0.026)","v":""},{"$f":"IF(B109=\"\",\"\",\"lbs/MMCF\")","v":""},{"$f":"IF(B109=\"\",\"\",\"AP-42 Table 11.1-13\")","v":""},{"$f":"IF(B109=\"\",\"\",SUM('Asphalt Plant (AP-1)'!Q69,'Asphalt Plant (AP-2)'!Q69,'Asphalt Plant (AP-3)'!Q69,'Asphalt Plant (AP-4)'!Q69,'Asphalt Plant (AP-5)'!Q69,'Asphalt Plant (AP-6)'!Q69,'Asphalt Plant (AP-7)'!Q69,'Asphalt Plant (AP-8)'!Q69,'Asphalt Plant (AP-9)'!Q69,'Asphalt Plant (AP-10)'!Q69))","v":""},null,null,{"$f":"IF(B109=\"\",\"\",SUM('Asphalt Plant (AP-1)'!S69,'Asphalt Plant (AP-2)'!S69,'Asphalt Plant (AP-3)'!S69,'Asphalt Plant (AP-4)'!S69,'Asphalt Plant (AP-5)'!S69,'Asphalt Plant (AP-6)'!S69,'Asphalt Plant (AP-7)'!S69,'Asphalt Plant (AP-8)'!S69,'Asphalt Plant (AP-9)'!S69,'Asphalt Plant (AP-10)'!S69))","v":""},{"$f":"IF(B109=\"\",\"\",SUM('Asphalt Plant (AP-1)'!T69,'Asphalt Plant (AP-2)'!T69,'Asphalt Plant (AP-3)'!T69,'Asphalt Plant (AP-4)'!T69,'Asphalt Plant (AP-5)'!T69,'Asphalt Plant (AP-6)'!T69,'Asphalt Plant (AP-7)'!T69,'Asphalt Plant (AP-8)'!T69,'Asphalt Plant (AP-9)'!T69,'Asphalt Plant (AP-10)'!T69))","v":""}]
[{"$f":"IF('Permitted Diesel Engines'!R50=0,\"\",\"ALL\")","v":""},{"$f":"IF('Permitted Diesel Engines'!R50=0,\"\",\"Diesel Generator ≤ 600 bhp\")","v":""},{"$f":"IF('Permitted Diesel Engines'!R50=0,\"\",LOOKUP(B110,'Emission Factors'!$A$43:$A$44,'Emission Factors'!$B$43:$B$44))","v":""},{"$f":"IF('Permitted Diesel Engines'!R50=0,\"\",'Permitted Diesel Engines'!R50)","v":""},{"$f":"IF(B110=\"\",\"\",\"MMBtu/hr\")","v":""},{"$f":"IF('Permitted Diesel Engines'!R50=0,\"\",LOOKUP(B110,'Emission Factors'!$A$43:$A$44,'Emission Factors'!$P$43:$P$44))","v":""},{"$f":"IF(B110=\"\",\"\",\"lb/MMBtu\")","v":""},{"$f":"IF('Permitted Diesel Engines'!R50=0,\"\",LOOKUP(B110,'Emission Factors'!$A$43:$A$44,'Emission Factors'!$Q$43:$Q$44))","v":""},{"$f":"IF(B110=\"\",\"\",D110*F110)","v":""},null,null,{"$f":"IF(B110=\"\",\"\",'Permitted Diesel Engines'!AL77)","v":""},{"$f":"IF(B110=\"\",\"\",'Permitted Diesel Engines'!$T$50*F110/2000)","v":""}]
[{"$f":"IF('Permitted Diesel Engines'!R51=0,\"\",\"ALL\")","v":""},{"$f":"IF('Permitted Diesel Engines'!R51=0,\"\",\"Diesel Generator> 600 bhp\")","v":""},{"$f":"IF('Permitted Diesel Engines'!R51=0,\"\",LOOKUP(B111,'Emission Factors'!$A$43:$A$44,'Emission Factors'!$B$43:$B$44))","v":""},{"$f":"IF('Permitted Diesel Engines'!R51=0,\"\",'Permitted Diesel Engines'!R51)","v":""},{"$f":"IF(B111=\"\",\"\",\"MMBtu/hr\")","v":""},{"$f":"IF('Permitted Diesel Engines'!R51=0,\"\",LOOKUP(B111,'Emission Factors'!$A$43:$A$44,'Emission Factors'!$P$43:$P$44))","v":""},{"$f":"IF(B111=\"\",\"\",\"lb/MMBtu\")","v":""},{"$f":"IF('Permitted Diesel Engines'!R51=0,\"\",LOOKUP(B111,'Emission Factors'!$A$43:$A$44,'Emission Factors'!$Q$43:$Q$44))","v":""},{"$f":"IF(B111=\"\",\"\",D111*F111)","v":""},null,null,{"$f":"IF(B111=\"\",\"\",'Permitted Diesel Engines'!AM77)","v":""},{"$f":"IF(B111=\"\",\"\",'Permitted Diesel Engines'!$T$51*F111/2000)","v":""}]
[null,null,null,null,null,null,{"$f":"IF(F112=\"\",\"\",\"lbs/ton\")","v":""},null,null,"FACILITY TOTALS:",null,{"$f":"SUM(L107:L111)","v":0},{"$f":"SUM(M107:M111)","v":0}]
[]
["Hexane",null,null,null,null,null,{"$f":"IF(F114=\"\",\"\",\"lbs/ton\")","v":""}]
[{"$f":"IF(OR('Asphalt Plant (AP-1)'!$C$5=\"drum mix plant\",'Asphalt Plant (AP-2)'!$C$5=\"drum mix plant\",'Asphalt Plant (AP-3)'!$C$5=\"drum mix plant\",'Asphalt Plant (AP-4)'!$C$5=\"drum mix plant\",'Asphalt Plant (AP-5)'!$C$5=\"drum mix plant\",'Asphalt Plant (AP-6)'!$C$5=\"drum mix plant\",'Asphalt Plant (AP-7)'!$C$5=\"drum mix plant\",'Asphalt Plant (AP-8)'!$C$5=\"drum mix plant\",'Asphalt Plant (AP-9)'!$C$5=\"drum mix plant\",'Asphalt Plant (AP-10)'!$C$5=\"drum mix plant\"),\"ALL\",\"\")","v":""},{"$f":"IF(OR('Asphalt Plant (AP-1)'!$C$5=\"drum mix plant\",'Asphalt Plant (AP-2)'!$C$5=\"drum mix plant\",'Asphalt Plant (AP-3)'!$C$5=\"drum mix plant\",'Asphalt Plant (AP-4)'!$C$5=\"drum mix plant\",'Asphalt Plant (AP-5)'!$C$5=\"drum mix plant\",'Asphalt Plant (AP-6)'!$C$5=\"drum mix plant\",'Asphalt Plant (AP-7)'!$C$5=\"drum mix plant\",'Asphalt Plant (AP-8)'!$C$5=\"drum mix plant\",'Asphalt Plant (AP-9)'!$C$5=\"drum mix plant\",'Asphalt Plant (AP-10)'!$C$5=\"drum mix plant\"),\"Drum Mix Plant\",\"\")","v":""},{"$f":"IF(B115=\"\",\"\",\"30500255/58/61\")","v":""},{"$f":"IF(B115=\"\",\"\",SUM(IF('Asphalt Plant (AP-1)'!C5=\"drum mix plant\",SUM('Asphalt Plant (AP-1)'!N5:N7),0),IF('Asphalt Plant (AP-2)'!C5=\"drum mix plant\",SUM('Asphalt Plant (AP-2)'!N5:N7),0),IF('Asphalt Plant (AP-3)'!C5=\"drum mix plant\",SUM('Asphalt Plant (AP-3)'!N5:N7),0),IF('Asphalt Plant (AP-4)'!C5=\"drum mix plant\",SUM('Asphalt Plant (AP-4)'!N5:N7),0),IF('Asphalt Plant (AP-5)'!C5=\"drum mix plant\",SUM('Asphalt Plant (AP-5)'!N5:N7),0),IF('Asphalt Plant (AP-6)'!C5=\"drum mix plant\",SUM('Asphalt Plant (AP-6)'!N5:N7),0),IF('Asphalt Plant (AP-7)'!C5=\"drum mix plant\",SUM('Asphalt Plant (AP-7)'!N5:N7),0),IF('Asphalt Plant (AP-8)'!C5=\"drum mix plant\",SUM('Asphalt Plant (AP-8)'!N5:N7),0),IF('Asphalt Plant (AP-9)'!C5=\"drum mix plant\",SUM('Asphalt Plant (AP-9)'!N5:N7),0),IF('Asphalt Plant (AP-10)'!C5=\"drum mix plant\",SUM('Asphalt Plant (AP-10)'!N5:N7),0)))","v":""},{"$f":"IF(B115=\"\",\"\",\"tons/hr\")","v":""},{"$f":"IF(B115=\"\",\"\",0.00092)","v":""},{"$f":"IF(B115=\"\",\"\",\"lbs/ton\")","v":""},{"$f":"IF(B115=\"\",\"\",\"AP-42 Table 11.1-4,7,8,10\")","v":""},{"$f":"IF(B115=\"\",\"\",SUM(IF('Asphalt Plant (AP-1)'!$C$5=\"drum mix plant\",'Asphalt Plant (AP-1)'!Q71,0),IF('Asphalt Plant (AP-2)'!$C$5=\"drum mix plant\",'Asphalt Plant (AP-2)'!Q71,0),IF('Asphalt Plant (AP-3)'!$C$5=\"drum mix plant\",'Asphalt Plant (AP-3)'!Q71,0),IF('Asphalt Plant (AP-4)'!$C$5=\"drum mix plant\",'Asphalt Plant (AP-4)'!Q71,0),IF('Asphalt Plant (AP-5)'!$C$5=\"drum mix plant\",'Asphalt Plant (AP-5)'!Q71,0),IF('Asphalt Plant (AP-6)'!$C$5=\"drum mix plant\",'Asphalt Plant (AP-6)'!Q71,0),IF('Asphalt Plant (AP-7)'!$C$5=\"drum mix plant\",'Asphalt Plant (AP-7)'!Q71,0),IF('Asphalt Plant (AP-8)'!$C$5=\"drum mix plant\",'Asphalt Plant (AP-8)'!Q71,0),IF('Asphalt Plant (AP-9)'!$C$5=\"drum mix plant\",'Asphalt Plant (AP-9)'!Q71,0),IF('Asphalt Plant (AP-10)'!$C$5=\"drum mix plant\",'Asphalt Plant (AP-10)'!Q71,0)))","v":""},null,null,{"$f":"IF(B115=\"\",\"\",SUM(IF('Asphalt Plant (AP-1)'!$C$5=\"drum mix plant\",'Asphalt Plant (AP-1)'!S71,0),IF('Asphalt Plant (AP-2)'!$C$5=\"drum mix plant\",'Asphalt Plant (AP-2)'!S71,0),IF('Asphalt Plant (AP-3)'!$C$5=\"drum mix plant\",'Asphalt Plant (AP-3)'!S71,0),IF('Asphalt Plant (AP-4)'!$C$5=\"drum mix plant\",'Asphalt Plant (AP-4)'!S71,0),IF('Asphalt Plant (AP-5)'!$C$5=\"drum mix plant\",'Asphalt Plant (AP-5)'!S71,0),IF('Asphalt Plant (AP-6)'!$C$5=\"drum mix plant\",'Asphalt Plant (AP-6)'!S71,0),IF('Asphalt Plant (AP-7)'!$C$5=\"drum mix plant\",'Asphalt Plant (AP-7)'!S71,0),IF('Asphalt Plant (AP-8)'!$C$5=\"drum mix plant\",'Asphalt Plant (AP-8)'!S71,0),IF('Asphalt Plant (AP-9)'!$C$5=\"drum mix plant\",'Asphalt Plant (AP-9)'!S71,0),IF('Asphalt Plant (AP-10)'!$C$5=\"drum mix plant\",'Asphalt Plant (AP-10)'!S71,0)))","v":""},{"$f":"IF(B115=\"\",\"\",SUM(IF('Asphalt Plant (AP-1)'!$C$5=\"drum mix plant\",'Asphalt Plant (AP-1)'!T71,0),IF('Asphalt Plant (AP-2)'!$C$5=\"drum mix plant\",'Asphalt Plant (AP-2)'!T71,0),IF('Asphalt Plant (AP-3)'!$C$5=\"drum mix plant\",'Asphalt Plant (AP-3)'!T71,0),IF('Asphalt Plant (AP-4)'!$C$5=\"drum mix plant\",'Asphalt Plant (AP-4)'!T71,0),IF('Asphalt Plant (AP-5)'!$C$5=\"drum mix plant\",'Asphalt Plant (AP-5)'!T71,0),IF('Asphalt Plant (AP-6)'!$C$5=\"drum mix plant\",'Asphalt Plant (AP-6)'!T71,0),IF('Asphalt Plant (AP-7)'!$C$5=\"drum mix plant\",'Asphalt Plant (AP-7)'!T71,0),IF('Asphalt Plant (AP-8)'!$C$5=\"drum mix plant\",'Asphalt Plant (AP-8)'!T71,0),IF('Asphalt Plant (AP-9)'!$C$5=\"drum mix plant\",'Asphalt Plant (AP-9)'!T71,0),IF('Asphalt Plant (AP-10)'!$C$5=\"drum mix plant\",'Asphalt Plant (AP-10)'!T71,0)))","v":""}]
["Hydrochloric Acid"]
[{"$f":"IF(OR('Asphalt Plant (AP-1)'!$C$5=\"drum mix plant\",'Asphalt Plant (AP-2)'!$C$5=\"drum mix plant\",'Asphalt Plant (AP-3)'!$C$5=\"drum mix plant\",'Asphalt Plant (AP-4)'!$C$5=\"drum mix plant\",'Asphalt Plant (AP-5)'!$C$5=\"drum mix plant\",'Asphalt Plant (AP-6)'!$C$5=\"drum mix plant\",'Asphalt Plant (AP-7)'!$C$5=\"drum mix plant\",'Asphalt Plant (AP-8)'!$C$5=\"drum mix plant\",'Asphalt Plant (AP-9)'!$C$5=\"drum mix plant\",'Asphalt Plant (AP-10)'!$C$5=\"drum mix plant\"),\"ALL\",\"\")","v":""},{"$f":"IF(OR('Asphalt Plant (AP-1)'!$C$5=\"drum mix plant\",'Asphalt Plant (AP-2)'!$C$5=\"drum mix plant\",'Asphalt Plant (AP-3)'!$C$5=\"drum mix plant\",'Asphalt Plant (AP-4)'!$C$5=\"drum mix plant\",'Asphalt Plant (AP-5)'!$C$5=\"drum mix plant\",'Asphalt Plant (AP-6)'!$C$5=\"drum mix plant\",'Asphalt Plant (AP-7)'!$C$5=\"drum mix plant\",'Asphalt Plant (AP-8)'!$C$5=\"drum mix plant\",'Asphalt Plant (AP-9)'!$C$5=\"drum mix plant\",'Asphalt Plant (AP-10)'!$C$5=\"drum mix plant\"),\"Drum Mix Plant\",\"\")","v":""},{"$f":"IF(B117=\"\",\"\",\"30500258/61\")","v":""},{"$f":"IF(B117=\"\",\"\",SUM(IF('Asphalt Plant (AP-1)'!C5=\"drum mix plant\",SUM('Asphalt Plant (AP-1)'!N5:N6),0),IF('Asphalt Plant (AP-2)'!C5=\"drum mix plant\",SUM('Asphalt Plant (AP-2)'!N5:N6),0),IF('Asphalt Plant (AP-3)'!C5=\"drum mix plant\",SUM('Asphalt Plant (AP-3)'!N5:N6),0),IF('Asphalt Plant (AP-4)'!C5=\"drum mix plant\",SUM('Asphalt Plant (AP-4)'!N5:N6),0),IF('Asphalt Plant (AP-5)'!C5=\"drum mix plant\",SUM('Asphalt Plant (AP-5)'!N5:N6),0),IF('Asphalt Plant (AP-6)'!C5=\"drum mix plant\",SUM('Asphalt Plant (AP-6)'!N5:N6),0),IF('Asphalt Plant (AP-7)'!C5=\"drum mix plant\",SUM('Asphalt Plant (AP-7)'!N5:N6),0),IF('Asphalt Plant (AP-8)'!C5=\"drum mix plant\",SUM('Asphalt Plant (AP-8)'!N5:N6),0),IF('Asphalt Plant (AP-9)'!C5=\"drum mix plant\",SUM('Asphalt Plant (AP-9)'!N5:N6),0),IF('Asphalt Plant (AP-10)'!C5=\"drum mix plant\",SUM('Asphalt Plant (AP-10)'!N5:N6),0)))","v":""},{"$f":"IF(B117=\"\",\"\",\"tons/hr\")","v":""},{"$f":"IF(B117=\"\",\"\",0.00021)","v":""},{"$f":"IF(B117=\"\",\"\",\"lbs/ton\")","v":""},{"$f":"IF(B117=\"\",\"\",\"AP-42 Table 11.1-4,7,8,10\")","v":""},{"$f":"IF(B117=\"\",\"\",SUM(IF('Asphalt Plant (AP-1)'!$C$5=\"drum mix plant\",'Asphalt Plant (AP-1)'!Q73,0),IF('Asphalt Plant (AP-2)'!$C$5=\"drum mix plant\",'Asphalt Plant (AP-2)'!Q73,0),IF('Asphalt Plant (AP-3)'!$C$5=\"drum mix plant\",'Asphalt Plant (AP-3)'!Q73,0),IF('Asphalt Plant (AP-4)'!$C$5=\"drum mix plant\",'Asphalt Plant (AP-4)'!Q73,0),IF('Asphalt Plant (AP-5)'!$C$5=\"drum mix plant\",'Asphalt Plant (AP-5)'!Q73,0),IF('Asphalt Plant (AP-6)'!$C$5=\"drum mix plant\",'Asphalt Plant (AP-6)'!Q73,0),IF('Asphalt Plant (AP-7)'!$C$5=\"drum mix plant\",'Asphalt Plant (AP-7)'!Q73,0),IF('Asphalt Plant (AP-8)'!$C$5=\"drum mix plant\",'Asphalt Plant (AP-8)'!Q73,0),IF('Asphalt Plant (AP-9)'!$C$5=\"drum mix plant\",'Asphalt Plant (AP-9)'!Q73,0),IF('Asphalt Plant (AP-10)'!$C$5=\"drum mix plant\",'Asphalt Plant (AP-10)'!Q73,0)))","v":""},null,null,{"$f":"IF(B117=\"\",\"\",SUM(IF('Asphalt Plant (AP-1)'!$C$5=\"drum mix plant\",'Asphalt Plant (AP-1)'!S73,0),IF('Asphalt Plant (AP-2)'!$C$5=\"drum mix plant\",'Asphalt Plant (AP-2)'!S73,0),IF('Asphalt Plant (AP-3)'!$C$5=\"drum mix plant\",'Asphalt Plant (AP-3)'!S73,0),IF('Asphalt Plant (AP-4)'!$C$5=\"drum mix plant\",'Asphalt Plant (AP-4)'!S73,0),IF('Asphalt Plant (AP-5)'!$C$5=\"drum mix plant\",'Asphalt Plant (AP-5)'!S73,0),IF('Asphalt Plant (AP-6)'!$C$5=\"drum mix plant\",'Asphalt Plant (AP-6)'!S73,0),IF('Asphalt Plant (AP-7)'!$C$5=\"drum mix plant\",'Asphalt Plant (AP-7)'!S73,0),IF('Asphalt Plant (AP-8)'!$C$5=\"drum mix plant\",'Asphalt Plant (AP-8)'!S73,0),IF('Asphalt Plant (AP-9)'!$C$5=\"drum mix plant\",'Asphalt Plant (AP-9)'!S73,0),IF('Asphalt Plant (AP-10)'!$C$5=\"drum mix plant\",'Asphalt Plant (AP-10)'!S73,0)))","v":""},{"$f":"IF(B117=\"\",\"\",SUM(IF('Asphalt Plant (AP-1)'!$C$5=\"drum mix plant\",'Asphalt Plant (AP-1)'!T73,0),IF('Asphalt Plant (AP-2)'!$C$5=\"drum mix plant\",'Asphalt Plant (AP-2)'!T73,0),IF('Asphalt Plant (AP-3)'!$C$5=\"drum mix plant\",'Asphalt Plant (AP-3)'!T73,0),IF('Asphalt Plant (AP-4)'!$C$5=\"drum mix plant\",'Asphalt Plant (AP-4)'!T73,0),IF('Asphalt Plant (AP-5)'!$C$5=\"drum mix plant\",'Asphalt Plant (AP-5)'!T73,0),IF('Asphalt Plant (AP-6)'!$C$5=\"drum mix plant\",'Asphalt Plant (AP-6)'!T73,0),IF('Asphalt Plant (AP-7)'!$C$5=\"drum mix plant\",'Asphalt Plant (AP-7)'!T73,0),IF('Asphalt Plant (AP-8)'!$C$5=\"drum mix plant\",'Asphalt Plant (AP-8)'!T73,0),IF('Asphalt Plant (AP-9)'!$C$5=\"drum mix plant\",'Asphalt Plant (AP-9)'!T73,0),IF('Asphalt Plant (AP-10)'!$C$5=\"drum mix plant\",'Asphalt Plant (AP-10)'!T73,0)))","v":""}]
["Methyl Chloroform"]
[{"$f":"IF(OR('Asphalt Plant (AP-1)'!$C$5=\"drum mix plant\",'Asphalt Plant (AP-2)'!$C$5=\"drum mix plant\",'Asphalt Plant (AP-3)'!$C$5=\"drum mix plant\",'Asphalt Plant (AP-4)'!$C$5=\"drum mix plant\",'Asphalt Plant (AP-5)'!$C$5=\"drum mix plant\",'Asphalt Plant (AP-6)'!$C$5=\"drum mix plant\",'Asphalt Plant (AP-7)'!$C$5=\"drum mix plant\",'Asphalt Plant (AP-8)'!$C$5=\"drum mix plant\",'Asphalt Plant (AP-9)'!$C$5=\"drum mix plant\",'Asphalt Plant (AP-10)'!$C$5=\"drum mix plant\"),\"ALL\",\"\")","v":""},{"$f":"IF(OR('Asphalt Plant (AP-1)'!$C$5=\"drum mix plant\",'Asphalt Plant (AP-2)'!$C$5=\"drum mix plant\",'Asphalt Plant (AP-3)'!$C$5=\"drum mix plant\",'Asphalt Plant (AP-4)'!$C$5=\"drum mix plant\",'Asphalt Plant (AP-5)'!$C$5=\"drum mix plant\",'Asphalt Plant (AP-6)'!$C$5=\"drum mix plant\",'Asphalt Plant (AP-7)'!$C$5=\"drum mix plant\",'Asphalt Plant (AP-8)'!$C$5=\"drum mix plant\",'Asphalt Plant (AP-9)'!$C$5=\"drum mix plant\",'Asphalt Plant (AP-10)'!$C$5=\"drum mix plant\"),\"Drum Mix Plant\",\"\")","v":""},{"$f":"IF(B119=\"\",\"\",\"30500255/58/61\")","v":""},{"$f":"IF(B119=\"\",\"\",SUM(IF('Asphalt Plant (AP-1)'!C5=\"drum mix plant\",SUM('Asphalt Plant (AP-1)'!N5:N7),0),IF('Asphalt Plant (AP-2)'!C5=\"drum mix plant\",SUM('Asphalt Plant (AP-2)'!N5:N7),0),IF('Asphalt Plant (AP-3)'!C5=\"drum mix plant\",SUM('Asphalt Plant (AP-3)'!N5:N7),0),IF('Asphalt Plant (AP-4)'!C5=\"drum mix plant\",SUM('Asphalt Plant (AP-4)'!N5:N7),0),IF('Asphalt Plant (AP-5)'!C5=\"drum mix plant\",SUM('Asphalt Plant (AP-5)'!N5:N7),0),IF('Asphalt Plant (AP-6)'!C5=\"drum mix plant\",SUM('Asphalt Plant (AP-6)'!N5:N7),0),IF('Asphalt Plant (AP-7)'!C5=\"drum mix plant\",SUM('Asphalt Plant (AP-7)'!N5:N7),0),IF('Asphalt Plant (AP-8)'!C5=\"drum mix plant\",SUM('Asphalt Plant (AP-8)'!N5:N7),0),IF('Asphalt Plant (AP-9)'!C5=\"drum mix plant\",SUM('Asphalt Plant (AP-9)'!N5:N7),0),IF('Asphalt Plant (AP-10)'!C5=\"drum mix plant\",SUM('Asphalt Plant (AP-10)'!N5:N7),0)))","v":""},{"$f":"IF(B119=\"\",\"\",\"tons/hr\")","v":""},{"$f":"IF(B119=\"\",\"\",0.000048)","v":""},{"$f":"IF(B119=\"\",\"\",\"lbs/ton\")","v":""},{"$f":"IF(B119=\"\",\"\",\"AP-42 Table 11.1-4,7,8,10\")","v":""},{"$f":"IF(B119=\"\",\"\",SUM(IF('Asphalt Plant (AP-1)'!$C$5=\"drum mix plant\",'Asphalt Plant (AP-1)'!Q75,0),IF('Asphalt Plant (AP-2)'!$C$5=\"drum mix plant\",'Asphalt Plant (AP-2)'!Q75,0),IF('Asphalt Plant (AP-3)'!$C$5=\"drum mix plant\",'Asphalt Plant (AP-3)'!Q75,0),IF('Asphalt Plant (AP-4)'!$C$5=\"drum mix plant\",'Asphalt Plant (AP-4)'!Q75,0),IF('Asphalt Plant (AP-5)'!$C$5=\"drum mix plant\",'Asphalt Plant (AP-5)'!Q75,0),IF('Asphalt Plant (AP-6)'!$C$5=\"drum mix plant\",'Asphalt Plant (AP-6)'!Q75,0),IF('Asphalt Plant (AP-7)'!$C$5=\"drum mix plant\",'Asphalt Plant (AP-7)'!Q75,0),IF('Asphalt Plant (AP-8)'!$C$5=\"drum mix plant\",'Asphalt Plant (AP-8)'!Q75,0),IF('Asphalt Plant (AP-9)'!$C$5=\"drum mix plant\",'Asphalt Plant (AP-9)'!Q75,0),IF('Asphalt Plant (AP-10)'!$C$5=\"drum mix plant\",'Asphalt Plant (AP-10)'!Q75,0)))","v":""},null,null,{"$f":"IF(B119=\"\",\"\",SUM(IF('Asphalt Plant (AP-1)'!$C$5=\"drum mix plant\",'Asphalt Plant (AP-1)'!S75,0),IF('Asphalt Plant (AP-2)'!$C$5=\"drum mix plant\",'Asphalt Plant (AP-2)'!S75,0),IF('Asphalt Plant (AP-3)'!$C$5=\"drum mix plant\",'Asphalt Plant (AP-3)'!S75,0),IF('Asphalt Plant (AP-4)'!$C$5=\"drum mix plant\",'Asphalt Plant (AP-4)'!S75,0),IF('Asphalt Plant (AP-5)'!$C$5=\"drum mix plant\",'Asphalt Plant (AP-5)'!S75,0),IF('Asphalt Plant (AP-6)'!$C$5=\"drum mix plant\",'Asphalt Plant (AP-6)'!S75,0),IF('Asphalt Plant (AP-7)'!$C$5=\"drum mix plant\",'Asphalt Plant (AP-7)'!S75,0),IF('Asphalt Plant (AP-8)'!$C$5=\"drum mix plant\",'Asphalt Plant (AP-8)'!S75,0),IF('Asphalt Plant (AP-9)'!$C$5=\"drum mix plant\",'Asphalt Plant (AP-9)'!S75,0),IF('Asphalt Plant (AP-10)'!$C$5=\"drum mix plant\",'Asphalt Plant (AP-10)'!S75,0)))","v":""},{"$f":"IF(B119=\"\",\"\",SUM(IF('Asphalt Plant (AP-1)'!$C$5=\"drum mix plant\",'Asphalt Plant (AP-1)'!T75,0),IF('Asphalt Plant (AP-2)'!$C$5=\"drum mix plant\",'Asphalt Plant (AP-2)'!T75,0),IF('Asphalt Plant (AP-3)'!$C$5=\"drum mix plant\",'Asphalt Plant (AP-3)'!T75,0),IF('Asphalt Plant (AP-4)'!$C$5=\"drum mix plant\",'Asphalt Plant (AP-4)'!T75,0),IF('Asphalt Plant (AP-5)'!$C$5=\"drum mix plant\",'Asphalt Plant (AP-5)'!T75,0),IF('Asphalt Plant (AP-6)'!$C$5=\"drum mix plant\",'Asphalt Plant (AP-6)'!T75,0),IF('Asphalt Plant (AP-7)'!$C$5=\"drum mix plant\",'Asphalt Plant (AP-7)'!T75,0),IF('Asphalt Plant (AP-8)'!$C$5=\"drum mix plant\",'Asphalt Plant (AP-8)'!T75,0),IF('Asphalt Plant (AP-9)'!$C$5=\"drum mix plant\",'Asphalt Plant (AP-9)'!T75,0),IF('Asphalt Plant (AP-10)'!$C$5=\"drum mix plant\",'Asphalt Plant (AP-10)'!T75,0)))","v":""}]
["Propionaldehyde"]
[{"$f":"IF(OR('Asphalt Plant (AP-1)'!$C$5=\"drum mix plant\",'Asphalt Plant (AP-2)'!$C$5=\"drum mix plant\",'Asphalt Plant (AP-3)'!$C$5=\"drum mix plant\",'Asphalt Plant (AP-4)'!$C$5=\"drum mix plant\",'Asphalt Plant (AP-5)'!$C$5=\"drum mix plant\",'Asphalt Plant (AP-6)'!$C$5=\"drum mix plant\",'Asphalt Plant (AP-7)'!$C$5=\"drum mix plant\",'Asphalt Plant (AP-8)'!$C$5=\"drum mix plant\",'Asphalt Plant (AP-9)'!$C$5=\"drum mix plant\",'Asphalt Plant (AP-10)'!$C$5=\"drum mix plant\"),\"ALL\",\"\")","v":""},{"$f":"IF(OR('Asphalt Plant (AP-1)'!$C$5=\"drum mix plant\",'Asphalt Plant (AP-2)'!$C$5=\"drum mix plant\",'Asphalt Plant (AP-3)'!$C$5=\"drum mix plant\",'Asphalt Plant (AP-4)'!$C$5=\"drum mix plant\",'Asphalt Plant (AP-5)'!$C$5=\"drum mix plant\",'Asphalt Plant (AP-6)'!$C$5=\"drum mix plant\",'Asphalt Plant (AP-7)'!$C$5=\"drum mix plant\",'Asphalt Plant (AP-8)'!$C$5=\"drum mix plant\",'Asphalt Plant (AP-9)'!$C$5=\"drum mix plant\",'Asphalt Plant (AP-10)'!$C$5=\"drum mix plant\"),\"Drum Mix Plant\",\"\")","v":""},{"$f":"IF(B121=\"\",\"\",\"30500258/61\")","v":""},{"$f":"IF(B121=\"\",\"\",SUM(IF('Asphalt Plant (AP-1)'!C5=\"drum mix plant\",SUM('Asphalt Plant (AP-1)'!N5:N6),0),IF('Asphalt Plant (AP-2)'!C5=\"drum mix plant\",SUM('Asphalt Plant (AP-2)'!N5:N6),0),IF('Asphalt Plant (AP-3)'!C5=\"drum mix plant\",SUM('Asphalt Plant (AP-3)'!N5:N6),0),IF('Asphalt Plant (AP-4)'!C5=\"drum mix plant\",SUM('Asphalt Plant (AP-4)'!N5:N6),0),IF('Asphalt Plant (AP-5)'!C5=\"drum mix plant\",SUM('Asphalt Plant (AP-5)'!N5:N6),0),IF('Asphalt Plant (AP-6)'!C5=\"drum mix plant\",SUM('Asphalt Plant (AP-6)'!N5:N6),0),IF('Asphalt Plant (AP-7)'!C5=\"drum mix plant\",SUM('Asphalt Plant (AP-7)'!N5:N6),0),IF('Asphalt Plant (AP-8)'!C5=\"drum mix plant\",SUM('Asphalt Plant (AP-8)'!N5:N6),0),IF('Asphalt Plant (AP-9)'!C5=\"drum mix plant\",SUM('Asphalt Plant (AP-9)'!N5:N6),0),IF('Asphalt Plant (AP-10)'!C5=\"drum mix plant\",SUM('Asphalt Plant (AP-10)'!N5:N6),0)))","v":""},{"$f":"IF(B121=\"\",\"\",\"tons/hr\")","v":""},{"$f":"IF(B121=\"\",\"\",0.00013)","v":""},{"$f":"IF(B121=\"\",\"\",\"lbs/ton\")","v":""},{"$f":"IF(B121=\"\",\"\",\"AP-42 Table 11.1-4,7,8,10\")","v":""},{"$f":"IF(B121=\"\",\"\",SUM(IF('Asphalt Plant (AP-1)'!$C$5=\"drum mix plant\",'Asphalt Plant (AP-1)'!Q77,0),IF('Asphalt Plant (AP-2)'!$C$5=\"drum mix plant\",'Asphalt Plant (AP-2)'!Q77,0),IF('Asphalt Plant (AP-3)'!$C$5=\"drum mix plant\",'Asphalt Plant (AP-3)'!Q77,0),IF('Asphalt Plant (AP-4)'!$C$5=\"drum mix plant\",'Asphalt Plant (AP-4)'!Q77,0),IF('Asphalt Plant (AP-5)'!$C$5=\"drum mix plant\",'Asphalt Plant (AP-5)'!Q77,0),IF('Asphalt Plant (AP-6)'!$C$5=\"drum mix plant\",'Asphalt Plant (AP-6)'!Q77,0),IF('Asphalt Plant (AP-7)'!$C$5=\"drum mix plant\",'Asphalt Plant (AP-7)'!Q77,0),IF('Asphalt Plant (AP-8)'!$C$5=\"drum mix plant\",'Asphalt Plant (AP-8)'!Q77,0),IF('Asphalt Plant (AP-9)'!$C$5=\"drum mix plant\",'Asphalt Plant (AP-9)'!Q77,0),IF('Asphalt Plant (AP-10)'!$C$5=\"drum mix plant\",'Asphalt Plant (AP-10)'!Q77,0)))","v":""},null,null,{"$f":"IF(B121=\"\",\"\",SUM(IF('Asphalt Plant (AP-1)'!$C$5=\"drum mix plant\",'Asphalt Plant (AP-1)'!S77,0),IF('Asphalt Plant (AP-2)'!$C$5=\"drum mix plant\",'Asphalt Plant (AP-2)'!S77,0),IF('Asphalt Plant (AP-3)'!$C$5=\"drum mix plant\",'Asphalt Plant (AP-3)'!S77,0),IF('Asphalt Plant (AP-4)'!$C$5=\"drum mix plant\",'Asphalt Plant (AP-4)'!S77,0),IF('Asphalt Plant (AP-5)'!$C$5=\"drum mix plant\",'Asphalt Plant (AP-5)'!S77,0),IF('Asphalt Plant (AP-6)'!$C$5=\"drum mix plant\",'Asphalt Plant (AP-6)'!S77,0),IF('Asphalt Plant (AP-7)'!$C$5=\"drum mix plant\",'Asphalt Plant (AP-7)'!S77,0),IF('Asphalt Plant (AP-8)'!$C$5=\"drum mix plant\",'Asphalt Plant (AP-8)'!S77,0),IF('Asphalt Plant (AP-9)'!$C$5=\"drum mix plant\",'Asphalt Plant (AP-9)'!S77,0),IF('Asphalt Plant (AP-10)'!$C$5=\"drum mix plant\",'Asphalt Plant (AP-10)'!S77,0)))","v":""},{"$f":"IF(B121=\"\",\"\",SUM(IF('Asphalt Plant (AP-1)'!$C$5=\"drum mix plant\",'Asphalt Plant (AP-1)'!T77,0),IF('Asphalt Plant (AP-2)'!$C$5=\"drum mix plant\",'Asphalt Plant (AP-2)'!T77,0),IF('Asphalt Plant (AP-3)'!$C$5=\"drum mix plant\",'Asphalt Plant (AP-3)'!T77,0),IF('Asphalt Plant (AP-4)'!$C$5=\"drum mix plant\",'Asphalt Plant (AP-4)'!T77,0),IF('Asphalt Plant (AP-5)'!$C$5=\"drum mix plant\",'Asphalt Plant (AP-5)'!T77,0),IF('Asphalt Plant (AP-6)'!$C$5=\"drum mix plant\",'Asphalt Plant (AP-6)'!T77,0),IF('Asphalt Plant (AP-7)'!$C$5=\"drum mix plant\",'Asphalt Plant (AP-7)'!T77,0),IF('Asphalt Plant (AP-8)'!$C$5=\"drum mix plant\",'Asphalt Plant (AP-8)'!T77,0),IF('Asphalt Plant (AP-9)'!$C$5=\"drum mix plant\",'Asphalt Plant (AP-9)'!T77,0),IF('Asphalt Plant (AP-10)'!$C$5=\"drum mix plant\",'Asphalt Plant (AP-10)'!T77,0)))","v":""}]
["Quinone",null,null,null,null,null,null,{"$f":"IF(F122=\"\",\"\",LOOKUP(B122,'[1]Emission Factors'!$A$5:$A$10,'[1]Emission Factors'!$D$5:$D$10))","v":""}]
[{"$f":"IF(OR('Asphalt Plant (AP-1)'!$C$5=\"batch mix plant\",'Asphalt Plant (AP-2)'!$C$5=\"batch mix plant\",'Asphalt Plant (AP-3)'!$C$5=\"batch mix plant\",'Asphalt Plant (AP-4)'!$C$5=\"batch mix plant\",'Asphalt Plant (AP-5)'!$C$5=\"batch mix plant\",'Asphalt Plant (AP-6)'!$C$5=\"batch mix plant\",'Asphalt Plant (AP-7)'!$C$5=\"batch mix plant\",'Asphalt Plant (AP-8)'!$C$5=\"batch mix plant\",'Asphalt Plant (AP-9)'!$C$5=\"batch mix plant\",'Asphalt Plant (AP-10)'!$C$5=\"batch mix plant\"),\"ALL\",\"\")","v":""},{"$f":"IF(OR('Asphalt Plant (AP-1)'!$C$5=\"batch mix plant\",'Asphalt Plant (AP-2)'!$C$5=\"batch mix plant\",'Asphalt Plant (AP-3)'!$C$5=\"batch mix plant\",'Asphalt Plant (AP-4)'!$C$5=\"batch mix plant\",'Asphalt Plant (AP-5)'!$C$5=\"batch mix plant\",'Asphalt Plant (AP-6)'!$C$5=\"batch mix plant\",'Asphalt Plant (AP-7)'!$C$5=\"batch mix plant\",'Asphalt Plant (AP-8)'!$C$5=\"batch mix plant\",'Asphalt Plant (AP-9)'!$C$5=\"batch mix plant\",'Asphalt Plant (AP-10)'!$C$5=\"batch mix plant\"),\"Batch Mix Plant\",\"\")","v":""},{"$f":"IF(B123=\"\",\"\",\"30500245/46/47\")","v":""},{"$f":"IF(B123=\"\",\"\",SUM(IF('Asphalt Plant (AP-1)'!C5=\"batch mix plant\",SUM('Asphalt Plant (AP-1)'!N5:N7),0),IF('Asphalt Plant (AP-2)'!C5=\"batch mix plant\",SUM('Asphalt Plant (AP-2)'!N5:N7),0),IF('Asphalt Plant (AP-3)'!C5=\"batch mix plant\",SUM('Asphalt Plant (AP-3)'!N5:N7),0),IF('Asphalt Plant (AP-4)'!C5=\"batch mix plant\",SUM('Asphalt Plant (AP-4)'!N5:N7),0),IF('Asphalt Plant (AP-5)'!C5=\"batch mix plant\",SUM('Asphalt Plant (AP-5)'!N5:N7),0),IF('Asphalt Plant (AP-6)'!C5=\"batch mix plant\",SUM('Asphalt Plant (AP-6)'!N5:N7),0),IF('Asphalt Plant (AP-7)'!C5=\"batch mix plant\",SUM('Asphalt Plant (AP-7)'!N5:N7),0),IF('Asphalt Plant (AP-8)'!C5=\"batch mix plant\",SUM('Asphalt Plant (AP-8)'!N5:N7),0),IF('Asphalt Plant (AP-9)'!C5=\"batch mix plant\",SUM('Asphalt Plant (AP-9)'!N5:N7),0),IF('Asphalt Plant (AP-10)'!C5=\"batch mix plant\",SUM('Asphalt Plant (AP-10)'!N5:N7),0)))","v":""},{"$f":"IF(B123=\"\",\"\",\"tons/hr\")","v":""},{"$f":"IF(B123=\"\",\"\",0.00027)","v":""},{"$f":"IF(B123=\"\",\"\",\"lbs/ton\")","v":""},{"$f":"IF(B123=\"\",\"\",\"AP-42 Table 11.1-2,5,6,9\")","v":""},{"$f":"IF(B123=\"\",\"\",SUM(IF('Asphalt Plant (AP-1)'!$C$5=\"batch mix plant\",'Asphalt Plant (AP-1)'!Q79,0),IF('Asphalt Plant (AP-2)'!$C$5=\"batch mix plant\",'Asphalt Plant (AP-2)'!Q79,0),IF('Asphalt Plant (AP-3)'!$C$5=\"batch mix plant\",'Asphalt Plant (AP-3)'!Q79,0),IF('Asphalt Plant (AP-4)'!$C$5=\"batch mix plant\",'Asphalt Plant (AP-4)'!Q79,0),IF('Asphalt Plant (AP-5)'!$C$5=\"batch mix plant\",'Asphalt Plant (AP-5)'!Q79,0),IF('Asphalt Plant (AP-6)'!$C$5=\"batch mix plant\",'Asphalt Plant (AP-6)'!Q79,0),IF('Asphalt Plant (AP-7)'!$C$5=\"batch mix plant\",'Asphalt Plant (AP-7)'!Q79,0),IF('Asphalt Plant (AP-8)'!$C$5=\"batch mix plant\",'Asphalt Plant (AP-8)'!Q79,0),IF('Asphalt Plant (AP-9)'!$C$5=\"batch mix plant\",'Asphalt Plant (AP-9)'!Q79,0),IF('Asphalt Plant (AP-10)'!$C$5=\"batch mix plant\",'Asphalt Plant (AP-10)'!Q79,0)))","v":""},null,null,{"$f":"IF(B123=\"\",\"\",SUM(IF('Asphalt Plant (AP-1)'!$C$5=\"batch mix plant\",'Asphalt Plant (AP-1)'!S79,0),IF('Asphalt Plant (AP-2)'!$C$5=\"batch mix plant\",'Asphalt Plant (AP-2)'!S79,0),IF('Asphalt Plant (AP-3)'!$C$5=\"batch mix plant\",'Asphalt Plant (AP-3)'!S79,0),IF('Asphalt Plant (AP-4)'!$C$5=\"batch mix plant\",'Asphalt Plant (AP-4)'!S79,0),IF('Asphalt Plant (AP-5)'!$C$5=\"batch mix plant\",'Asphalt Plant (AP-5)'!S79,0),IF('Asphalt Plant (AP-6)'!$C$5=\"batch mix plant\",'Asphalt Plant (AP-6)'!S79,0),IF('Asphalt Plant (AP-7)'!$C$5=\"batch mix plant\",'Asphalt Plant (AP-7)'!S79,0),IF('Asphalt Plant (AP-8)'!$C$5=\"batch mix plant\",'Asphalt Plant (AP-8)'!S79,0),IF('Asphalt Plant (AP-9)'!$C$5=\"batch mix plant\",'Asphalt Plant (AP-9)'!S79,0),IF('Asphalt Plant (AP-10)'!$C$5=\"batch mix plant\",'Asphalt Plant (AP-10)'!S79,0)))","v":""},{"$f":"IF(B123=\"\",\"\",SUM(IF('Asphalt Plant (AP-1)'!$C$5=\"batch mix plant\",'Asphalt Plant (AP-1)'!T79,0),IF('Asphalt Plant (AP-2)'!$C$5=\"batch mix plant\",'Asphalt Plant (AP-2)'!T79,0),IF('Asphalt Plant (AP-3)'!$C$5=\"batch mix plant\",'Asphalt Plant (AP-3)'!T79,0),IF('Asphalt Plant (AP-4)'!$C$5=\"batch mix plant\",'Asphalt Plant (AP-4)'!T79,0),IF('Asphalt Plant (AP-5)'!$C$5=\"batch mix plant\",'Asphalt Plant (AP-5)'!T79,0),IF('Asphalt Plant (AP-6)'!$C$5=\"batch mix plant\",'Asphalt Plant (AP-6)'!T79,0),IF('Asphalt Plant (AP-7)'!$C$5=\"batch mix plant\",'Asphalt Plant (AP-7)'!T79,0),IF('Asphalt Plant (AP-8)'!$C$5=\"batch mix plant\",'Asphalt Plant (AP-8)'!T79,0),IF('Asphalt Plant (AP-9)'!$C$5=\"batch mix plant\",'Asphalt Plant (AP-9)'!T79,0),IF('Asphalt Plant (AP-10)'!$C$5=\"batch mix plant\",'Asphalt Plant (AP-10)'!T79,0)))","v":""}]
[{"$f":"IF(OR('Asphalt Plant (AP-1)'!$C$5=\"drum mix plant\",'Asphalt Plant (AP-2)'!$C$5=\"drum mix plant\",'Asphalt Plant (AP-3)'!$C$5=\"drum mix plant\",'Asphalt Plant (AP-4)'!$C$5=\"drum mix plant\",'Asphalt Plant (AP-5)'!$C$5=\"drum mix plant\",'Asphalt Plant (AP-6)'!$C$5=\"drum mix plant\",'Asphalt Plant (AP-7)'!$C$5=\"drum mix plant\",'Asphalt Plant (AP-8)'!$C$5=\"drum mix plant\",'Asphalt Plant (AP-9)'!$C$5=\"drum mix plant\",'Asphalt Plant (AP-10)'!$C$5=\"drum mix plant\"),\"ALL\",\"\")","v":""},{"$f":"IF(OR('Asphalt Plant (AP-1)'!$C$5=\"drum mix plant\",'Asphalt Plant (AP-2)'!$C$5=\"drum mix plant\",'Asphalt Plant (AP-3)'!$C$5=\"drum mix plant\",'Asphalt Plant (AP-4)'!$C$5=\"drum mix plant\",'Asphalt Plant (AP-5)'!$C$5=\"drum mix plant\",'Asphalt Plant (AP-6)'!$C$5=\"drum mix plant\",'Asphalt Plant (AP-7)'!$C$5=\"drum mix plant\",'Asphalt Plant (AP-8)'!$C$5=\"drum mix plant\",'Asphalt Plant (AP-9)'!$C$5=\"drum mix plant\",'Asphalt Plant (AP-10)'!$C$5=\"drum mix plant\"),\"Drum Mix Plant\",\"\")","v":""},{"$f":"IF(B124=\"\",\"\",\"30500258/61\")","v":""},{"$f":"IF(B124=\"\",\"\",SUM(IF('Asphalt Plant (AP-1)'!C5=\"drum mix plant\",SUM('Asphalt Plant (AP-1)'!N5:N6),0),IF('Asphalt Plant (AP-2)'!C5=\"drum mix plant\",SUM('Asphalt Plant (AP-2)'!N5:N6),0),IF('Asphalt Plant (AP-3)'!C5=\"drum mix plant\",SUM('Asphalt Plant (AP-3)'!N5:N6),0),IF('Asphalt Plant (AP-4)'!C5=\"drum mix plant\",SUM('Asphalt Plant (AP-4)'!N5:N6),0),IF('Asphalt Plant (AP-5)'!C5=\"drum mix plant\",SUM('Asphalt Plant (AP-5)'!N5:N6),0),IF('Asphalt Plant (AP-6)'!C5=\"drum mix plant\",SUM('Asphalt Plant (AP-6)'!N5:N6),0),IF('Asphalt Plant (AP-7)'!C5=\"drum mix plant\",SUM('Asphalt Plant (AP-7)'!N5:N6),0),IF('Asphalt Plant (AP-8)'!C5=\"drum mix plant\",SUM('Asphalt Plant (AP-8)'!N5:N6),0),IF('Asphalt Plant (AP-9)'!C5=\"drum mix plant\",SUM('Asphalt Plant (AP-9)'!N5:N6),0),IF('Asphalt Plant (AP-10)'!C5=\"drum mix plant\",SUM('Asphalt Plant (AP-10)'!N5:N6),0)))","v":""},{"$f":"IF(B124=\"\",\"\",\"tons/hr\")","v":""},{"$f":"IF(B124=\"\",\"\",0.00016)","v":""},{"$f":"IF(B124=\"\",\"\",\"lbs/ton\")","v":""},{"$f":"IF(B124=\"\",\"\",\"AP-42 Table 11.1-4,7,8,10\")","v":""},{"$f":"IF(B124=\"\",\"\",SUM(IF('Asphalt Plant (AP-1)'!$C$5=\"drum mix plant\",'Asphalt Plant (AP-1)'!Q79,0),IF('Asphalt Plant (AP-2)'!$C$5=\"drum mix plant\",'Asphalt Plant (AP-2)'!Q79,0),IF('Asphalt Plant (AP-3)'!$C$5=\"drum mix plant\",'Asphalt Plant (AP-3)'!Q79,0),IF('Asphalt Plant (AP-4)'!$C$5=\"drum mix plant\",'Asphalt Plant (AP-4)'!Q79,0),IF('Asphalt Plant (AP-5)'!$C$5=\"drum mix plant\",'Asphalt Plant (AP-5)'!Q79,0),IF('Asphalt Plant (AP-6)'!$C$5=\"drum mix plant\",'Asphalt Plant (AP-6)'!Q79,0),IF('Asphalt Plant (AP-7)'!$C$5=\"drum mix plant\",'Asphalt Plant (AP-7)'!Q79,0),IF('Asphalt Plant (AP-8)'!$C$5=\"drum mix plant\",'Asphalt Plant (AP-8)'!Q79,0),IF('Asphalt Plant (AP-9)'!$C$5=\"drum mix plant\",'Asphalt Plant (AP-9)'!Q79,0),IF('Asphalt Plant (AP-10)'!$C$5=\"drum mix plant\",'Asphalt Plant (AP-10)'!Q79,0)))","v":""},null,null,{"$f":"IF(B124=\"\",\"\",SUM(IF('Asphalt Plant (AP-1)'!$C$5=\"drum mix plant\",'Asphalt Plant (AP-1)'!S79,0),IF('Asphalt Plant (AP-2)'!$C$5=\"drum mix plant\",'Asphalt Plant (AP-2)'!S79,0),IF('Asphalt Plant (AP-3)'!$C$5=\"drum mix plant\",'Asphalt Plant (AP-3)'!S79,0),IF('Asphalt Plant (AP-4)'!$C$5=\"drum mix plant\",'Asphalt Plant (AP-4)'!S79,0),IF('Asphalt Plant (AP-5)'!$C$5=\"drum mix plant\",'Asphalt Plant (AP-5)'!S79,0),IF('Asphalt Plant (AP-6)'!$C$5=\"drum mix plant\",'Asphalt Plant (AP-6)'!S79,0),IF('Asphalt Plant (AP-7)'!$C$5=\"drum mix plant\",'Asphalt Plant (AP-7)'!S79,0),IF('Asphalt Plant (AP-8)'!$C$5=\"drum mix plant\",'Asphalt Plant (AP-8)'!S79,0),IF('Asphalt Plant (AP-9)'!$C$5=\"drum mix plant\",'Asphalt Plant (AP-9)'!S79,0),IF('Asphalt Plant (AP-10)'!$C$5=\"drum mix plant\",'Asphalt Plant (AP-10)'!S79,0)))","v":""},{"$f":"IF(B124=\"\",\"\",SUM(IF('Asphalt Plant (AP-1)'!$C$5=\"drum mix plant\",'Asphalt Plant (AP-1)'!T79,0),IF('Asphalt Plant (AP-2)'!$C$5=\"drum mix plant\",'Asphalt Plant (AP-2)'!T79,0),IF('Asphalt Plant (AP-3)'!$C$5=\"drum mix plant\",'Asphalt Plant (AP-3)'!T79,0),IF('Asphalt Plant (AP-4)'!$C$5=\"drum mix plant\",'Asphalt Plant (AP-4)'!T79,0),IF('Asphalt Plant (AP-5)'!$C$5=\"drum mix plant\",'Asphalt Plant (AP-5)'!T79,0),IF('Asphalt Plant (AP-6)'!$C$5=\"drum mix plant\",'Asphalt Plant (AP-6)'!T79,0),IF('Asphalt Plant (AP-7)'!$C$5=\"drum mix plant\",'Asphalt Plant (AP-7)'!T79,0),IF('Asphalt Plant (AP-8)'!$C$5=\"drum mix plant\",'Asphalt Plant (AP-8)'!T79,0),IF('Asphalt Plant (AP-9)'!$C$5=\"drum mix plant\",'Asphalt Plant (AP-9)'!T79,0),IF('Asphalt Plant (AP-10)'!$C$5=\"drum mix plant\",'Asphalt Plant (AP-10)'!T79,0)))","v":""}]
["Toluene",null,null,null,null,null,null,{"$f":"IF(F125=\"\",\"\",LOOKUP(B125,'[1]Emission Factors'!$A$5:$A$10,'[1]Emission Factors'!$D$5:$D$10))","v":""}]
[{"$f":"IF(OR('Asphalt Plant (AP-1)'!$C$5=\"batch mix plant\",'Asphalt Plant (AP-2)'!$C$5=\"batch mix plant\",'Asphalt Plant (AP-3)'!$C$5=\"batch mix plant\",'Asphalt Plant (AP-4)'!$C$5=\"batch mix plant\",'Asphalt Plant (AP-5)'!$C$5=\"batch mix plant\",'Asphalt Plant (AP-6)'!$C$5=\"batch mix plant\",'Asphalt Plant (AP-7)'!$C$5=\"batch mix plant\",'Asphalt Plant (AP-8)'!$C$5=\"batch mix plant\",'Asphalt Plant (AP-9)'!$C$5=\"batch mix plant\",'Asphalt Plant (AP-10)'!$C$5=\"batch mix plant\"),\"ALL\",\"\")","v":""},{"$f":"IF(OR('Asphalt Plant (AP-1)'!$C$5=\"batch mix plant\",'Asphalt Plant (AP-2)'!$C$5=\"batch mix plant\",'Asphalt Plant (AP-3)'!$C$5=\"batch mix plant\",'Asphalt Plant (AP-4)'!$C$5=\"batch mix plant\",'Asphalt Plant (AP-5)'!$C$5=\"batch mix plant\",'Asphalt Plant (AP-6)'!$C$5=\"batch mix plant\",'Asphalt Plant (AP-7)'!$C$5=\"batch mix plant\",'Asphalt Plant (AP-8)'!$C$5=\"batch mix plant\",'Asphalt Plant (AP-9)'!$C$5=\"batch mix plant\",'Asphalt Plant (AP-10)'!$C$5=\"batch mix plant\"),\"Batch Mix Plant\",\"\")","v":""},{"$f":"IF(B126=\"\",\"\",\"30500245/46/47\")","v":""},{"$f":"IF(B126=\"\",\"\",SUM(IF('Asphalt Plant (AP-1)'!C5=\"batch mix plant\",SUM('Asphalt Plant (AP-1)'!N5:N7),0),IF('Asphalt Plant (AP-2)'!C5=\"batch mix plant\",SUM('Asphalt Plant (AP-2)'!N5:N7),0),IF('Asphalt Plant (AP-3)'!C5=\"batch mix plant\",SUM('Asphalt Plant (AP-3)'!N5:N7),0),IF('Asphalt Plant (AP-4)'!C5=\"batch mix plant\",SUM('Asphalt Plant (AP-4)'!N5:N7),0),IF('Asphalt Plant (AP-5)'!C5=\"batch mix plant\",SUM('Asphalt Plant (AP-5)'!N5:N7),0),IF('Asphalt Plant (AP-6)'!C5=\"batch mix plant\",SUM('Asphalt Plant (AP-6)'!N5:N7),0),IF('Asphalt Plant (AP-7)'!C5=\"batch mix plant\",SUM('Asphalt Plant (AP-7)'!N5:N7),0),IF('Asphalt Plant (AP-8)'!C5=\"batch mix plant\",SUM('Asphalt Plant (AP-8)'!N5:N7),0),IF('Asphalt Plant (AP-9)'!C5=\"batch mix plant\",SUM('Asphalt Plant (AP-9)'!N5:N7),0),IF('Asphalt Plant (AP-10)'!C5=\"batch mix plant\",SUM('Asphalt Plant (AP-10)'!N5:N7),0)))","v":""},{"$f":"IF(B126=\"\",\"\",\"tons/hr\")","v":""},{"$f":"IF(B126=\"\",\"\",0.001)","v":""},{"$f":"IF(B126=\"\",\"\",\"lbs/ton\")","v":""},{"$f":"IF(B126=\"\",\"\",\"AP-42 Table 11.1-2,5,6,9\")","v":""},{"$f":"IF(B126=\"\",\"\",SUM(IF('Asphalt Plant (AP-1)'!$C$5=\"batch mix plant\",SUM('Asphalt Plant (AP-1)'!Q81:Q83,0),IF('Asphalt Plant (AP-2)'!$C$5=\"batch mix plant\",SUM('Asphalt Plant (AP-1)'!Q81:Q83,0),IF('Asphalt Plant (AP-3)'!$C$5=\"batch mix plant\",SUM('Asphalt Plant (AP-1)'!Q81:Q83,0),IF('Asphalt Plant (AP-4)'!$C$5=\"batch mix plant\",SUM('Asphalt Plant (AP-1)'!Q81:Q83,0),IF('Asphalt Plant (AP-5)'!$C$5=\"batch mix plant\",SUM('Asphalt Plant (AP-1)'!Q81:Q83,0),IF('Asphalt Plant (AP-6)'!$C$5=\"batch mix plant\",SUM('Asphalt Plant (AP-1)'!Q81:Q83,0),IF('Asphalt Plant (AP-7)'!$C$5=\"batch mix plant\",SUM('Asphalt Plant (AP-1)'!Q81:Q83,0),IF('Asphalt Plant (AP-8)'!$C$5=\"batch mix plant\",SUM('Asphalt Plant (AP-1)'!Q81:Q83,0),IF('Asphalt Plant (AP-9)'!$C$5=\"batch mix plant\",SUM('Asphalt Plant (AP-1)'!Q81:Q83,0),IF('Asphalt Plant (AP-10)'!$C$5=\"batch mix plant\",SUM('Asphalt Plant (AP-1)'!Q81:Q83,0)))))))))))))","v":""},null,null,{"$f":"IF(B126=\"\",\"\",SUM(IF('Asphalt Plant (AP-1)'!$C$5=\"batch mix plant\",SUM('Asphalt Plant (AP-1)'!S81:S83,0),IF('Asphalt Plant (AP-2)'!$C$5=\"batch mix plant\",SUM('Asphalt Plant (AP-1)'!S81:S83,0),IF('Asphalt Plant (AP-3)'!$C$5=\"batch mix plant\",SUM('Asphalt Plant (AP-1)'!S81:S83,0),IF('Asphalt Plant (AP-4)'!$C$5=\"batch mix plant\",SUM('Asphalt Plant (AP-1)'!S81:S83,0),IF('Asphalt Plant (AP-5)'!$C$5=\"batch mix plant\",SUM('Asphalt Plant (AP-1)'!S81:S83,0),IF('Asphalt Plant (AP-6)'!$C$5=\"batch mix plant\",SUM('Asphalt Plant (AP-1)'!S81:S83,0),IF('Asphalt Plant (AP-7)'!$C$5=\"batch mix plant\",SUM('Asphalt Plant (AP-1)'!S81:S83,0),IF('Asphalt Plant (AP-8)'!$C$5=\"batch mix plant\",SUM('Asphalt Plant (AP-1)'!S81:S83,0),IF('Asphalt Plant (AP-9)'!$C$5=\"batch mix plant\",SUM('Asphalt Plant (AP-1)'!S81:S83,0),IF('Asphalt Plant (AP-10)'!$C$5=\"batch mix plant\",SUM('Asphalt Plant (AP-1)'!S81:S83,0)))))))))))))","v":""},{"$f":"IF(B126=\"\",\"\",SUM(IF('Asphalt Plant (AP-1)'!$C$5=\"batch mix plant\",SUM('Asphalt Plant (AP-1)'!T81:T83,0),IF('Asphalt Plant (AP-2)'!$C$5=\"batch mix plant\",SUM('Asphalt Plant (AP-1)'!T81:T83,0),IF('Asphalt Plant (AP-3)'!$C$5=\"batch mix plant\",SUM('Asphalt Plant (AP-1)'!T81:T83,0),IF('Asphalt Plant (AP-4)'!$C$5=\"batch mix plant\",SUM('Asphalt Plant (AP-1)'!T81:T83,0),IF('Asphalt Plant (AP-5)'!$C$5=\"batch mix plant\",SUM('Asphalt Plant (AP-1)'!T81:T83,0),IF('Asphalt Plant (AP-6)'!$C$5=\"batch mix plant\",SUM('Asphalt Plant (AP-1)'!T81:T83,0),IF('Asphalt Plant (AP-7)'!$C$5=\"batch mix plant\",SUM('Asphalt Plant (AP-1)'!T81:T83,0),IF('Asphalt Plant (AP-8)'!$C$5=\"batch mix plant\",SUM('Asphalt Plant (AP-1)'!T81:T83,0),IF('Asphalt Plant (AP-9)'!$C$5=\"batch mix plant\",SUM('Asphalt Plant (AP-1)'!T81:T83,0),IF('Asphalt Plant (AP-10)'!$C$5=\"batch mix plant\",SUM('Asphalt Plant (AP-1)'!T81:T83,0)))))))))))))","v":""}]
[{"$f":"IF(D127=\"\",\"\",\"ALL\")","v":""},{"$f":"IF(D127=\"\",\"\",\"Drum Mix Plant - Fuel Oil\")","v":""},{"$f":"IF(B127=\"\",\"\",\"30500258\")","v":""},{"$f":"IF(SUM(IF('Asphalt Plant (AP-1)'!$C$5=\"drum mix plant\",'Asphalt Plant (AP-1)'!N5,0),IF('Asphalt Plant (AP-2)'!$C$5=\"drum mix plant\",'Asphalt Plant (AP-2)'!N5,0),IF('Asphalt Plant (AP-3)'!$C$5=\"drum mix plant\",'Asphalt Plant (AP-3)'!N5,0),IF('Asphalt Plant (AP-4)'!$C$5=\"drum mix plant\",'Asphalt Plant (AP-4)'!N5,0),IF('Asphalt Plant (AP-5)'!$C$5=\"drum mix plant\",'Asphalt Plant (AP-5)'!N5,0),IF('Asphalt Plant (AP-6)'!$C$5=\"drum mix plant\",'Asphalt Plant (AP-6)'!N5,0),IF('Asphalt Plant (AP-7)'!$C$5=\"drum mix plant\",'Asphalt Plant (AP-7)'!N5,0),IF('Asphalt Plant (AP-8)'!$C$5=\"drum mix plant\",'Asphalt Plant (AP-8)'!N5,0),IF('Asphalt Plant (AP-9)'!$C$5=\"drum mix plant\",'Asphalt Plant (AP-9)'!N5,0),IF('Asphalt Plant (AP-10)'!$C$5=\"drum mix plant\",'Asphalt Plant (AP-10)'!N5,0))>0,SUM(IF('Asphalt Plant (AP-1)'!$C$5=\"drum mix plant\",'Asphalt Plant (AP-1)'!N5,0),IF('Asphalt Plant (AP-2)'!$C$5=\"drum mix plant\",'Asphalt Plant (AP-2)'!N5,0),IF('Asphalt Plant (AP-3)'!$C$5=\"drum mix plant\",'Asphalt Plant (AP-3)'!N5,0),IF('Asphalt Plant (AP-4)'!$C$5=\"drum mix plant\",'Asphalt Plant (AP-4)'!N5,0),IF('Asphalt Plant (AP-5)'!$C$5=\"drum mix plant\",'Asphalt Plant (AP-5)'!N5,0),IF('Asphalt Plant (AP-6)'!$C$5=\"drum mix plant\",'Asphalt Plant (AP-6)'!N5,0),IF('Asphalt Plant (AP-7)'!$C$5=\"drum mix plant\",'Asphalt Plant (AP-7)'!N5,0),IF('Asphalt Plant (AP-8)'!$C$5=\"drum mix plant\",'Asphalt Plant (AP-8)'!N5,0),IF('Asphalt Plant (AP-9)'!$C$5=\"drum mix plant\",'Asphalt Plant (AP-9)'!N5,0),IF('Asphalt Plant (AP-10)'!$C$5=\"drum mix plant\",'Asphalt Plant (AP-10)'!N5,0)),\"\")","v":""},{"$f":"IF(B127=\"\",\"\",\"tons/hr\")","v":""},{"$f":"IF(B127=\"\",\"\",0.0029)","v":""},{"$f":"IF(B127=\"\",\"\",\"lb/ton\")","v":""},{"$f":"IF(B127=\"\",\"\",\"AP-42 Table 11.1-4,7,8,10\")","v":""},{"$f":"IF(B127=\"\",\"\",SUM(IF('Asphalt Plant (AP-1)'!$C$5=\"drum mix plant\",'Asphalt Plant (AP-1)'!Q81,0),IF('Asphalt Plant (AP-2)'!$C$5=\"drum mix plant\",'Asphalt Plant (AP-2)'!Q81,0),IF('Asphalt Plant (AP-3)'!$C$5=\"drum mix plant\",'Asphalt Plant (AP-3)'!Q81,0),IF('Asphalt Plant (AP-4)'!$C$5=\"drum mix plant\",'Asphalt Plant (AP-4)'!Q81,0),IF('Asphalt Plant (AP-5)'!$C$5=\"drum mix plant\",'Asphalt Plant (AP-5)'!Q81,0),IF('Asphalt Plant (AP-6)'!$C$5=\"drum mix plant\",'Asphalt Plant (AP-6)'!Q81,0),IF('Asphalt Plant (AP-7)'!$C$5=\"drum mix plant\",'Asphalt Plant (AP-7)'!Q81,0),IF('Asphalt Plant (AP-8)'!$C$5=\"drum mix plant\",'Asphalt Plant (AP-8)'!Q81,0),IF('Asphalt Plant (AP-9)'!$C$5=\"drum mix plant\",'Asphalt Plant (AP-9)'!Q81,0),IF('Asphalt Plant (AP-10)'!$C$5=\"drum mix plant\",'Asphalt Plant (AP-10)'!Q81,0)))","v":""},null,null,{"$f":"IF(B127=\"\",\"\",SUM(IF('Asphalt Plant (AP-1)'!$C$5=\"drum mix plant\",'Asphalt Plant (AP-1)'!S81,0),IF('Asphalt Plant (AP-2)'!$C$5=\"drum mix plant\",'Asphalt Plant (AP-2)'!S81,0),IF('Asphalt Plant (AP-3)'!$C$5=\"drum mix plant\",'Asphalt Plant (AP-3)'!S81,0),IF('Asphalt Plant (AP-4)'!$C$5=\"drum mix plant\",'Asphalt Plant (AP-4)'!S81,0),IF('Asphalt Plant (AP-5)'!$C$5=\"drum mix plant\",'Asphalt Plant (AP-5)'!S81,0),IF('Asphalt Plant (AP-6)'!$C$5=\"drum mix plant\",'Asphalt Plant (AP-6)'!S81,0),IF('Asphalt Plant (AP-7)'!$C$5=\"drum mix plant\",'Asphalt Plant (AP-7)'!S81,0),IF('Asphalt Plant (AP-8)'!$C$5=\"drum mix plant\",'Asphalt Plant (AP-8)'!S81,0),IF('Asphalt Plant (AP-9)'!$C$5=\"drum mix plant\",'Asphalt Plant (AP-9)'!S81,0),IF('Asphalt Plant (AP-10)'!$C$5=\"drum mix plant\",'Asphalt Plant (AP-10)'!S81,0)))","v":""},{"$f":"IF(B127=\"\",\"\",SUM(IF('Asphalt Plant (AP-1)'!$C$5=\"drum mix plant\",'Asphalt Plant (AP-1)'!T81,0),IF('Asphalt Plant (AP-2)'!$C$5=\"drum mix plant\",'Asphalt Plant (AP-2)'!T81,0),IF('Asphalt Plant (AP-3)'!$C$5=\"drum mix plant\",'Asphalt Plant (AP-3)'!T81,0),IF('Asphalt Plant (AP-4)'!$C$5=\"drum mix plant\",'Asphalt Plant (AP-4)'!T81,0),IF('Asphalt Plant (AP-5)'!$C$5=\"drum mix plant\",'Asphalt Plant (AP-5)'!T81,0),IF('Asphalt Plant (AP-6)'!$C$5=\"drum mix plant\",'Asphalt Plant (AP-6)'!T81,0),IF('Asphalt Plant (AP-7)'!$C$5=\"drum mix plant\",'Asphalt Plant (AP-7)'!T81,0),IF('Asphalt Plant (AP-8)'!$C$5=\"drum mix plant\",'Asphalt Plant (AP-8)'!T81,0),IF('Asphalt Plant (AP-9)'!$C$5=\"drum mix plant\",'Asphalt Plant (AP-9)'!T81,0),IF('Asphalt Plant (AP-10)'!$C$5=\"drum mix plant\",'Asphalt Plant (AP-10)'!T81,0)))","v":""}]
[{"$f":"IF(D128=\"\",\"\",\"ALL\")","v":""},{"$f":"IF(D128=\"\",\"\",\"Drum Mix Plant - Waste Oil\")","v":""},{"$f":"IF(B128=\"\",\"\",\"30500255\")","v":""},{"$f":"IF(SUM(IF('Asphalt Plant (AP-1)'!$C$5=\"drum mix plant\",'Asphalt Plant (AP-1)'!N6,0),IF('Asphalt Plant (AP-2)'!$C$5=\"drum mix plant\",'Asphalt Plant (AP-2)'!N6,0),IF('Asphalt Plant (AP-3)'!$C$5=\"drum mix plant\",'Asphalt Plant (AP-3)'!N6,0),IF('Asphalt Plant (AP-4)'!$C$5=\"drum mix plant\",'Asphalt Plant (AP-4)'!N6,0),IF('Asphalt Plant (AP-5)'!$C$5=\"drum mix plant\",'Asphalt Plant (AP-5)'!N6,0),IF('Asphalt Plant (AP-6)'!$C$5=\"drum mix plant\",'Asphalt Plant (AP-6)'!N6,0),IF('Asphalt Plant (AP-7)'!$C$5=\"drum mix plant\",'Asphalt Plant (AP-7)'!N6,0),IF('Asphalt Plant (AP-8)'!$C$5=\"drum mix plant\",'Asphalt Plant (AP-8)'!N6,0),IF('Asphalt Plant (AP-9)'!$C$5=\"drum mix plant\",'Asphalt Plant (AP-9)'!N6,0),IF('Asphalt Plant (AP-10)'!$C$5=\"drum mix plant\",'Asphalt Plant (AP-10)'!N6,0))>0,SUM(IF('Asphalt Plant (AP-1)'!$C$5=\"drum mix plant\",'Asphalt Plant (AP-1)'!N6,0),IF('Asphalt Plant (AP-2)'!$C$5=\"drum mix plant\",'Asphalt Plant (AP-2)'!N6,0),IF('Asphalt Plant (AP-3)'!$C$5=\"drum mix plant\",'Asphalt Plant (AP-3)'!N6,0),IF('Asphalt Plant (AP-4)'!$C$5=\"drum mix plant\",'Asphalt Plant (AP-4)'!N6,0),IF('Asphalt Plant (AP-5)'!$C$5=\"drum mix plant\",'Asphalt Plant (AP-5)'!N6,0),IF('Asphalt Plant (AP-6)'!$C$5=\"drum mix plant\",'Asphalt Plant (AP-6)'!N6,0),IF('Asphalt Plant (AP-7)'!$C$5=\"drum mix plant\",'Asphalt Plant (AP-7)'!N6,0),IF('Asphalt Plant (AP-8)'!$C$5=\"drum mix plant\",'Asphalt Plant (AP-8)'!N6,0),IF('Asphalt Plant (AP-9)'!$C$5=\"drum mix plant\",'Asphalt Plant (AP-9)'!N6,0),IF('Asphalt Plant (AP-10)'!$C$5=\"drum mix plant\",'Asphalt Plant (AP-10)'!N6,0)),\"\")","v":""},{"$f":"IF(B128=\"\",\"\",\"tons/hr\")","v":""},{"$f":"IF(B128=\"\",\"\",0.0029)","v":""},{"$f":"IF(B128=\"\",\"\",\"lb/ton\")","v":""},{"$f":"IF(B128=\"\",\"\",\"AP-42 Table 11.1-4,7,8,10\")","v":""},{"$f":"IF(B128=\"\",\"\",SUM(IF('Asphalt Plant (AP-1)'!$C$5=\"drum mix plant\",'Asphalt Plant (AP-1)'!Q82,0),IF('Asphalt Plant (AP-2)'!$C$5=\"drum mix plant\",'Asphalt Plant (AP-2)'!Q82,0),IF('Asphalt Plant (AP-3)'!$C$5=\"drum mix plant\",'Asphalt Plant (AP-3)'!Q82,0),IF('Asphalt Plant (AP-4)'!$C$5=\"drum mix plant\",'Asphalt Plant (AP-4)'!Q82,0),IF('Asphalt Plant (AP-5)'!$C$5=\"drum mix plant\",'Asphalt Plant (AP-5)'!Q82,0),IF('Asphalt Plant (AP-6)'!$C$5=\"drum mix plant\",'Asphalt Plant (AP-6)'!Q82,0),IF('Asphalt Plant (AP-7)'!$C$5=\"drum mix plant\",'Asphalt Plant (AP-7)'!Q82,0),IF('Asphalt Plant (AP-8)'!$C$5=\"drum mix plant\",'Asphalt Plant (AP-8)'!Q82,0),IF('Asphalt Plant (AP-9)'!$C$5=\"drum mix plant\",'Asphalt Plant (AP-9)'!Q82,0),IF('Asphalt Plant (AP-10)'!$C$5=\"drum mix plant\",'Asphalt Plant (AP-10)'!Q82,0)))","v":""},null,null,{"$f":"IF(B128=\"\",\"\",SUM(IF('Asphalt Plant (AP-1)'!$C$5=\"drum mix plant\",'Asphalt Plant (AP-1)'!S82,0),IF('Asphalt Plant (AP-2)'!$C$5=\"drum mix plant\",'Asphalt Plant (AP-2)'!S82,0),IF('Asphalt Plant (AP-3)'!$C$5=\"drum mix plant\",'Asphalt Plant (AP-3)'!S82,0),IF('Asphalt Plant (AP-4)'!$C$5=\"drum mix plant\",'Asphalt Plant (AP-4)'!S82,0),IF('Asphalt Plant (AP-5)'!$C$5=\"drum mix plant\",'Asphalt Plant (AP-5)'!S82,0),IF('Asphalt Plant (AP-6)'!$C$5=\"drum mix plant\",'Asphalt Plant (AP-6)'!S82,0),IF('Asphalt Plant (AP-7)'!$C$5=\"drum mix plant\",'Asphalt Plant (AP-7)'!S82,0),IF('Asphalt Plant (AP-8)'!$C$5=\"drum mix plant\",'Asphalt Plant (AP-8)'!S82,0),IF('Asphalt Plant (AP-9)'!$C$5=\"drum mix plant\",'Asphalt Plant (AP-9)'!S82,0),IF('Asphalt Plant (AP-10)'!$C$5=\"drum mix plant\",'Asphalt Plant (AP-10)'!S82,0)))","v":""},{"$f":"IF(B128=\"\",\"\",SUM(IF('Asphalt Plant (AP-1)'!$C$5=\"drum mix plant\",'Asphalt Plant (AP-1)'!T82,0),IF('Asphalt Plant (AP-2)'!$C$5=\"drum mix plant\",'Asphalt Plant (AP-2)'!T82,0),IF('Asphalt Plant (AP-3)'!$C$5=\"drum mix plant\",'Asphalt Plant (AP-3)'!T82,0),IF('Asphalt Plant (AP-4)'!$C$5=\"drum mix plant\",'Asphalt Plant (AP-4)'!T82,0),IF('Asphalt Plant (AP-5)'!$C$5=\"drum mix plant\",'Asphalt Plant (AP-5)'!T82,0),IF('Asphalt Plant (AP-6)'!$C$5=\"drum mix plant\",'Asphalt Plant (AP-6)'!T82,0),IF('Asphalt Plant (AP-7)'!$C$5=\"drum mix plant\",'Asphalt Plant (AP-7)'!T82,0),IF('Asphalt Plant (AP-8)'!$C$5=\"drum mix plant\",'Asphalt Plant (AP-8)'!T82,0),IF('Asphalt Plant (AP-9)'!$C$5=\"drum mix plant\",'Asphalt Plant (AP-9)'!T82,0),IF('Asphalt Plant (AP-10)'!$C$5=\"drum mix plant\",'Asphalt Plant (AP-10)'!T82,0)))","v":""}]
[{"$f":"IF(D129=\"\",\"\",\"ALL\")","v":""},{"$f":"IF(D129=\"\",\"\",\"Drum Mix Plant - Natural Gas\")","v":""},{"$f":"IF(B129=\"\",\"\",\"30500261\")","v":""},{"$f":"IF(SUM(IF('Asphalt Plant (AP-1)'!$C$5=\"drum mix plant\",'Asphalt Plant (AP-1)'!N7,0),IF('Asphalt Plant (AP-2)'!$C$5=\"drum mix plant\",'Asphalt Plant (AP-2)'!N7,0),IF('Asphalt Plant (AP-3)'!$C$5=\"drum mix plant\",'Asphalt Plant (AP-3)'!N7,0),IF('Asphalt Plant (AP-4)'!$C$5=\"drum mix plant\",'Asphalt Plant (AP-4)'!N7,0),IF('Asphalt Plant (AP-5)'!$C$5=\"drum mix plant\",'Asphalt Plant (AP-5)'!N7,0),IF('Asphalt Plant (AP-6)'!$C$5=\"drum mix plant\",'Asphalt Plant (AP-6)'!N7,0),IF('Asphalt Plant (AP-7)'!$C$5=\"drum mix plant\",'Asphalt Plant (AP-7)'!N7,0),IF('Asphalt Plant (AP-8)'!$C$5=\"drum mix plant\",'Asphalt Plant (AP-8)'!N7,0),IF('Asphalt Plant (AP-9)'!$C$5=\"drum mix plant\",'Asphalt Plant (AP-9)'!N7,0),IF('Asphalt Plant (AP-10)'!$C$5=\"drum mix plant\",'Asphalt Plant (AP-10)'!N7,0))>0,SUM(IF('Asphalt Plant (AP-1)'!$C$5=\"drum mix plant\",'Asphalt Plant (AP-1)'!N7,0),IF('Asphalt Plant (AP-2)'!$C$5=\"drum mix plant\",'Asphalt Plant (AP-2)'!N7,0),IF('Asphalt Plant (AP-3)'!$C$5=\"drum mix plant\",'Asphalt Plant (AP-3)'!N7,0),IF('Asphalt Plant (AP-4)'!$C$5=\"drum mix plant\",'Asphalt Plant (AP-4)'!N7,0),IF('Asphalt Plant (AP-5)'!$C$5=\"drum mix plant\",'Asphalt Plant (AP-5)'!N7,0),IF('Asphalt Plant (AP-6)'!$C$5=\"drum mix plant\",'Asphalt Plant (AP-6)'!N7,0),IF('Asphalt Plant (AP-7)'!$C$5=\"drum mix plant\",'Asphalt Plant (AP-7)'!N7,0),IF('Asphalt Plant (AP-8)'!$C$5=\"drum mix plant\",'Asphalt Plant (AP-8)'!N7,0),IF('Asphalt Plant (AP-9)'!$C$5=\"drum mix plant\",'Asphalt Plant (AP-9)'!N7,0),IF('Asphalt Plant (AP-10)'!$C$5=\"drum mix plant\",'Asphalt Plant (AP-10)'!N7,0)),\"\")","v":""},{"$f":"IF(B129=\"\",\"\",\"tons/hr\")","v":""},{"$f":"IF(B129=\"\",\"\",0.00015)","v":""},{"$f":"IF(B129=\"\",\"\",\"lb/ton\")","v":""},{"$f":"IF(B129=\"\",\"\",\"AP-42 Table 11.1-4,7,8,10,12\")","v":""},{"$f":"IF(B129=\"\",\"\",SUM(IF('Asphalt Plant (AP-1)'!$C$5=\"drum mix plant\",'Asphalt Plant (AP-1)'!Q83,0),IF('Asphalt Plant (AP-2)'!$C$5=\"drum mix plant\",'Asphalt Plant (AP-2)'!Q83,0),IF('Asphalt Plant (AP-3)'!$C$5=\"drum mix plant\",'Asphalt Plant (AP-3)'!Q83,0),IF('Asphalt Plant (AP-4)'!$C$5=\"drum mix plant\",'Asphalt Plant (AP-4)'!Q83,0),IF('Asphalt Plant (AP-5)'!$C$5=\"drum mix plant\",'Asphalt Plant (AP-5)'!Q83,0),IF('Asphalt Plant (AP-6)'!$C$5=\"drum mix plant\",'Asphalt Plant (AP-6)'!Q83,0),IF('Asphalt Plant (AP-7)'!$C$5=\"drum mix plant\",'Asphalt Plant (AP-7)'!Q83,0),IF('Asphalt Plant (AP-8)'!$C$5=\"drum mix plant\",'Asphalt Plant (AP-8)'!Q83,0),IF('Asphalt Plant (AP-9)'!$C$5=\"drum mix plant\",'Asphalt Plant (AP-9)'!Q83,0),IF('Asphalt Plant (AP-10)'!$C$5=\"drum mix plant\",'Asphalt Plant (AP-10)'!Q83,0)))","v":""},null,null,{"$f":"IF(B129=\"\",\"\",SUM(IF('Asphalt Plant (AP-1)'!$C$5=\"drum mix plant\",'Asphalt Plant (AP-1)'!S83,0),IF('Asphalt Plant (AP-2)'!$C$5=\"drum mix plant\",'Asphalt Plant (AP-2)'!S83,0),IF('Asphalt Plant (AP-3)'!$C$5=\"drum mix plant\",'Asphalt Plant (AP-3)'!S83,0),IF('Asphalt Plant (AP-4)'!$C$5=\"drum mix plant\",'Asphalt Plant (AP-4)'!S83,0),IF('Asphalt Plant (AP-5)'!$C$5=\"drum mix plant\",'Asphalt Plant (AP-5)'!S83,0),IF('Asphalt Plant (AP-6)'!$C$5=\"drum mix plant\",'Asphalt Plant (AP-6)'!S83,0),IF('Asphalt Plant (AP-7)'!$C$5=\"drum mix plant\",'Asphalt Plant (AP-7)'!S83,0),IF('Asphalt Plant (AP-8)'!$C$5=\"drum mix plant\",'Asphalt Plant (AP-8)'!S83,0),IF('Asphalt Plant (AP-9)'!$C$5=\"drum mix plant\",'Asphalt Plant (AP-9)'!S83,0),IF('Asphalt Plant (AP-10)'!$C$5=\"drum mix plant\",'Asphalt Plant (AP-10)'!S83,0)))","v":""},{"$f":"IF(B129=\"\",\"\",SUM(IF('Asphalt Plant (AP-1)'!$C$5=\"drum mix plant\",'Asphalt Plant (AP-1)'!T83,0),IF('Asphalt Plant (AP-2)'!$C$5=\"drum mix plant\",'Asphalt Plant (AP-2)'!T83,0),IF('Asphalt Plant (AP-3)'!$C$5=\"drum mix plant\",'Asphalt Plant (AP-3)'!T83,0),IF('Asphalt Plant (AP-4)'!$C$5=\"drum mix plant\",'Asphalt Plant (AP-4)'!T83,0),IF('Asphalt Plant (AP-5)'!$C$5=\"drum mix plant\",'Asphalt Plant (AP-5)'!T83,0),IF('Asphalt Plant (AP-6)'!$C$5=\"drum mix plant\",'Asphalt Plant (AP-6)'!T83,0),IF('Asphalt Plant (AP-7)'!$C$5=\"drum mix plant\",'Asphalt Plant (AP-7)'!T83,0),IF('Asphalt Plant (AP-8)'!$C$5=\"drum mix plant\",'Asphalt Plant (AP-8)'!T83,0),IF('Asphalt Plant (AP-9)'!$C$5=\"drum mix plant\",'Asphalt Plant (AP-9)'!T83,0),IF('Asphalt Plant (AP-10)'!$C$5=\"drum mix plant\",'Asphalt Plant (AP-10)'!T83,0)))","v":""}]
["Xylene",null,null,null,null,null,null,{"$f":"IF(F130=\"\",\"\",LOOKUP(B130,'[1]Emission Factors'!$A$5:$A$10,'[1]Emission Factors'!$D$5:$D$10))","v":""}]
[{"$f":"IF(OR('Asphalt Plant (AP-1)'!$C$5=\"batch mix plant\",'Asphalt Plant (AP-2)'!$C$5=\"batch mix plant\",'Asphalt Plant (AP-3)'!$C$5=\"batch mix plant\",'Asphalt Plant (AP-4)'!$C$5=\"batch mix plant\",'Asphalt Plant (AP-5)'!$C$5=\"batch mix plant\",'Asphalt Plant (AP-6)'!$C$5=\"batch mix plant\",'Asphalt Plant (AP-7)'!$C$5=\"batch mix plant\",'Asphalt Plant (AP-8)'!$C$5=\"batch mix plant\",'Asphalt Plant (AP-9)'!$C$5=\"batch mix plant\",'Asphalt Plant (AP-10)'!$C$5=\"batch mix plant\"),\"ALL\",\"\")","v":""},{"$f":"IF(OR('Asphalt Plant (AP-1)'!$C$5=\"batch mix plant\",'Asphalt Plant (AP-2)'!$C$5=\"batch mix plant\",'Asphalt Plant (AP-3)'!$C$5=\"batch mix plant\",'Asphalt Plant (AP-4)'!$C$5=\"batch mix plant\",'Asphalt Plant (AP-5)'!$C$5=\"batch mix plant\",'Asphalt Plant (AP-6)'!$C$5=\"batch mix plant\",'Asphalt Plant (AP-7)'!$C$5=\"batch mix plant\",'Asphalt Plant (AP-8)'!$C$5=\"batch mix plant\",'Asphalt Plant (AP-9)'!$C$5=\"batch mix plant\",'Asphalt Plant (AP-10)'!$C$5=\"batch mix plant\"),\"Batch Mix Plant\",\"\")","v":""},{"$f":"IF(B131=\"\",\"\",\"30500245/46/47\")","v":""},{"$f":"IF(B131=\"\",\"\",SUM(IF('Asphalt Plant (AP-1)'!C5=\"batch mix plant\",SUM('Asphalt Plant (AP-1)'!N5:N7),0),IF('Asphalt Plant (AP-2)'!C5=\"batch mix plant\",SUM('Asphalt Plant (AP-2)'!N5:N7),0),IF('Asphalt Plant (AP-3)'!C5=\"batch mix plant\",SUM('Asphalt Plant (AP-3)'!N5:N7),0),IF('Asphalt Plant (AP-4)'!C5=\"batch mix plant\",SUM('Asphalt Plant (AP-4)'!N5:N7),0),IF('Asphalt Plant (AP-5)'!C5=\"batch mix plant\",SUM('Asphalt Plant (AP-5)'!N5:N7),0),IF('Asphalt Plant (AP-6)'!C5=\"batch mix plant\",SUM('Asphalt Plant (AP-6)'!N5:N7),0),IF('Asphalt Plant (AP-7)'!C5=\"batch mix plant\",SUM('Asphalt Plant (AP-7)'!N5:N7),0),IF('Asphalt Plant (AP-8)'!C5=\"batch mix plant\",SUM('Asphalt Plant (AP-8)'!N5:N7),0),IF('Asphalt Plant (AP-9)'!C5=\"batch mix plant\",SUM('Asphalt Plant (AP-9)'!N5:N7),0),IF('Asphalt Plant (AP-10)'!C5=\"batch mix plant\",SUM('Asphalt Plant (AP-10)'!N5:N7),0)))","v":""},{"$f":"IF(B131=\"\",\"\",\"tons/hr\")","v":""},{"$f":"IF(B131=\"\",\"\",0.0027)","v":""},{"$f":"IF(B131=\"\",\"\",\"lbs/ton\")","v":""},{"$f":"IF(B131=\"\",\"\",\"AP-42 Table 11.1-2,5,6,9\")","v":""},{"$f":"IF(B131=\"\",\"\",SUM(IF('Asphalt Plant (AP-1)'!$C$5=\"batch mix plant\",'Asphalt Plant (AP-1)'!Q85,0),IF('Asphalt Plant (AP-2)'!$C$5=\"batch mix plant\",'Asphalt Plant (AP-2)'!Q85,0),IF('Asphalt Plant (AP-3)'!$C$5=\"batch mix plant\",'Asphalt Plant (AP-3)'!Q85,0),IF('Asphalt Plant (AP-4)'!$C$5=\"batch mix plant\",'Asphalt Plant (AP-4)'!Q85,0),IF('Asphalt Plant (AP-5)'!$C$5=\"batch mix plant\",'Asphalt Plant (AP-5)'!Q85,0),IF('Asphalt Plant (AP-6)'!$C$5=\"batch mix plant\",'Asphalt Plant (AP-6)'!Q85,0),IF('Asphalt Plant (AP-7)'!$C$5=\"batch mix plant\",'Asphalt Plant (AP-7)'!Q85,0),IF('Asphalt Plant (AP-8)'!$C$5=\"batch mix plant\",'Asphalt Plant (AP-8)'!Q85,0),IF('Asphalt Plant (AP-9)'!$C$5=\"batch mix plant\",'Asphalt Plant (AP-9)'!Q85,0),IF('Asphalt Plant (AP-10)'!$C$5=\"batch mix plant\",'Asphalt Plant (AP-10)'!Q85,0)))","v":""},null,null,{"$f":"IF(B131=\"\",\"\",SUM(IF('Asphalt Plant (AP-1)'!$C$5=\"batch mix plant\",'Asphalt Plant (AP-1)'!S85,0),IF('Asphalt Plant (AP-2)'!$C$5=\"batch mix plant\",'Asphalt Plant (AP-2)'!S85,0),IF('Asphalt Plant (AP-3)'!$C$5=\"batch mix plant\",'Asphalt Plant (AP-3)'!S85,0),IF('Asphalt Plant (AP-4)'!$C$5=\"batch mix plant\",'Asphalt Plant (AP-4)'!S85,0),IF('Asphalt Plant (AP-5)'!$C$5=\"batch mix plant\",'Asphalt Plant (AP-5)'!S85,0),IF('Asphalt Plant (AP-6)'!$C$5=\"batch mix plant\",'Asphalt Plant (AP-6)'!S85,0),IF('Asphalt Plant (AP-7)'!$C$5=\"batch mix plant\",'Asphalt Plant (AP-7)'!S85,0),IF('Asphalt Plant (AP-8)'!$C$5=\"batch mix plant\",'Asphalt Plant (AP-8)'!S85,0),IF('Asphalt Plant (AP-9)'!$C$5=\"batch mix plant\",'Asphalt Plant (AP-9)'!S85,0),IF('Asphalt Plant (AP-10)'!$C$5=\"batch mix plant\",'Asphalt Plant (AP-10)'!S85,0)))","v":""},{"$f":"IF(B131=\"\",\"\",SUM(IF('Asphalt Plant (AP-1)'!$C$5=\"batch mix plant\",'Asphalt Plant (AP-1)'!T85,0),IF('Asphalt Plant (AP-2)'!$C$5=\"batch mix plant\",'Asphalt Plant (AP-2)'!T85,0),IF('Asphalt Plant (AP-3)'!$C$5=\"batch mix plant\",'Asphalt Plant (AP-3)'!T85,0),IF('Asphalt Plant (AP-4)'!$C$5=\"batch mix plant\",'Asphalt Plant (AP-4)'!T85,0),IF('Asphalt Plant (AP-5)'!$C$5=\"batch mix plant\",'Asphalt Plant (AP-5)'!T85,0),IF('Asphalt Plant (AP-6)'!$C$5=\"batch mix plant\",'Asphalt Plant (AP-6)'!T85,0),IF('Asphalt Plant (AP-7)'!$C$5=\"batch mix plant\",'Asphalt Plant (AP-7)'!T85,0),IF('Asphalt Plant (AP-8)'!$C$5=\"batch mix plant\",'Asphalt Plant (AP-8)'!T85,0),IF('Asphalt Plant (AP-9)'!$C$5=\"batch mix plant\",'Asphalt Plant (AP-9)'!T85,0),IF('Asphalt Plant (AP-10)'!$C$5=\"batch mix plant\",'Asphalt Plant (AP-10)'!T85,0)))","v":""}]
[{"$f":"IF(OR('Asphalt Plant (AP-1)'!$C$5=\"drum mix plant\",'Asphalt Plant (AP-2)'!$C$5=\"drum mix plant\",'Asphalt Plant (AP-3)'!$C$5=\"drum mix plant\",'Asphalt Plant (AP-4)'!$C$5=\"drum mix plant\",'Asphalt Plant (AP-5)'!$C$5=\"drum mix plant\",'Asphalt Plant (AP-6)'!$C$5=\"drum mix plant\",'Asphalt Plant (AP-7)'!$C$5=\"drum mix plant\",'Asphalt Plant (AP-8)'!$C$5=\"drum mix plant\",'Asphalt Plant (AP-9)'!$C$5=\"drum mix plant\",'Asphalt Plant (AP-10)'!$C$5=\"drum mix plant\"),\"ALL\",\"\")","v":""},{"$f":"IF(OR('Asphalt Plant (AP-1)'!$C$5=\"drum mix plant\",'Asphalt Plant (AP-2)'!$C$5=\"drum mix plant\",'Asphalt Plant (AP-3)'!$C$5=\"drum mix plant\",'Asphalt Plant (AP-4)'!$C$5=\"drum mix plant\",'Asphalt Plant (AP-5)'!$C$5=\"drum mix plant\",'Asphalt Plant (AP-6)'!$C$5=\"drum mix plant\",'Asphalt Plant (AP-7)'!$C$5=\"drum mix plant\",'Asphalt Plant (AP-8)'!$C$5=\"drum mix plant\",'Asphalt Plant (AP-9)'!$C$5=\"drum mix plant\",'Asphalt Plant (AP-10)'!$C$5=\"drum mix plant\"),\"Drum Mix Plant\",\"\")","v":""},{"$f":"IF(B132=\"\",\"\",\"30500255/58/61\")","v":""},{"$f":"IF(B132=\"\",\"\",SUM(IF('Asphalt Plant (AP-1)'!C5=\"drum mix plant\",SUM('Asphalt Plant (AP-1)'!N5:N7),0),IF('Asphalt Plant (AP-2)'!C5=\"drum mix plant\",SUM('Asphalt Plant (AP-2)'!N5:N7),0),IF('Asphalt Plant (AP-3)'!C5=\"drum mix plant\",SUM('Asphalt Plant (AP-3)'!N5:N7),0),IF('Asphalt Plant (AP-4)'!C5=\"drum mix plant\",SUM('Asphalt Plant (AP-4)'!N5:N7),0),IF('Asphalt Plant (AP-5)'!C5=\"drum mix plant\",SUM('Asphalt Plant (AP-5)'!N5:N7),0),IF('Asphalt Plant (AP-6)'!C5=\"drum mix plant\",SUM('Asphalt Plant (AP-6)'!N5:N7),0),IF('Asphalt Plant (AP-7)'!C5=\"drum mix plant\",SUM('Asphalt Plant (AP-7)'!N5:N7),0),IF('Asphalt Plant (AP-8)'!C5=\"drum mix plant\",SUM('Asphalt Plant (AP-8)'!N5:N7),0),IF('Asphalt Plant (AP-9)'!C5=\"drum mix plant\",SUM('Asphalt Plant (AP-9)'!N5:N7),0),IF('Asphalt Plant (AP-10)'!C5=\"drum mix plant\",SUM('Asphalt Plant (AP-10)'!N5:N7),0)))","v":""},{"$f":"IF(B132=\"\",\"\",\"tons/hr\")","v":""},{"$f":"IF(B132=\"\",\"\",0.0002)","v":""},{"$f":"IF(B132=\"\",\"\",\"lbs/ton\")","v":""},{"$f":"IF(B132=\"\",\"\",\"AP-42 Table 11.1-4,7,8,10\")","v":""},{"$f":"IF(B132=\"\",\"\",SUM(IF('Asphalt Plant (AP-1)'!$C$5=\"drum mix plant\",'Asphalt Plant (AP-1)'!Q85,0),IF('Asphalt Plant (AP-2)'!$C$5=\"drum mix plant\",'Asphalt Plant (AP-2)'!Q85,0),IF('Asphalt Plant (AP-3)'!$C$5=\"drum mix plant\",'Asphalt Plant (AP-3)'!Q85,0),IF('Asphalt Plant (AP-4)'!$C$5=\"drum mix plant\",'Asphalt Plant (AP-4)'!Q85,0),IF('Asphalt Plant (AP-5)'!$C$5=\"drum mix plant\",'Asphalt Plant (AP-5)'!Q85,0),IF('Asphalt Plant (AP-6)'!$C$5=\"drum mix plant\",'Asphalt Plant (AP-6)'!Q85,0),IF('Asphalt Plant (AP-7)'!$C$5=\"drum mix plant\",'Asphalt Plant (AP-7)'!Q85,0),IF('Asphalt Plant (AP-8)'!$C$5=\"drum mix plant\",'Asphalt Plant (AP-8)'!Q85,0),IF('Asphalt Plant (AP-9)'!$C$5=\"drum mix plant\",'Asphalt Plant (AP-9)'!Q85,0),IF('Asphalt Plant (AP-10)'!$C$5=\"drum mix plant\",'Asphalt Plant (AP-10)'!Q85,0)))","v":""},null,null,{"$f":"IF(B132=\"\",\"\",SUM(IF('Asphalt Plant (AP-1)'!$C$5=\"drum mix plant\",'Asphalt Plant (AP-1)'!S85,0),IF('Asphalt Plant (AP-2)'!$C$5=\"drum mix plant\",'Asphalt Plant (AP-2)'!S85,0),IF('Asphalt Plant (AP-3)'!$C$5=\"drum mix plant\",'Asphalt Plant (AP-3)'!S85,0),IF('Asphalt Plant (AP-4)'!$C$5=\"drum mix plant\",'Asphalt Plant (AP-4)'!S85,0),IF('Asphalt Plant (AP-5)'!$C$5=\"drum mix plant\",'Asphalt Plant (AP-5)'!S85,0),IF('Asphalt Plant (AP-6)'!$C$5=\"drum mix plant\",'Asphalt Plant (AP-6)'!S85,0),IF('Asphalt Plant (AP-7)'!$C$5=\"drum mix plant\",'Asphalt Plant (AP-7)'!S85,0),IF('Asphalt Plant (AP-8)'!$C$5=\"drum mix plant\",'Asphalt Plant (AP-8)'!S85,0),IF('Asphalt Plant (AP-9)'!$C$5=\"drum mix plant\",'Asphalt Plant (AP-9)'!S85,0),IF('Asphalt Plant (AP-10)'!$C$5=\"drum mix plant\",'Asphalt Plant (AP-10)'!S85,0)))","v":""},{"$f":"IF(B132=\"\",\"\",SUM(IF('Asphalt Plant (AP-1)'!$C$5=\"drum mix plant\",'Asphalt Plant (AP-1)'!T85,0),IF('Asphalt Plant (AP-2)'!$C$5=\"drum mix plant\",'Asphalt Plant (AP-2)'!T85,0),IF('Asphalt Plant (AP-3)'!$C$5=\"drum mix plant\",'Asphalt Plant (AP-3)'!T85,0),IF('Asphalt Plant (AP-4)'!$C$5=\"drum mix plant\",'Asphalt Plant (AP-4)'!T85,0),IF('Asphalt Plant (AP-5)'!$C$5=\"drum mix plant\",'Asphalt Plant (AP-5)'!T85,0),IF('Asphalt Plant (AP-6)'!$C$5=\"drum mix plant\",'Asphalt Plant (AP-6)'!T85,0),IF('Asphalt Plant (AP-7)'!$C$5=\"drum mix plant\",'Asphalt Plant (AP-7)'!T85,0),IF('Asphalt Plant (AP-8)'!$C$5=\"drum mix plant\",'Asphalt Plant (AP-8)'!T85,0),IF('Asphalt Plant (AP-9)'!$C$5=\"drum mix plant\",'Asphalt Plant (AP-9)'!T85,0),IF('Asphalt Plant (AP-10)'!$C$5=\"drum mix plant\",'Asphalt Plant (AP-10)'!T85,0)))","v":""}]
["2,2,4-Trimethylpentane"]
[{"$f":"IF(OR('Asphalt Plant (AP-1)'!$C$5=\"drum mix plant\",'Asphalt Plant (AP-2)'!$C$5=\"drum mix plant\",'Asphalt Plant (AP-3)'!$C$5=\"drum mix plant\",'Asphalt Plant (AP-4)'!$C$5=\"drum mix plant\",'Asphalt Plant (AP-5)'!$C$5=\"drum mix plant\",'Asphalt Plant (AP-6)'!$C$5=\"drum mix plant\",'Asphalt Plant (AP-7)'!$C$5=\"drum mix plant\",'Asphalt Plant (AP-8)'!$C$5=\"drum mix plant\",'Asphalt Plant (AP-9)'!$C$5=\"drum mix plant\",'Asphalt Plant (AP-10)'!$C$5=\"drum mix plant\"),\"ALL\",\"\")","v":""},{"$f":"IF(OR('Asphalt Plant (AP-1)'!$C$5=\"drum mix plant\",'Asphalt Plant (AP-2)'!$C$5=\"drum mix plant\",'Asphalt Plant (AP-3)'!$C$5=\"drum mix plant\",'Asphalt Plant (AP-4)'!$C$5=\"drum mix plant\",'Asphalt Plant (AP-5)'!$C$5=\"drum mix plant\",'Asphalt Plant (AP-6)'!$C$5=\"drum mix plant\",'Asphalt Plant (AP-7)'!$C$5=\"drum mix plant\",'Asphalt Plant (AP-8)'!$C$5=\"drum mix plant\",'Asphalt Plant (AP-9)'!$C$5=\"drum mix plant\",'Asphalt Plant (AP-10)'!$C$5=\"drum mix plant\"),\"Drum Mix Plant\",\"\")","v":""},{"$f":"IF(B134=\"\",\"\",\"30500255/58/61\")","v":""},{"$f":"IF(B134=\"\",\"\",SUM(IF('Asphalt Plant (AP-1)'!C5=\"drum mix plant\",SUM('Asphalt Plant (AP-1)'!N5:N7),0),IF('Asphalt Plant (AP-2)'!C5=\"drum mix plant\",SUM('Asphalt Plant (AP-2)'!N5:N7),0),IF('Asphalt Plant (AP-3)'!C5=\"drum mix plant\",SUM('Asphalt Plant (AP-3)'!N5:N7),0),IF('Asphalt Plant (AP-4)'!C5=\"drum mix plant\",SUM('Asphalt Plant (AP-4)'!N5:N7),0),IF('Asphalt Plant (AP-5)'!C5=\"drum mix plant\",SUM('Asphalt Plant (AP-5)'!N5:N7),0),IF('Asphalt Plant (AP-6)'!C5=\"drum mix plant\",SUM('Asphalt Plant (AP-6)'!N5:N7),0),IF('Asphalt Plant (AP-7)'!C5=\"drum mix plant\",SUM('Asphalt Plant (AP-7)'!N5:N7),0),IF('Asphalt Plant (AP-8)'!C5=\"drum mix plant\",SUM('Asphalt Plant (AP-8)'!N5:N7),0),IF('Asphalt Plant (AP-9)'!C5=\"drum mix plant\",SUM('Asphalt Plant (AP-9)'!N5:N7),0),IF('Asphalt Plant (AP-10)'!C5=\"drum mix plant\",SUM('Asphalt Plant (AP-10)'!N5:N7),0)))","v":""},{"$f":"IF(B134=\"\",\"\",\"tons/hr\")","v":""},{"$f":"IF(B134=\"\",\"\",0.00004)","v":""},{"$f":"IF(B134=\"\",\"\",\"lbs/ton\")","v":""},{"$f":"IF(B134=\"\",\"\",\"AP-42 Table 11.1-4,7,8,10\")","v":""},{"$f":"IF(B134=\"\",\"\",SUM(IF('Asphalt Plant (AP-1)'!$C$5=\"drum mix plant\",'Asphalt Plant (AP-1)'!Q87,0),IF('Asphalt Plant (AP-2)'!$C$5=\"drum mix plant\",'Asphalt Plant (AP-2)'!Q87,0),IF('Asphalt Plant (AP-3)'!$C$5=\"drum mix plant\",'Asphalt Plant (AP-3)'!Q87,0),IF('Asphalt Plant (AP-4)'!$C$5=\"drum mix plant\",'Asphalt Plant (AP-4)'!Q87,0),IF('Asphalt Plant (AP-5)'!$C$5=\"drum mix plant\",'Asphalt Plant (AP-5)'!Q87,0),IF('Asphalt Plant (AP-6)'!$C$5=\"drum mix plant\",'Asphalt Plant (AP-6)'!Q87,0),IF('Asphalt Plant (AP-7)'!$C$5=\"drum mix plant\",'Asphalt Plant (AP-7)'!Q87,0),IF('Asphalt Plant (AP-8)'!$C$5=\"drum mix plant\",'Asphalt Plant (AP-8)'!Q87,0),IF('Asphalt Plant (AP-9)'!$C$5=\"drum mix plant\",'Asphalt Plant (AP-9)'!Q87,0),IF('Asphalt Plant (AP-10)'!$C$5=\"drum mix plant\",'Asphalt Plant (AP-10)'!Q87,0)))","v":""},null,null,{"$f":"IF(B134=\"\",\"\",SUM(IF('Asphalt Plant (AP-1)'!$C$5=\"drum mix plant\",'Asphalt Plant (AP-1)'!S87,0),IF('Asphalt Plant (AP-2)'!$C$5=\"drum mix plant\",'Asphalt Plant (AP-2)'!S87,0),IF('Asphalt Plant (AP-3)'!$C$5=\"drum mix plant\",'Asphalt Plant (AP-3)'!S87,0),IF('Asphalt Plant (AP-4)'!$C$5=\"drum mix plant\",'Asphalt Plant (AP-4)'!S87,0),IF('Asphalt Plant (AP-5)'!$C$5=\"drum mix plant\",'Asphalt Plant (AP-5)'!S87,0),IF('Asphalt Plant (AP-6)'!$C$5=\"drum mix plant\",'Asphalt Plant (AP-6)'!S87,0),IF('Asphalt Plant (AP-7)'!$C$5=\"drum mix plant\",'Asphalt Plant (AP-7)'!S87,0),IF('Asphalt Plant (AP-8)'!$C$5=\"drum mix plant\",'Asphalt Plant (AP-8)'!S87,0),IF('Asphalt Plant (AP-9)'!$C$5=\"drum mix plant\",'Asphalt Plant (AP-9)'!S87,0),IF('Asphalt Plant (AP-10)'!$C$5=\"drum mix plant\",'Asphalt Plant (AP-10)'!S87,0)))","v":""},{"$f":"IF(B134=\"\",\"\",SUM(IF('Asphalt Plant (AP-1)'!$C$5=\"drum mix plant\",'Asphalt Plant (AP-1)'!T87,0),IF('Asphalt Plant (AP-2)'!$C$5=\"drum mix plant\",'Asphalt Plant (AP-2)'!T87,0),IF('Asphalt Plant (AP-3)'!$C$5=\"drum mix plant\",'Asphalt Plant (AP-3)'!T87,0),IF('Asphalt Plant (AP-4)'!$C$5=\"drum mix plant\",'Asphalt Plant (AP-4)'!T87,0),IF('Asphalt Plant (AP-5)'!$C$5=\"drum mix plant\",'Asphalt Plant (AP-5)'!T87,0),IF('Asphalt Plant (AP-6)'!$C$5=\"drum mix plant\",'Asphalt Plant (AP-6)'!T87,0),IF('Asphalt Plant (AP-7)'!$C$5=\"drum mix plant\",'Asphalt Plant (AP-7)'!T87,0),IF('Asphalt Plant (AP-8)'!$C$5=\"drum mix plant\",'Asphalt Plant (AP-8)'!T87,0),IF('Asphalt Plant (AP-9)'!$C$5=\"drum mix plant\",'Asphalt Plant (AP-9)'!T87,0),IF('Asphalt Plant (AP-10)'!$C$5=\"drum mix plant\",'Asphalt Plant (AP-10)'!T87,0)))","v":""}]
["Chromium Compounds"]
[{"$f":"IF(OR('Asphalt Plant (AP-1)'!$C$5=\"drum mix plant\",'Asphalt Plant (AP-2)'!$C$5=\"drum mix plant\",'Asphalt Plant (AP-3)'!$C$5=\"drum mix plant\",'Asphalt Plant (AP-4)'!$C$5=\"drum mix plant\",'Asphalt Plant (AP-5)'!$C$5=\"drum mix plant\",'Asphalt Plant (AP-6)'!$C$5=\"drum mix plant\",'Asphalt Plant (AP-7)'!$C$5=\"drum mix plant\",'Asphalt Plant (AP-8)'!$C$5=\"drum mix plant\",'Asphalt Plant (AP-9)'!$C$5=\"drum mix plant\",'Asphalt Plant (AP-10)'!$C$5=\"drum mix plant\"),\"ALL\",\"\")","v":""},{"$f":"IF(OR('Asphalt Plant (AP-1)'!$C$5=\"drum mix plant\",'Asphalt Plant (AP-2)'!$C$5=\"drum mix plant\",'Asphalt Plant (AP-3)'!$C$5=\"drum mix plant\",'Asphalt Plant (AP-4)'!$C$5=\"drum mix plant\",'Asphalt Plant (AP-5)'!$C$5=\"drum mix plant\",'Asphalt Plant (AP-6)'!$C$5=\"drum mix plant\",'Asphalt Plant (AP-7)'!$C$5=\"drum mix plant\",'Asphalt Plant (AP-8)'!$C$5=\"drum mix plant\",'Asphalt Plant (AP-9)'!$C$5=\"drum mix plant\",'Asphalt Plant (AP-10)'!$C$5=\"drum mix plant\"),\"Drum Mix Plant\",\"\")","v":""},{"$f":"IF(B136=\"\",\"\",\"30500258/61\")","v":""},{"$f":"IF(B136=\"\",\"\",SUM(IF('Asphalt Plant (AP-1)'!C5=\"drum mix plant\",SUM('Asphalt Plant (AP-1)'!N5:N6),0),IF('Asphalt Plant (AP-2)'!C5=\"drum mix plant\",SUM('Asphalt Plant (AP-2)'!N5:N6),0),IF('Asphalt Plant (AP-3)'!C5=\"drum mix plant\",SUM('Asphalt Plant (AP-3)'!N5:N6),0),IF('Asphalt Plant (AP-4)'!C5=\"drum mix plant\",SUM('Asphalt Plant (AP-4)'!N5:N6),0),IF('Asphalt Plant (AP-5)'!C5=\"drum mix plant\",SUM('Asphalt Plant (AP-5)'!N5:N6),0),IF('Asphalt Plant (AP-6)'!C5=\"drum mix plant\",SUM('Asphalt Plant (AP-6)'!N5:N6),0),IF('Asphalt Plant (AP-7)'!C5=\"drum mix plant\",SUM('Asphalt Plant (AP-7)'!N5:N6),0),IF('Asphalt Plant (AP-8)'!C5=\"drum mix plant\",SUM('Asphalt Plant (AP-8)'!N5:N6),0),IF('Asphalt Plant (AP-9)'!C5=\"drum mix plant\",SUM('Asphalt Plant (AP-9)'!N5:N6),0),IF('Asphalt Plant (AP-10)'!C5=\"drum mix plant\",SUM('Asphalt Plant (AP-10)'!N5:N6),0)))","v":""},{"$f":"IF(B136=\"\",\"\",\"tons/hr\")","v":""},{"$f":"IF(B136=\"\",\"\",MAX(IF('Asphalt Plant (AP-1)'!$C$5=\"drum mix plant\",'Asphalt Plant (AP-1)'!O89,0),IF('Asphalt Plant (AP-2)'!$C$5=\"drum mix plant\",'Asphalt Plant (AP-2)'!O89,0),IF('Asphalt Plant (AP-3)'!$C$5=\"drum mix plant\",'Asphalt Plant (AP-3)'!O89,0),IF('Asphalt Plant (AP-4)'!$C$5=\"drum mix plant\",'Asphalt Plant (AP-4)'!O89,0),IF('Asphalt Plant (AP-5)'!$C$5=\"drum mix plant\",'Asphalt Plant (AP-5)'!O89,0),IF('Asphalt Plant (AP-6)'!$C$5=\"drum mix plant\",'Asphalt Plant (AP-6)'!O89,0),IF('Asphalt Plant (AP-7)'!$C$5=\"drum mix plant\",'Asphalt Plant (AP-7)'!O89,0),IF('Asphalt Plant (AP-8)'!$C$5=\"drum mix plant\",'Asphalt Plant (AP-8)'!O89,0),IF('Asphalt Plant (AP-9)'!$C$5=\"drum mix plant\",'Asphalt Plant (AP-9)'!O89,0),IF('Asphalt Plant (AP-10)'!$C$5=\"drum mix plant\",'Asphalt Plant (AP-10)'!O89,0)))","v":""},{"$f":"IF(B136=\"\",\"\",\"lbs/ton\")","v":""},{"$f":"IF(B136=\"\",\"\",\"AP-42 Table 11.1-4,7,8,10\")","v":""},{"$f":"IF(B136=\"\",\"\",SUM(IF('Asphalt Plant (AP-1)'!$C$5=\"drum mix plant\",'Asphalt Plant (AP-1)'!Q89,0),IF('Asphalt Plant (AP-2)'!$C$5=\"drum mix plant\",'Asphalt Plant (AP-2)'!Q89,0),IF('Asphalt Plant (AP-3)'!$C$5=\"drum mix plant\",'Asphalt Plant (AP-3)'!Q89,0),IF('Asphalt Plant (AP-4)'!$C$5=\"drum mix plant\",'Asphalt Plant (AP-4)'!Q89,0),IF('Asphalt Plant (AP-5)'!$C$5=\"drum mix plant\",'Asphalt Plant (AP-5)'!Q89,0),IF('Asphalt Plant (AP-6)'!$C$5=\"drum mix plant\",'Asphalt Plant (AP-6)'!Q89,0),IF('Asphalt Plant (AP-7)'!$C$5=\"drum mix plant\",'Asphalt Plant (AP-7)'!Q89,0),IF('Asphalt Plant (AP-8)'!$C$5=\"drum mix plant\",'Asphalt Plant (AP-8)'!Q89,0),IF('Asphalt Plant (AP-9)'!$C$5=\"drum mix plant\",'Asphalt Plant (AP-9)'!Q89,0),IF('Asphalt Plant (AP-10)'!$C$5=\"drum mix plant\",'Asphalt Plant (AP-10)'!Q89,0)))","v":""},null,{"$f":"IF(B136=\"\",\"\",SUM(IF('Asphalt Plant (AP-1)'!$C$5=\"drum mix plant\",'Asphalt Plant (AP-1)'!R89,0),IF('Asphalt Plant (AP-2)'!$C$5=\"drum mix plant\",'Asphalt Plant (AP-2)'!R89,0),IF('Asphalt Plant (AP-3)'!$C$5=\"drum mix plant\",'Asphalt Plant (AP-3)'!R89,0),IF('Asphalt Plant (AP-4)'!$C$5=\"drum mix plant\",'Asphalt Plant (AP-4)'!R89,0),IF('Asphalt Plant (AP-5)'!$C$5=\"drum mix plant\",'Asphalt Plant (AP-5)'!R89,0),IF('Asphalt Plant (AP-6)'!$C$5=\"drum mix plant\",'Asphalt Plant (AP-6)'!R89,0),IF('Asphalt Plant (AP-7)'!$C$5=\"drum mix plant\",'Asphalt Plant (AP-7)'!R89,0),IF('Asphalt Plant (AP-8)'!$C$5=\"drum mix plant\",'Asphalt Plant (AP-8)'!R89,0),IF('Asphalt Plant (AP-9)'!$C$5=\"drum mix plant\",'Asphalt Plant (AP-9)'!R89,0),IF('Asphalt Plant (AP-10)'!$C$5=\"drum mix plant\",'Asphalt Plant (AP-10)'!R89,0)))","v":""},{"$f":"IF(B136=\"\",\"\",SUM(IF('Asphalt Plant (AP-1)'!$C$5=\"drum mix plant\",'Asphalt Plant (AP-1)'!S89,0),IF('Asphalt Plant (AP-2)'!$C$5=\"drum mix plant\",'Asphalt Plant (AP-2)'!S89,0),IF('Asphalt Plant (AP-3)'!$C$5=\"drum mix plant\",'Asphalt Plant (AP-3)'!S89,0),IF('Asphalt Plant (AP-4)'!$C$5=\"drum mix plant\",'Asphalt Plant (AP-4)'!S89,0),IF('Asphalt Plant (AP-5)'!$C$5=\"drum mix plant\",'Asphalt Plant (AP-5)'!S89,0),IF('Asphalt Plant (AP-6)'!$C$5=\"drum mix plant\",'Asphalt Plant (AP-6)'!S89,0),IF('Asphalt Plant (AP-7)'!$C$5=\"drum mix plant\",'Asphalt Plant (AP-7)'!S89,0),IF('Asphalt Plant (AP-8)'!$C$5=\"drum mix plant\",'Asphalt Plant (AP-8)'!S89,0),IF('Asphalt Plant (AP-9)'!$C$5=\"drum mix plant\",'Asphalt Plant (AP-9)'!S89,0),IF('Asphalt Plant (AP-10)'!$C$5=\"drum mix plant\",'Asphalt Plant (AP-10)'!S89,0)))","v":""},{"$f":"IF(B136=\"\",\"\",SUM(IF('Asphalt Plant (AP-1)'!$C$5=\"drum mix plant\",'Asphalt Plant (AP-1)'!T89,0),IF('Asphalt Plant (AP-2)'!$C$5=\"drum mix plant\",'Asphalt Plant (AP-2)'!T89,0),IF('Asphalt Plant (AP-3)'!$C$5=\"drum mix plant\",'Asphalt Plant (AP-3)'!T89,0),IF('Asphalt Plant (AP-4)'!$C$5=\"drum mix plant\",'Asphalt Plant (AP-4)'!T89,0),IF('Asphalt Plant (AP-5)'!$C$5=\"drum mix plant\",'Asphalt Plant (AP-5)'!T89,0),IF('Asphalt Plant (AP-6)'!$C$5=\"drum mix plant\",'Asphalt Plant (AP-6)'!T89,0),IF('Asphalt Plant (AP-7)'!$C$5=\"drum mix plant\",'Asphalt Plant (AP-7)'!T89,0),IF('Asphalt Plant (AP-8)'!$C$5=\"drum mix plant\",'Asphalt Plant (AP-8)'!T89,0),IF('Asphalt Plant (AP-9)'!$C$5=\"drum mix plant\",'Asphalt Plant (AP-9)'!T89,0),IF('Asphalt Plant (AP-10)'!$C$5=\"drum mix plant\",'Asphalt Plant (AP-10)'!T89,0)))","v":""}]
["Lead Compounds"]
[{"$f":"IF(OR('Asphalt Plant (AP-1)'!$C$5=\"drum mix plant\",'Asphalt Plant (AP-2)'!$C$5=\"drum mix plant\",'Asphalt Plant (AP-3)'!$C$5=\"drum mix plant\",'Asphalt Plant (AP-4)'!$C$5=\"drum mix plant\",'Asphalt Plant (AP-5)'!$C$5=\"drum mix plant\",'Asphalt Plant (AP-6)'!$C$5=\"drum mix plant\",'Asphalt Plant (AP-7)'!$C$5=\"drum mix plant\",'Asphalt Plant (AP-8)'!$C$5=\"drum mix plant\",'Asphalt Plant (AP-9)'!$C$5=\"drum mix plant\",'Asphalt Plant (AP-10)'!$C$5=\"drum mix plant\"),\"ALL\",\"\")","v":""},{"$f":"IF(OR('Asphalt Plant (AP-1)'!$C$5=\"drum mix plant\",'Asphalt Plant (AP-2)'!$C$5=\"drum mix plant\",'Asphalt Plant (AP-3)'!$C$5=\"drum mix plant\",'Asphalt Plant (AP-4)'!$C$5=\"drum mix plant\",'Asphalt Plant (AP-5)'!$C$5=\"drum mix plant\",'Asphalt Plant (AP-6)'!$C$5=\"drum mix plant\",'Asphalt Plant (AP-7)'!$C$5=\"drum mix plant\",'Asphalt Plant (AP-8)'!$C$5=\"drum mix plant\",'Asphalt Plant (AP-9)'!$C$5=\"drum mix plant\",'Asphalt Plant (AP-10)'!$C$5=\"drum mix plant\"),\"Drum Mix Plant\",\"\")","v":""},{"$f":"IF(B138=\"\",\"\",\"30500258/61\")","v":""},{"$f":"IF(B136=\"\",\"\",SUM(IF('Asphalt Plant (AP-1)'!C5=\"drum mix plant\",SUM('Asphalt Plant (AP-1)'!N5:N6),0),IF('Asphalt Plant (AP-2)'!C5=\"drum mix plant\",SUM('Asphalt Plant (AP-2)'!N5:N6),0),IF('Asphalt Plant (AP-3)'!C5=\"drum mix plant\",SUM('Asphalt Plant (AP-3)'!N5:N6),0),IF('Asphalt Plant (AP-4)'!C5=\"drum mix plant\",SUM('Asphalt Plant (AP-4)'!N5:N6),0),IF('Asphalt Plant (AP-5)'!C5=\"drum mix plant\",SUM('Asphalt Plant (AP-5)'!N5:N6),0),IF('Asphalt Plant (AP-6)'!C5=\"drum mix plant\",SUM('Asphalt Plant (AP-6)'!N5:N6),0),IF('Asphalt Plant (AP-7)'!C5=\"drum mix plant\",SUM('Asphalt Plant (AP-7)'!N5:N6),0),IF('Asphalt Plant (AP-8)'!C5=\"drum mix plant\",SUM('Asphalt Plant (AP-8)'!N5:N6),0),IF('Asphalt Plant (AP-9)'!C5=\"drum mix plant\",SUM('Asphalt Plant (AP-9)'!N5:N6),0),IF('Asphalt Plant (AP-10)'!C5=\"drum mix plant\",SUM('Asphalt Plant (AP-10)'!N5:N6),0)))","v":""},{"$f":"IF(B138=\"\",\"\",\"tons/hr\")","v":""},{"$f":"IF(B138=\"\",\"\",MAX(IF('Asphalt Plant (AP-1)'!$C$5=\"drum mix plant\",'Asphalt Plant (AP-1)'!O91,0),IF('Asphalt Plant (AP-2)'!$C$5=\"drum mix plant\",'Asphalt Plant (AP-2)'!O91,0),IF('Asphalt Plant (AP-3)'!$C$5=\"drum mix plant\",'Asphalt Plant (AP-3)'!O91,0),IF('Asphalt Plant (AP-4)'!$C$5=\"drum mix plant\",'Asphalt Plant (AP-4)'!O91,0),IF('Asphalt Plant (AP-5)'!$C$5=\"drum mix plant\",'Asphalt Plant (AP-5)'!O91,0),IF('Asphalt Plant (AP-6)'!$C$5=\"drum mix plant\",'Asphalt Plant (AP-6)'!O91,0),IF('Asphalt Plant (AP-7)'!$C$5=\"drum mix plant\",'Asphalt Plant (AP-7)'!O91,0),IF('Asphalt Plant (AP-8)'!$C$5=\"drum mix plant\",'Asphalt Plant (AP-8)'!O91,0),IF('Asphalt Plant (AP-9)'!$C$5=\"drum mix plant\",'Asphalt Plant (AP-9)'!O91,0),IF('Asphalt Plant (AP-10)'!$C$5=\"drum mix plant\",'Asphalt Plant (AP-10)'!O91,0)))","v":""},{"$f":"IF(B138=\"\",\"\",\"lbs/ton\")","v":""},{"$f":"IF(B138=\"\",\"\",\"AP-42 Table 11.1-4,7,8,10\")","v":""},{"$f":"IF(B138=\"\",\"\",SUM(IF('Asphalt Plant (AP-1)'!$C$5=\"drum mix plant\",'Asphalt Plant (AP-1)'!Q91,0),IF('Asphalt Plant (AP-2)'!$C$5=\"drum mix plant\",'Asphalt Plant (AP-2)'!Q91,0),IF('Asphalt Plant (AP-3)'!$C$5=\"drum mix plant\",'Asphalt Plant (AP-3)'!Q91,0),IF('Asphalt Plant (AP-4)'!$C$5=\"drum mix plant\",'Asphalt Plant (AP-4)'!Q91,0),IF('Asphalt Plant (AP-5)'!$C$5=\"drum mix plant\",'Asphalt Plant (AP-5)'!Q91,0),IF('Asphalt Plant (AP-6)'!$C$5=\"drum mix plant\",'Asphalt Plant (AP-6)'!Q91,0),IF('Asphalt Plant (AP-7)'!$C$5=\"drum mix plant\",'Asphalt Plant (AP-7)'!Q91,0),IF('Asphalt Plant (AP-8)'!$C$5=\"drum mix plant\",'Asphalt Plant (AP-8)'!Q91,0),IF('Asphalt Plant (AP-9)'!$C$5=\"drum mix plant\",'Asphalt Plant (AP-9)'!Q91,0),IF('Asphalt Plant (AP-10)'!$C$5=\"drum mix plant\",'Asphalt Plant (AP-10)'!Q91,0)))","v":""},null,{"$f":"IF(B138=\"\",\"\",SUM(IF('Asphalt Plant (AP-1)'!$C$5=\"drum mix plant\",'Asphalt Plant (AP-1)'!R91,0),IF('Asphalt Plant (AP-2)'!$C$5=\"drum mix plant\",'Asphalt Plant (AP-2)'!R91,0),IF('Asphalt Plant (AP-3)'!$C$5=\"drum mix plant\",'Asphalt Plant (AP-3)'!R91,0),IF('Asphalt Plant (AP-4)'!$C$5=\"drum mix plant\",'Asphalt Plant (AP-4)'!R91,0),IF('Asphalt Plant (AP-5)'!$C$5=\"drum mix plant\",'Asphalt Plant (AP-5)'!R91,0),IF('Asphalt Plant (AP-6)'!$C$5=\"drum mix plant\",'Asphalt Plant (AP-6)'!R91,0),IF('Asphalt Plant (AP-7)'!$C$5=\"drum mix plant\",'Asphalt Plant (AP-7)'!R91,0),IF('Asphalt Plant (AP-8)'!$C$5=\"drum mix plant\",'Asphalt Plant (AP-8)'!R91,0),IF('Asphalt Plant (AP-9)'!$C$5=\"drum mix plant\",'Asphalt Plant (AP-9)'!R91,0),IF('Asphalt Plant (AP-10)'!$C$5=\"drum mix plant\",'Asphalt Plant (AP-10)'!R91,0)))","v":""},{"$f":"IF(B138=\"\",\"\",SUM(IF('Asphalt Plant (AP-1)'!$C$5=\"drum mix plant\",'Asphalt Plant (AP-1)'!S91,0),IF('Asphalt Plant (AP-2)'!$C$5=\"drum mix plant\",'Asphalt Plant (AP-2)'!S91,0),IF('Asphalt Plant (AP-3)'!$C$5=\"drum mix plant\",'Asphalt Plant (AP-3)'!S91,0),IF('Asphalt Plant (AP-4)'!$C$5=\"drum mix plant\",'Asphalt Plant (AP-4)'!S91,0),IF('Asphalt Plant (AP-5)'!$C$5=\"drum mix plant\",'Asphalt Plant (AP-5)'!S91,0),IF('Asphalt Plant (AP-6)'!$C$5=\"drum mix plant\",'Asphalt Plant (AP-6)'!S91,0),IF('Asphalt Plant (AP-7)'!$C$5=\"drum mix plant\",'Asphalt Plant (AP-7)'!S91,0),IF('Asphalt Plant (AP-8)'!$C$5=\"drum mix plant\",'Asphalt Plant (AP-8)'!S91,0),IF('Asphalt Plant (AP-9)'!$C$5=\"drum mix plant\",'Asphalt Plant (AP-9)'!S91,0),IF('Asphalt Plant (AP-10)'!$C$5=\"drum mix plant\",'Asphalt Plant (AP-10)'!S91,0)))","v":""},{"$f":"IF(B138=\"\",\"\",SUM(IF('Asphalt Plant (AP-1)'!$C$5=\"drum mix plant\",'Asphalt Plant (AP-1)'!T91,0),IF('Asphalt Plant (AP-2)'!$C$5=\"drum mix plant\",'Asphalt Plant (AP-2)'!T91,0),IF('Asphalt Plant (AP-3)'!$C$5=\"drum mix plant\",'Asphalt Plant (AP-3)'!T91,0),IF('Asphalt Plant (AP-4)'!$C$5=\"drum mix plant\",'Asphalt Plant (AP-4)'!T91,0),IF('Asphalt Plant (AP-5)'!$C$5=\"drum mix plant\",'Asphalt Plant (AP-5)'!T91,0),IF('Asphalt Plant (AP-6)'!$C$5=\"drum mix plant\",'Asphalt Plant (AP-6)'!T91,0),IF('Asphalt Plant (AP-7)'!$C$5=\"drum mix plant\",'Asphalt Plant (AP-7)'!T91,0),IF('Asphalt Plant (AP-8)'!$C$5=\"drum mix plant\",'Asphalt Plant (AP-8)'!T91,0),IF('Asphalt Plant (AP-9)'!$C$5=\"drum mix plant\",'Asphalt Plant (AP-9)'!T91,0),IF('Asphalt Plant (AP-10)'!$C$5=\"drum mix plant\",'Asphalt Plant (AP-10)'!T91,0)))","v":""}]
["Manganese Compounds"]
[{"$f":"IF(OR('Asphalt Plant (AP-1)'!$C$5=\"drum mix plant\",'Asphalt Plant (AP-2)'!$C$5=\"drum mix plant\",'Asphalt Plant (AP-3)'!$C$5=\"drum mix plant\",'Asphalt Plant (AP-4)'!$C$5=\"drum mix plant\",'Asphalt Plant (AP-5)'!$C$5=\"drum mix plant\",'Asphalt Plant (AP-6)'!$C$5=\"drum mix plant\",'Asphalt Plant (AP-7)'!$C$5=\"drum mix plant\",'Asphalt Plant (AP-8)'!$C$5=\"drum mix plant\",'Asphalt Plant (AP-9)'!$C$5=\"drum mix plant\",'Asphalt Plant (AP-10)'!$C$5=\"drum mix plant\"),\"ALL\",\"\")","v":""},{"$f":"IF(OR('Asphalt Plant (AP-1)'!$C$5=\"drum mix plant\",'Asphalt Plant (AP-2)'!$C$5=\"drum mix plant\",'Asphalt Plant (AP-3)'!$C$5=\"drum mix plant\",'Asphalt Plant (AP-4)'!$C$5=\"drum mix plant\",'Asphalt Plant (AP-5)'!$C$5=\"drum mix plant\",'Asphalt Plant (AP-6)'!$C$5=\"drum mix plant\",'Asphalt Plant (AP-7)'!$C$5=\"drum mix plant\",'Asphalt Plant (AP-8)'!$C$5=\"drum mix plant\",'Asphalt Plant (AP-9)'!$C$5=\"drum mix plant\",'Asphalt Plant (AP-10)'!$C$5=\"drum mix plant\"),\"Drum Mix Plant\",\"\")","v":""},{"$f":"IF(B140=\"\",\"\",\"30500258/61\")","v":""},{"$f":"IF(B136=\"\",\"\",SUM(IF('Asphalt Plant (AP-1)'!C5=\"drum mix plant\",SUM('Asphalt Plant (AP-1)'!N5:N6),0),IF('Asphalt Plant (AP-2)'!C5=\"drum mix plant\",SUM('Asphalt Plant (AP-2)'!N5:N6),0),IF('Asphalt Plant (AP-3)'!C5=\"drum mix plant\",SUM('Asphalt Plant (AP-3)'!N5:N6),0),IF('Asphalt Plant (AP-4)'!C5=\"drum mix plant\",SUM('Asphalt Plant (AP-4)'!N5:N6),0),IF('Asphalt Plant (AP-5)'!C5=\"drum mix plant\",SUM('Asphalt Plant (AP-5)'!N5:N6),0),IF('Asphalt Plant (AP-6)'!C5=\"drum mix plant\",SUM('Asphalt Plant (AP-6)'!N5:N6),0),IF('Asphalt Plant (AP-7)'!C5=\"drum mix plant\",SUM('Asphalt Plant (AP-7)'!N5:N6),0),IF('Asphalt Plant (AP-8)'!C5=\"drum mix plant\",SUM('Asphalt Plant (AP-8)'!N5:N6),0),IF('Asphalt Plant (AP-9)'!C5=\"drum mix plant\",SUM('Asphalt Plant (AP-9)'!N5:N6),0),IF('Asphalt Plant (AP-10)'!C5=\"drum mix plant\",SUM('Asphalt Plant (AP-10)'!N5:N6),0)))","v":""},{"$f":"IF(B140=\"\",\"\",\"tons/hr\")","v":""},{"$f":"IF(B140=\"\",\"\",MAX(IF('Asphalt Plant (AP-1)'!$C$5=\"drum mix plant\",'Asphalt Plant (AP-1)'!O93,0),IF('Asphalt Plant (AP-2)'!$C$5=\"drum mix plant\",'Asphalt Plant (AP-2)'!O93,0),IF('Asphalt Plant (AP-3)'!$C$5=\"drum mix plant\",'Asphalt Plant (AP-3)'!O93,0),IF('Asphalt Plant (AP-4)'!$C$5=\"drum mix plant\",'Asphalt Plant (AP-4)'!O93,0),IF('Asphalt Plant (AP-5)'!$C$5=\"drum mix plant\",'Asphalt Plant (AP-5)'!O93,0),IF('Asphalt Plant (AP-6)'!$C$5=\"drum mix plant\",'Asphalt Plant (AP-6)'!O93,0),IF('Asphalt Plant (AP-7)'!$C$5=\"drum mix plant\",'Asphalt Plant (AP-7)'!O93,0),IF('Asphalt Plant (AP-8)'!$C$5=\"drum mix plant\",'Asphalt Plant (AP-8)'!O93,0),IF('Asphalt Plant (AP-9)'!$C$5=\"drum mix plant\",'Asphalt Plant (AP-9)'!O93,0),IF('Asphalt Plant (AP-10)'!$C$5=\"drum mix plant\",'Asphalt Plant (AP-10)'!O93,0)))","v":""},{"$f":"IF(B140=\"\",\"\",\"lbs/ton\")","v":""},{"$f":"IF(B140=\"\",\"\",\"AP-42 Table 11.1-4,7,8,10\")","v":""},{"$f":"IF(B140=\"\",\"\",SUM(IF('Asphalt Plant (AP-1)'!$C$5=\"drum mix plant\",'Asphalt Plant (AP-1)'!Q93,0),IF('Asphalt Plant (AP-2)'!$C$5=\"drum mix plant\",'Asphalt Plant (AP-2)'!Q93,0),IF('Asphalt Plant (AP-3)'!$C$5=\"drum mix plant\",'Asphalt Plant (AP-3)'!Q93,0),IF('Asphalt Plant (AP-4)'!$C$5=\"drum mix plant\",'Asphalt Plant (AP-4)'!Q93,0),IF('Asphalt Plant (AP-5)'!$C$5=\"drum mix plant\",'Asphalt Plant (AP-5)'!Q93,0),IF('Asphalt Plant (AP-6)'!$C$5=\"drum mix plant\",'Asphalt Plant (AP-6)'!Q93,0),IF('Asphalt Plant (AP-7)'!$C$5=\"drum mix plant\",'Asphalt Plant (AP-7)'!Q93,0),IF('Asphalt Plant (AP-8)'!$C$5=\"drum mix plant\",'Asphalt Plant (AP-8)'!Q93,0),IF('Asphalt Plant (AP-9)'!$C$5=\"drum mix plant\",'Asphalt Plant (AP-9)'!Q93,0),IF('Asphalt Plant (AP-10)'!$C$5=\"drum mix plant\",'Asphalt Plant (AP-10)'!Q93,0)))","v":""},null,{"$f":"IF(B140=\"\",\"\",SUM(IF('Asphalt Plant (AP-1)'!$C$5=\"drum mix plant\",'Asphalt Plant (AP-1)'!R93,0),IF('Asphalt Plant (AP-2)'!$C$5=\"drum mix plant\",'Asphalt Plant (AP-2)'!R93,0),IF('Asphalt Plant (AP-3)'!$C$5=\"drum mix plant\",'Asphalt Plant (AP-3)'!R93,0),IF('Asphalt Plant (AP-4)'!$C$5=\"drum mix plant\",'Asphalt Plant (AP-4)'!R93,0),IF('Asphalt Plant (AP-5)'!$C$5=\"drum mix plant\",'Asphalt Plant (AP-5)'!R93,0),IF('Asphalt Plant (AP-6)'!$C$5=\"drum mix plant\",'Asphalt Plant (AP-6)'!R93,0),IF('Asphalt Plant (AP-7)'!$C$5=\"drum mix plant\",'Asphalt Plant (AP-7)'!R93,0),IF('Asphalt Plant (AP-8)'!$C$5=\"drum mix plant\",'Asphalt Plant (AP-8)'!R93,0),IF('Asphalt Plant (AP-9)'!$C$5=\"drum mix plant\",'Asphalt Plant (AP-9)'!R93,0),IF('Asphalt Plant (AP-10)'!$C$5=\"drum mix plant\",'Asphalt Plant (AP-10)'!R93,0)))","v":""},{"$f":"IF(B140=\"\",\"\",SUM(IF('Asphalt Plant (AP-1)'!$C$5=\"drum mix plant\",'Asphalt Plant (AP-1)'!S93,0),IF('Asphalt Plant (AP-2)'!$C$5=\"drum mix plant\",'Asphalt Plant (AP-2)'!S93,0),IF('Asphalt Plant (AP-3)'!$C$5=\"drum mix plant\",'Asphalt Plant (AP-3)'!S93,0),IF('Asphalt Plant (AP-4)'!$C$5=\"drum mix plant\",'Asphalt Plant (AP-4)'!S93,0),IF('Asphalt Plant (AP-5)'!$C$5=\"drum mix plant\",'Asphalt Plant (AP-5)'!S93,0),IF('Asphalt Plant (AP-6)'!$C$5=\"drum mix plant\",'Asphalt Plant (AP-6)'!S93,0),IF('Asphalt Plant (AP-7)'!$C$5=\"drum mix plant\",'Asphalt Plant (AP-7)'!S93,0),IF('Asphalt Plant (AP-8)'!$C$5=\"drum mix plant\",'Asphalt Plant (AP-8)'!S93,0),IF('Asphalt Plant (AP-9)'!$C$5=\"drum mix plant\",'Asphalt Plant (AP-9)'!S93,0),IF('Asphalt Plant (AP-10)'!$C$5=\"drum mix plant\",'Asphalt Plant (AP-10)'!S93,0)))","v":""},{"$f":"IF(B140=\"\",\"\",SUM(IF('Asphalt Plant (AP-1)'!$C$5=\"drum mix plant\",'Asphalt Plant (AP-1)'!T93,0),IF('Asphalt Plant (AP-2)'!$C$5=\"drum mix plant\",'Asphalt Plant (AP-2)'!T93,0),IF('Asphalt Plant (AP-3)'!$C$5=\"drum mix plant\",'Asphalt Plant (AP-3)'!T93,0),IF('Asphalt Plant (AP-4)'!$C$5=\"drum mix plant\",'Asphalt Plant (AP-4)'!T93,0),IF('Asphalt Plant (AP-5)'!$C$5=\"drum mix plant\",'Asphalt Plant (AP-5)'!T93,0),IF('Asphalt Plant (AP-6)'!$C$5=\"drum mix plant\",'Asphalt Plant (AP-6)'!T93,0),IF('Asphalt Plant (AP-7)'!$C$5=\"drum mix plant\",'Asphalt Plant (AP-7)'!T93,0),IF('Asphalt Plant (AP-8)'!$C$5=\"drum mix plant\",'Asphalt Plant (AP-8)'!T93,0),IF('Asphalt Plant (AP-9)'!$C$5=\"drum mix plant\",'Asphalt Plant (AP-9)'!T93,0),IF('Asphalt Plant (AP-10)'!$C$5=\"drum mix plant\",'Asphalt Plant (AP-10)'!T93,0)))","v":""}]
["Nickel Compounds",null,null,null,null,null,{"$f":"IF(F141=\"\",\"\",\"lbs/ton\")","v":""},{"$f":"IF(F141=\"\",\"\",LOOKUP(B139,'[1]Emission Factors'!$A$5:$A$10,'[1]Emission Factors'!$D$5:$D$10))","v":""}]
[{"$f":"IF(D142=\"\",\"\",\"ALL\")","v":""},{"$f":"IF(D142=\"\",\"\",\"Drum Mix Plant - Fuel Oil\")","v":""},{"$f":"IF(B142=\"\",\"\",\"30500258\")","v":""},{"$f":"IF(SUM(IF('Asphalt Plant (AP-1)'!$C$5=\"drum mix plant\",'Asphalt Plant (AP-1)'!N5,0),IF('Asphalt Plant (AP-2)'!$C$5=\"drum mix plant\",'Asphalt Plant (AP-2)'!N5,0),IF('Asphalt Plant (AP-3)'!$C$5=\"drum mix plant\",'Asphalt Plant (AP-3)'!N5,0),IF('Asphalt Plant (AP-4)'!$C$5=\"drum mix plant\",'Asphalt Plant (AP-4)'!N5,0),IF('Asphalt Plant (AP-5)'!$C$5=\"drum mix plant\",'Asphalt Plant (AP-5)'!N5,0),IF('Asphalt Plant (AP-6)'!$C$5=\"drum mix plant\",'Asphalt Plant (AP-6)'!N5,0),IF('Asphalt Plant (AP-7)'!$C$5=\"drum mix plant\",'Asphalt Plant (AP-7)'!N5,0),IF('Asphalt Plant (AP-8)'!$C$5=\"drum mix plant\",'Asphalt Plant (AP-8)'!N5,0),IF('Asphalt Plant (AP-9)'!$C$5=\"drum mix plant\",'Asphalt Plant (AP-9)'!N5,0),IF('Asphalt Plant (AP-10)'!$C$5=\"drum mix plant\",'Asphalt Plant (AP-10)'!N5,0))>0,SUM(IF('Asphalt Plant (AP-1)'!$C$5=\"drum mix plant\",'Asphalt Plant (AP-1)'!N5,0),IF('Asphalt Plant (AP-2)'!$C$5=\"drum mix plant\",'Asphalt Plant (AP-2)'!N5,0),IF('Asphalt Plant (AP-3)'!$C$5=\"drum mix plant\",'Asphalt Plant (AP-3)'!N5,0),IF('Asphalt Plant (AP-4)'!$C$5=\"drum mix plant\",'Asphalt Plant (AP-4)'!N5,0),IF('Asphalt Plant (AP-5)'!$C$5=\"drum mix plant\",'Asphalt Plant (AP-5)'!N5,0),IF('Asphalt Plant (AP-6)'!$C$5=\"drum mix plant\",'Asphalt Plant (AP-6)'!N5,0),IF('Asphalt Plant (AP-7)'!$C$5=\"drum mix plant\",'Asphalt Plant (AP-7)'!N5,0),IF('Asphalt Plant (AP-8)'!$C$5=\"drum mix plant\",'Asphalt Plant (AP-8)'!N5,0),IF('Asphalt Plant (AP-9)'!$C$5=\"drum mix plant\",'Asphalt Plant (AP-9)'!N5,0),IF('Asphalt Plant (AP-10)'!$C$5=\"drum mix plant\",'Asphalt Plant (AP-10)'!N5,0)),\"\")","v":""},{"$f":"IF(B142=\"\",\"\",\"tons/hr\")","v":""},{"$f":"IF(B142=\"\",\"\",MAX(IF('Asphalt Plant (AP-1)'!$C$5=\"drum mix plant\",'Asphalt Plant (AP-1)'!O95,0),IF('Asphalt Plant (AP-2)'!$C$5=\"drum mix plant\",'Asphalt Plant (AP-2)'!O95,0),IF('Asphalt Plant (AP-3)'!$C$5=\"drum mix plant\",'Asphalt Plant (AP-3)'!O95,0),IF('Asphalt Plant (AP-4)'!$C$5=\"drum mix plant\",'Asphalt Plant (AP-4)'!O95,0),IF('Asphalt Plant (AP-5)'!$C$5=\"drum mix plant\",'Asphalt Plant (AP-5)'!O95,0),IF('Asphalt Plant (AP-6)'!$C$5=\"drum mix plant\",'Asphalt Plant (AP-6)'!O95,0),IF('Asphalt Plant (AP-7)'!$C$5=\"drum mix plant\",'Asphalt Plant (AP-7)'!O95,0),IF('Asphalt Plant (AP-8)'!$C$5=\"drum mix plant\",'Asphalt Plant (AP-8)'!O95,0),IF('Asphalt Plant (AP-9)'!$C$5=\"drum mix plant\",'Asphalt Plant (AP-9)'!O95,0),IF('Asphalt Plant (AP-10)'!$C$5=\"drum mix plant\",'Asphalt Plant (AP-10)'!O95,0)))","v":""},{"$f":"IF(B142=\"\",\"\",\"lb/ton\")","v":""},{"$f":"IF(B142=\"\",\"\",\"AP-42 Table 11.1-4,7,8,10\")","v":""},{"$f":"IF(B142=\"\",\"\",SUM(IF('Asphalt Plant (AP-1)'!$C$5=\"drum mix plant\",'Asphalt Plant (AP-1)'!Q95,0),IF('Asphalt Plant (AP-2)'!$C$5=\"drum mix plant\",'Asphalt Plant (AP-2)'!Q95,0),IF('Asphalt Plant (AP-3)'!$C$5=\"drum mix plant\",'Asphalt Plant (AP-3)'!Q95,0),IF('Asphalt Plant (AP-4)'!$C$5=\"drum mix plant\",'Asphalt Plant (AP-4)'!Q95,0),IF('Asphalt Plant (AP-5)'!$C$5=\"drum mix plant\",'Asphalt Plant (AP-5)'!Q95,0),IF('Asphalt Plant (AP-6)'!$C$5=\"drum mix plant\",'Asphalt Plant (AP-6)'!Q95,0),IF('Asphalt Plant (AP-7)'!$C$5=\"drum mix plant\",'Asphalt Plant (AP-7)'!Q95,0),IF('Asphalt Plant (AP-8)'!$C$5=\"drum mix plant\",'Asphalt Plant (AP-8)'!Q95,0),IF('Asphalt Plant (AP-9)'!$C$5=\"drum mix plant\",'Asphalt Plant (AP-9)'!Q95,0),IF('Asphalt Plant (AP-10)'!$C$5=\"drum mix plant\",'Asphalt Plant (AP-10)'!Q95,0)))","v":""},null,{"$f":"IF(B142=\"\",\"\",SUM(IF('Asphalt Plant (AP-1)'!$C$5=\"drum mix plant\",'Asphalt Plant (AP-1)'!R95,0),IF('Asphalt Plant (AP-2)'!$C$5=\"drum mix plant\",'Asphalt Plant (AP-2)'!R95,0),IF('Asphalt Plant (AP-3)'!$C$5=\"drum mix plant\",'Asphalt Plant (AP-3)'!R95,0),IF('Asphalt Plant (AP-4)'!$C$5=\"drum mix plant\",'Asphalt Plant (AP-4)'!R95,0),IF('Asphalt Plant (AP-5)'!$C$5=\"drum mix plant\",'Asphalt Plant (AP-5)'!R95,0),IF('Asphalt Plant (AP-6)'!$C$5=\"drum mix plant\",'Asphalt Plant (AP-6)'!R95,0),IF('Asphalt Plant (AP-7)'!$C$5=\"drum mix plant\",'Asphalt Plant (AP-7)'!R95,0),IF('Asphalt Plant (AP-8)'!$C$5=\"drum mix plant\",'Asphalt Plant (AP-8)'!R95,0),IF('Asphalt Plant (AP-9)'!$C$5=\"drum mix plant\",'Asphalt Plant (AP-9)'!R95,0),IF('Asphalt Plant (AP-10)'!$C$5=\"drum mix plant\",'Asphalt Plant (AP-10)'!R95,0)))","v":""},{"$f":"IF(B142=\"\",\"\",SUM(IF('Asphalt Plant (AP-1)'!$C$5=\"drum mix plant\",'Asphalt Plant (AP-1)'!S95,0),IF('Asphalt Plant (AP-2)'!$C$5=\"drum mix plant\",'Asphalt Plant (AP-2)'!S95,0),IF('Asphalt Plant (AP-3)'!$C$5=\"drum mix plant\",'Asphalt Plant (AP-3)'!S95,0),IF('Asphalt Plant (AP-4)'!$C$5=\"drum mix plant\",'Asphalt Plant (AP-4)'!S95,0),IF('Asphalt Plant (AP-5)'!$C$5=\"drum mix plant\",'Asphalt Plant (AP-5)'!S95,0),IF('Asphalt Plant (AP-6)'!$C$5=\"drum mix plant\",'Asphalt Plant (AP-6)'!S95,0),IF('Asphalt Plant (AP-7)'!$C$5=\"drum mix plant\",'Asphalt Plant (AP-7)'!S95,0),IF('Asphalt Plant (AP-8)'!$C$5=\"drum mix plant\",'Asphalt Plant (AP-8)'!S95,0),IF('Asphalt Plant (AP-9)'!$C$5=\"drum mix plant\",'Asphalt Plant (AP-9)'!S95,0),IF('Asphalt Plant (AP-10)'!$C$5=\"drum mix plant\",'Asphalt Plant (AP-10)'!S95,0)))","v":""},{"$f":"IF(B142=\"\",\"\",SUM(IF('Asphalt Plant (AP-1)'!$C$5=\"drum mix plant\",'Asphalt Plant (AP-1)'!T95,0),IF('Asphalt Plant (AP-2)'!$C$5=\"drum mix plant\",'Asphalt Plant (AP-2)'!T95,0),IF('Asphalt Plant (AP-3)'!$C$5=\"drum mix plant\",'Asphalt Plant (AP-3)'!T95,0),IF('Asphalt Plant (AP-4)'!$C$5=\"drum mix plant\",'Asphalt Plant (AP-4)'!T95,0),IF('Asphalt Plant (AP-5)'!$C$5=\"drum mix plant\",'Asphalt Plant (AP-5)'!T95,0),IF('Asphalt Plant (AP-6)'!$C$5=\"drum mix plant\",'Asphalt Plant (AP-6)'!T95,0),IF('Asphalt Plant (AP-7)'!$C$5=\"drum mix plant\",'Asphalt Plant (AP-7)'!T95,0),IF('Asphalt Plant (AP-8)'!$C$5=\"drum mix plant\",'Asphalt Plant (AP-8)'!T95,0),IF('Asphalt Plant (AP-9)'!$C$5=\"drum mix plant\",'Asphalt Plant (AP-9)'!T95,0),IF('Asphalt Plant (AP-10)'!$C$5=\"drum mix plant\",'Asphalt Plant (AP-10)'!T95,0)))","v":""}]
[{"$f":"IF(D143=\"\",\"\",\"ALL\")","v":""},{"$f":"IF(D143=\"\",\"\",\"Drum Mix Plant - Waste Oil\")","v":""},{"$f":"IF(B143=\"\",\"\",\"30500255\")","v":""},{"$f":"IF(SUM(IF('Asphalt Plant (AP-1)'!$C$5=\"drum mix plant\",'Asphalt Plant (AP-1)'!N6,0),IF('Asphalt Plant (AP-2)'!$C$5=\"drum mix plant\",'Asphalt Plant (AP-2)'!N6,0),IF('Asphalt Plant (AP-3)'!$C$5=\"drum mix plant\",'Asphalt Plant (AP-3)'!N6,0),IF('Asphalt Plant (AP-4)'!$C$5=\"drum mix plant\",'Asphalt Plant (AP-4)'!N6,0),IF('Asphalt Plant (AP-5)'!$C$5=\"drum mix plant\",'Asphalt Plant (AP-5)'!N6,0),IF('Asphalt Plant (AP-6)'!$C$5=\"drum mix plant\",'Asphalt Plant (AP-6)'!N6,0),IF('Asphalt Plant (AP-7)'!$C$5=\"drum mix plant\",'Asphalt Plant (AP-7)'!N6,0),IF('Asphalt Plant (AP-8)'!$C$5=\"drum mix plant\",'Asphalt Plant (AP-8)'!N6,0),IF('Asphalt Plant (AP-9)'!$C$5=\"drum mix plant\",'Asphalt Plant (AP-9)'!N6,0),IF('Asphalt Plant (AP-10)'!$C$5=\"drum mix plant\",'Asphalt Plant (AP-10)'!N6,0))>0,SUM(IF('Asphalt Plant (AP-1)'!$C$5=\"drum mix plant\",'Asphalt Plant (AP-1)'!N6,0),IF('Asphalt Plant (AP-2)'!$C$5=\"drum mix plant\",'Asphalt Plant (AP-2)'!N6,0),IF('Asphalt Plant (AP-3)'!$C$5=\"drum mix plant\",'Asphalt Plant (AP-3)'!N6,0),IF('Asphalt Plant (AP-4)'!$C$5=\"drum mix plant\",'Asphalt Plant (AP-4)'!N6,0),IF('Asphalt Plant (AP-5)'!$C$5=\"drum mix plant\",'Asphalt Plant (AP-5)'!N6,0),IF('Asphalt Plant (AP-6)'!$C$5=\"drum mix plant\",'Asphalt Plant (AP-6)'!N6,0),IF('Asphalt Plant (AP-7)'!$C$5=\"drum mix plant\",'Asphalt Plant (AP-7)'!N6,0),IF('Asphalt Plant (AP-8)'!$C$5=\"drum mix plant\",'Asphalt Plant (AP-8)'!N6,0),IF('Asphalt Plant (AP-9)'!$C$5=\"drum mix plant\",'Asphalt Plant (AP-9)'!N6,0),IF('Asphalt Plant (AP-10)'!$C$5=\"drum mix plant\",'Asphalt Plant (AP-10)'!N6,0)),\"\")","v":""},{"$f":"IF(B143=\"\",\"\",\"tons/hr\")","v":""},{"$f":"IF(B143=\"\",\"\",MAX(IF('Asphalt Plant (AP-1)'!$C$5=\"drum mix plant\",'Asphalt Plant (AP-1)'!O96,0),IF('Asphalt Plant (AP-2)'!$C$5=\"drum mix plant\",'Asphalt Plant (AP-2)'!O96,0),IF('Asphalt Plant (AP-3)'!$C$5=\"drum mix plant\",'Asphalt Plant (AP-3)'!O96,0),IF('Asphalt Plant (AP-4)'!$C$5=\"drum mix plant\",'Asphalt Plant (AP-4)'!O96,0),IF('Asphalt Plant (AP-5)'!$C$5=\"drum mix plant\",'Asphalt Plant (AP-5)'!O96,0),IF('Asphalt Plant (AP-6)'!$C$5=\"drum mix plant\",'Asphalt Plant (AP-6)'!O96,0),IF('Asphalt Plant (AP-7)'!$C$5=\"drum mix plant\",'Asphalt Plant (AP-7)'!O96,0),IF('Asphalt Plant (AP-8)'!$C$5=\"drum mix plant\",'Asphalt Plant (AP-8)'!O96,0),IF('Asphalt Plant (AP-9)'!$C$5=\"drum mix plant\",'Asphalt Plant (AP-9)'!O96,0),IF('Asphalt Plant (AP-10)'!$C$5=\"drum mix plant\",'Asphalt Plant (AP-10)'!O96,0)))","v":""},{"$f":"IF(B143=\"\",\"\",\"lb/ton\")","v":""},{"$f":"IF(B143=\"\",\"\",\"AP-42 Table 11.1-4,7,8,10\")","v":""},{"$f":"IF(B143=\"\",\"\",SUM(IF('Asphalt Plant (AP-1)'!$C$5=\"drum mix plant\",'Asphalt Plant (AP-1)'!Q96,0),IF('Asphalt Plant (AP-2)'!$C$5=\"drum mix plant\",'Asphalt Plant (AP-2)'!Q96,0),IF('Asphalt Plant (AP-3)'!$C$5=\"drum mix plant\",'Asphalt Plant (AP-3)'!Q96,0),IF('Asphalt Plant (AP-4)'!$C$5=\"drum mix plant\",'Asphalt Plant (AP-4)'!Q96,0),IF('Asphalt Plant (AP-5)'!$C$5=\"drum mix plant\",'Asphalt Plant (AP-5)'!Q96,0),IF('Asphalt Plant (AP-6)'!$C$5=\"drum mix plant\",'Asphalt Plant (AP-6)'!Q96,0),IF('Asphalt Plant (AP-7)'!$C$5=\"drum mix plant\",'Asphalt Plant (AP-7)'!Q96,0),IF('Asphalt Plant (AP-8)'!$C$5=\"drum mix plant\",'Asphalt Plant (AP-8)'!Q96,0),IF('Asphalt Plant (AP-9)'!$C$5=\"drum mix plant\",'Asphalt Plant (AP-9)'!Q96,0),IF('Asphalt Plant (AP-10)'!$C$5=\"drum mix plant\",'Asphalt Plant (AP-10)'!Q96,0)))","v":""},null,{"$f":"IF(B143=\"\",\"\",SUM(IF('Asphalt Plant (AP-1)'!$C$5=\"drum mix plant\",'Asphalt Plant (AP-1)'!R96,0),IF('Asphalt Plant (AP-2)'!$C$5=\"drum mix plant\",'Asphalt Plant (AP-2)'!R96,0),IF('Asphalt Plant (AP-3)'!$C$5=\"drum mix plant\",'Asphalt Plant (AP-3)'!R96,0),IF('Asphalt Plant (AP-4)'!$C$5=\"drum mix plant\",'Asphalt Plant (AP-4)'!R96,0),IF('Asphalt Plant (AP-5)'!$C$5=\"drum mix plant\",'Asphalt Plant (AP-5)'!R96,0),IF('Asphalt Plant (AP-6)'!$C$5=\"drum mix plant\",'Asphalt Plant (AP-6)'!R96,0),IF('Asphalt Plant (AP-7)'!$C$5=\"drum mix plant\",'Asphalt Plant (AP-7)'!R96,0),IF('Asphalt Plant (AP-8)'!$C$5=\"drum mix plant\",'Asphalt Plant (AP-8)'!R96,0),IF('Asphalt Plant (AP-9)'!$C$5=\"drum mix plant\",'Asphalt Plant (AP-9)'!R96,0),IF('Asphalt Plant (AP-10)'!$C$5=\"drum mix plant\",'Asphalt Plant (AP-10)'!R96,0)))","v":""},{"$f":"IF(B143=\"\",\"\",SUM(IF('Asphalt Plant (AP-1)'!$C$5=\"drum mix plant\",'Asphalt Plant (AP-1)'!S96,0),IF('Asphalt Plant (AP-2)'!$C$5=\"drum mix plant\",'Asphalt Plant (AP-2)'!S96,0),IF('Asphalt Plant (AP-3)'!$C$5=\"drum mix plant\",'Asphalt Plant (AP-3)'!S96,0),IF('Asphalt Plant (AP-4)'!$C$5=\"drum mix plant\",'Asphalt Plant (AP-4)'!S96,0),IF('Asphalt Plant (AP-5)'!$C$5=\"drum mix plant\",'Asphalt Plant (AP-5)'!S96,0),IF('Asphalt Plant (AP-6)'!$C$5=\"drum mix plant\",'Asphalt Plant (AP-6)'!S96,0),IF('Asphalt Plant (AP-7)'!$C$5=\"drum mix plant\",'Asphalt Plant (AP-7)'!S96,0),IF('Asphalt Plant (AP-8)'!$C$5=\"drum mix plant\",'Asphalt Plant (AP-8)'!S96,0),IF('Asphalt Plant (AP-9)'!$C$5=\"drum mix plant\",'Asphalt Plant (AP-9)'!S96,0),IF('Asphalt Plant (AP-10)'!$C$5=\"drum mix plant\",'Asphalt Plant (AP-10)'!S96,0)))","v":""},{"$f":"IF(B143=\"\",\"\",SUM(IF('Asphalt Plant (AP-1)'!$C$5=\"drum mix plant\",'Asphalt Plant (AP-1)'!T96,0),IF('Asphalt Plant (AP-2)'!$C$5=\"drum mix plant\",'Asphalt Plant (AP-2)'!T96,0),IF('Asphalt Plant (AP-3)'!$C$5=\"drum mix plant\",'Asphalt Plant (AP-3)'!T96,0),IF('Asphalt Plant (AP-4)'!$C$5=\"drum mix plant\",'Asphalt Plant (AP-4)'!T96,0),IF('Asphalt Plant (AP-5)'!$C$5=\"drum mix plant\",'Asphalt Plant (AP-5)'!T96,0),IF('Asphalt Plant (AP-6)'!$C$5=\"drum mix plant\",'Asphalt Plant (AP-6)'!T96,0),IF('Asphalt Plant (AP-7)'!$C$5=\"drum mix plant\",'Asphalt Plant (AP-7)'!T96,0),IF('Asphalt Plant (AP-8)'!$C$5=\"drum mix plant\",'Asphalt Plant (AP-8)'!T96,0),IF('Asphalt Plant (AP-9)'!$C$5=\"drum mix plant\",'Asphalt Plant (AP-9)'!T96,0),IF('Asphalt Plant (AP-10)'!$C$5=\"drum mix plant\",'Asphalt Plant (AP-10)'!T96,0)))","v":""}]
[{"$f":"IF(D144=\"\",\"\",\"ALL\")","v":""},{"$f":"IF(D144=\"\",\"\",\"Drum Mix Plant - Natural Gas\")","v":""},{"$f":"IF(B144=\"\",\"\",\"30500261\")","v":""},{"$f":"IF(SUM(IF('Asphalt Plant (AP-1)'!$C$5=\"drum mix plant\",'Asphalt Plant (AP-1)'!N7,0),IF('Asphalt Plant (AP-2)'!$C$5=\"drum mix plant\",'Asphalt Plant (AP-2)'!N7,0),IF('Asphalt Plant (AP-3)'!$C$5=\"drum mix plant\",'Asphalt Plant (AP-3)'!N7,0),IF('Asphalt Plant (AP-4)'!$C$5=\"drum mix plant\",'Asphalt Plant (AP-4)'!N7,0),IF('Asphalt Plant (AP-5)'!$C$5=\"drum mix plant\",'Asphalt Plant (AP-5)'!N7,0),IF('Asphalt Plant (AP-6)'!$C$5=\"drum mix plant\",'Asphalt Plant (AP-6)'!N7,0),IF('Asphalt Plant (AP-7)'!$C$5=\"drum mix plant\",'Asphalt Plant (AP-7)'!N7,0),IF('Asphalt Plant (AP-8)'!$C$5=\"drum mix plant\",'Asphalt Plant (AP-8)'!N7,0),IF('Asphalt Plant (AP-9)'!$C$5=\"drum mix plant\",'Asphalt Plant (AP-9)'!N7,0),IF('Asphalt Plant (AP-10)'!$C$5=\"drum mix plant\",'Asphalt Plant (AP-10)'!N7,0))>0,SUM(IF('Asphalt Plant (AP-1)'!$C$5=\"drum mix plant\",'Asphalt Plant (AP-1)'!N7,0),IF('Asphalt Plant (AP-2)'!$C$5=\"drum mix plant\",'Asphalt Plant (AP-2)'!N7,0),IF('Asphalt Plant (AP-3)'!$C$5=\"drum mix plant\",'Asphalt Plant (AP-3)'!N7,0),IF('Asphalt Plant (AP-4)'!$C$5=\"drum mix plant\",'Asphalt Plant (AP-4)'!N7,0),IF('Asphalt Plant (AP-5)'!$C$5=\"drum mix plant\",'Asphalt Plant (AP-5)'!N7,0),IF('Asphalt Plant (AP-6)'!$C$5=\"drum mix plant\",'Asphalt Plant (AP-6)'!N7,0),IF('Asphalt Plant (AP-7)'!$C$5=\"drum mix plant\",'Asphalt Plant (AP-7)'!N7,0),IF('Asphalt Plant (AP-8)'!$C$5=\"drum mix plant\",'Asphalt Plant (AP-8)'!N7,0),IF('Asphalt Plant (AP-9)'!$C$5=\"drum mix plant\",'Asphalt Plant (AP-9)'!N7,0),IF('Asphalt Plant (AP-10)'!$C$5=\"drum mix plant\",'Asphalt Plant (AP-10)'!N7,0)),\"\")","v":""},{"$f":"IF(B144=\"\",\"\",\"tons/hr\")","v":""},{"$f":"IF(B144=\"\",\"\",MAX(IF('Asphalt Plant (AP-1)'!$C$5=\"drum mix plant\",'Asphalt Plant (AP-1)'!O97,0),IF('Asphalt Plant (AP-2)'!$C$5=\"drum mix plant\",'Asphalt Plant (AP-2)'!O97,0),IF('Asphalt Plant (AP-3)'!$C$5=\"drum mix plant\",'Asphalt Plant (AP-3)'!O97,0),IF('Asphalt Plant (AP-4)'!$C$5=\"drum mix plant\",'Asphalt Plant (AP-4)'!O97,0),IF('Asphalt Plant (AP-5)'!$C$5=\"drum mix plant\",'Asphalt Plant (AP-5)'!O97,0),IF('Asphalt Plant (AP-6)'!$C$5=\"drum mix plant\",'Asphalt Plant (AP-6)'!O97,0),IF('Asphalt Plant (AP-7)'!$C$5=\"drum mix plant\",'Asphalt Plant (AP-7)'!O97,0),IF('Asphalt Plant (AP-8)'!$C$5=\"drum mix plant\",'Asphalt Plant (AP-8)'!O97,0),IF('Asphalt Plant (AP-9)'!$C$5=\"drum mix plant\",'Asphalt Plant (AP-9)'!O97,0),IF('Asphalt Plant (AP-10)'!$C$5=\"drum mix plant\",'Asphalt Plant (AP-10)'!O97,0)))","v":""},{"$f":"IF(B144=\"\",\"\",\"lb/ton\")","v":""},{"$f":"IF(B144=\"\",\"\",\"AP-42 Table 11.1-4,7,8,10,12\")","v":""},{"$f":"IF(B144=\"\",\"\",SUM(IF('Asphalt Plant (AP-1)'!$C$5=\"drum mix plant\",'Asphalt Plant (AP-1)'!Q97,0),IF('Asphalt Plant (AP-2)'!$C$5=\"drum mix plant\",'Asphalt Plant (AP-2)'!Q97,0),IF('Asphalt Plant (AP-3)'!$C$5=\"drum mix plant\",'Asphalt Plant (AP-3)'!Q97,0),IF('Asphalt Plant (AP-4)'!$C$5=\"drum mix plant\",'Asphalt Plant (AP-4)'!Q97,0),IF('Asphalt Plant (AP-5)'!$C$5=\"drum mix plant\",'Asphalt Plant (AP-5)'!Q97,0),IF('Asphalt Plant (AP-6)'!$C$5=\"drum mix plant\",'Asphalt Plant (AP-6)'!Q97,0),IF('Asphalt Plant (AP-7)'!$C$5=\"drum mix plant\",'Asphalt Plant (AP-7)'!Q97,0),IF('Asphalt Plant (AP-8)'!$C$5=\"drum mix plant\",'Asphalt Plant (AP-8)'!Q97,0),IF('Asphalt Plant (AP-9)'!$C$5=\"drum mix plant\",'Asphalt Plant (AP-9)'!Q97,0),IF('Asphalt Plant (AP-10)'!$C$5=\"drum mix plant\",'Asphalt Plant (AP-10)'!Q97,0)))","v":""},null,{"$f":"IF(B144=\"\",\"\",SUM(IF('Asphalt Plant (AP-1)'!$C$5=\"drum mix plant\",'Asphalt Plant (AP-1)'!R97,0),IF('Asphalt Plant (AP-2)'!$C$5=\"drum mix plant\",'Asphalt Plant (AP-2)'!R97,0),IF('Asphalt Plant (AP-3)'!$C$5=\"drum mix plant\",'Asphalt Plant (AP-3)'!R97,0),IF('Asphalt Plant (AP-4)'!$C$5=\"drum mix plant\",'Asphalt Plant (AP-4)'!R97,0),IF('Asphalt Plant (AP-5)'!$C$5=\"drum mix plant\",'Asphalt Plant (AP-5)'!R97,0),IF('Asphalt Plant (AP-6)'!$C$5=\"drum mix plant\",'Asphalt Plant (AP-6)'!R97,0),IF('Asphalt Plant (AP-7)'!$C$5=\"drum mix plant\",'Asphalt Plant (AP-7)'!R97,0),IF('Asphalt Plant (AP-8)'!$C$5=\"drum mix plant\",'Asphalt Plant (AP-8)'!R97,0),IF('Asphalt Plant (AP-9)'!$C$5=\"drum mix plant\",'Asphalt Plant (AP-9)'!R97,0),IF('Asphalt Plant (AP-10)'!$C$5=\"drum mix plant\",'Asphalt Plant (AP-10)'!R97,0)))","v":""},{"$f":"IF(B144=\"\",\"\",SUM(IF('Asphalt Plant (AP-1)'!$C$5=\"drum mix plant\",'Asphalt Plant (AP-1)'!S97,0),IF('Asphalt Plant (AP-2)'!$C$5=\"drum mix plant\",'Asphalt Plant (AP-2)'!S97,0),IF('Asphalt Plant (AP-3)'!$C$5=\"drum mix plant\",'Asphalt Plant (AP-3)'!S97,0),IF('Asphalt Plant (AP-4)'!$C$5=\"drum mix plant\",'Asphalt Plant (AP-4)'!S97,0),IF('Asphalt Plant (AP-5)'!$C$5=\"drum mix plant\",'Asphalt Plant (AP-5)'!S97,0),IF('Asphalt Plant (AP-6)'!$C$5=\"drum mix plant\",'Asphalt Plant (AP-6)'!S97,0),IF('Asphalt Plant (AP-7)'!$C$5=\"drum mix plant\",'Asphalt Plant (AP-7)'!S97,0),IF('Asphalt Plant (AP-8)'!$C$5=\"drum mix plant\",'Asphalt Plant (AP-8)'!S97,0),IF('Asphalt Plant (AP-9)'!$C$5=\"drum mix plant\",'Asphalt Plant (AP-9)'!S97,0),IF('Asphalt Plant (AP-10)'!$C$5=\"drum mix plant\",'Asphalt Plant (AP-10)'!S97,0)))","v":""},{"$f":"IF(B144=\"\",\"\",SUM(IF('Asphalt Plant (AP-1)'!$C$5=\"drum mix plant\",'Asphalt Plant (AP-1)'!T97,0),IF('Asphalt Plant (AP-2)'!$C$5=\"drum mix plant\",'Asphalt Plant (AP-2)'!T97,0),IF('Asphalt Plant (AP-3)'!$C$5=\"drum mix plant\",'Asphalt Plant (AP-3)'!T97,0),IF('Asphalt Plant (AP-4)'!$C$5=\"drum mix plant\",'Asphalt Plant (AP-4)'!T97,0),IF('Asphalt Plant (AP-5)'!$C$5=\"drum mix plant\",'Asphalt Plant (AP-5)'!T97,0),IF('Asphalt Plant (AP-6)'!$C$5=\"drum mix plant\",'Asphalt Plant (AP-6)'!T97,0),IF('Asphalt Plant (AP-7)'!$C$5=\"drum mix plant\",'Asphalt Plant (AP-7)'!T97,0),IF('Asphalt Plant (AP-8)'!$C$5=\"drum mix plant\",'Asphalt Plant (AP-8)'!T97,0),IF('Asphalt Plant (AP-9)'!$C$5=\"drum mix plant\",'Asphalt Plant (AP-9)'!T97,0),IF('Asphalt Plant (AP-10)'!$C$5=\"drum mix plant\",'Asphalt Plant (AP-10)'!T97,0)))","v":""}]

{"sheet":"Facility Wide Emissions","index":14,"n_rows":301,"n_cols":13,"rows_kept":301,"cut":false,"hidden":false,"merged":[]}
["FACILITY WIDE EMISSIONS SUMMARY:"]
[]
["** As of 2016 Potential Emissions are no longer required to be reported in the Minor Source Emissions Inventory**"]
[null,"FACILITY-WIDE ACTUAL EMISSIONS:",null,null,null,null,null,null,null,null,"FACILITY-WIDE POTENTIAL EMISSIONS:"]
[null,"Air Pollutant","ID or CAS Number","Tons/Yr",null,null,null,null,null,null,"Air Pollutant","ID or CAS Number","Tons/Yr"]
[null,"PM-2.5","PM-2.5",{"$f":"'Emission Calculations'!M20","v":0},null,null,null,null,null,null,"PM-2.5","PM-2.5",{"$f":"'Emission Calculations'!L20","v":0}]
[null,"PM-10","PM-10",{"$f":"'Emission Calculations'!M38","v":0},null,null,null,null,null,null,"PM-10","PM-10",{"$f":"'Emission Calculations'!L38","v":0}]
[null,"SO2","7446-09-5",{"$f":"'Emission Calculations'!M51","v":0},null,null,null,null,null,null,"SO2","7446-09-5",{"$f":"'Emission Calculations'!L51","v":0}]
[null,"NOx","NOx",{"$f":"'Emission Calculations'!M62","v":0},null,null,null,null,null,null,"NOx","NOx",{"$f":"'Emission Calculations'!L62","v":0}]
[null,"VOC","VOC",{"$f":"'Emission Calculations'!M75","v":0},null,null,null,null,null,null,"VOC","VOC",{"$f":"'Emission Calculations'!L75","v":0}]
[null,"CO","630-08-0",{"$f":"'Emission Calculations'!M88","v":0},null,null,null,null,null,null,"CO","630-08-0",{"$f":"'Emission Calculations'!L88","v":0}]
[null,"Acetaldehyde","75-07-0",{"$f":"SUM('Emission Calculations'!M93:M94)","v":0},null,null,null,null,null,null,"Acetaldehyde","75-07-0",{"$f":"SUM('Emission Calculations'!L93:L94)","v":0}]
[null,"Acrolein","107-02-8",{"$f":"'Emission Calculations'!M96","v":""},null,null,null,null,null,null,"Acrolein","107-02-8",{"$f":"'Emission Calculations'!L96","v":""}]
[null,"Benzene","71-43-2",{"$f":"'Emission Calculations'!M102","v":0},null,null,null,null,null,null,"Benzene","71-43-2",{"$f":"'Emission Calculations'!L102","v":0}]
[null,"Ethylbenzene","100-41-4",{"$f":"SUM('Emission Calculations'!M104:M105)","v":0},null,null,null,null,null,null,"Ethylbenzene","100-41-4",{"$f":"SUM('Emission Calculations'!L104:L105)","v":0}]
[null,"Formaldehyde","50-00-0",{"$f":"'Emission Calculations'!M112","v":0},null,null,null,null,null,null,"Formaldehyde","50-00-0",{"$f":"'Emission Calculations'!L112","v":0}]
[null,"Hexane","110-54-3",{"$f":"'Emission Calculations'!M115","v":""},null,null,null,null,null,null,"Hexane","110-54-3",{"$f":"('Emission Calculations'!L115)","v":""}]
[null,"Hydrochloric Acid","7647-01-0",{"$f":"'Emission Calculations'!M117","v":""},null,null,null,null,null,null,"Hydrochloric Acid","7647-01-0",{"$f":"'Emission Calculations'!L117","v":""}]
[null,"Methyl Chloroform","71-55-6",{"$f":"'Emission Calculations'!M119","v":""},null,null,null,null,null,null,"Methyl Chloroform","71-55-6",{"$f":"'Emission Calculations'!L119","v":""}]
[null,"Propionaldehyde","123-38-6",{"$f":"'Emission Calculations'!M121","v":""},null,null,null,null,null,null,"Propionaldehyde","123-38-6",{"$f":"'Emission Calculations'!L121","v":""}]
[null,"Quinone","106-51-4",{"$f":"SUM('Emission Calculations'!M123:M124)","v":0},null,null,null,null,null,null,"Quinone","106-51-4",{"$f":"SUM('Emission Calculations'!L123:L124)","v":0}]
[null,"Toluene","108-88-3",{"$f":"SUM('Emission Calculations'!M126:M129)","v":0},null,null,null,null,null,null,"Toluene","108-88-3",{"$f":"SUM('Emission Calculations'!L126:L129)","v":0}]
[null,"Xylene","1330-20-7",{"$f":"SUM('Emission Calculations'!M131:M132)","v":0},null,null,null,null,null,null,"Xylene","1330-20-7",{"$f":"SUM('Emission Calculations'!L131:L132)","v":0}]
[null,"2,2,4-Trimethylpentane","540-84-1",{"$f":"'Emission Calculations'!M134","v":""},null,null,null,null,null,null,"2,2,4-Trimethylpentane","540-84-1",{"$f":"'Emission Calculations'!L134","v":""}]
[null,"Chromium Compounds",null,{"$f":"'Emission Calculations'!M136","v":""},null,null,null,null,null,null,"Chromium Compounds",null,{"$f":"'Emission Calculations'!L136","v":""}]
[null,"Lead Compounds",null,{"$f":"'Emission Calculations'!M138","v":""},null,null,null,null,null,null,"Lead Compounds",null,{"$f":"'Emission Calculations'!L138","v":""}]
[null,"Manganese Compounds",null,{"$f":"'Emission Calculations'!M140","v":""},null,null,null,null,null,null,"Manganese Compounds",null,{"$f":"'Emission Calculations'!L140","v":""}]
[null,"Nickel Compounds",null,{"$f":"SUM('Emission Calculations'!M142:M144)","v":0},null,null,null,null,null,null,"Nickel Compounds",null,{"$f":"SUM('Emission Calculations'!L142:L144)","v":0}]
[null,"Total HAP",null,{"$f":"SUM(D12:D28)","v":0},null,null,null,null,null,null,"Total HAP",null,{"$f":"SUM(M12:M28)","v":0}]
[]
["PLANT SPECIFIC EMISSIONS SUMMARIES:"]
[]
["AP-1","POTENTIAL EMISSIONS:",null,null,null,null,"AP-2","POTENTIAL EMISSIONS:"]
[null,"Air Pollutant","ID or CAS Number","Tons/Yr",null,null,null,"Air Pollutant","ID or CAS Number","Tons/Yr"]
[null,"PM-2.5","PM-2.5",{"$f":"SUM('Asphalt Plant (AP-1)'!$S$20:$S$25,'Asphalt Plant (AP-1)'!$S$35,'Haul Roads'!AL8,'Permitted Diesel Engines'!Z54)","v":0},null,null,null,"PM-2.5","PM-2.5",{"$f":"SUM('Asphalt Plant (AP-2)'!S20:S25,'Asphalt Plant (AP-2)'!S35,'Haul Roads'!AL9,'Permitted Diesel Engines'!Z55)","v":0}]
[null,"PM-10","PM-10",{"$f":"SUM('Asphalt Plant (AP-1)'!S27:S32,'Asphalt Plant (AP-1)'!S35,'Haul Roads'!AN8,'Permitted Diesel Engines'!AC54)","v":0},null,null,null,"PM-10","PM-10",{"$f":"SUM('Asphalt Plant (AP-2)'!S27:S32,'Asphalt Plant (AP-2)'!S35,'Haul Roads'!AN9,'Permitted Diesel Engines'!AC55)","v":0}]
[null,"SO2","7446-09-5",{"$f":"SUM('Asphalt Plant (AP-1)'!S38:S40,'Permitted Diesel Engines'!AD54)","v":0},{"$f":"IF(D37>100,\"Thresholds exceeded, contact DNR for assistance.\",\"\")","v":""},null,null,"SO2","7446-09-5",{"$f":"SUM('Asphalt Plant (AP-2)'!S38:S40,'Permitted Diesel Engines'!AD55)","v":0},{"$f":"IF(J37>100,\"Thresholds exceeded, contact DNR for assistance.\",\"\")","v":""}]
[null,"NOx","NOx",{"$f":"SUM('Asphalt Plant (AP-1)'!S42:S44,'Permitted Diesel Engines'!AG54)","v":0},{"$f":"IF(D38>100,\"Thresholds exceeded, contact DNR for assistance.\",\"\")","v":""},null,null,"NOx","NOx",{"$f":"SUM('Asphalt Plant (AP-2)'!S42:S44,'Permitted Diesel Engines'!AG55)","v":0},{"$f":"IF(J38>100,\"Thresholds exceeded, contact DNR for assistance.\",\"\")","v":""}]
[null,"VOC","VOC",{"$f":"SUM('Asphalt Plant (AP-1)'!S46:S48,'Permitted Diesel Engines'!AH54)","v":0},{"$f":"IF(D39>100,\"Thresholds exceeded, contact DNR for assistance.\",\"\")","v":""},null,null,"VOC","VOC",{"$f":"SUM('Asphalt Plant (AP-2)'!S46:S48,'Permitted Diesel Engines'!AH55)","v":0},{"$f":"IF(J39>100,\"Thresholds exceeded, contact DNR for assistance.\",\"\")","v":""}]
[null,"CO","630-08-0",{"$f":"SUM('Asphalt Plant (AP-1)'!S53:S56,'Permitted Diesel Engines'!AK54)","v":0},{"$f":"IF(D40>100,\"Thresholds exceeded, contact DNR for assistance.\",\"\")","v":""},null,null,"CO","630-08-0",{"$f":"SUM('Asphalt Plant (AP-2)'!S53:S56,'Permitted Diesel Engines'!AK55)","v":0},{"$f":"IF(J40>100,\"Thresholds exceeded, contact DNR for assistance.\",\"\")","v":""}]
[null,"Acetaldehyde","75-07-0",{"$f":"SUM('Asphalt Plant (AP-1)'!$S$60)","v":0},{"$f":"IF(D41>10,\"Thresholds exceeded, contact DNR for assistance.\",\"\")","v":""},null,null,"Acetaldehyde","75-07-0",{"$f":"SUM('Asphalt Plant (AP-2)'!$S$60)","v":0},{"$f":"IF(J41>10,\"Thresholds exceeded, contact DNR for assistance.\",\"\")","v":""}]
[null,"Acrolein","107-02-8",{"$f":"'Asphalt Plant (AP-1)'!$S$62","v":0},{"$f":"IF(D42>10,\"Thresholds exceeded, contact DNR for assistance.\",\"\")","v":""},null,null,"Acrolein","107-02-8",{"$f":"'Asphalt Plant (AP-2)'!$S$62","v":0},{"$f":"IF(J42>10,\"Thresholds exceeded, contact DNR for assistance.\",\"\")","v":""}]
[null,"Benzene","71-43-2",{"$f":"SUM('Asphalt Plant (AP-1)'!$S$64,'Permitted Diesel Engines'!$AO$54)","v":0},{"$f":"IF(D43>10,\"Thresholds exceeded, contact DNR for assistance.\",\"\")","v":""},null,null,"Benzene","71-43-2",{"$f":"SUM('Asphalt Plant (AP-2)'!$S$64,'Permitted Diesel Engines'!$AO$55)","v":0},""]
[null,"Ethylbenzene","100-41-4",{"$f":"SUM('Asphalt Plant (AP-1)'!$S$66)","v":0},"",null,null,"Ethylbenzene","100-41-4",{"$f":"SUM('Asphalt Plant (AP-2)'!$S$66)","v":0},""]
[null,"Formaldehyde","50-00-0",{"$f":"SUM('Asphalt Plant (AP-1)'!$S$68:$S$69,'Permitted Diesel Engines'!$AL$54)","v":0},"",null,null,"Formaldehyde","50-00-0",{"$f":"SUM('Asphalt Plant (AP-2)'!$S$68:$S$69,'Permitted Diesel Engines'!$AL$55)","v":0},""]
[null,"Hexane","110-54-3",{"$f":"('Asphalt Plant (AP-1)'!$S$71)","v":0},"",null,null,"Hexane","110-54-3",{"$f":"('Asphalt Plant (AP-2)'!$S$71)","v":0},""]
[null,"Hydrochloric Acid","7647-01-0",{"$f":"'Asphalt Plant (AP-1)'!$S$73","v":0},"",null,null,"Hydrochloric Acid","7647-01-0",{"$f":"'Asphalt Plant (AP-2)'!$S$73","v":0},""]
[null,"Methyl Chloroform","71-55-6",{"$f":"'Asphalt Plant (AP-1)'!$S$75","v":0},"",null,null,"Methyl Chloroform","71-55-6",{"$f":"'Asphalt Plant (AP-2)'!$S$75","v":0},""]
[null,"Propionaldehyde","123-38-6",{"$f":"'Asphalt Plant (AP-1)'!$S$77","v":0},"",null,null,"Propionaldehyde","123-38-6",{"$f":"'Asphalt Plant (AP-2)'!$S$77","v":0},""]
[null,"Quinone","106-51-4",{"$f":"'Asphalt Plant (AP-1)'!$S$79","v":0},"",null,null,"Quinone","106-51-4",{"$f":"'Asphalt Plant (AP-2)'!$S$79","v":0},{"$f":"IF(J50>10,\"Thresholds exceeded, contact DNR for assistance.\",\"\")","v":""}]
[null,"Toluene","108-88-3",{"$f":"SUM('Asphalt Plant (AP-1)'!$S$81:$S$83)","v":0},"",null,null,"Toluene","108-88-3",{"$f":"SUM('Asphalt Plant (AP-2)'!$S$81:$S$83)","v":0},""]
[null,"Xylene","1330-20-7",{"$f":"'Asphalt Plant (AP-1)'!$S$85","v":0},"",null,null,"Xylene","1330-20-7",{"$f":"'Asphalt Plant (AP-2)'!$S$85","v":0},""]
[null,"2,2,4-Trimethylpentane","540-84-1",{"$f":"'Asphalt Plant (AP-1)'!$S$87","v":0},"",null,null,"2,2,4-Trimethylpentane","540-84-1",{"$f":"'Asphalt Plant (AP-2)'!$S$87","v":0},""]
[null,"Chromium Compounds",null,{"$f":"'Asphalt Plant (AP-1)'!$S$89","v":0},"",null,null,"Chromium Compounds",null,{"$f":"'Asphalt Plant (AP-2)'!$S$89","v":0},""]
[null,"Lead Compounds",null,{"$f":"'Asphalt Plant (AP-1)'!$S$91","v":0},"",null,null,"Lead Compounds",null,{"$f":"'Asphalt Plant (AP-2)'!$S$91","v":0},""]
[null,"Manganese Compounds",null,{"$f":"'Asphalt Plant (AP-1)'!$S$93","v":0},"",null,null,"Manganese Compounds",null,{"$f":"'Asphalt Plant (AP-2)'!$S$93","v":0},""]
[null,"Nickel Compounds",null,{"$f":"SUM('Asphalt Plant (AP-1)'!$S$95:$S$97)","v":0},"",null,null,"Nickel Compounds",null,{"$f":"SUM('Asphalt Plant (AP-2)'!$S$95:$S$97)","v":0},""]
[null,"Total HAP",null,{"$f":"SUM(D41:D57)","v":0},{"$f":"IF(D58>25,\"Thresholds exceeded, contact DNR for assistance.\",\"\")","v":""},null,null,"Total HAP",null,{"$f":"SUM(J41:J57)","v":0},{"$f":"IF(J58>25,\"Thresholds exceeded, contact DNR for assistance.\",\"\")","v":""}]
[]
["AP-1","ACTUAL EMISSIONS:",null,null,null,null,"AP-2","ACTUAL EMISSIONS:"]
[null,"Air Pollutant","ID or CAS Number","Tons/Yr",null,null,null,"Air Pollutant","ID or CAS Number","Tons/Yr"]
[null,"PM-2.5","PM-2.5",{"$f":"SUM('Asphalt Plant (AP-1)'!T20:T25,'Asphalt Plant (AP-1)'!T35,'Haul Roads'!AM8,'Permitted Diesel Engines'!AA54)","v":0},null,null,null,"PM-2.5","PM-2.5",{"$f":"SUM('Asphalt Plant (AP-2)'!T20:T25,'Asphalt Plant (AP-2)'!T35,,'Haul Roads'!AM9,'Permitted Diesel Engines'!AA55)","v":0}]
[null,"PM-10","PM-10",{"$f":"SUM('Asphalt Plant (AP-1)'!T27:T32,'Asphalt Plant (AP-1)'!T35,'Haul Roads'!AO8,'Permitted Diesel Engines'!AB54)","v":0},null,null,null,"PM-10","PM-10",{"$f":"SUM('Asphalt Plant (AP-2)'!T27:T32,'Asphalt Plant (AP-2)'!T35,'Haul Roads'!AO9,'Permitted Diesel Engines'!AB55)","v":0}]
[null,"SO2","7446-09-5",{"$f":"SUM('Asphalt Plant (AP-1)'!T38:T41,'Permitted Diesel Engines'!AE54)","v":0},null,null,null,"SO2","7446-09-5",{"$f":"SUM('Asphalt Plant (AP-2)'!T38:T41,'Permitted Diesel Engines'!AE55)","v":0}]
[null,"NOx","NOx",{"$f":"SUM('Asphalt Plant (AP-1)'!T42:T44,'Permitted Diesel Engines'!AF54)","v":0},null,null,null,"NOx","NOx",{"$f":"SUM('Asphalt Plant (AP-2)'!T42:T44,'Permitted Diesel Engines'!AF55)","v":0}]
[null,"VOC","VOC",{"$f":"SUM('Asphalt Plant (AP-1)'!T46:T48,'Permitted Diesel Engines'!AI54)","v":0},null,null,null,"VOC","VOC",{"$f":"SUM('Asphalt Plant (AP-2)'!T46:T48,'Permitted Diesel Engines'!AI55)","v":0}]
[null,"CO","630-08-0",{"$f":"SUM('Asphalt Plant (AP-1)'!T53:T56,'Permitted Diesel Engines'!AJ54)","v":0},null,null,null,"CO","630-08-0",{"$f":"SUM('Asphalt Plant (AP-2)'!T53:T56,'Permitted Diesel Engines'!AJ55)","v":0}]
[null,"Acetaldehyde","75-07-0",{"$f":"SUM('Asphalt Plant (AP-1)'!$T$60)","v":0},null,null,null,"Acetaldehyde","75-07-0",{"$f":"SUM('Asphalt Plant (AP-2)'!$T$60)","v":0}]
[null,"Acrolein","107-02-8",{"$f":"'Asphalt Plant (AP-1)'!$T$62","v":0},null,null,null,"Acrolein","107-02-8",{"$f":"'Asphalt Plant (AP-2)'!$T$62","v":0}]
[null,"Benzene","71-43-2",{"$f":"SUM('Asphalt Plant (AP-1)'!$T$64,'Permitted Diesel Engines'!$AN$54)","v":0},null,null,null,"Benzene","71-43-2",{"$f":"SUM('Asphalt Plant (AP-2)'!$T$64,'Permitted Diesel Engines'!$AN$55)","v":0}]
[null,"Ethylbenzene","100-41-4",{"$f":"SUM('Asphalt Plant (AP-1)'!$T$66)","v":0},null,null,null,"Ethylbenzene","100-41-4",{"$f":"SUM('Asphalt Plant (AP-2)'!$T$66)","v":0}]
[null,"Formaldehyde","50-00-0",{"$f":"SUM('Asphalt Plant (AP-1)'!$T$68:$T$69,'Permitted Diesel Engines'!$AM$54)","v":0},null,null,null,"Formaldehyde","50-00-0",{"$f":"SUM('Asphalt Plant (AP-2)'!$T$68:$T$69,'Permitted Diesel Engines'!$AM$55)","v":0}]
[null,"Hexane","110-54-3",{"$f":"('Asphalt Plant (AP-1)'!$T$71)","v":0},null,null,null,"Hexane","110-54-3",{"$f":"('Asphalt Plant (AP-2)'!$T$71)","v":0}]
[null,"Hydrochloric Acid","7647-01-0",{"$f":"'Asphalt Plant (AP-1)'!$T$73","v":0},null,null,null,"Hydrochloric Acid","7647-01-0",{"$f":"'Asphalt Plant (AP-2)'!$T$73","v":0}]
[null,"Methyl Chloroform","71-55-6",{"$f":"'Asphalt Plant (AP-1)'!$T$75","v":0},null,null,null,"Methyl Chloroform","71-55-6",{"$f":"'Asphalt Plant (AP-2)'!$T$75","v":0}]
[null,"Propionaldehyde","123-38-6",{"$f":"'Asphalt Plant (AP-1)'!$T$77","v":0},null,null,null,"Propionaldehyde","123-38-6",{"$f":"'Asphalt Plant (AP-2)'!$T$77","v":0}]
[null,"Quinone","106-51-4",{"$f":"'Asphalt Plant (AP-1)'!$T$79","v":0},null,null,null,"Quinone","106-51-4",{"$f":"'Asphalt Plant (AP-2)'!$T$79","v":0}]
[null,"Toluene","108-88-3",{"$f":"SUM('Asphalt Plant (AP-1)'!$T$81:$T$83)","v":0},null,null,null,"Toluene","108-88-3",{"$f":"SUM('Asphalt Plant (AP-2)'!$T$81:$T$83)","v":0}]
[null,"Xylene","1330-20-7",{"$f":"'Asphalt Plant (AP-1)'!$T$85","v":0},null,null,null,"Xylene","1330-20-7",{"$f":"'Asphalt Plant (AP-2)'!$T$85","v":0}]
[null,"2,2,4-Trimethylpentane","540-84-1",{"$f":"'Asphalt Plant (AP-1)'!$T$87","v":0},null,null,null,"2,2,4-Trimethylpentane","540-84-1",{"$f":"'Asphalt Plant (AP-2)'!$T$87","v":0}]
[null,"Chromium Compounds",null,{"$f":"'Asphalt Plant (AP-1)'!$T$89","v":0},null,null,null,"Chromium Compounds",null,{"$f":"'Asphalt Plant (AP-2)'!$T$89","v":0}]
[null,"Lead Compounds",null,{"$f":"'Asphalt Plant (AP-1)'!$T$91","v":0},null,null,null,"Lead Compounds",null,{"$f":"'Asphalt Plant (AP-2)'!$T$91","v":0}]
[null,"Manganese Compounds",null,{"$f":"'Asphalt Plant (AP-1)'!$T$93","v":0},null,null,null,"Manganese Compounds",null,{"$f":"'Asphalt Plant (AP-2)'!$T$93","v":0}]
[null,"Nickel Compounds",null,{"$f":"SUM('Asphalt Plant (AP-1)'!$T$95:$T$97)","v":0},null,null,null,"Nickel Compounds",null,{"$f":"SUM('Asphalt Plant (AP-2)'!$T$95:$T$97)","v":0}]
[null,"Total HAP",null,{"$f":"SUM(D68:D84)","v":0},null,null,null,"Total HAP",null,{"$f":"SUM(J68:J84)","v":0}]
[]
["AP-3","POTENTIAL EMISSIONS:",null,null,null,null,"AP-4","POTENTIAL EMISSIONS:"]
[null,"Air Pollutant","ID or CAS Number","Tons/Yr",null,null,null,"Air Pollutant","ID or CAS Number","Tons/Yr"]
[null,"PM-2.5","PM-2.5",{"$f":"SUM('Asphalt Plant (AP-3)'!S20:S25,'Asphalt Plant (AP-3)'!S35,'Haul Roads'!AL10,'Permitted Diesel Engines'!Z56)","v":0},null,null,null,"PM-2.5","PM-2.5",{"$f":"SUM('Asphalt Plant (AP-4)'!S20:S25,'Asphalt Plant (AP-4)'!S35,'Haul Roads'!AL11,'Permitted Diesel Engines'!Z57)","v":0}]
[null,"PM-10","PM-10",{"$f":"SUM('Asphalt Plant (AP-3)'!S27:S32,'Asphalt Plant (AP-3)'!S35,'Haul Roads'!AN10,'Permitted Diesel Engines'!AC56)","v":0},null,null,null,"PM-10","PM-10",{"$f":"SUM('Asphalt Plant (AP-4)'!S27:S32,'Asphalt Plant (AP-4)'!S35,'Haul Roads'!AN11,'Permitted Diesel Engines'!AC57)","v":0}]
[null,"SO2","7446-09-5",{"$f":"SUM('Asphalt Plant (AP-3)'!S38:S40,'Permitted Diesel Engines'!AD56)","v":0},{"$f":"IF(D91>100,\"Thresholds exceeded, contact DNR for assistance.\",\"\")","v":""},null,null,"SO2","7446-09-5",{"$f":"SUM('Asphalt Plant (AP-4)'!S38:S40,'Permitted Diesel Engines'!AD57)","v":0},{"$f":"IF(J91>100,\"Thresholds exceeded, contact DNR for assistance.\",\"\")","v":""}]
[null,"NOx","NOx",{"$f":"SUM('Asphalt Plant (AP-3)'!S42:S44,'Permitted Diesel Engines'!AG56)","v":0},{"$f":"IF(D92>100,\"Thresholds exceeded, contact DNR for assistance.\",\"\")","v":""},null,null,"NOx","NOx",{"$f":"SUM('Asphalt Plant (AP-4)'!S42:S44,'Permitted Diesel Engines'!AG57)","v":0},{"$f":"IF(J92>100,\"Thresholds exceeded, contact DNR for assistance.\",\"\")","v":""}]
[null,"VOC","VOC",{"$f":"SUM('Asphalt Plant (AP-3)'!S46:S48,'Permitted Diesel Engines'!AH56)","v":0},{"$f":"IF(D93>100,\"Thresholds exceeded, contact DNR for assistance.\",\"\")","v":""},null,null,"VOC","VOC",{"$f":"SUM('Asphalt Plant (AP-4)'!S46:S48,'Permitted Diesel Engines'!AH57)","v":0},{"$f":"IF(J93>100,\"Thresholds exceeded, contact DNR for assistance.\",\"\")","v":""}]
[null,"CO","630-08-0",{"$f":"SUM('Asphalt Plant (AP-3)'!S53:S56,'Permitted Diesel Engines'!AK56)","v":0},{"$f":"IF(D94>100,\"Thresholds exceeded, contact DNR for assistance.\",\"\")","v":""},null,null,"CO","630-08-0",{"$f":"SUM('Asphalt Plant (AP-4)'!S53:S56,'Permitted Diesel Engines'!AK57)","v":0},{"$f":"IF(J94>100,\"Thresholds exceeded, contact DNR for assistance.\",\"\")","v":""}]
[null,"Acetaldehyde","75-07-0",{"$f":"SUM('Asphalt Plant (AP-3)'!$S$60)","v":0},{"$f":"IF(D95>10,\"Thresholds exceeded, contact DNR for assistance.\",\"\")","v":""},null,null,"Acetaldehyde","75-07-0",{"$f":"SUM('Asphalt Plant (AP-4)'!$S$60)","v":0},{"$f":"IF(J95>10,\"Thresholds exceeded, contact DNR for assistance.\",\"\")","v":""}]
[null,"Acrolein","107-02-8",{"$f":"'Asphalt Plant (AP-3)'!$S$62","v":0},{"$f":"IF(D96>10,\"Thresholds exceeded, contact DNR for assistance.\",\"\")","v":""},null,null,"Acrolein","107-02-8",{"$f":"'Asphalt Plant (AP-4)'!$S$62","v":0},{"$f":"IF(J96>10,\"Thresholds exceeded, contact DNR for assistance.\",\"\")","v":""}]
[null,"Benzene","71-43-2",{"$f":"SUM('Asphalt Plant (AP-3)'!$S$64,'Permitted Diesel Engines'!$AO$56)","v":0},{"$f":"IF(D97>10,\"Thresholds exceeded, contact DNR for assistance.\",\"\")","v":""},null,null,"Benzene","71-43-2",{"$f":"SUM('Asphalt Plant (AP-4)'!$S$64,'Permitted Diesel Engines'!$AO$57)","v":0},""]
[null,"Ethylbenzene","100-41-4",{"$f":"SUM('Asphalt Plant (AP-3)'!$S$66)","v":0},"",null,null,"Ethylbenzene","100-41-4",{"$f":"SUM('Asphalt Plant (AP-4)'!$S$66)","v":0},""]
[null,"Formaldehyde","50-00-0",{"$f":"SUM('Asphalt Plant (AP-3)'!$S$68:$S$69,'Permitted Diesel Engines'!$AL$56)","v":0},"",null,null,"Formaldehyde","50-00-0",{"$f":"SUM('Asphalt Plant (AP-4)'!$S$68:$S$69,'Permitted Diesel Engines'!$AL$57)","v":0},""]
[null,"Hexane","110-54-3",{"$f":"('Asphalt Plant (AP-3)'!$S$71)","v":0},"",null,null,"Hexane","110-54-3",{"$f":"('Asphalt Plant (AP-4)'!$S$71)","v":0},""]
[null,"Hydrochloric Acid","7647-01-0",{"$f":"'Asphalt Plant (AP-3)'!$S$73","v":0},"",null,null,"Hydrochloric Acid","7647-01-0",{"$f":"'Asphalt Plant (AP-4)'!$S$73","v":0},""]
[null,"Methyl Chloroform","71-55-6",{"$f":"'Asphalt Plant (AP-3)'!$S$75","v":0},"",null,null,"Methyl Chloroform","71-55-6",{"$f":"'Asphalt Plant (AP-4)'!$S$75","v":0},""]
[null,"Propionaldehyde","123-38-6",{"$f":"'Asphalt Plant (AP-3)'!$S$77","v":0},"",null,null,"Propionaldehyde","123-38-6",{"$f":"'Asphalt Plant (AP-4)'!$S$77","v":0},""]
[null,"Quinone","106-51-4",{"$f":"'Asphalt Plant (AP-3)'!$S$79","v":0},"",null,null,"Quinone","106-51-4",{"$f":"'Asphalt Plant (AP-4)'!$S$79","v":0},{"$f":"IF(J104>10,\"Thresholds exceeded, contact DNR for assistance.\",\"\")","v":""}]
[null,"Toluene","108-88-3",{"$f":"SUM('Asphalt Plant (AP-3)'!$S$81:$S$83)","v":0},"",null,null,"Toluene","108-88-3",{"$f":"SUM('Asphalt Plant (AP-4)'!$S$81:$S$83)","v":0},""]
[null,"Xylene","1330-20-7",{"$f":"'Asphalt Plant (AP-3)'!$S$85","v":0},"",null,null,"Xylene","1330-20-7",{"$f":"'Asphalt Plant (AP-4)'!$S$85","v":0},""]
[null,"2,2,4-Trimethylpentane","540-84-1",{"$f":"'Asphalt Plant (AP-3)'!$S$87","v":0},"",null,null,"2,2,4-Trimethylpentane","540-84-1",{"$f":"'Asphalt Plant (AP-4)'!$S$87","v":0},""]
[null,"Chromium Compounds",null,{"$f":"'Asphalt Plant (AP-3)'!$S$89","v":0},"",null,null,"Chromium Compounds",null,{"$f":"'Asphalt Plant (AP-4)'!$S$89","v":0},""]
[null,"Lead Compounds",null,{"$f":"'Asphalt Plant (AP-3)'!$S$91","v":0},"",null,null,"Lead Compounds",null,{"$f":"'Asphalt Plant (AP-4)'!$S$91","v":0},""]
[null,"Manganese Compounds",null,{"$f":"'Asphalt Plant (AP-3)'!$S$93","v":0},"",null,null,"Manganese Compounds",null,{"$f":"'Asphalt Plant (AP-4)'!$S$93","v":0},""]
[null,"Nickel Compounds",null,{"$f":"SUM('Asphalt Plant (AP-3)'!$S$95:$S$97)","v":0},"",null,null,"Nickel Compounds",null,{"$f":"SUM('Asphalt Plant (AP-4)'!$S$95:$S$97)","v":0},""]
[null,"Total HAP",null,{"$f":"SUM(D95:D111)","v":0},{"$f":"IF(D112>25,\"Thresholds exceeded, contact DNR for assistance.\",\"\")","v":""},null,null,"Total HAP",null,{"$f":"SUM(J95:J111)","v":0},{"$f":"IF(J112>25,\"Thresholds exceeded, contact DNR for assistance.\",\"\")","v":""}]
[]
["AP-3","ACTUAL EMISSIONS:",null,null,null,null,"AP-4","ACTUAL EMISSIONS:"]
[null,"Air Pollutant","ID or CAS Number","Tons/Yr",null,null,null,"Air Pollutant","ID or CAS Number","Tons/Yr"]
[null,"PM-2.5","PM-2.5",{"$f":"SUM('Asphalt Plant (AP-3)'!T20:T25,'Asphalt Plant (AP-3)'!T35,'Haul Roads'!AM10,'Permitted Diesel Engines'!AA56)","v":0},null,null,null,"PM-2.5","PM-2.5",{"$f":"SUM('Asphalt Plant (AP-4)'!T20:T25,'Asphalt Plant (AP-4)'!T35,'Permitted Diesel Engines'!AA57)","v":0}]
[null,"PM-10","PM-10",{"$f":"SUM('Asphalt Plant (AP-3)'!T27:T32,'Asphalt Plant (AP-3)'!T35,'Haul Roads'!AO10,'Permitted Diesel Engines'!AB56)","v":0},null,null,null,"PM-10","PM-10",{"$f":"SUM('Asphalt Plant (AP-4)'!T27:T32,'Asphalt Plant (AP-4)'!T35,'Haul Roads'!AO11,'Permitted Diesel Engines'!AB57)","v":0}]
[null,"SO2","7446-09-5",{"$f":"SUM('Asphalt Plant (AP-3)'!T38:T41,'Permitted Diesel Engines'!AE56)","v":0},null,null,null,"SO2","7446-09-5",{"$f":"SUM('Asphalt Plant (AP-4)'!T38:T41,'Permitted Diesel Engines'!AE57)","v":0}]
[null,"NOx","NOx",{"$f":"SUM('Asphalt Plant (AP-3)'!T42:T44,'Permitted Diesel Engines'!AF56)","v":0},null,null,null,"NOx","NOx",{"$f":"SUM('Asphalt Plant (AP-4)'!T42:T44,'Permitted Diesel Engines'!AF57)","v":0}]
[null,"VOC","VOC",{"$f":"SUM('Asphalt Plant (AP-3)'!T46:T48,'Permitted Diesel Engines'!AI56)","v":0},null,null,null,"VOC","VOC",{"$f":"SUM('Asphalt Plant (AP-4)'!T46:T48,'Permitted Diesel Engines'!AI57)","v":0}]
[null,"CO","630-08-0",{"$f":"SUM('Asphalt Plant (AP-3)'!T53:T56,'Permitted Diesel Engines'!AJ56)","v":0},null,null,null,"CO","630-08-0",{"$f":"SUM('Asphalt Plant (AP-4)'!T53:T56,'Permitted Diesel Engines'!AJ57)","v":0}]
[null,"Acetaldehyde","75-07-0",{"$f":"SUM('Asphalt Plant (AP-3)'!$T$60)","v":0},null,null,null,"Acetaldehyde","75-07-0",{"$f":"SUM('Asphalt Plant (AP-4)'!$T$60)","v":0}]
[null,"Acrolein","107-02-8",{"$f":"'Asphalt Plant (AP-3)'!$T$62","v":0},null,null,null,"Acrolein","107-02-8",{"$f":"'Asphalt Plant (AP-4)'!$T$62","v":0}]
[null,"Benzene","71-43-2",{"$f":"SUM('Asphalt Plant (AP-3)'!$T$64,'Permitted Diesel Engines'!$AN$56)","v":0},null,null,null,"Benzene","71-43-2",{"$f":"SUM('Asphalt Plant (AP-4)'!$T$64,'Permitted Diesel Engines'!$AN$57)","v":0}]
[null,"Ethylbenzene","100-41-4",{"$f":"SUM('Asphalt Plant (AP-3)'!$T$66)","v":0},null,null,null,"Ethylbenzene","100-41-4",{"$f":"SUM('Asphalt Plant (AP-4)'!$T$66)","v":0}]
[null,"Formaldehyde","50-00-0",{"$f":"SUM('Asphalt Plant (AP-3)'!$T$68:$T$69,'Permitted Diesel Engines'!$AM$56)","v":0},null,null,null,"Formaldehyde","50-00-0",{"$f":"SUM('Asphalt Plant (AP-4)'!$T$68:$T$69,'Permitted Diesel Engines'!$AM$57)","v":0}]
[null,"Hexane","110-54-3",{"$f":"('Asphalt Plant (AP-3)'!$T$71)","v":0},null,null,null,"Hexane","110-54-3",{"$f":"('Asphalt Plant (AP-4)'!$T$71)","v":0}]
[null,"Hydrochloric Acid","7647-01-0",{"$f":"'Asphalt Plant (AP-3)'!$T$73","v":0},null,null,null,"Hydrochloric Acid","7647-01-0",{"$f":"'Asphalt Plant (AP-4)'!$T$73","v":0}]
[null,"Methyl Chloroform","71-55-6",{"$f":"'Asphalt Plant (AP-3)'!$T$75","v":0},null,null,null,"Methyl Chloroform","71-55-6",{"$f":"'Asphalt Plant (AP-4)'!$T$75","v":0}]
[null,"Propionaldehyde","123-38-6",{"$f":"'Asphalt Plant (AP-3)'!$T$77","v":0},null,null,null,"Propionaldehyde","123-38-6",{"$f":"'Asphalt Plant (AP-4)'!$T$77","v":0}]
[null,"Quinone","106-51-4",{"$f":"'Asphalt Plant (AP-3)'!$T$79","v":0},null,null,null,"Quinone","106-51-4",{"$f":"'Asphalt Plant (AP-4)'!$T$79","v":0}]
[null,"Toluene","108-88-3",{"$f":"SUM('Asphalt Plant (AP-3)'!$T$81:$T$83)","v":0},null,null,null,"Toluene","108-88-3",{"$f":"SUM('Asphalt Plant (AP-4)'!$T$81:$T$83)","v":0}]
[null,"Xylene","1330-20-7",{"$f":"'Asphalt Plant (AP-3)'!$T$85","v":0},null,null,null,"Xylene","1330-20-7",{"$f":"'Asphalt Plant (AP-4)'!$T$85","v":0}]
[null,"2,2,4-Trimethylpentane","540-84-1",{"$f":"'Asphalt Plant (AP-3)'!$T$87","v":0},null,null,null,"2,2,4-Trimethylpentane","540-84-1",{"$f":"'Asphalt Plant (AP-4)'!$T$87","v":0}]
[null,"Chromium Compounds",null,{"$f":"'Asphalt Plant (AP-3)'!$T$89","v":0},null,null,null,"Chromium Compounds",null,{"$f":"'Asphalt Plant (AP-4)'!$T$89","v":0}]
[null,"Lead Compounds",null,{"$f":"'Asphalt Plant (AP-3)'!$T$91","v":0},null,null,null,"Lead Compounds",null,{"$f":"'Asphalt Plant (AP-4)'!$T$91","v":0}]
[null,"Manganese Compounds",null,{"$f":"'Asphalt Plant (AP-3)'!$T$93","v":0},null,null,null,"Manganese Compounds",null,{"$f":"'Asphalt Plant (AP-4)'!$T$93","v":0}]
[null,"Nickel Compounds",null,{"$f":"SUM('Asphalt Plant (AP-3)'!$T$95:$T$97)","v":0},null,null,null,"Nickel Compounds",null,{"$f":"SUM('Asphalt Plant (AP-4)'!$T$95:$T$97)","v":0}]
[null,"Total HAP",null,{"$f":"SUM(D122:D138)","v":0},null,null,null,"Total HAP",null,{"$f":"SUM(J122:J138)","v":0}]
[]
["AP-5","POTENTIAL EMISSIONS:",null,null,null,null,"AP-6","POTENTIAL EMISSIONS:"]
[null,"Air Pollutant","ID or CAS Number","Tons/Yr",null,null,null,"Air Pollutant","ID or CAS Number","Tons/Yr"]
[null,"PM-2.5","PM-2.5",{"$f":"SUM('Asphalt Plant (AP-5)'!S20:S25,'Asphalt Plant (AP-5)'!S35,'Haul Roads'!AL12,'Permitted Diesel Engines'!Z58)","v":0},null,null,null,"PM-2.5","PM-2.5",{"$f":"SUM('Asphalt Plant (AP-6)'!S20:S25,'Asphalt Plant (AP-6)'!S35,'Haul Roads'!AL13,'Permitted Diesel Engines'!Z59)","v":0}]
[null,"PM-10","PM-10",{"$f":"SUM('Asphalt Plant (AP-5)'!S27:S32,'Asphalt Plant (AP-5)'!S35,'Haul Roads'!AN12,'Permitted Diesel Engines'!AC58)","v":0},null,null,null,"PM-10","PM-10",{"$f":"SUM('Asphalt Plant (AP-6)'!S27:S32,'Asphalt Plant (AP-6)'!S35,'Haul Roads'!AN13,'Permitted Diesel Engines'!AC59)","v":0}]
[null,"SO2","7446-09-5",{"$f":"SUM('Asphalt Plant (AP-5)'!S38:S40,'Permitted Diesel Engines'!AD58)","v":0},{"$f":"IF(D145>100,\"Thresholds exceeded, contact DNR for assistance.\",\"\")","v":""},null,null,"SO2","7446-09-5",{"$f":"SUM('Asphalt Plant (AP-6)'!S38:S40,'Permitted Diesel Engines'!AD59)","v":0},{"$f":"IF(J145>100,\"Thresholds exceeded, contact DNR for assistance.\",\"\")","v":""}]
[null,"NOx","NOx",{"$f":"SUM('Asphalt Plant (AP-5)'!S42:S44,'Permitted Diesel Engines'!AG58)","v":0},{"$f":"IF(D146>100,\"Thresholds exceeded, contact DNR for assistance.\",\"\")","v":""},null,null,"NOx","NOx",{"$f":"SUM('Asphalt Plant (AP-6)'!S42:S44,'Permitted Diesel Engines'!AG59)","v":0},{"$f":"IF(J146>100,\"Thresholds exceeded, contact DNR for assistance.\",\"\")","v":""}]
[null,"VOC","VOC",{"$f":"SUM('Asphalt Plant (AP-5)'!S46:S48,'Permitted Diesel Engines'!AH58)","v":0},{"$f":"IF(D147>100,\"Thresholds exceeded, contact DNR for assistance.\",\"\")","v":""},null,null,"VOC","VOC",{"$f":"SUM('Asphalt Plant (AP-6)'!S46:S48,'Permitted Diesel Engines'!AH59)","v":0},{"$f":"IF(J147>100,\"Thresholds exceeded, contact DNR for assistance.\",\"\")","v":""}]
[null,"CO","630-08-0",{"$f":"SUM('Asphalt Plant (AP-5)'!S53:S56,'Permitted Diesel Engines'!AK58)","v":0},{"$f":"IF(D148>100,\"Thresholds exceeded, contact DNR for assistance.\",\"\")","v":""},null,null,"CO","630-08-0",{"$f":"SUM('Asphalt Plant (AP-6)'!S53:S56,'Permitted Diesel Engines'!AK59)","v":0},{"$f":"IF(J148>100,\"Thresholds exceeded, contact DNR for assistance.\",\"\")","v":""}]
[null,"Acetaldehyde","75-07-0",{"$f":"SUM('Asphalt Plant (AP-5)'!$S$60)","v":0},{"$f":"IF(D149>10,\"Thresholds exceeded, contact DNR for assistance.\",\"\")","v":""},null,null,"Acetaldehyde","75-07-0",{"$f":"SUM('Asphalt Plant (AP-6)'!$S$60)","v":0},{"$f":"IF(J149>10,\"Thresholds exceeded, contact DNR for assistance.\",\"\")","v":""}]
[null,"Acrolein","107-02-8",{"$f":"'Asphalt Plant (AP-5)'!$S$62","v":0},{"$f":"IF(D150>10,\"Thresholds exceeded, contact DNR for assistance.\",\"\")","v":""},null,null,"Acrolein","107-02-8",{"$f":"'Asphalt Plant (AP-6)'!$S$62","v":0},{"$f":"IF(J150>10,\"Thresholds exceeded, contact DNR for assistance.\",\"\")","v":""}]
[null,"Benzene","71-43-2",{"$f":"SUM('Asphalt Plant (AP-5)'!$S$64,'Permitted Diesel Engines'!$AO$58)","v":0},{"$f":"IF(D151>10,\"Thresholds exceeded, contact DNR for assistance.\",\"\")","v":""},null,null,"Benzene","71-43-2",{"$f":"SUM('Asphalt Plant (AP-6)'!$S$64,'Permitted Diesel Engines'!$AO$59)","v":0},""]
[null,"Ethylbenzene","100-41-4",{"$f":"SUM('Asphalt Plant (AP-5)'!$S$66)","v":0},"",null,null,"Ethylbenzene","100-41-4",{"$f":"SUM('Asphalt Plant (AP-6)'!$S$66)","v":0},""]
[null,"Formaldehyde","50-00-0",{"$f":"SUM('Asphalt Plant (AP-5)'!$S$68:$S$69,'Permitted Diesel Engines'!$AL$58)","v":0},"",null,null,"Formaldehyde","50-00-0",{"$f":"SUM('Asphalt Plant (AP-6)'!$S$68:$S$69,'Permitted Diesel Engines'!$AL$59)","v":0},""]
[null,"Hexane","110-54-3",{"$f":"('Asphalt Plant (AP-5)'!$S$71)","v":0},"",null,null,"Hexane","110-54-3",{"$f":"('Asphalt Plant (AP-6)'!$S$71)","v":0},""]
[null,"Hydrochloric Acid","7647-01-0",{"$f":"'Asphalt Plant (AP-5)'!$S$73","v":0},"",null,null,"Hydrochloric Acid","7647-01-0",{"$f":"'Asphalt Plant (AP-6)'!$S$73","v":0},""]
[null,"Methyl Chloroform","71-55-6",{"$f":"'Asphalt Plant (AP-5)'!$S$75","v":0},"",null,null,"Methyl Chloroform","71-55-6",{"$f":"'Asphalt Plant (AP-6)'!$S$75","v":0},""]
[null,"Propionaldehyde","123-38-6",{"$f":"'Asphalt Plant (AP-5)'!$S$77","v":0},"",null,null,"Propionaldehyde","123-38-6",{"$f":"'Asphalt Plant (AP-6)'!$S$77","v":0},""]
[null,"Quinone","106-51-4",{"$f":"'Asphalt Plant (AP-5)'!$S$79","v":0},"",null,null,"Quinone","106-51-4",{"$f":"'Asphalt Plant (AP-6)'!$S$79","v":0},{"$f":"IF(J158>10,\"Thresholds exceeded, contact DNR for assistance.\",\"\")","v":""}]
[null,"Toluene","108-88-3",{"$f":"SUM('Asphalt Plant (AP-5)'!$S$81:$S$83)","v":0},"",null,null,"Toluene","108-88-3",{"$f":"SUM('Asphalt Plant (AP-6)'!$S$81:$S$83)","v":0},""]
[null,"Xylene","1330-20-7",{"$f":"'Asphalt Plant (AP-5)'!$S$85","v":0},"",null,null,"Xylene","1330-20-7",{"$f":"'Asphalt Plant (AP-6)'!$S$85","v":0},""]
[null,"2,2,4-Trimethylpentane","540-84-1",{"$f":"'Asphalt Plant (AP-5)'!$S$87","v":0},"",null,null,"2,2,4-Trimethylpentane","540-84-1",{"$f":"'Asphalt Plant (AP-6)'!$S$87","v":0},""]
[null,"Chromium Compounds",null,{"$f":"'Asphalt Plant (AP-5)'!$S$89","v":0},"",null,null,"Chromium Compounds",null,{"$f":"'Asphalt Plant (AP-6)'!$S$89","v":0},""]
[null,"Lead Compounds",null,{"$f":"'Asphalt Plant (AP-5)'!$S$91","v":0},"",null,null,"Lead Compounds",null,{"$f":"'Asphalt Plant (AP-6)'!$S$91","v":0},""]
[null,"Manganese Compounds",null,{"$f":"'Asphalt Plant (AP-5)'!$S$93","v":0},"",null,null,"Manganese Compounds",null,{"$f":"'Asphalt Plant (AP-6)'!$S$93","v":0},""]
[null,"Nickel Compounds",null,{"$f":"SUM('Asphalt Plant (AP-5)'!$S$95:$S$97)","v":0},"",null,null,"Nickel Compounds",null,{"$f":"SUM('Asphalt Plant (AP-6)'!$S$95:$S$97)","v":0},""]
[null,"Total HAP",null,{"$f":"SUM(D149:D165)","v":0},{"$f":"IF(D166>25,\"Thresholds exceeded, contact DNR for assistance.\",\"\")","v":""},null,null,"Total HAP",null,{"$f":"SUM(J149:J165)","v":0},{"$f":"IF(J166>25,\"Thresholds exceeded, contact DNR for assistance.\",\"\")","v":""}]
[]
["AP-5","ACTUAL EMISSIONS:",null,null,null,null,"AP-6","ACTUAL EMISSIONS:"]
[null,"Air Pollutant","ID or CAS Number","Tons/Yr",null,null,null,"Air Pollutant","ID or CAS Number","Tons/Yr"]
[null,"PM-2.5","PM-2.5",{"$f":"SUM('Asphalt Plant (AP-5)'!T20:T25,'Asphalt Plant (AP-5)'!T35,'Haul Roads'!AM12,'Permitted Diesel Engines'!AA58)","v":0},null,null,null,"PM-2.5","PM-2.5",{"$f":"SUM('Asphalt Plant (AP-6)'!T20:T25,'Asphalt Plant (AP-6)'!T35,'Haul Roads'!AM13,'Permitted Diesel Engines'!AA59)","v":0}]
[null,"PM-10","PM-10",{"$f":"SUM('Asphalt Plant (AP-5)'!T27:T32,'Asphalt Plant (AP-5)'!T35,'Haul Roads'!AO12,'Permitted Diesel Engines'!AB58)","v":0},null,null,null,"PM-10","PM-10",{"$f":"SUM('Asphalt Plant (AP-6)'!T27:T32,'Asphalt Plant (AP-6)'!T35,'Haul Roads'!AO13,'Permitted Diesel Engines'!AB59)","v":0}]
[null,"SO2","7446-09-5",{"$f":"SUM('Asphalt Plant (AP-5)'!T38:T41,'Permitted Diesel Engines'!AE58)","v":0},null,null,null,"SO2","7446-09-5",{"$f":"SUM('Asphalt Plant (AP-6)'!T38:T41,'Permitted Diesel Engines'!AE59)","v":0}]
[null,"NOx","NOx",{"$f":"SUM('Asphalt Plant (AP-5)'!T42:T44,'Permitted Diesel Engines'!AF58)","v":0},null,null,null,"NOx","NOx",{"$f":"SUM('Asphalt Plant (AP-6)'!T42:T44,'Permitted Diesel Engines'!AF59)","v":0}]
[null,"VOC","VOC",{"$f":"SUM('Asphalt Plant (AP-5)'!T46:T48,'Permitted Diesel Engines'!AI58)","v":0},null,null,null,"VOC","VOC",{"$f":"SUM('Asphalt Plant (AP-6)'!T46:T48,'Permitted Diesel Engines'!AI59)","v":0}]
[null,"CO","630-08-0",{"$f":"SUM('Asphalt Plant (AP-5)'!T53:T56,'Permitted Diesel Engines'!AJ58)","v":0},null,null,null,"CO","630-08-0",{"$f":"SUM('Asphalt Plant (AP-6)'!T53:T56,'Permitted Diesel Engines'!AJ59)","v":0}]
[null,"Acetaldehyde","75-07-0",{"$f":"SUM('Asphalt Plant (AP-5)'!$T$60)","v":0},null,null,null,"Acetaldehyde","75-07-0",{"$f":"SUM('Asphalt Plant (AP-6)'!$T$60)","v":0}]
[null,"Acrolein","107-02-8",{"$f":"'Asphalt Plant (AP-5)'!$T$62","v":0},null,null,null,"Acrolein","107-02-8",{"$f":"'Asphalt Plant (AP-6)'!$T$62","v":0}]
[null,"Benzene","71-43-2",{"$f":"SUM('Asphalt Plant (AP-5)'!$T$64,'Permitted Diesel Engines'!$AN$58)","v":0},null,null,null,"Benzene","71-43-2",{"$f":"SUM('Asphalt Plant (AP-6)'!$T$64,'Permitted Diesel Engines'!$AN$59)","v":0}]
[null,"Ethylbenzene","100-41-4",{"$f":"SUM('Asphalt Plant (AP-5)'!$T$66)","v":0},null,null,null,"Ethylbenzene","100-41-4",{"$f":"SUM('Asphalt Plant (AP-6)'!$T$66)","v":0}]
[null,"Formaldehyde","50-00-0",{"$f":"SUM('Asphalt Plant (AP-5)'!$T$68:$T$69,'Permitted Diesel Engines'!$AM$58)","v":0},null,null,null,"Formaldehyde","50-00-0",{"$f":"SUM('Asphalt Plant (AP-6)'!$T$68:$T$69,'Permitted Diesel Engines'!$AM$59)","v":0}]
[null,"Hexane","110-54-3",{"$f":"('Asphalt Plant (AP-5)'!$T$71)","v":0},null,null,null,"Hexane","110-54-3",{"$f":"('Asphalt Plant (AP-6)'!$T$71)","v":0}]
[null,"Hydrochloric Acid","7647-01-0",{"$f":"'Asphalt Plant (AP-5)'!$T$73","v":0},null,null,null,"Hydrochloric Acid","7647-01-0",{"$f":"'Asphalt Plant (AP-6)'!$T$73","v":0}]
[null,"Methyl Chloroform","71-55-6",{"$f":"'Asphalt Plant (AP-5)'!$T$75","v":0},null,null,null,"Methyl Chloroform","71-55-6",{"$f":"'Asphalt Plant (AP-6)'!$T$75","v":0}]
[null,"Propionaldehyde","123-38-6",{"$f":"'Asphalt Plant (AP-5)'!$T$77","v":0},null,null,null,"Propionaldehyde","123-38-6",{"$f":"'Asphalt Plant (AP-6)'!$T$77","v":0}]
[null,"Quinone","106-51-4",{"$f":"'Asphalt Plant (AP-5)'!$T$79","v":0},null,null,null,"Quinone","106-51-4",{"$f":"'Asphalt Plant (AP-6)'!$T$79","v":0}]
[null,"Toluene","108-88-3",{"$f":"SUM('Asphalt Plant (AP-5)'!$T$81:$T$83)","v":0},null,null,null,"Toluene","108-88-3",{"$f":"SUM('Asphalt Plant (AP-6)'!$T$81:$T$83)","v":0}]
[null,"Xylene","1330-20-7",{"$f":"'Asphalt Plant (AP-5)'!$T$85","v":0},null,null,null,"Xylene","1330-20-7",{"$f":"'Asphalt Plant (AP-6)'!$T$85","v":0}]
[null,"2,2,4-Trimethylpentane","540-84-1",{"$f":"'Asphalt Plant (AP-5)'!$T$87","v":0},null,null,null,"2,2,4-Trimethylpentane","540-84-1",{"$f":"'Asphalt Plant (AP-6)'!$T$87","v":0}]
[null,"Chromium Compounds",null,{"$f":"'Asphalt Plant (AP-5)'!$T$89","v":0},null,null,null,"Chromium Compounds",null,{"$f":"'Asphalt Plant (AP-6)'!$T$89","v":0}]
[null,"Lead Compounds",null,{"$f":"'Asphalt Plant (AP-5)'!$T$91","v":0},null,null,null,"Lead Compounds",null,{"$f":"'Asphalt Plant (AP-6)'!$T$91","v":0}]
[null,"Manganese Compounds",null,{"$f":"'Asphalt Plant (AP-5)'!$T$93","v":0},null,null,null,"Manganese Compounds",null,{"$f":"'Asphalt Plant (AP-6)'!$T$93","v":0}]
[null,"Nickel Compounds",null,{"$f":"SUM('Asphalt Plant (AP-5)'!$T$95:$T$97)","v":0},null,null,null,"Nickel Compounds",null,{"$f":"SUM('Asphalt Plant (AP-6)'!$T$95:$T$97)","v":0}]
[null,"Total HAP",null,{"$f":"SUM(D176:D192)","v":0},null,null,null,"Total HAP",null,{"$f":"SUM(J176:J192)","v":0}]
[]
["AP-7","POTENTIAL EMISSIONS:",null,null,null,null,"AP-8","POTENTIAL EMISSIONS:"]
[null,"Air Pollutant","ID or CAS Number","Tons/Yr",null,null,null,"Air Pollutant","ID or CAS Number","Tons/Yr"]
[null,"PM-2.5","PM-2.5",{"$f":"SUM('Asphalt Plant (AP-7)'!S20:S25,'Asphalt Plant (AP-7)'!S35,'Haul Roads'!AL14,'Permitted Diesel Engines'!Z60)","v":0},null,null,null,"PM-2.5","PM-2.5",{"$f":"SUM('Asphalt Plant (AP-8)'!S20:S25,'Asphalt Plant (AP-8)'!S35,'Haul Roads'!AL15,'Permitted Diesel Engines'!Z61)","v":0}]
[null,"PM-10","PM-10",{"$f":"SUM('Asphalt Plant (AP-7)'!S27:S32,'Asphalt Plant (AP-7)'!S35,'Haul Roads'!AN14,'Permitted Diesel Engines'!AC60)","v":0},null,null,null,"PM-10","PM-10",{"$f":"SUM('Asphalt Plant (AP-8)'!S27:S32,'Asphalt Plant (AP-8)'!S35,'Haul Roads'!AN15,'Permitted Diesel Engines'!AC61)","v":0}]
[null,"SO2","7446-09-5",{"$f":"SUM('Asphalt Plant (AP-7)'!S38:S40,'Permitted Diesel Engines'!AD60)","v":0},{"$f":"IF(D199>100,\"Thresholds exceeded, contact DNR for assistance.\",\"\")","v":""},null,null,"SO2","7446-09-5",{"$f":"SUM('Asphalt Plant (AP-8)'!S38:S40,'Permitted Diesel Engines'!AD61)","v":0},{"$f":"IF(J199>100,\"Thresholds exceeded, contact DNR for assistance.\",\"\")","v":""}]
[null,"NOx","NOx",{"$f":"SUM('Asphalt Plant (AP-7)'!S42:S44,'Permitted Diesel Engines'!AG60)","v":0},{"$f":"IF(D200>100,\"Thresholds exceeded, contact DNR for assistance.\",\"\")","v":""},null,null,"NOx","NOx",{"$f":"SUM('Asphalt Plant (AP-8)'!S42:S44,'Permitted Diesel Engines'!AG61)","v":0},{"$f":"IF(J200>100,\"Thresholds exceeded, contact DNR for assistance.\",\"\")","v":""}]
[null,"VOC","VOC",{"$f":"SUM('Asphalt Plant (AP-7)'!S46:S48,'Permitted Diesel Engines'!AH60)","v":0},{"$f":"IF(D201>100,\"Thresholds exceeded, contact DNR for assistance.\",\"\")","v":""},null,null,"VOC","VOC",{"$f":"SUM('Asphalt Plant (AP-8)'!S46:S48,'Permitted Diesel Engines'!AH61)","v":0},{"$f":"IF(J201>100,\"Thresholds exceeded, contact DNR for assistance.\",\"\")","v":""}]
[null,"CO","630-08-0",{"$f":"SUM('Asphalt Plant (AP-7)'!S53:S56,'Permitted Diesel Engines'!AK60)","v":0},{"$f":"IF(D202>100,\"Thresholds exceeded, contact DNR for assistance.\",\"\")","v":""},null,null,"CO","630-08-0",{"$f":"SUM('Asphalt Plant (AP-8)'!S53:S56,'Permitted Diesel Engines'!AK61)","v":0},{"$f":"IF(J202>100,\"Thresholds exceeded, contact DNR for assistance.\",\"\")","v":""}]
[null,"Acetaldehyde","75-07-0",{"$f":"SUM('Asphalt Plant (AP-7)'!$S$60)","v":0},{"$f":"IF(D203>10,\"Thresholds exceeded, contact DNR for assistance.\",\"\")","v":""},null,null,"Acetaldehyde","75-07-0",{"$f":"SUM('Asphalt Plant (AP-8)'!$S$60)","v":0},{"$f":"IF(J203>10,\"Thresholds exceeded, contact DNR for assistance.\",\"\")","v":""}]
[null,"Acrolein","107-02-8",{"$f":"'Asphalt Plant (AP-7)'!$S$62","v":0},{"$f":"IF(D204>10,\"Thresholds exceeded, contact DNR for assistance.\",\"\")","v":""},null,null,"Acrolein","107-02-8",{"$f":"'Asphalt Plant (AP-8)'!$S$62","v":0},{"$f":"IF(J204>10,\"Thresholds exceeded, contact DNR for assistance.\",\"\")","v":""}]
[null,"Benzene","71-43-2",{"$f":"SUM('Asphalt Plant (AP-7)'!$S$64,'Permitted Diesel Engines'!$AO$60)","v":0},{"$f":"IF(D205>10,\"Thresholds exceeded, contact DNR for assistance.\",\"\")","v":""},null,null,"Benzene","71-43-2",{"$f":"SUM('Asphalt Plant (AP-8)'!$S$64,'Permitted Diesel Engines'!$AO$61)","v":0},""]
[null,"Ethylbenzene","100-41-4",{"$f":"SUM('Asphalt Plant (AP-7)'!$S$66)","v":0},"",null,null,"Ethylbenzene","100-41-4",{"$f":"SUM('Asphalt Plant (AP-8)'!$S$66)","v":0},""]
[null,"Formaldehyde","50-00-0",{"$f":"SUM('Asphalt Plant (AP-7)'!$S$68:$S$69,'Permitted Diesel Engines'!$AL$60)","v":0},"",null,null,"Formaldehyde","50-00-0",{"$f":"SUM('Asphalt Plant (AP-8)'!$S$68:$S$69,'Permitted Diesel Engines'!$AL$61)","v":0},""]
[null,"Hexane","110-54-3",{"$f":"('Asphalt Plant (AP-7)'!$S$71)","v":0},"",null,null,"Hexane","110-54-3",{"$f":"('Asphalt Plant (AP-8)'!$S$71)","v":0},""]
[null,"Hydrochloric Acid","7647-01-0",{"$f":"'Asphalt Plant (AP-7)'!$S$73","v":0},"",null,null,"Hydrochloric Acid","7647-01-0",{"$f":"'Asphalt Plant (AP-8)'!$S$73","v":0},""]
[null,"Methyl Chloroform","71-55-6",{"$f":"'Asphalt Plant (AP-7)'!$S$75","v":0},"",null,null,"Methyl Chloroform","71-55-6",{"$f":"'Asphalt Plant (AP-8)'!$S$75","v":0},""]
[null,"Propionaldehyde","123-38-6",{"$f":"'Asphalt Plant (AP-7)'!$S$77","v":0},"",null,null,"Propionaldehyde","123-38-6",{"$f":"'Asphalt Plant (AP-8)'!$S$77","v":0},""]
[null,"Quinone","106-51-4",{"$f":"'Asphalt Plant (AP-7)'!$S$79","v":0},"",null,null,"Quinone","106-51-4",{"$f":"'Asphalt Plant (AP-8)'!$S$79","v":0},{"$f":"IF(J212>10,\"Thresholds exceeded, contact DNR for assistance.\",\"\")","v":""}]
[null,"Toluene","108-88-3",{"$f":"SUM('Asphalt Plant (AP-7)'!$S$81:$S$83)","v":0},"",null,null,"Toluene","108-88-3",{"$f":"SUM('Asphalt Plant (AP-8)'!$S$81:$S$83)","v":0},""]
[null,"Xylene","1330-20-7",{"$f":"'Asphalt Plant (AP-7)'!$S$85","v":0},"",null,null,"Xylene","1330-20-7",{"$f":"'Asphalt Plant (AP-8)'!$S$85","v":0},""]
[null,"2,2,4-Trimethylpentane","540-84-1",{"$f":"'Asphalt Plant (AP-7)'!$S$87","v":0},"",null,null,"2,2,4-Trimethylpentane","540-84-1",{"$f":"'Asphalt Plant (AP-8)'!$S$87","v":0},""]
[null,"Chromium Compounds",null,{"$f":"'Asphalt Plant (AP-7)'!$S$89","v":0},"",null,null,"Chromium Compounds",null,{"$f":"'Asphalt Plant (AP-8)'!$S$89","v":0},""]
[null,"Lead Compounds",null,{"$f":"'Asphalt Plant (AP-7)'!$S$91","v":0},"",null,null,"Lead Compounds",null,{"$f":"'Asphalt Plant (AP-8)'!$S$91","v":0},""]
[null,"Manganese Compounds",null,{"$f":"'Asphalt Plant (AP-7)'!$S$93","v":0},"",null,null,"Manganese Compounds",null,{"$f":"'Asphalt Plant (AP-8)'!$S$93","v":0},""]
[null,"Nickel Compounds",null,{"$f":"SUM('Asphalt Plant (AP-7)'!$S$95:$S$97)","v":0},"",null,null,"Nickel Compounds",null,{"$f":"SUM('Asphalt Plant (AP-8)'!$S$95:$S$97)","v":0},""]
[null,"Total HAP",null,{"$f":"SUM(D203:D219)","v":0},{"$f":"IF(D220>25,\"Thresholds exceeded, contact DNR for assistance.\",\"\")","v":""},null,null,"Total HAP",null,{"$f":"SUM(J203:J219)","v":0},{"$f":"IF(J220>25,\"Thresholds exceeded, contact DNR for assistance.\",\"\")","v":""}]
[]
["AP-7","ACTUAL EMISSIONS:",null,null,null,null,"AP-8","ACTUAL EMISSIONS:"]
[null,"Air Pollutant","ID or CAS Number","Tons/Yr",null,null,null,"Air Pollutant","ID or CAS Number","Tons/Yr"]
[null,"PM-2.5","PM-2.5",{"$f":"SUM('Asphalt Plant (AP-7)'!T20:T25,'Asphalt Plant (AP-7)'!T35,'Haul Roads'!AM14,'Permitted Diesel Engines'!AA60)","v":0},null,null,null,"PM-2.5","PM-2.5",{"$f":"SUM('Asphalt Plant (AP-8)'!T20:T25,'Asphalt Plant (AP-8)'!T35,'Haul Roads'!AM15,'Permitted Diesel Engines'!AA61)","v":0}]
[null,"PM-10","PM-10",{"$f":"SUM('Asphalt Plant (AP-7)'!T27:T32,'Asphalt Plant (AP-7)'!T35,'Haul Roads'!AO14,'Permitted Diesel Engines'!AB60)","v":0},null,null,null,"PM-10","PM-10",{"$f":"SUM('Asphalt Plant (AP-8)'!T27:T32,'Asphalt Plant (AP-8)'!T35,'Haul Roads'!AO15,'Permitted Diesel Engines'!AB61)","v":0}]
[null,"SO2","7446-09-5",{"$f":"SUM('Asphalt Plant (AP-7)'!T38:T41,'Permitted Diesel Engines'!AE60)","v":0},null,null,null,"SO2","7446-09-5",{"$f":"SUM('Asphalt Plant (AP-8)'!T38:T41,'Permitted Diesel Engines'!AE61)","v":0}]
[null,"NOx","NOx",{"$f":"SUM('Asphalt Plant (AP-7)'!T42:T44,'Permitted Diesel Engines'!AF60)","v":0},null,null,null,"NOx","NOx",{"$f":"SUM('Asphalt Plant (AP-8)'!T42:T44,'Permitted Diesel Engines'!AF61)","v":0}]
[null,"VOC","VOC",{"$f":"SUM('Asphalt Plant (AP-7)'!T46:T48,'Permitted Diesel Engines'!AI60)","v":0},null,null,null,"VOC","VOC",{"$f":"SUM('Asphalt Plant (AP-8)'!T46:T48,'Permitted Diesel Engines'!AI61)","v":0}]
[null,"CO","630-08-0",{"$f":"SUM('Asphalt Plant (AP-7)'!T53:T56,'Permitted Diesel Engines'!AJ60)","v":0},null,null,null,"CO","630-08-0",{"$f":"SUM('Asphalt Plant (AP-8)'!T53:T56,'Permitted Diesel Engines'!AJ61)","v":0}]
[null,"Acetaldehyde","75-07-0",{"$f":"SUM('Asphalt Plant (AP-7)'!$T$60)","v":0},null,null,null,"Acetaldehyde","75-07-0",{"$f":"SUM('Asphalt Plant (AP-8)'!$T$60)","v":0}]
[null,"Acrolein","107-02-8",{"$f":"'Asphalt Plant (AP-7)'!$T$62","v":0},null,null,null,"Acrolein","107-02-8",{"$f":"'Asphalt Plant (AP-8)'!$T$62","v":0}]
[null,"Benzene","71-43-2",{"$f":"SUM('Asphalt Plant (AP-7)'!$T$64,'Permitted Diesel Engines'!$AN$60)","v":0},null,null,null,"Benzene","71-43-2",{"$f":"SUM('Asphalt Plant (AP-8)'!$T$64,'Permitted Diesel Engines'!$AN$61)","v":0}]
[null,"Ethylbenzene","100-41-4",{"$f":"SUM('Asphalt Plant (AP-7)'!$T$66)","v":0},null,null,null,"Ethylbenzene","100-41-4",{"$f":"SUM('Asphalt Plant (AP-8)'!$T$66)","v":0}]
[null,"Formaldehyde","50-00-0",{"$f":"SUM('Asphalt Plant (AP-7)'!$T$68:$T$69,'Permitted Diesel Engines'!$AM$60)","v":0},null,null,null,"Formaldehyde","50-00-0",{"$f":"SUM('Asphalt Plant (AP-8)'!$T$68:$T$69,'Permitted Diesel Engines'!$AM$61)","v":0}]
[null,"Hexane","110-54-3",{"$f":"('Asphalt Plant (AP-7)'!$T$71)","v":0},null,null,null,"Hexane","110-54-3",{"$f":"('Asphalt Plant (AP-8)'!$T$71)","v":0}]
[null,"Hydrochloric Acid","7647-01-0",{"$f":"'Asphalt Plant (AP-7)'!$T$73","v":0},null,null,null,"Hydrochloric Acid","7647-01-0",{"$f":"'Asphalt Plant (AP-8)'!$T$73","v":0}]
[null,"Methyl Chloroform","71-55-6",{"$f":"'Asphalt Plant (AP-7)'!$T$75","v":0},null,null,null,"Methyl Chloroform","71-55-6",{"$f":"'Asphalt Plant (AP-8)'!$T$75","v":0}]
[null,"Propionaldehyde","123-38-6",{"$f":"'Asphalt Plant (AP-7)'!$T$77","v":0},null,null,null,"Propionaldehyde","123-38-6",{"$f":"'Asphalt Plant (AP-8)'!$T$77","v":0}]
[null,"Quinone","106-51-4",{"$f":"'Asphalt Plant (AP-7)'!$T$79","v":0},null,null,null,"Quinone","106-51-4",{"$f":"'Asphalt Plant (AP-8)'!$T$79","v":0}]
[null,"Toluene","108-88-3",{"$f":"SUM('Asphalt Plant (AP-7)'!$T$81:$T$83)","v":0},null,null,null,"Toluene","108-88-3",{"$f":"SUM('Asphalt Plant (AP-8)'!$T$81:$T$83)","v":0}]
[null,"Xylene","1330-20-7",{"$f":"'Asphalt Plant (AP-7)'!$T$85","v":0},null,null,null,"Xylene","1330-20-7",{"$f":"'Asphalt Plant (AP-8)'!$T$85","v":0}]
[null,"2,2,4-Trimethylpentane","540-84-1",{"$f":"'Asphalt Plant (AP-7)'!$T$87","v":0},null,null,null,"2,2,4-Trimethylpentane","540-84-1",{"$f":"'Asphalt Plant (AP-8)'!$T$87","v":0}]
[null,"Chromium Compounds",null,{"$f":"'Asphalt Plant (AP-7)'!$T$89","v":0},null,null,null,"Chromium Compounds",null,{"$f":"'Asphalt Plant (AP-8)'!$T$89","v":0}]
[null,"Lead Compounds",null,{"$f":"'Asphalt Plant (AP-7)'!$T$91","v":0},null,null,null,"Lead Compounds",null,{"$f":"'Asphalt Plant (AP-8)'!$T$91","v":0}]
[null,"Manganese Compounds",null,{"$f":"'Asphalt Plant (AP-7)'!$T$93","v":0},null,null,null,"Manganese Compounds",null,{"$f":"'Asphalt Plant (AP-8)'!$T$93","v":0}]
[null,"Nickel Compounds",null,{"$f":"SUM('Asphalt Plant (AP-7)'!$T$95:$T$97)","v":0},null,null,null,"Nickel Compounds",null,{"$f":"SUM('Asphalt Plant (AP-8)'!$T$95:$T$97)","v":0}]
[null,"Total HAP",null,{"$f":"SUM(D230:D246)","v":0},null,null,null,"Total HAP",null,{"$f":"SUM(J230:J246)","v":0}]
[]
["AP-9","POTENTIAL EMISSIONS:",null,null,null,null,"AP-10","POTENTIAL EMISSIONS:"]
[null,"Air Pollutant","ID or CAS Number","Tons/Yr",null,null,null,"Air Pollutant","ID or CAS Number","Tons/Yr"]
[null,"PM-2.5","PM-2.5",{"$f":"SUM('Asphalt Plant (AP-9)'!S20:S25,'Asphalt Plant (AP-9)'!S35,'Haul Roads'!AL16,'Permitted Diesel Engines'!Z62)","v":0},null,null,null,"PM-2.5","PM-2.5",{"$f":"SUM('Asphalt Plant (AP-10)'!S20:S25,'Asphalt Plant (AP-10)'!S35,'Haul Roads'!AL17,'Permitted Diesel Engines'!Z63)","v":0}]
[null,"PM-10","PM-10",{"$f":"SUM('Asphalt Plant (AP-9)'!S27:S32,'Asphalt Plant (AP-9)'!S35,'Haul Roads'!AN16,'Permitted Diesel Engines'!AC62)","v":0},null,null,null,"PM-10","PM-10",{"$f":"SUM('Asphalt Plant (AP-10)'!S27:S32,'Asphalt Plant (AP-10)'!S35,'Haul Roads'!AN17,'Permitted Diesel Engines'!AC63)","v":0}]
[null,"SO2","7446-09-5",{"$f":"SUM('Asphalt Plant (AP-9)'!S38:S40,'Permitted Diesel Engines'!AD62)","v":0},{"$f":"IF(D253>100,\"Thresholds exceeded, contact DNR for assistance.\",\"\")","v":""},null,null,"SO2","7446-09-5",{"$f":"SUM('Asphalt Plant (AP-10)'!S38:S40,,'Permitted Diesel Engines'!AD63)","v":0},{"$f":"IF(J253>100,\"Thresholds exceeded, contact DNR for assistance.\",\"\")","v":""}]
[null,"NOx","NOx",{"$f":"SUM('Asphalt Plant (AP-9)'!S42:S44,'Permitted Diesel Engines'!AG62)","v":0},{"$f":"IF(D254>100,\"Thresholds exceeded, contact DNR for assistance.\",\"\")","v":""},null,null,"NOx","NOx",{"$f":"SUM('Asphalt Plant (AP-10)'!S42:S44,'Permitted Diesel Engines'!AG63)","v":0},{"$f":"IF(J254>100,\"Thresholds exceeded, contact DNR for assistance.\",\"\")","v":""}]
[null,"VOC","VOC",{"$f":"SUM('Asphalt Plant (AP-9)'!S46:S48,'Permitted Diesel Engines'!AH62)","v":0},{"$f":"IF(D255>100,\"Thresholds exceeded, contact DNR for assistance.\",\"\")","v":""},null,null,"VOC","VOC",{"$f":"SUM('Asphalt Plant (AP-10)'!S46:S48,'Permitted Diesel Engines'!AH63)","v":0},{"$f":"IF(J255>100,\"Thresholds exceeded, contact DNR for assistance.\",\"\")","v":""}]
[null,"CO","630-08-0",{"$f":"SUM('Asphalt Plant (AP-9)'!S53:S56,'Permitted Diesel Engines'!AK62)","v":0},{"$f":"IF(D256>100,\"Thresholds exceeded, contact DNR for assistance.\",\"\")","v":""},null,null,"CO","630-08-0",{"$f":"SUM('Asphalt Plant (AP-10)'!S53:S56,'Permitted Diesel Engines'!AK63)","v":0},{"$f":"IF(J256>100,\"Thresholds exceeded, contact DNR for assistance.\",\"\")","v":""}]
[null,"Acetaldehyde","75-07-0",{"$f":"SUM('Asphalt Plant (AP-9)'!$S$60)","v":0},{"$f":"IF(D257>10,\"Thresholds exceeded, contact DNR for assistance.\",\"\")","v":""},null,null,"Acetaldehyde","75-07-0",{"$f":"SUM('Asphalt Plant (AP-10)'!$S$60)","v":0},{"$f":"IF(J257>10,\"Thresholds exceeded, contact DNR for assistance.\",\"\")","v":""}]
[null,"Acrolein","107-02-8",{"$f":"'Asphalt Plant (AP-9)'!$S$62","v":0},{"$f":"IF(D258>10,\"Thresholds exceeded, contact DNR for assistance.\",\"\")","v":""},null,null,"Acrolein","107-02-8",{"$f":"'Asphalt Plant (AP-10)'!$S$62","v":0},{"$f":"IF(J258>10,\"Thresholds exceeded, contact DNR for assistance.\",\"\")","v":""}]
[null,"Benzene","71-43-2",{"$f":"SUM('Asphalt Plant (AP-9)'!$S$64,'Permitted Diesel Engines'!$AO$62)","v":0},{"$f":"IF(D259>10,\"Thresholds exceeded, contact DNR for assistance.\",\"\")","v":""},null,null,"Benzene","71-43-2",{"$f":"SUM('Asphalt Plant (AP-10)'!$S$64,'Permitted Diesel Engines'!$AO$61)","v":0},{"$f":"IF(J259>10,\"Thresholds exceeded, contact DNR for assistance.\",\"\")","v":""}]
[null,"Ethylbenzene","100-41-4",{"$f":"SUM('Asphalt Plant (AP-9)'!$S$66)","v":0},"",null,null,"Ethylbenzene","100-41-4",{"$f":"SUM('Asphalt Plant (AP-10)'!$S$66)","v":0},""]
[null,"Formaldehyde","50-00-0",{"$f":"SUM('Asphalt Plant (AP-9)'!$S$68:$S$69,'Permitted Diesel Engines'!$AL$62)","v":0},"",null,null,"Formaldehyde","50-00-0",{"$f":"SUM('Asphalt Plant (AP-10)'!$S$68:$S$69,'Permitted Diesel Engines'!$AL$61)","v":0},""]
[null,"Hexane","110-54-3",{"$f":"('Asphalt Plant (AP-9)'!$S$71)","v":0},"",null,null,"Hexane","110-54-3",{"$f":"('Asphalt Plant (AP-10)'!$S$71)","v":0},""]
[null,"Hydrochloric Acid","7647-01-0",{"$f":"'Asphalt Plant (AP-9)'!$S$73","v":0},"",null,null,"Hydrochloric Acid","7647-01-0",{"$f":"'Asphalt Plant (AP-10)'!$S$73","v":0},""]
[null,"Methyl Chloroform","71-55-6",{"$f":"'Asphalt Plant (AP-9)'!$S$75","v":0},"",null,null,"Methyl Chloroform","71-55-6",{"$f":"'Asphalt Plant (AP-10)'!$S$75","v":0},""]
[null,"Propionaldehyde","123-38-6",{"$f":"'Asphalt Plant (AP-9)'!$S$77","v":0},"",null,null,"Propionaldehyde","123-38-6",{"$f":"'Asphalt Plant (AP-10)'!$S$77","v":0},""]
[null,"Quinone","106-51-4",{"$f":"'Asphalt Plant (AP-9)'!$S$79","v":0},"",null,null,"Quinone","106-51-4",{"$f":"'Asphalt Plant (AP-10)'!$S$79","v":0},""]
[null,"Toluene","108-88-3",{"$f":"SUM('Asphalt Plant (AP-9)'!$S$81:$S$83)","v":0},"",null,null,"Toluene","108-88-3",{"$f":"SUM('Asphalt Plant (AP-10)'!$S$81:$S$83)","v":0},""]
[null,"Xylene","1330-20-7",{"$f":"'Asphalt Plant (AP-9)'!$S$85","v":0},"",null,null,"Xylene","1330-20-7",{"$f":"'Asphalt Plant (AP-10)'!$S$85","v":0},""]
[null,"2,2,4-Trimethylpentane","540-84-1",{"$f":"'Asphalt Plant (AP-9)'!$S$87","v":0},"",null,null,"2,2,4-Trimethylpentane","540-84-1",{"$f":"'Asphalt Plant (AP-10)'!$S$87","v":0},""]
[null,"Chromium Compounds",null,{"$f":"'Asphalt Plant (AP-9)'!$S$89","v":0},"",null,null,"Chromium Compounds",null,{"$f":"'Asphalt Plant (AP-10)'!$S$89","v":0},""]
[null,"Lead Compounds",null,{"$f":"'Asphalt Plant (AP-9)'!$S$91","v":0},"",null,null,"Lead Compounds",null,{"$f":"'Asphalt Plant (AP-10)'!$S$91","v":0},""]
[null,"Manganese Compounds",null,{"$f":"'Asphalt Plant (AP-9)'!$S$93","v":0},"",null,null,"Manganese Compounds",null,{"$f":"'Asphalt Plant (AP-10)'!$S$93","v":0},""]
[null,"Nickel Compounds",null,{"$f":"SUM('Asphalt Plant (AP-9)'!$S$95:$S$97)","v":0},"",null,null,"Nickel Compounds",null,{"$f":"SUM('Asphalt Plant (AP-10)'!$S$95:$S$97)","v":0},""]
[null,"Total HAP",null,{"$f":"SUM(D257:D273)","v":0},{"$f":"IF(D274>25,\"Thresholds exceeded, contact DNR for assistance.\",\"\")","v":""},null,null,"Total HAP",null,{"$f":"SUM(J257:J273)","v":0},{"$f":"IF(J274>25,\"Thresholds exceeded, contact DNR for assistance.\",\"\")","v":""}]
[]
["AP-9","ACTUAL EMISSIONS:",null,null,null,null,"AP-10","ACTUAL EMISSIONS:"]
[null,"Air Pollutant","ID or CAS Number","Tons/Yr",null,null,null,"Air Pollutant","ID or CAS Number","Tons/Yr"]
[null,"PM-2.5","PM-2.5",{"$f":"SUM('Asphalt Plant (AP-9)'!T20:T25,'Asphalt Plant (AP-9)'!T35,'Haul Roads'!AM16,'Permitted Diesel Engines'!AA62)","v":0},null,null,null,"PM-2.5","PM-2.5",{"$f":"SUM('Asphalt Plant (AP-10)'!T20:T25,'Asphalt Plant (AP-10)'!T35,'Haul Roads'!AM17,'Permitted Diesel Engines'!AA63)","v":0}]
[null,"PM-10","PM-10",{"$f":"SUM('Asphalt Plant (AP-9)'!T27:T32,'Asphalt Plant (AP-9)'!T35,'Haul Roads'!AO16,'Permitted Diesel Engines'!AB62)","v":0},null,null,null,"PM-10","PM-10",{"$f":"SUM('Asphalt Plant (AP-10)'!T27:T32,'Asphalt Plant (AP-10)'!T35,'Haul Roads'!AO17,'Permitted Diesel Engines'!AB63)","v":0}]
[null,"SO2","7446-09-5",{"$f":"SUM('Asphalt Plant (AP-9)'!T38:T41,'Permitted Diesel Engines'!AE62)","v":0},null,null,null,"SO2","7446-09-5",{"$f":"SUM('Asphalt Plant (AP-10)'!T38:T41,'Permitted Diesel Engines'!AE63)","v":0}]
[null,"NOx","NOx",{"$f":"SUM('Asphalt Plant (AP-9)'!T42:T44,'Permitted Diesel Engines'!AF62)","v":0},null,null,null,"NOx","NOx",{"$f":"SUM('Asphalt Plant (AP-10)'!T42:T44,'Permitted Diesel Engines'!AF63)","v":0}]
[null,"VOC","VOC",{"$f":"SUM('Asphalt Plant (AP-9)'!T46:T48,'Permitted Diesel Engines'!AI62)","v":0},null,null,null,"VOC","VOC",{"$f":"SUM('Asphalt Plant (AP-10)'!T46:T48,'Permitted Diesel Engines'!AI63)","v":0}]
[null,"CO","630-08-0",{"$f":"SUM('Asphalt Plant (AP-9)'!T53:T56,'Permitted Diesel Engines'!AJ62)","v":0},null,null,null,"CO","630-08-0",{"$f":"SUM('Asphalt Plant (AP-10)'!T53:T56,'Permitted Diesel Engines'!AJ63)","v":0}]
[null,"Acetaldehyde","75-07-0",{"$f":"SUM('Asphalt Plant (AP-9)'!$T$60)","v":0},null,null,null,"Acetaldehyde","75-07-0",{"$f":"SUM('Asphalt Plant (AP-10)'!$T$60)","v":0}]
[null,"Acrolein","107-02-8",{"$f":"'Asphalt Plant (AP-9)'!$T$62","v":0},null,null,null,"Acrolein","107-02-8",{"$f":"'Asphalt Plant (AP-10)'!$T$62","v":0}]
[null,"Benzene","71-43-2",{"$f":"SUM('Asphalt Plant (AP-9)'!$T$64,'Permitted Diesel Engines'!$AN$62)","v":0},null,null,null,"Benzene","71-43-2",{"$f":"SUM('Asphalt Plant (AP-10)'!$T$64,'Permitted Diesel Engines'!$AN$63)","v":0}]
[null,"Ethylbenzene","100-41-4",{"$f":"SUM('Asphalt Plant (AP-9)'!$T$66)","v":0},null,null,null,"Ethylbenzene","100-41-4",{"$f":"SUM('Asphalt Plant (AP-10)'!$T$66)","v":0}]
[null,"Formaldehyde","50-00-0",{"$f":"SUM('Asphalt Plant (AP-9)'!$T$68:$T$69,'Permitted Diesel Engines'!$AM$62)","v":0},null,null,null,"Formaldehyde","50-00-0",{"$f":"SUM('Asphalt Plant (AP-10)'!$T$68:$T$69,'Permitted Diesel Engines'!$AM$63)","v":0}]
[null,"Hexane","110-54-3",{"$f":"('Asphalt Plant (AP-9)'!$T$71)","v":0},null,null,null,"Hexane","110-54-3",{"$f":"('Asphalt Plant (AP-10)'!$T$71)","v":0}]
[null,"Hydrochloric Acid","7647-01-0",{"$f":"'Asphalt Plant (AP-9)'!$T$73","v":0},null,null,null,"Hydrochloric Acid","7647-01-0",{"$f":"'Asphalt Plant (AP-10)'!$T$73","v":0}]
[null,"Methyl Chloroform","71-55-6",{"$f":"'Asphalt Plant (AP-9)'!$T$75","v":0},null,null,null,"Methyl Chloroform","71-55-6",{"$f":"'Asphalt Plant (AP-10)'!$T$75","v":0}]
[null,"Propionaldehyde","123-38-6",{"$f":"'Asphalt Plant (AP-9)'!$T$77","v":0},null,null,null,"Propionaldehyde","123-38-6",{"$f":"'Asphalt Plant (AP-10)'!$T$77","v":0}]
[null,"Quinone","106-51-4",{"$f":"'Asphalt Plant (AP-9)'!$T$79","v":0},null,null,null,"Quinone","106-51-4",{"$f":"'Asphalt Plant (AP-10)'!$T$79","v":0}]
[null,"Toluene","108-88-3",{"$f":"SUM('Asphalt Plant (AP-9)'!$T$81:$T$83)","v":0},null,null,null,"Toluene","108-88-3",{"$f":"SUM('Asphalt Plant (AP-10)'!$T$81:$T$83)","v":0}]
[null,"Xylene","1330-20-7",{"$f":"'Asphalt Plant (AP-9)'!$T$85","v":0},null,null,null,"Xylene","1330-20-7",{"$f":"'Asphalt Plant (AP-10)'!$T$85","v":0}]
[null,"2,2,4-Trimethylpentane","540-84-1",{"$f":"'Asphalt Plant (AP-9)'!$T$87","v":0},null,null,null,"2,2,4-Trimethylpentane","540-84-1",{"$f":"'Asphalt Plant (AP-10)'!$T$87","v":0}]
[null,"Chromium Compounds",null,{"$f":"'Asphalt Plant (AP-9)'!$T$89","v":0},null,null,null,"Chromium Compounds",null,{"$f":"'Asphalt Plant (AP-10)'!$T$89","v":0}]
[null,"Lead Compounds",null,{"$f":"'Asphalt Plant (AP-9)'!$T$91","v":0},null,null,null,"Lead Compounds",null,{"$f":"'Asphalt Plant (AP-10)'!$T$91","v":0}]
[null,"Manganese Compounds",null,{"$f":"'Asphalt Plant (AP-9)'!$T$93","v":0},null,null,null,"Manganese Compounds",null,{"$f":"'Asphalt Plant (AP-10)'!$T$93","v":0}]
[null,"Nickel Compounds",null,{"$f":"SUM('Asphalt Plant (AP-9)'!$T$95:$T$97)","v":0},null,null,null,"Nickel Compounds",null,{"$f":"SUM('Asphalt Plant (AP-10)'!$T$95:$T$97)","v":0}]
[null,"Total HAP",null,{"$f":"SUM(D284:D300)","v":0},null,null,null,"Total HAP",null,{"$f":"SUM(J284:J300)","v":0}]

{"sheet":"Emission Factors","index":15,"n_rows":45,"n_cols":49,"rows_kept":45,"cut":false,"hidden":false,"merged":[]}
["EMISSION FACTORS"]
[]
["Process","SCC #","Source","PM2.5 EF","Units","PM10 EF","Units","SO2",null,"NOx",null,"VOC",null,"CO",null,"Acetaldehyde",null,"Acrolein",null,"Benzene",null,"Ethylbenzene",null,"Formaldehyde",null,"Hexane",null,"Hydrocloric Acid",null,"Methyl Chloroform",null,"Propionaldehyde",null,"Quinone",null,"Toluene",null,"Xylene",null,"2,2,4-Trimethylpentane",null,"Nickel Compounds",null,"Chromium Compounds",null,"Lead Compounds",null,"Manganese Compounds"]
["Asphalt Plant - Uncontrolled"]
["Batch Mix Plant - Fuel Oil",30500246,"AP-42 Table 11.1-2, 5, 6, 9",0.27,"lbs/ton",4.5,"lbs/ton",8.7999999999999995E-2,"lbs/ton",0.12,"lbs/ton",8.2000000000000007E-3,"lbs/ton",0.4,"lbs/ton",3.2000000000000003E-4,"lbs/ton",null,null,2.7999999999999998E-4,"lbs/ton",2.2000000000000001E-3,"lbs/ton",7.3999999999999999E-4,"lbs/ton",null,null,null,null,null,null,null,null,2.7E-4,"lbs/ton",1E-3,"lbs/ton",2.7000000000000001E-3,"lbs/ton"]
["Batch Mix Plant - Natural Gas",30500245,"AP-42 Table 11.1-2, 5, 6, 9",0.27,"lbs/ton",4.5,"lbs/ton",4.5999999999999999E-3,"lbs/ton",2.5000000000000001E-2,"lbs/ton",8.2000000000000007E-3,"lbs/ton",0.4,"lbs/ton",3.2000000000000003E-4,"lbs/ton",null,null,2.7999999999999998E-4,"lbs/ton",2.2000000000000001E-3,"lbs/ton",7.3999999999999999E-4,"lbs/ton",null,null,null,null,null,null,null,null,2.7E-4,"lbs/ton",1E-3,"lbs/ton",2.7000000000000001E-3,"lbs/ton"]
["Batch Mix Plant - Waste Oil",30500247,"AP-42 Table 11.1-2, 5, 6, 9",0.27,"lbs/ton",4.5,"lbs/ton",8.7999999999999995E-2,"lbs/ton",0.12,"lbs/ton",3.5999999999999997E-2,"lbs/ton",0.4,"lbs/ton",3.2000000000000003E-4,"lbs/ton",null,null,2.7999999999999998E-4,"lbs/ton",2.2000000000000001E-3,"lbs/ton",7.3999999999999999E-4,"lbs/ton",null,null,null,null,null,null,null,null,2.7E-4,"lbs/ton",1E-3,"lbs/ton",2.7000000000000001E-3,"lbs/ton"]
["Drum Mix Plant - Fuel Oil",30500258,"AP-42 Table 11.1-4, 7, 8, 10",1.54,"lbs/ton",6.5,"lbs/ton",1.0999999999999999E-2,"lbs/ton",5.5E-2,"lbs/ton",3.2000000000000001E-2,"lbs/ton",0.13,"lbs/ton",1.2999999999999999E-3,"lbs/ton",2.5999999999999998E-5,"lbs/ton",3.8999999999999999E-4,"lbs/ton",2.4000000000000001E-4,"lbs/ton",3.0999999999999999E-3,"lbs/ton",9.2000000000000003E-4,"lbs/ton",2.1000000000000001E-4,"lbs/ton",4.8000000000000001E-5,"lbs/ton",1.2999999999999999E-4,"lbs/ton",1.6000000000000001E-4,"lbs/ton",2.8999999999999998E-3,"lbs/ton",2.0000000000000001E-4,"lbs/ton",4.0000000000000003E-5,"lbs/ton",1.2999999999999999E-3,"lbs/ton",2.4000000000000001E-5,"lbs/ton",5.4000000000000001E-4,"lbs/ton",6.4999999999999997E-4,"lbs/ton"]
["Drum Mix Plant - Natural Gas",30500255,"AP-42 Table 11.1-4, 7, 8, 10, 12",1.54,"lbs/ton",6.5,"lbs/ton",3.3999999999999998E-3,"lbs/ton",2.5999999999999999E-2,"lbs/ton",3.2000000000000001E-2,"lbs/ton",0.13,"lbs/ton",null,null,null,null,3.8999999999999999E-4,"lbs/ton",2.4000000000000001E-4,"lbs/ton",3.0999999999999999E-3,"lbs/ton",9.2000000000000003E-4,"lbs/ton",null,null,4.8000000000000001E-5,"lbs/ton",null,null,null,null,1.4999999999999999E-4,"lbs/ton",2.0000000000000001E-4,"lbs/ton",4.0000000000000003E-5,"lbs/ton"]
["Drum Mix Plant - Waste Oil ",30500261,"AP-42 Table 11.1-4, 7, 8, 10",1.54,"lbs/ton",6.5,"lbs/ton",5.8000000000000003E-2,"lbs/ton",5.5E-2,"lbs/ton",3.2000000000000001E-2,"lbs/ton",0.13,"lbs/ton",1.2999999999999999E-3,"lbs/ton",2.5999999999999998E-5,"lbs/ton",3.8999999999999999E-4,"lbs/ton",2.4000000000000001E-4,"lbs/ton",3.0999999999999999E-3,"lbs/ton",9.2000000000000003E-4,"lbs/ton",2.1000000000000001E-4,"lbs/ton",4.8000000000000001E-5,"lbs/ton",1.2999999999999999E-4,"lbs/ton",1.6000000000000001E-4,"lbs/ton",2.8999999999999998E-3,"lbs/ton",2.0000000000000001E-4,"lbs/ton",4.0000000000000003E-5,"lbs/ton",1.2999999999999999E-3,"lbs/ton",2.4000000000000001E-5,"lbs/ton",5.4000000000000001E-4,"lbs/ton",6.4999999999999997E-4,"lbs/ton"]
["Asphalt Plant - Controlled"]
["Batch Mix Plant - Fuel Oil",30500246,"AP-42 Table 11.1-2, 5, 6, 9",8.3000000000000001E-3,"lbs/ton",9.7999999999999997E-3,"lbs/ton",8.7999999999999995E-2,"lbs/ton",0.12,"lbs/ton",8.2000000000000007E-3,"lbs/ton",0.4,"lbs/ton",3.2000000000000003E-4,"lbs/ton",null,null,2.7999999999999998E-4,"lbs/ton",2.2000000000000001E-3,"lbs/ton",7.3999999999999999E-4,"lbs/ton",null,null,null,null,null,null,null,null,2.7E-4,"lbs/ton",1E-3,"lbs/ton",2.7000000000000001E-3,"lbs/ton"]
["Batch Mix Plant - Natural Gas",30500245,"AP-42 Table 11.1-2, 5, 6, 9",8.3000000000000001E-3,"lbs/ton",9.7999999999999997E-3,"lbs/ton",4.5999999999999999E-3,"lbs/ton",2.5000000000000001E-2,"lbs/ton",8.2000000000000007E-3,"lbs/ton",0.4,"lbs/ton",3.2000000000000003E-4,"lbs/ton",null,null,2.7999999999999998E-4,"lbs/ton",2.2000000000000001E-3,"lbs/ton",7.3999999999999999E-4,"lbs/ton",null,null,null,null,null,null,null,null,2.7E-4,"lbs/ton",1E-3,"lbs/ton",2.7000000000000001E-3,"lbs/ton"]
["Batch Mix Plant - Waste Oil",30500246,"AP-42 Table 11.1-2, 5, 6, 9",8.3000000000000001E-3,"lbs/ton",9.7999999999999997E-3,"lbs/ton",8.7999999999999995E-2,"lbs/ton",0.12,"lbs/ton",3.5999999999999997E-2,"lbs/ton",0.4,"lbs/ton",3.2000000000000003E-4,"lbs/ton",null,null,2.7999999999999998E-4,"lbs/ton",2.2000000000000001E-3,"lbs/ton",7.3999999999999999E-4,"lbs/ton",null,null,null,null,null,null,null,null,2.7E-4,"lbs/ton",1E-3,"lbs/ton",2.7000000000000001E-3,"lbs/ton"]
["Drum Mix Plant - Fuel Oil",30500258,"AP-42 Table 11.1-4, 7, 8, 10",7.0000000000000001E-3,"lbs/ton",2.3E-2,"lbs/ton",1.0999999999999999E-2,"lbs/ton",5.5E-2,"lbs/ton",3.2000000000000001E-2,"lbs/ton",0.13,"lbs/ton",1.2999999999999999E-3,"lbs/ton",2.5999999999999998E-5,"lbs/ton",3.8999999999999999E-4,"lbs/ton",2.4000000000000001E-4,"lbs/ton",3.0999999999999999E-3,"lbs/ton",9.2000000000000003E-4,"lbs/ton",2.1000000000000001E-4,"lbs/ton",4.8000000000000001E-5,"lbs/ton",1.2999999999999999E-4,"lbs/ton",1.4999999999999999E-4,"lbs/ton",2.8999999999999998E-3,"lbs/ton",2.0000000000000001E-4,"lbs/ton",4.0000000000000003E-5,"lbs/ton",1.5E-5,"lbs/ton",5.4999999999999999E-6,"lbs/ton",1.5E-5,"lbs/ton",7.7000000000000008E-6,"lbs/ton"]
["Drum Mix Plant - Natural Gas",30500255,"AP-42 Table 11.1-4, 7, 8, 10, 12",7.0000000000000001E-3,"lbs/ton",2.3E-2,"lbs/ton",3.3999999999999998E-3,"lbs/ton",2.5999999999999999E-2,"lbs/ton",3.2000000000000001E-2,"lbs/ton",0.13,"lbs/ton",null,null,null,null,3.8999999999999999E-4,"lbs/ton",2.4000000000000001E-4,"lbs/ton",3.0999999999999999E-3,"lbs/ton",9.2000000000000003E-4,"lbs/ton",null,null,4.8000000000000001E-5,"lbs/ton",null,null,null,null,1.4999999999999999E-4,"lbs/ton",2.0000000000000001E-4,"lbs/ton",4.0000000000000003E-5,"lbs/ton",6.3E-5,"lbs/ton"]
["Drum Mix Plant - Waste Oil",30500261,"AP-42 Table 11.1-4, 7, 8, 10",7.0000000000000001E-3,"lbs/ton",2.3E-2,"lbs/ton",5.8000000000000003E-2,"lbs/ton",5.5E-2,"lbs/ton",3.2000000000000001E-2,"lbs/ton",0.13,"lbs/ton",1.2999999999999999E-3,"lbs/ton",2.5999999999999998E-5,"lbs/ton",3.8999999999999999E-4,"lbs/ton",2.4000000000000001E-4,"lbs/ton",3.0999999999999999E-3,"lbs/ton",9.2000000000000003E-4,"lbs/ton",2.1000000000000001E-4,"lbs/ton",4.8000000000000001E-5,"lbs/ton",1.2999999999999999E-4,"lbs/ton",1.6000000000000001E-4,"lbs/ton",2.8999999999999998E-3,"lbs/ton",2.0000000000000001E-4,"lbs/ton",4.0000000000000003E-5,"lbs/ton",1.5E-5,"lbs/ton",5.4999999999999999E-6,"lbs/ton",1.5E-5,"lbs/ton",7.7000000000000008E-6,"lbs/ton"]
["Liquid Asphalt Cement Heater"]
["Fuel Oil Fired Heater",30500208,"AP-42 Table 11.1-13",null,null,null,null,null,null,null,null,null,null,1.1999999999999999E-3,"lbs/gal"]
["Natural Gas Fired Heater",30500206,"AP-42 Table 11.1-13",null,null,null,null,null,null,null,null,2.5999999999999999E-2,"lbs/MMCF",8.9,"lbs/MMCF",null,null,null,null,null,null,null,null,2.5999999999999999E-2,"lbs/MMCF"]
["Waste Oil Fired Heater",30500208,"AP-42 Table 11.1-13",null,null,null,null,null,null,null,null,null,null,1.1999999999999999E-3,"lbs/gal"]
[]
["Cold Aggregate Bins",30500204,"AP-42 Table 11.19.2-2 (& App. B2 for PM2.5)",4.4999999999999999E-4,"lbs/ton",1.1000000000000001E-3,"lbs/ton"]
["Silo Filling",30500213,"AP-42 Table 11.1-14",5.8600000000000004E-4,"lbs/ton",5.8600000000000004E-4,"lbs/ton",null,null,null,null,1.2200000000000001E-2,"lbs/ton",1.1800000000000001E-3,"lbs/ton"]
["Truck Loadout",30500214,"AP-42 Table 11.1-14",5.22E-4,"lbs/ton",5.22E-4,"lbs/ton",null,null,null,null,4.1599999999999996E-3,"lbs/ton",1.3500000000000001E-3,"lbs/ton"]
["Storage Pile",30500203,"WebFIRE SCC# 30502507",3.64,"lbs/acre-day",3.64,"lbs/acre-day"]
[]
["Haul Roads"]
["Unpaved Haul Road",30205054]
[null,"Emission Factor equation from AP-42, 13.2.2 (Nov 2006): EF = [(k) x [(s/12)^0.9] x [(W/3)^0.45] ]((365-p)/365)) lb/VMT"]
[null,null,null,null,null,"k=constant=1.5 for PM10 and 0.15 for PM2.5 (AP-42 Table 13.2.2-1)"]
[null,null,null,null,null,"s= silt content (AP-42 Table 13.2.2-1)"]
[null,null,null,null,null,"w= average vehicle weight"]
[null,null,null,null,null,"p = number of days per year with at least 0.01 inches of precipitation (see map - AP-42 3.2.2 Figure 1)"]
["Paved Haul Roads",30205054]
[null,"Emission Factor equation from AP-42, 13.2.1 (Jan 2011): EF = [(k) x [(s^0.91] x [W^1.02]]x((1-(p/1460)) lb/VMT"]
[null,null,null,null,null,"k=constant=0.0022 for PM10 and 0.00054 for PM2.5 (AP-42 Table 13.2.1-1)"]
[null,null,null,null,null,"sL= road surface silt loading (AP-42 Table 13.2.1-3)"]
[null,null,null,null,null,"w= average vehicle weight"]
[null,null,null,null,null,"p = number of days per year with at least 0.01 inches of precipitation (see map - AP-42 3.2.2 Figure 1)"]
["Diesel Generators"]
["Process","SCC #","Units","PM2.5 EF","Source","PM10 EF","Source","SO2","Source ","Nox","Source","VOC","Source","CO","Source","Formaldehyde","Source","Benzene","Source"]
["Diesel Generator ≤ 600 bhp",20100102,"lb/MMBtu",0.31,"AP-42 Table 3.3-1",0.31,"AP-42 Table 3.3-1",0.28999999999999998,"AP-42 Table 3.3-1",4.41,"AP-42 Table 3.3-1",0.35,"AP-42 Table 3.3-1",0.95,"AP-42 Table 3.3-1",1.1800000000000001E-3,"AP-42 Table 3.3-2",9.3300000000000002E-4,"AP-42 Table 3.3-2"]
["Diesel Generator> 600 bhp",20200401,"lb/MMBtu",5.3900000000000003E-2,"WebFIRE",0.14000000000000001,"IDNR Memo",1.01,"AP-42 Table 3.4-1",3.2,"AP-42 Table 3.4-1",8.2000000000000003E-2,"AP-42 Table 3.4-1",0.85,"AP-42 Table 3.4-1",7.8899999999999993E-5,"AP-42 Table 3.4-3",7.76E-4,"AP-42 Table 3.4-3"]
[null,null,null,null,null,null,null,null,null,null,null,null,"& footnote f"]